{"text_format":"1","workbook":"xlsx","n_sheets":16,"sheets":["Check List","Macros","Lista completa","Unidades","Retiros Anuales","Impuestos SII","Empresas","CVP-pre","CMgP-pre","NTH1","GxN_NTH1","GxN_NTH2","GxN_NTH3","VUI-pre","Resultados","Cuadro de Pago"],"not_rendered":{"charts":0,"images":0,"macros":1,"external_links":0,"defined_names":7,"comments":0,"pivot_tables":3},"unopened":[],"bounds":{"document_bytes":16777216,"sheet_cells":100000,"rows_first":2000,"rows_last":500,"rows_between":2000,"halvings":0,"cell_chars":16384,"cell_head_chars":4096},"cells_cut":0,"cells_raw":0,"read":"whole","date_system":"1900"}

{"sheet":"Check List","index":0,"n_rows":14,"n_cols":3,"rows_kept":14,"cut":false,"hidden":false,"merged":[]}
[]
[null,"Check List Calculo Consolidado Anual"]
[]
[null,1,"Borrar "]
[null,"1.1","En caso de necesitar borrar datos de un mes en específico, seleccionar mes y año y ejecutar la macro borrar mes"]
[null,"1.2","En caso de necesitar borrar datos de todo el año, seleccionar año y ejecutar la macro borrar año"]
[]
[null,2,"Traspaso de datos"]
[null,"2.1","Revisar que las tablas de las hojas de cáclulo verde tengas los mismos datos que los de la tabla dinámica ubicada en la columna B de la hoja Unidades"]
[null,"2.2","En caso de necesitar traspasar datos de un mes en específico, seleccionar mes y año y ejecutar la macro traspasar mes"]
[null,"2.3","En caso de necesitar traspasar datos de todo el año, seleccionar año y ejecutar la macro traspasar año"]
[]
[null,3,"Calcular Impuesto por central"]
[null,"3.1","Una vez cargados todos los datos del año proceder la macro \"Impuesto\" caclculo el impuesto por unidad generadora. "]

{"sheet":"Macros","index":1,"n_rows":8,"n_cols":14,"rows_kept":8,"cut":false,"hidden":false,"merged":[[3,1,3,3],[3,5,3,7],[3,9,3,11],[3,13,3,15]]}
[]
[]
[]
[null,"1. Datos",null,null,null,"2. Borrar datos anteriores",null,null,null,"3. Traspasar datos desde planillas mensuales",null,null,null,"3. Calcular Impuesto por central"]
[]
[null,"Mes:","01_Enero"]
[null,"Año:",2019]
[null,null,null," "]

{"sheet":"Lista completa","index":2,"n_rows":679,"n_cols":21,"rows_kept":679,"cut":false,"hidden":false,"merged":[]}
[]
[null,"Listados de Fuentes de Generación"]
[]
[null,"Empresa","Rut","Nombre Establecimiento","ID RECT (VU)","Unidad Generadora","Fuente","N° registro de emisiones de Fuentes Fijas (F138)","Nombre unidad Peajes","Nombre central Peajes","Nombre central TCV","Nombre unidad TCV","Nombre configuración TCV","Combustible","Barra Generación CMg","Autoproductor","Excedente ","N° medidores involucrados","Medida 1","Medida 2","Medida 3"]
[null,"AES_GENER","94.272.000-9","CENTRAL TERMOELÉCTRICA NUEVA TOCOPILLA",5441369,"TERMOELÉCTRICA NUEVA TOCOPILLA (NTO1)","UGE NT-01","GE000005-5","NTO1","TERMOELÉCTRICA NORGENER","Norgener","NTO1","NORGENER-NTO1_CAR","Carbón","NORGENER______220","No",null,1,"12243200000IF","-","-"]
[null,"AES_GENER","94.272.000-9","CENTRAL TERMOELÉCTRICA NUEVA TOCOPILLA",5441369,"TERMOELÉCTRICA NUEVA TOCOPILLA (NTO2)","UGE NT-02","GE000006-3","NTO2","TERMOELÉCTRICA NORGENER","Norgener","NTO2","NORGENER-NTO2_CAR","Carbón","NORGENER______220","No",null,1,"12243200000IF","-","-"]
[null,"GMETROPOLITANA","76.538.731-0","CENTRAL LOS VIENTOS",386023,"LOS VIENTOS TG","UGE LOS VIENTOS TG","PC000023-4","LOS VIENTOS 1","LOS VIENTOS","Los Vientos","Los Vientos","LOSVIENTOS_DIESEL","Diésel","L.VEGAS_______110","No",null,1,"G_VIENT","-","-"]
[null,"GMETROPOLITANA","76.538.731-0","CENTRAL LOS VIENTOS",386023,"LOS VIENTOS TG","UGE LOS VIENTOS TG","PC000023-4","LOS VIENTOS 1","LOS VIENTOS","Los Vientos","Los Vientos","LOSVIENTOS_DIESEL_CNAVIA","Diésel","L.VEGAS2______110","No",null,1,"G_VIENT","-","-"]
[null,"AES_GENER","94.272.000-9","VENTANA IV (EX CENTRAL CAMPICHE)",4917485,"CAMPICHE (VENTANAS 4)","UGE Ventanas 4","GE000124-8","CAMPICHE","CAMPICHE","Termoeléctrica Ventanas","Campiche","CAMPICHE_CAR","Carbón","VENTANAS______220","No",null,1,"G_CAMPICHE","-","-"]
[null,"AES_GENER","94.272.000-9","CENTRAL TERMOELECTRICA NUEVA VENTANAS UNIDAD 3",309729,"NUEVA VENTANAS (VENTANAS 3)","UGE Ventanas 3","GE000072-1","NUEVA VENTANAS","NUEVA VENTANAS","Termoeléctrica Ventanas","Nueva Ventanas","NUEVAVENTANAS_CAR","Carbón","VENTANAS______220","No",null,1,"G_NVENTANAS","-","-"]
[null,"AES_GENER","94.272.000-9","CENTRAL TERMOELECTRICA VENTANAS UNIDADES 1 Y 2",85823,"VENTANAS U1","UGE Ventanas U1","GE000035-7","VENTANAS 1","VENTANAS 1","Termoeléctrica Ventanas","Ventanas 1","VENTANAS-1_CAR","Carbón","VENTANAS______110","No",null,2,"G_VENT_1A","G_VENT_1B","-"]
[null,"AES_GENER","94.272.000-9","CENTRAL TERMOELECTRICA VENTANAS UNIDADES 1 Y 2",85823,"VENTANAS U2","UGE Ventanas U2","GE000036-5","VENTANAS 2","VENTANAS 2","Termoeléctrica Ventanas","Ventanas 2","VENTANAS-2_CAR","Carbón","VENTANAS______110","No",null,2,"G_VENT_2A","G_VENT_2B","-"]
[null,"AES_GENER","94.272.000-9","CENTRAL TERMOELECTRICA LAGUNA VERDE",85824,"LAGUNA VERDE TG","UGE Laguna Verde TG","PC000603-8 ","LAGUNA VERDE TG ","LAGUNA VERDE","Laguna Verde","Laguna Verde TG","LAGVERDE-TG_DIESEL","Diésel","L.VERDE_______110","No",null,1,"L. VERDE_TG","-","-"]
[null,"AES_GENER","94.272.000-9","CENTRAL TERMOELECTRICA LAGUNA VERDE",85824,"LAGUNA VERDE TV Brown Boveri I","UGE Laguna VerdeTV Brown Boveri","GE000039-k","LAGUNA VERDE TV1","LAGUNA VERDE","Laguna Verde","Laguna Verde TV","LAGVERDE-TV_DIESEL","Diésel","L.VERDE_______110","No",null,1,"L. VERDE_TV","-","-"]
[null,"AES_GENER","94.272.000-9","CENTRAL TERMOELECTRICA LAGUNA VERDE",85824,"LAGUNA VERDE TV Brown Boveri II","UGE Laguna VerdeTV Brown Boveri","GE000040-3","LAGUNA VERDE TV2","LAGUNA VERDE","Laguna Verde","Laguna Verde TV","LAGVERDE-TV_DIESEL","Diésel","L.VERDE_______110","No",null,1,"L. VERDE_TV","-","-"]
[null,"AES_GENER","94.272.000-9","CENTRAL TERMOELECTRICA LAGUNA VERDE",85824,"LAGUNA VERDE TV AEG I","UGE Laguna Verde TV AEG","GE000037-3","LAGUNA VERDE TV1","LAGUNA VERDE","Laguna Verde","Laguna Verde TV","LAGVERDE-TV_DIESEL","Diésel","L.VERDE_______110","No",null,1,"L. VERDE_TV","-","-"]
[null,"AES_GENER","94.272.000-9","CENTRAL TERMOELECTRICA LAGUNA VERDE",85824,"LAGUNA VERDE TV AEG II","UGE Laguna Verde TV AEG","GE000038-1","LAGUNA VERDE TV2","LAGUNA VERDE","Laguna Verde","Laguna Verde TV","LAGVERDE-TV_DIESEL","Diésel","L.VERDE_______110","No",null,1,"L. VERDE_TV","-","-"]
[null,"AES_GENER","94.272.000-9","CENTRAL TERMOELECTRICA LAJA",386458,"LAJA EVE","Caldera","GE000116-7","LAJA 1","LAJA","Laja","Laja","LAJAEVE-1_COGEN","Biomasa","CHARRUA_______066","Sí",null,1,"G_LAJA","-","-"]
[null,"AES_GENER","94.272.000-9","CENTRAL TERMOELECTRICA LAJA",386458,"LAJA EVE","Caldera","GE000116-7","LAJA 2","LAJA","Laja","Laja","LAJAEVE-2_COGEN","Biomasa","CHARRUA_______066","Sí",null,1,"G_LAJA","-","-"]
[null,"GMETROPOLITANA","76.538.731-0","SANTA LIDIA",3188001,"SANTA LIDIA","UGE SANTA LIDIA","PC000846-4","SANTA LIDIA 1","SANTA LIDIA","Santa Lidia","Santa Lidia","SANTALIDIA_DIESEL","Diésel","CHARRUA_______220","No",null,1,"G_SLIDIA","-","-"]
[null,"GMETROPOLITANA","76.538.731-0","SOCIEDAD ELÉCTRICA SANTIAGO S.A.",9778,"NUEVA RENCA","UGE Nueva Renca","IN001115-4","NUEVA RENCA","NUEVA RENCA","Nueva Renca","Nueva Renca","NUEVARENCA_TG1+TV1+FA1_GNL_INFLEX","GNL","RENCA_________110","No",null,1,"GENNREN","-","-"]
[null,"GMETROPOLITANA","76.538.731-0","SOCIEDAD ELÉCTRICA SANTIAGO S.A.",9778,"NUEVA RENCA","UGE Nueva Renca","IN001115-4","NUEVA RENCA","NUEVA RENCA","Nueva Renca","Nueva Renca","NUEVARENCA_TG1+TV1_GNL_INFLEX","GNL","RENCA_________110","No",null,1,"GENNREN","-","-"]
[null,"GMETROPOLITANA","76.538.731-0","SOCIEDAD ELÉCTRICA SANTIAGO S.A.",9778,"NUEVA RENCA","UGE Nueva Renca","IN001115-4","NUEVA RENCA","NUEVA RENCA","Nueva Renca","Nueva Renca","NUEVARENCA_TG1+TV1_GNL_B","GNL","RENCA_________110","No",null,1,"GENNREN","-","-"]
[null,"GMETROPOLITANA","76.538.731-0","SOCIEDAD ELÉCTRICA SANTIAGO S.A.",9778,"NUEVA RENCA","UGE Nueva Renca","IN001115-4","NUEVA RENCA","NUEVA RENCA","Nueva Renca","Nueva Renca","NUEVARENCA_TG1+TV1_GNL_E","GNL","RENCA_________110","No",null,1,"GENNREN","-","-"]
[null,"GMETROPOLITANA","76.538.731-0","SOCIEDAD ELÉCTRICA SANTIAGO S.A.",9778,"NUEVA RENCA","UGE Nueva Renca","IN001115-4","NUEVA RENCA","NUEVA RENCA","Nueva Renca","Nueva Renca","NUEVARENCA_TG1+TV1_GNL_C","GNL","RENCA_________110","No",null,1,"GENNREN","-","-"]
[null,"GMETROPOLITANA","76.538.731-0","SOCIEDAD ELÉCTRICA SANTIAGO S.A.",9778,"NUEVA RENCA","UGE Nueva Renca","IN001115-4","NUEVA RENCA","NUEVA RENCA","Nueva Renca","Nueva Renca","NUEVARENCA_TG1+TV1_GNL_D","GNL","RENCA_________110","No",null,1,"GENNREN","-","-"]
[null,"GMETROPOLITANA","76.538.731-0","SOCIEDAD ELÉCTRICA SANTIAGO S.A.",9778,"NUEVA RENCA","UGE Nueva Renca","IN001115-4","NUEVA RENCA","NUEVA RENCA","Nueva Renca","Nueva Renca","NUEVARENCA_TG1+TV1_GNL_A","GNL","RENCA_________110","No",null,1,"GENNREN","-","-"]
[null,"GMETROPOLITANA","76.538.731-0","SOCIEDAD ELÉCTRICA SANTIAGO S.A.",9778,"NUEVA RENCA","UGE Nueva Renca","IN001115-4","NUEVA RENCA","NUEVA RENCA","Nueva Renca","Nueva Renca","NUEVARENCA_TG1+TV1+FA1_GNL_A","GNL","RENCA_________110","No",null,1,"GENNREN","-","-"]
[null,"GMETROPOLITANA","76.538.731-0","SOCIEDAD ELÉCTRICA SANTIAGO S.A.",9778,"NUEVA RENCA","UGE Nueva Renca","IN001115-4","NUEVA RENCA","NUEVA RENCA","Nueva Renca","Nueva Renca","NUEVARENCA_TG1+TV1_DIESEL","Diésel","RENCA_________110","No",null,1,"GENNREN","-","-"]
[null,"GMETROPOLITANA","76.538.731-0","SOCIEDAD ELÉCTRICA SANTIAGO S.A.",9778,"NUEVA RENCA","UGE Nueva Renca","IN001115-4","NUEVA RENCA","NUEVA RENCA","Nueva Renca","Nueva Renca","NUEVARENCA_TG1+TV1+FA1_GLP","GLP","RENCA_________110","No",null,1,"GENNREN","-","-"]
[null,"GMETROPOLITANA","76.538.731-0","SOCIEDAD ELÉCTRICA SANTIAGO S.A.",9778,"NUEVA RENCA","UGE Nueva Renca","IN001115-4","NUEVA RENCA","NUEVA RENCA","Nueva Renca","Nueva Renca","NUEVARENCA_TG1+TV1+FA1_GNL_P","GNL","RENCA_________110","No",null,1,"GENNREN","-","-"]
[null,"GMETROPOLITANA","76.538.731-0","SOCIEDAD ELÉCTRICA SANTIAGO S.A.",9778,"NUEVA RENCA","UGE Nueva Renca","IN001115-4","NUEVA RENCA","NUEVA RENCA","Nueva Renca","Nueva Renca","NUEVARENCA_TG1+TV1_GNL_P","GN","RENCA_________110","No",null,1,"GENNREN","-","-"]
[null,"GMETROPOLITANA","76.538.731-0","SOCIEDAD ELÉCTRICA SANTIAGO S.A.",9778,"NUEVA RENCA","UGE Nueva Renca","IN001115-4","NUEVA RENCA","NUEVA RENCA","Nueva Renca","Nueva Renca","NUEVARENCA_TG1+TV1_GN_A","GN","RENCA_________110","No",null,1,"GENNREN","-","-"]
[null,"GMETROPOLITANA","76.538.731-0","SOCIEDAD ELÉCTRICA SANTIAGO S.A.",9778,"NUEVA RENCA","UGE Nueva Renca","IN001115-4","NUEVA RENCA","NUEVA RENCA","Nueva Renca","Nueva Renca","NUEVARENCA_TG1+TV1+FA1_GN_A","GNL","RENCA_________110","No",null,1,"GENNREN","-","-"]
[null,"GMETROPOLITANA","76.538.731-0","SOCIEDAD ELÉCTRICA SANTIAGO S.A.",9778,"RENCA U1","UGE RENCA U1","IN001131-6","RENCA 1","RENCA","Renca","Renca U1","RENCA-1_DIESEL","Diésel","RENCA_________110","No",null,1,"RENCARB1","-","-"]
[null,"GMETROPOLITANA","76.538.731-0","SOCIEDAD ELÉCTRICA SANTIAGO S.A.",9778,"RENCA U2","UGE RENCA U2","IN001132-4","RENCA 2","RENCA","Renca","Renca U2","RENCA-2_DIESEL","Diésel","RENCA_________110","No",null,1,"RENCARB1","-","-"]
[null,"ANDINA","76.708.710-1","CENTRAL TERMICA ANDINA",436492,"CENTRAL TERMOELÉCTRICA ANDINA (CTA)","UGE CTA","GE000251-8","CTA1","TERMOELÉCTRICA ANDINA","Andina","CTA","ANDINA-CTA_CAR","Carbón","CHACAYA_______220","No",null,1,"02427500000IF","-","-"]
[null,"ANGAMOS","76.004.976-K","EMPRESA ELÉCTRICA ANGAMOS S.A.",5452292,"TERMOELÉCTRICA ANGAMOS 1 (ANG1)","UGE ANGAMOS 1","GE000103-5","ANG1","TERMOELÉCTRICA ANGAMOS","Angamos","ANG1","ANGAMOS-ANG1_CAR","Carbón","ANGAMOS_______220","No",null,1,"22040700000IF","-","-"]
[null,"ANGAMOS","76.004.976-K","EMPRESA ELÉCTRICA ANGAMOS S.A.",5452292,"TERMOELÉCTRICA ANGAMOS 2 (ANG2)","UGE ANGAMOS 2","GE000104-3","ANG2","TERMOELÉCTRICA ANGAMOS","Angamos","ANG2","ANGAMOS-ANG2_CAR","Carbón","ANGAMOS_______220","No",null,1,"22040800000IF","-","-"]
[null,"ARAUCO BIO","96.547.510-9","PLANTA VIÑALES",4473,"VIÑALES","caldera de poder","GE000085-3","VIÑALES","VIÑALES","Viñales","Viñales","VINALES_BL1_COGEN","Biomasa","CONSTIT.______066","Sí",null,1,"G_VINALES","-","-"]
[null,"ARAUCO BIO","96.547.510-9","PLANTA VIÑALES",4473,"VIÑALES","caldera de poder","GE000085-3","VIÑALES","VIÑALES","Viñales","Viñales","VINALES_BL1+BL2_COGEN","Biomasa","CONSTIT.______066","Sí",null,1,"G_VINALES","-","-"]
[null,"ARAUCO BIO","96.547.510-9","CELULOSA ARAUCO Y CONSTITUCIÓN -PLANTA CONSTITUCIÓN",2396,"CELCO","Caldera de poder","IN000211-2","CELCO TG2","CELCO","Celco","Celco","CELCO_BL1_COGEN","Biomasa","CONSTIT.______066","Sí",null,1,"G_CELCO","-","-"]
[null,"ARAUCO BIO","96.547.510-9","CELULOSA ARAUCO Y CONSTITUCIÓN -PLANTA CONSTITUCIÓN",2396,"CELCO","Caldera de poder","IN000211-2","CELCO TG2","CELCO","Celco","Celco","CELCO_BL1+BL2_COGEN","Diésel","CONSTIT.______066","Sí",null,1,"G_CELCO","-","-"]
[null,"ARAUCO BIO","96.547.510-9","CELULOSA ARAUCO Y CONSTITUCIÓN -PLANTA CONSTITUCIÓN",2396,"CELCO","Caldera recuperadora","IN000212-0","CELCO TG2","CELCO","Celco","Celco","CELCO_BL1_COGEN","Biomasa","CONSTIT.______066","Sí",null,1,"G_CELCO","-","-"]
[null,"ARAUCO BIO","96.547.510-9","CELULOSA ARAUCO Y CONSTITUCIÓN -PLANTA CONSTITUCIÓN",2396,"CELCO","Caldera recuperadora","IN000212-0","CELCO TG2","CELCO","Celco","Celco","CELCO_BL1+BL2_COGEN","Diésel","CONSTIT.______066","Sí",null,1,"G_CELCO","-","-"]
[null,"ARAUCO BIO","96.547.510-9","PLANTA LICANCEL",85016,"LICANTEN","Caldera recuperadora","IN000224-4","LICANTEN TG2","LICANTEN","Licanten","Licantén","LICANTEN_COGEN","Biomasa","LICANTEN______066","Sí",null,1,"G_LICAN","-","-"]
[null,"ARAUCO BIO","96.547.510-9","PLANTA LICANCEL",85016,"LICANTEN","Caldera de poder","IN000225-2","LICANTEN TG2","LICANTEN","Licanten","Licantén","LICANTEN_COGEN","Biomasa","LICANTEN______066","Sí",null,1,"G_LICAN","-","-"]
[null,"ARAUCO BIO","96.547.510-9","CENTRAL HORCONES",88406,"HORCONES","TURBOGENERADOR","PC002440-0","HORCONES TG","HORCONES TG","Horcones TG","Horcones","HORCONES_DIESEL","Diésel","HORCONES______066","No",null,1,"G_HORCO","-","-"]
[null,"ARAUCO BIO","96.547.510-9","CELULOSA ARAUCO Y CONSTITUCIÓN -PLANTA ARAUCO",2397,"ARAUCO","CALDERA DE PODER 1","IN000213-9","ARAUCO TG4/5","ARAUCO","Arauco","Arauco","ARAUCO_COGEN","Biomasa","HORCONES______066","Sí",null,1,"G_ARAUC","-","-"]
[null,"ARAUCO BIO","96.547.510-9","CELULOSA ARAUCO Y CONSTITUCIÓN -PLANTA ARAUCO",2397,"ARAUCO","CALDERA DE PODER 1","IN000213-9","ARAUCO TG6","ARAUCO","Arauco","Arauco","ARAUCO_COGEN","Biomasa","HORCONES______066","Sí",null,1,"G_ARAUC","-","-"]
[null,"ARAUCO BIO","96.547.510-9","CELULOSA ARAUCO Y CONSTITUCIÓN -PLANTA ARAUCO",2397,"ARAUCO","CALDERA RECUPERADORA 1","IN000214-7","ARAUCO TG4/5","ARAUCO","Arauco","Arauco","ARAUCO_COGEN","Biomasa","HORCONES______066","Sí",null,1,"G_ARAUC","-","-"]
[null,"ARAUCO BIO","96.547.510-9","CELULOSA ARAUCO Y CONSTITUCIÓN -PLANTA ARAUCO",2397,"ARAUCO","CALDERA RECUPERADORA 1","IN000214-7","ARAUCO TG4/5","ARAUCO","Arauco","Arauco","ARAUCO_COGEN","Biomasa","HORCONES______066","Sí",null,1,"G_ARAUC","-","-"]
[null,"ARAUCO BIO","96.547.510-9","CELULOSA ARAUCO Y CONSTITUCIÓN -PLANTA ARAUCO",2397,"ARAUCO","CALDERA DE PODER 3","IN000215-5","ARAUCO TG6","ARAUCO","Arauco","Arauco","ARAUCO_COGEN","Biomasa","HORCONES______066","Sí",null,1,"G_ARAUC","-","-"]
[null,"ARAUCO BIO","96.547.510-9","CELULOSA ARAUCO Y CONSTITUCIÓN -PLANTA ARAUCO",2397,"ARAUCO","CALDERA DE PODER 2","IN000216-3","ARAUCO TG4/5","ARAUCO","Arauco","Arauco","ARAUCO_COGEN","Biomasa","HORCONES______066","Sí",null,1,"G_ARAUC","-","-"]
[null,"ARAUCO BIO","96.547.510-9","CELULOSA ARAUCO Y CONSTITUCIÓN -PLANTA ARAUCO",2397,"ARAUCO","CALDERA DE PODER 2","IN000216-3","ARAUCO TG6","ARAUCO","Arauco","Arauco","ARAUCO_COGEN","Biomasa","HORCONES______066","Sí",null,1,"G_ARAUC","-","-"]
[null,"ARAUCO BIO","96.547.510-9","CELULOSA ARAUCO Y CONSTITUCIÓN -PLANTA ARAUCO",2397,"ARAUCO","CALDERA RECUPERADORA 2","IN000217-1","ARAUCO TG4/5","ARAUCO","Arauco","Arauco","ARAUCO_COGEN","Biomasa","HORCONES______066","Sí",null,1,"G_ARAUC","-","-"]
[null,"ARAUCO BIO","96.547.510-9","CELULOSA ARAUCO Y CONSTITUCIÓN -PLANTA ARAUCO",2397,"ARAUCO","CALDERA RECUPERADORA 2","IN000217-1","ARAUCO TG6","ARAUCO","Arauco","Arauco","ARAUCO_COGEN","Biomasa","HORCONES______066","Sí",null,1,"G_ARAUC","-","-"]
[null,"ARAUCO BIO","96.547.510-9","CELULOSA ARAUCO Y CONSTITUCIÓN -PLANTA ARAUCO",2397,"ARAUCO","CALDERA DE PODER 4","IN001365-3","ARAUCO TG4/5","ARAUCO","Arauco","Arauco","ARAUCO_COGEN","Biomasa","HORCONES______066","Sí",null,1,"G_ARAUC","-","-"]
[null,"ARAUCO BIO","96.547.510-9","CELULOSA ARAUCO Y CONSTITUCIÓN -PLANTA ARAUCO",2397,"ARAUCO","CALDERA DE PODER 4","IN001365-3","ARAUCO TG6","ARAUCO","Arauco","Arauco","ARAUCO_COGEN","Biomasa","HORCONES______066","Sí",null,1,"G_ARAUC","-","-"]
[null,"ARAUCO BIO","96.547.510-9","NUEVA ALDEA (1 Y 3)",85017,"NUEVA ALDEA (1 y 3)","TURBOGENERADOR","EL019740-9","NUEVA ALDEA I","NUEVA ALDEA I","Nueva Aldea I","Nueva Aldea I","NUEVAALDEA-1_BL1_COGEN","Biomasa","STA.ELVIRA____066","Sí",null,2,"G_NALDEA1","G_NALDEA3","-"]
[null,"ARAUCO BIO","96.547.510-9","NUEVA ALDEA (1 Y 3)",85017,"NUEVA ALDEA (1 y 3)","TURBOGENERADOR","EL019740-9","NUEVA ALDEA I","NUEVA ALDEA I","Nueva Aldea I","Nueva Aldea I","NUEVAALDEA-1_BL1+BL2_COGEN","Biomasa","STA.ELVIRA____066","Sí",null,2,"G_NALDEA1","G_NALDEA3","-"]
[null,"ARAUCO BIO","96.547.510-9","NUEVA ALDEA (1 Y 3)",85017,"NUEVA ALDEA (1 y 3)","TURBOGENERADOR","EL019740-9","NUEVA ALDEA III","NUEVA ALDEA III","Nueva Aldea III","Nueva Aldea III","NUEVAALDEA-3_COGEN","Biomasa","STA.ELVIRA____066","Sí",null,2,"G_NALDEA1","G_NALDEA3","-"]
[null,"ARAUCO BIO","96.547.510-9","NUEVA ALDEA (1 Y 3)",85017,"NUEVA ALDEA (1 y 3)","CALDERA RECUPERADORA","IN000218-k","NUEVA ALDEA I","NUEVA ALDEA I","Nueva Aldea I","Nueva Aldea I","NUEVAALDEA-1_BL1_COGEN","Biomasa","STA.ELVIRA____066","Sí",null,2,"G_NALDEA1","G_NALDEA3","-"]
[null,"ARAUCO BIO","96.547.510-9","NUEVA ALDEA (1 Y 3)",85017,"NUEVA ALDEA (1 y 3)","CALDERA RECUPERADORA","IN000218-k","NUEVA ALDEA I","NUEVA ALDEA I","Nueva Aldea I","Nueva Aldea I","NUEVAALDEA-1_BL1+BL2_COGEN","Biomasa","STA.ELVIRA____066","Sí",null,2,"G_NALDEA1","G_NALDEA3","-"]
[null,"ARAUCO BIO","96.547.510-9","NUEVA ALDEA (1 Y 3)",85017,"NUEVA ALDEA (1 y 3)","CALDERA RECUPERADORA","IN000218-k","NUEVA ALDEA III","NUEVA ALDEA III","Nueva Aldea III","Nueva Aldea III","NUEVAALDEA-3_COGEN","Biomasa","STA.ELVIRA____066","Sí",null,2,"G_NALDEA1","G_NALDEA3","-"]
[null,"ARAUCO BIO","96.547.510-9","NUEVA ALDEA (1 Y 3)",85017,"NUEVA ALDEA (1 y 3)","CALDERA DE PODER","IN002622-4","NUEVA ALDEA I","NUEVA ALDEA I","Nueva Aldea I","Nueva Aldea I","NUEVAALDEA-1_BL1_COGEN","Biomasa","STA.ELVIRA____066","Sí",null,2,"G_NALDEA1","G_NALDEA3","-"]
[null,"ARAUCO BIO","96.547.510-9","NUEVA ALDEA (1 Y 3)",85017,"NUEVA ALDEA (1 y 3)","CALDERA DE PODER","IN002622-4","NUEVA ALDEA I","NUEVA ALDEA I","Nueva Aldea I","Nueva Aldea I","NUEVAALDEA-1_BL1+BL2_COGEN","Biomasa","STA.ELVIRA____066","Sí",null,2,"G_NALDEA1","G_NALDEA3","-"]
[null,"ARAUCO BIO","96.547.510-9","NUEVA ALDEA (1 Y 3)",85017,"NUEVA ALDEA (1 y 3)","CALDERA DE PODER","IN002622-4","NUEVA ALDEA III","NUEVA ALDEA III","Nueva Aldea III","Nueva Aldea III","NUEVAALDEA-3_COGEN","Biomasa","STA.ELVIRA____066","Sí",null,2,"G_NALDEA1","G_NALDEA3","-"]
[null,"ARAUCO BIO","96.547.510-9","PLANTA TRUPÁN/CHOLGUÁN",4586116,"CHOLGUÁN",null,"IN000611-8","CHOLGUAN TG","CHOLGUAN","Cholguan","Cholguán","CHOLGUAN_BL1_COGEN","Biomasa","CHOLGUAN______066","Sí",null,1,"PANEL_I","-","-"]
[null,"ARAUCO BIO","96.547.510-9","PLANTA TRUPÁN/CHOLGUÁN",4586116,"CHOLGUÁN",null,"IN000611-8","CHOLGUAN TG","CHOLGUAN","Cholguan","Cholguán","CHOLGUAN_BL1+BL2_COGEN","Diésel","CHOLGUAN______066","Sí",null,1,"PANEL_I","-","-"]
[null,"ARAUCO BIO","96.547.510-9","PLANTA TRUPÁN/CHOLGUÁN",4586116,"CHOLGUÁN",null,"IN003326-k","CHOLGUAN TG","CHOLGUAN","Cholguan","Cholguán","CHOLGUAN_BL1_COGEN","Biomasa","CHOLGUAN______066","Sí",null,1,"PANEL_I","-","-"]
[null,"ARAUCO BIO","96.547.510-9","PLANTA TRUPÁN/CHOLGUÁN",4586116,"CHOLGUÁN",null,"IN003326-k","CHOLGUAN TG","CHOLGUAN","Cholguan","Cholguán","CHOLGUAN_BL1+BL2_COGEN","Diésel","CHOLGUAN______066","Sí",null,1,"PANEL_I","-","-"]
[null,"ARAUCO BIO","96.547.510-9","PLANTA TRUPÁN/CHOLGUÁN",4586116,"CHOLGUÁN",null,"IN003325-1","CHOLGUAN TG","CHOLGUAN","Cholguan","Cholguán","CHOLGUAN_BL1_COGEN","Biomasa","CHOLGUAN______066","Sí",null,1,"PANEL_I","-","-"]
[null,"ARAUCO BIO","96.547.510-9","PLANTA TRUPÁN/CHOLGUÁN",4586116,"CHOLGUÁN",null,"IN003325-1","CHOLGUAN TG","CHOLGUAN","Cholguan","Cholguán","CHOLGUAN_BL1+BL2_COGEN","Diésel","CHOLGUAN______066","Sí",null,1,"PANEL_I","-","-"]
[null,"ARAUCO BIO","96.547.510-9","CELULOSA ARAUCO Y CONSTITUCIÓN - PLANTA VALDIVIA",85018,"VALDIVIA","CALDERA RECUPERADORA","IN000219-8","VALDIVIA","VALDIVIA","Valdivia","Valdivia","VALDIVIA_BL1_COGEN_PINO","Biomasa","CIRUELOS______220","Sí",null,1,"VALDI_I","-","-"]
[null,"ARAUCO BIO","96.547.510-9","CELULOSA ARAUCO Y CONSTITUCIÓN - PLANTA VALDIVIA",85018,"VALDIVIA","CALDERA RECUPERADORA","IN000219-8","VALDIVIA","VALDIVIA","Valdivia","Valdivia","VALDIVIA_BL1_COGEN_EUCA","Biomasa","CIRUELOS______220","Sí",null,1,"VALDI_I","-","-"]
[null,"ARAUCO BIO","96.547.510-9","CELULOSA ARAUCO Y CONSTITUCIÓN - PLANTA VALDIVIA",85018,"VALDIVIA","CALDERA RECUPERADORA","IN000219-8","VALDIVIA","VALDIVIA","Valdivia","Valdivia","VALDIVIA_BL1+BL2_COGEN_PINO","Biomasa","CIRUELOS______220","Sí",null,1,"VALDI_I","-","-"]
[null,"ARAUCO BIO","96.547.510-9","CELULOSA ARAUCO Y CONSTITUCIÓN - PLANTA VALDIVIA",85018,"VALDIVIA","CALDERA RECUPERADORA","IN000219-8","VALDIVIA","VALDIVIA","Valdivia","Valdivia","VALDIVIA_BL1+BL2_COGEN_EUCA","Biomasa","CIRUELOS______220","Sí",null,1,"VALDI_I","-","-"]
[null,"ARAUCO BIO","96.547.510-9","CELULOSA ARAUCO Y CONSTITUCIÓN - PLANTA VALDIVIA",85018,"VALDIVIA","CALDERA RECUPERADORA","IN000219-8","VALDIVIA","VALDIVIA","Valdivia","Valdivia","VALDIVIA_BL1+BL2+BL3_COGEN_PINO","Biomasa","CIRUELOS______220","Sí",null,1,"VALDI_I","-","-"]
[null,"ARAUCO BIO","96.547.510-9","CELULOSA ARAUCO Y CONSTITUCIÓN - PLANTA VALDIVIA",85018,"VALDIVIA","CALDERA RECUPERADORA","IN000219-8","VALDIVIA","VALDIVIA","Valdivia","Valdivia","VALDIVIA_BL1+BL2+BL3_COGEN_EUCA","Biomasa","CIRUELOS______220","Sí",null,1,"VALDI_I","-","-"]
[null,"ARAUCO BIO","96.547.510-9","CELULOSA ARAUCO Y CONSTITUCIÓN - PLANTA VALDIVIA",85018,"VALDIVIA","CALDERA RECUPERADORA","IN000219-8","VALDIVIA","VALDIVIA","Valdivia","Valdivia","VALDIVIA_BL1+BL2+BL3+BL4_COGEN_PINO","Diésel","CIRUELOS______220","Sí",null,1,"VALDI_I","-","-"]
[null,"ARAUCO BIO","96.547.510-9","CELULOSA ARAUCO Y CONSTITUCIÓN - PLANTA VALDIVIA",85018,"VALDIVIA","CALDERA RECUPERADORA","IN000219-8","VALDIVIA","VALDIVIA","Valdivia","Valdivia","VALDIVIA_BL1+BL2+BL3+BL4_COGEN_EUCA","Diésel","CIRUELOS______220","Sí",null,1,"VALDI_I","-","-"]
[null,"ARAUCO BIO","96.547.510-9","CELULOSA ARAUCO Y CONSTITUCIÓN - PLANTA VALDIVIA",85018,"VALDIVIA","CALDERA DE PODER","IN000220-1","VALDIVIA","VALDIVIA","Valdivia","Valdivia","VALDIVIA_BL1_COGEN_PINO","Biomasa","CIRUELOS______220","Sí",null,1,"VALDI_I","-","-"]
[null,"ARAUCO BIO","96.547.510-9","CELULOSA ARAUCO Y CONSTITUCIÓN - PLANTA VALDIVIA",85018,"VALDIVIA","CALDERA DE PODER","IN000220-1","VALDIVIA","VALDIVIA","Valdivia","Valdivia","VALDIVIA_BL1_COGEN_EUCA","Biomasa","CIRUELOS______220","Sí",null,1,"VALDI_I","-","-"]
[null,"ARAUCO BIO","96.547.510-9","CELULOSA ARAUCO Y CONSTITUCIÓN - PLANTA VALDIVIA",85018,"VALDIVIA","CALDERA DE PODER","IN000220-1","VALDIVIA","VALDIVIA","Valdivia","Valdivia","VALDIVIA_BL1+BL2_COGEN_PINO","Biomasa","CIRUELOS______220","Sí",null,1,"VALDI_I","-","-"]
[null,"ARAUCO BIO","96.547.510-9","CELULOSA ARAUCO Y CONSTITUCIÓN - PLANTA VALDIVIA",85018,"VALDIVIA","CALDERA DE PODER","IN000220-1","VALDIVIA","VALDIVIA","Valdivia","Valdivia","VALDIVIA_BL1+BL2_COGEN_EUCA","Biomasa","CIRUELOS______220","Sí",null,1,"VALDI_I","-","-"]
[null,"ARAUCO BIO","96.547.510-9","CELULOSA ARAUCO Y CONSTITUCIÓN - PLANTA VALDIVIA",85018,"VALDIVIA","CALDERA DE PODER","IN000220-1","VALDIVIA","VALDIVIA","Valdivia","Valdivia","VALDIVIA_BL1+BL2+BL3_COGEN_PINO","Biomasa","CIRUELOS______220","Sí",null,1,"VALDI_I","-","-"]
[null,"ARAUCO BIO","96.547.510-9","CELULOSA ARAUCO Y CONSTITUCIÓN - PLANTA VALDIVIA",85018,"VALDIVIA","CALDERA DE PODER","IN000220-1","VALDIVIA","VALDIVIA","Valdivia","Valdivia","VALDIVIA_BL1+BL2+BL3_COGEN_EUCA","Biomasa","CIRUELOS______220","Sí",null,1,"VALDI_I","-","-"]
[null,"ARAUCO BIO","96.547.510-9","CELULOSA ARAUCO Y CONSTITUCIÓN - PLANTA VALDIVIA",85018,"VALDIVIA","CALDERA DE PODER","IN000220-1","VALDIVIA","VALDIVIA","Valdivia","Valdivia","VALDIVIA_BL1+BL2+BL3+BL4_COGEN_PINO","Diésel","CIRUELOS______220","Sí",null,1,"VALDI_I","-","-"]
[null,"ARAUCO BIO","96.547.510-9","CELULOSA ARAUCO Y CONSTITUCIÓN - PLANTA VALDIVIA",85018,"VALDIVIA","CALDERA DE PODER","IN000220-1","VALDIVIA","VALDIVIA","Valdivia","Valdivia","VALDIVIA_BL1+BL2+BL3+BL4_COGEN_EUCA","Diésel","CIRUELOS______220","Sí",null,1,"VALDI_I","-","-"]
[null,"BE FORESTALES","76.188.197-3","CMPC CELULOSA PLANTA LAJA",3216,"CMPC LAJA","Caldera Recuperadora N° 6","IN001988-0","CMPC LAJA 1","CMPC LAJA","CMPC Laja","CMPC Laja","CMPCLAJA_BL1_COGEN","Biomasa","LAJA__________220","Sí",null,1,"G_CMPC LAJA","-","-"]
[null,"BE FORESTALES","76.188.197-3","CMPC CELULOSA PLANTA LAJA",3216,"CMPC LAJA","Caldera Recuperadora N° 6","IN001988-0","CMPC LAJA 1","CMPC LAJA","CMPC Laja","CMPC Laja","CMPCLAJA_BL1+BL2_COGEN","Biomasa","LAJA__________220","Sí",null,1,"G_CMPC LAJA","-","-"]
[null,"BE FORESTALES","76.188.197-3","CMPC CELULOSA PLANTA LAJA",3216,"CMPC LAJA","Caldera Recuperadora N° 6","IN001988-0","CMPC LAJA 1","CMPC LAJA","CMPC Laja","CMPC Laja","CMPCLAJA_BL1+BL2+BL3_COGEN","Biomasa","LAJA__________220","Sí",null,1,"G_CMPC LAJA","-","-"]
[null,"BE FORESTALES","76.188.197-3","CMPC CELULOSA PLANTA LAJA",3216,"CMPC LAJA","Caldera Recuperadora N° 6","IN001988-0","CMPC LAJA 2","CMPC LAJA","CMPC Laja","CMPC Laja","CMPCLAJA_BL1_COGEN","Biomasa","LAJA__________220","Sí",null,1,"G_CMPC LAJA","-","-"]
[null,"BE FORESTALES","76.188.197-3","CMPC CELULOSA PLANTA LAJA",3216,"CMPC LAJA","Caldera Recuperadora N° 6","IN001988-0","CMPC LAJA 2","CMPC LAJA","CMPC Laja","CMPC Laja","CMPCLAJA_BL1+BL2_COGEN","Biomasa","LAJA__________220","Sí",null,1,"G_CMPC LAJA","-","-"]
[null,"BE FORESTALES","76.188.197-3","CMPC CELULOSA PLANTA LAJA",3216,"CMPC LAJA","Caldera Recuperadora N° 6","IN001988-0","CMPC LAJA 2","CMPC LAJA","CMPC Laja","CMPC Laja","CMPCLAJA_BL1+BL2+BL3_COGEN","Biomasa","LAJA__________220","Sí",null,1,"G_CMPC LAJA","-","-"]
[null,"BE FORESTALES","76.188.197-3","CMPC CELULOSA PLANTA LAJA",3216,"CMPC LAJA","Caldera de Biomasa 3","IN002371-3","CMPC LAJA 1","CMPC LAJA","CMPC Laja","CMPC Laja","CMPCLAJA_BL1_COGEN","Biomasa","LAJA__________220","Sí",null,1,"G_CMPC LAJA","-","-"]
[null,"BE FORESTALES","76.188.197-3","CMPC CELULOSA PLANTA LAJA",3216,"CMPC LAJA","Caldera de Biomasa 3","IN002371-3","CMPC LAJA 1","CMPC LAJA","CMPC Laja","CMPC Laja","CMPCLAJA_BL1+BL2_COGEN","Biomasa","LAJA__________220","Sí",null,1,"G_CMPC LAJA","-","-"]
[null,"BE FORESTALES","76.188.197-3","CMPC CELULOSA PLANTA LAJA",3216,"CMPC LAJA","Caldera de Biomasa 3","IN002371-3","CMPC LAJA 1","CMPC LAJA","CMPC Laja","CMPC Laja","CMPCLAJA_BL1+BL2+BL3_COGEN","Biomasa","LAJA__________220","Sí",null,1,"G_CMPC LAJA","-","-"]
[null,"BE FORESTALES","76.188.197-3","CMPC CELULOSA PLANTA LAJA",3216,"CMPC LAJA","Caldera de Biomasa 3","IN002371-3","CMPC LAJA 2","CMPC LAJA","CMPC Laja","CMPC Laja","CMPCLAJA_BL1_COGEN","Biomasa","LAJA__________220","Sí",null,1,"G_CMPC LAJA","-","-"]
[null,"BE FORESTALES","76.188.197-3","CMPC CELULOSA PLANTA LAJA",3216,"CMPC LAJA","Caldera de Biomasa 3","IN002371-3","CMPC LAJA 2","CMPC LAJA","CMPC Laja","CMPC Laja","CMPCLAJA_BL1+BL2_COGEN","Biomasa","LAJA__________220","Sí",null,1,"G_CMPC LAJA","-","-"]
[null,"BE FORESTALES","76.188.197-3","CMPC CELULOSA PLANTA LAJA",3216,"CMPC LAJA","Caldera de Biomasa 3","IN002371-3","CMPC LAJA 2","CMPC LAJA","CMPC Laja","CMPC Laja","CMPCLAJA_BL1+BL2+BL3_COGEN","Biomasa","LAJA__________220","Sí",null,1,"G_CMPC LAJA","-","-"]
[null,"BE FORESTALES","76.188.197-3","CMPC CELULOSA PLANTA SANTA FE",3522,"CMPC SANTA FE","CALDERA RECUPERADORA LINEA 1","IN000638-k","CELULOSA SANTA FE 1","CMPC SANTA FE","Santa Fe","CMPC Santa Fe","SANTAFE_BL1_COGEN","Biomasa","NACIMIENTO____220","Sí",null,1,"G_CMPC SANTA FE","-","-"]
[null,"BE FORESTALES","76.188.197-3","CMPC CELULOSA PLANTA SANTA FE",3522,"CMPC SANTA FE","CALDERA RECUPERADORA LINEA 1","IN000638-k","CELULOSA SANTA FE 1","CMPC SANTA FE","Santa Fe","CMPC Santa Fe","SANTAFE_BL1+BL2_COGEN","Biomasa","NACIMIENTO____220","Sí",null,1,"G_CMPC SANTA FE","-","-"]
[null,"BE FORESTALES","76.188.197-3","CMPC CELULOSA PLANTA SANTA FE",3522,"CMPC SANTA FE","CALDERA RECUPERADORA LINEA 1","IN000638-k","CELULOSA SANTA FE 1","CMPC SANTA FE","Santa Fe","CMPC Santa Fe","SANTAFE_BL1+BL2+BL3_COGEN","Biomasa","NACIMIENTO____220","Sí",null,1,"G_CMPC SANTA FE","-","-"]
[null,"BE FORESTALES","76.188.197-3","CMPC CELULOSA PLANTA SANTA FE",3522,"CMPC SANTA FE","CALDERA RECUPERADORA LINEA 1","IN000638-k","CELULOSA SANTA FE 1","CMPC SANTA FE","Santa Fe","CMPC Santa Fe","SANTAFE_BL1+BL2+BL3+BL4_COGEN","Biomasa","NACIMIENTO____220","Sí",null,1,"G_CMPC SANTA FE","-","-"]
[null,"BE FORESTALES","76.188.197-3","CMPC CELULOSA PLANTA SANTA FE",3522,"CMPC SANTA FE","CALDERA RECUPERADORA LINEA 1","IN000638-k","CELULOSA SANTA FE 2","CMPC SANTA FE","Santa Fe","CMPC Santa Fe","SANTAFE_BL1_COGEN","Biomasa","NACIMIENTO____220","Sí",null,1,"G_CMPC SANTA FE","-","-"]
[null,"BE FORESTALES","76.188.197-3","CMPC CELULOSA PLANTA SANTA FE",3522,"CMPC SANTA FE","CALDERA RECUPERADORA LINEA 1","IN000638-k","CELULOSA SANTA FE 2","CMPC SANTA FE","Santa Fe","CMPC Santa Fe","SANTAFE_BL1+BL2_COGEN","Biomasa","NACIMIENTO____220","Sí",null,1,"G_CMPC SANTA FE","-","-"]
[null,"BE FORESTALES","76.188.197-3","CMPC CELULOSA PLANTA SANTA FE",3522,"CMPC SANTA FE","CALDERA RECUPERADORA LINEA 1","IN000638-k","CELULOSA SANTA FE 2","CMPC SANTA FE","Santa Fe","CMPC Santa Fe","SANTAFE_BL1+BL2+BL3_COGEN","Biomasa","NACIMIENTO____220","Sí",null,1,"G_CMPC SANTA FE","-","-"]
[null,"BE FORESTALES","76.188.197-3","CMPC CELULOSA PLANTA SANTA FE",3522,"CMPC SANTA FE","CALDERA RECUPERADORA LINEA 1","IN000638-k","CELULOSA SANTA FE 2","CMPC SANTA FE","Santa Fe","CMPC Santa Fe","SANTAFE_BL1+BL2+BL3+BL4_COGEN","Biomasa","NACIMIENTO____220","Sí",null,1,"G_CMPC SANTA FE","-","-"]
[null,"BE FORESTALES","76.188.197-3","CMPC CELULOSA PLANTA SANTA FE",3522,"CMPC SANTA FE","CALDERA RECUPERADORA LINEA 1","IN000638-k","CELULOSA SANTA FE 3","CMPC SANTA FE","Santa Fe","CMPC Santa Fe","SANTAFE_BL1_COGEN","Biomasa","NACIMIENTO____220","Sí",null,1,"G_CMPC SANTA FE","-","-"]
[null,"BE FORESTALES","76.188.197-3","CMPC CELULOSA PLANTA SANTA FE",3522,"CMPC SANTA FE","CALDERA RECUPERADORA LINEA 1","IN000638-k","CELULOSA SANTA FE 3","CMPC SANTA FE","Santa Fe","CMPC Santa Fe","SANTAFE_BL1+BL2_COGEN","Biomasa","NACIMIENTO____220","Sí",null,1,"G_CMPC SANTA FE","-","-"]
[null,"BE FORESTALES","76.188.197-3","CMPC CELULOSA PLANTA SANTA FE",3522,"CMPC SANTA FE","CALDERA RECUPERADORA LINEA 1","IN000638-k","CELULOSA SANTA FE 3","CMPC SANTA FE","Santa Fe","CMPC Santa Fe","SANTAFE_BL1+BL2+BL3_COGEN","Biomasa","NACIMIENTO____220","Sí",null,1,"G_CMPC SANTA FE","-","-"]
[null,"BE FORESTALES","76.188.197-3","CMPC CELULOSA PLANTA SANTA FE",3522,"CMPC SANTA FE","CALDERA RECUPERADORA LINEA 1","IN000638-k","CELULOSA SANTA FE 3","CMPC SANTA FE","Santa Fe","CMPC Santa Fe","SANTAFE_BL1+BL2+BL3+BL4_COGEN","Biomasa","NACIMIENTO____220","Sí",null,1,"G_CMPC SANTA FE","-","-"]
[null,"BE FORESTALES","76.188.197-3","CMPC CELULOSA PLANTA SANTA FE",3522,"CMPC SANTA FE","CALDERA DE BIOMASA LINEA 1","IN000639-8","CELULOSA SANTA FE 1","CMPC SANTA FE","Santa Fe","CMPC Santa Fe","SANTAFE_BL1_COGEN","Biomasa","NACIMIENTO____220","Sí",null,1,"G_CMPC SANTA FE","-","-"]
[null,"BE FORESTALES","76.188.197-3","CMPC CELULOSA PLANTA SANTA FE",3522,"CMPC SANTA FE","CALDERA DE BIOMASA LINEA 1","IN000639-8","CELULOSA SANTA FE 1","CMPC SANTA FE","Santa Fe","CMPC Santa Fe","SANTAFE_BL1+BL2_COGEN","Biomasa","NACIMIENTO____220","Sí",null,1,"G_CMPC SANTA FE","-","-"]
[null,"BE FORESTALES","76.188.197-3","CMPC CELULOSA PLANTA SANTA FE",3522,"CMPC SANTA FE","CALDERA DE BIOMASA LINEA 1","IN000639-8","CELULOSA SANTA FE 1","CMPC SANTA FE","Santa Fe","CMPC Santa Fe","SANTAFE_BL1+BL2+BL3_COGEN","Biomasa","NACIMIENTO____220","Sí",null,1,"G_CMPC SANTA FE","-","-"]
[null,"BE FORESTALES","76.188.197-3","CMPC CELULOSA PLANTA SANTA FE",3522,"CMPC SANTA FE","CALDERA DE BIOMASA LINEA 1","IN000639-8","CELULOSA SANTA FE 1","CMPC SANTA FE","Santa Fe","CMPC Santa Fe","SANTAFE_BL1+BL2+BL3+BL4_COGEN","Biomasa","NACIMIENTO____220","Sí",null,1,"G_CMPC SANTA FE","-","-"]
[null,"BE FORESTALES","76.188.197-3","CMPC CELULOSA PLANTA SANTA FE",3522,"CMPC SANTA FE","CALDERA DE BIOMASA LINEA 1","IN000639-8","CELULOSA SANTA FE 2","CMPC SANTA FE","Santa Fe","CMPC Santa Fe","SANTAFE_BL1_COGEN","Biomasa","NACIMIENTO____220","Sí",null,1,"G_CMPC SANTA FE","-","-"]
[null,"BE FORESTALES","76.188.197-3","CMPC CELULOSA PLANTA SANTA FE",3522,"CMPC SANTA FE","CALDERA DE BIOMASA LINEA 1","IN000639-8","CELULOSA SANTA FE 2","CMPC SANTA FE","Santa Fe","CMPC Santa Fe","SANTAFE_BL1+BL2_COGEN","Biomasa","NACIMIENTO____220","Sí",null,1,"G_CMPC SANTA FE","-","-"]
[null,"BE FORESTALES","76.188.197-3","CMPC CELULOSA PLANTA SANTA FE",3522,"CMPC SANTA FE","CALDERA DE BIOMASA LINEA 1","IN000639-8","CELULOSA SANTA FE 2","CMPC SANTA FE","Santa Fe","CMPC Santa Fe","SANTAFE_BL1+BL2+BL3_COGEN","Biomasa","NACIMIENTO____220","Sí",null,1,"G_CMPC SANTA FE","-","-"]
[null,"BE FORESTALES","76.188.197-3","CMPC CELULOSA PLANTA SANTA FE",3522,"CMPC SANTA FE","CALDERA DE BIOMASA LINEA 1","IN000639-8","CELULOSA SANTA FE 2","CMPC SANTA FE","Santa Fe","CMPC Santa Fe","SANTAFE_BL1+BL2+BL3+BL4_COGEN","Biomasa","NACIMIENTO____220","Sí",null,1,"G_CMPC SANTA FE","-","-"]
[null,"BE FORESTALES","76.188.197-3","CMPC CELULOSA PLANTA SANTA FE",3522,"CMPC SANTA FE","CALDERA DE BIOMASA LINEA 1","IN000639-8","CELULOSA SANTA FE 3","CMPC SANTA FE","Santa Fe","CMPC Santa Fe","SANTAFE_BL1_COGEN","Biomasa","NACIMIENTO____220","Sí",null,1,"G_CMPC SANTA FE","-","-"]
[null,"BE FORESTALES","76.188.197-3","CMPC CELULOSA PLANTA SANTA FE",3522,"CMPC SANTA FE","CALDERA DE BIOMASA LINEA 1","IN000639-8","CELULOSA SANTA FE 3","CMPC SANTA FE","Santa Fe","CMPC Santa Fe","SANTAFE_BL1+BL2_COGEN","Biomasa","NACIMIENTO____220","Sí",null,1,"G_CMPC SANTA FE","-","-"]
[null,"BE FORESTALES","76.188.197-3","CMPC CELULOSA PLANTA SANTA FE",3522,"CMPC SANTA FE","CALDERA DE BIOMASA LINEA 1","IN000639-8","CELULOSA SANTA FE 3","CMPC SANTA FE","Santa Fe","CMPC Santa Fe","SANTAFE_BL1+BL2+BL3_COGEN","Biomasa","NACIMIENTO____220","Sí",null,1,"G_CMPC SANTA FE","-","-"]
[null,"BE FORESTALES","76.188.197-3","CMPC CELULOSA PLANTA SANTA FE",3522,"CMPC SANTA FE","CALDERA DE BIOMASA LINEA 1","IN000639-8","CELULOSA SANTA FE 3","CMPC SANTA FE","Santa Fe","CMPC Santa Fe","SANTAFE_BL1+BL2+BL3+BL4_COGEN","Biomasa","NACIMIENTO____220","Sí",null,1,"G_CMPC SANTA FE","-","-"]
[null,"BE FORESTALES","76.188.197-3","CMPC CELULOSA PLANTA SANTA FE",3522,"CMPC SANTA FE","CALDERA RECUPERADORA LINEA 2","IN000640-1","CELULOSA SANTA FE 1","CMPC SANTA FE","Santa Fe","CMPC Santa Fe","SANTAFE_BL1_COGEN","Biomasa","NACIMIENTO____220","Sí",null,1,"G_CMPC SANTA FE","-","-"]
[null,"BE FORESTALES","76.188.197-3","CMPC CELULOSA PLANTA SANTA FE",3522,"CMPC SANTA FE","CALDERA RECUPERADORA LINEA 2","IN000640-1","CELULOSA SANTA FE 1","CMPC SANTA FE","Santa Fe","CMPC Santa Fe","SANTAFE_BL1+BL2_COGEN","Biomasa","NACIMIENTO____220","Sí",null,1,"G_CMPC SANTA FE","-","-"]
[null,"BE FORESTALES","76.188.197-3","CMPC CELULOSA PLANTA SANTA FE",3522,"CMPC SANTA FE","CALDERA RECUPERADORA LINEA 2","IN000640-1","CELULOSA SANTA FE 1","CMPC SANTA FE","Santa Fe","CMPC Santa Fe","SANTAFE_BL1+BL2+BL3_COGEN","Biomasa","NACIMIENTO____220","Sí",null,1,"G_CMPC SANTA FE","-","-"]
[null,"BE FORESTALES","76.188.197-3","CMPC CELULOSA PLANTA SANTA FE",3522,"CMPC SANTA FE","CALDERA RECUPERADORA LINEA 2","IN000640-1","CELULOSA SANTA FE 1","CMPC SANTA FE","Santa Fe","CMPC Santa Fe","SANTAFE_BL1+BL2+BL3+BL4_COGEN","Biomasa","NACIMIENTO____220","Sí",null,1,"G_CMPC SANTA FE","-","-"]
[null,"BE FORESTALES","76.188.197-3","CMPC CELULOSA PLANTA SANTA FE",3522,"CMPC SANTA FE","CALDERA RECUPERADORA LINEA 2","IN000640-1","CELULOSA SANTA FE 2","CMPC SANTA FE","Santa Fe","CMPC Santa Fe","SANTAFE_BL1_COGEN","Biomasa","NACIMIENTO____220","Sí",null,1,"G_CMPC SANTA FE","-","-"]
[null,"BE FORESTALES","76.188.197-3","CMPC CELULOSA PLANTA SANTA FE",3522,"CMPC SANTA FE","CALDERA RECUPERADORA LINEA 2","IN000640-1","CELULOSA SANTA FE 2","CMPC SANTA FE","Santa Fe","CMPC Santa Fe","SANTAFE_BL1+BL2_COGEN","Biomasa","NACIMIENTO____220","Sí",null,1,"G_CMPC SANTA FE","-","-"]
[null,"BE FORESTALES","76.188.197-3","CMPC CELULOSA PLANTA SANTA FE",3522,"CMPC SANTA FE","CALDERA RECUPERADORA LINEA 2","IN000640-1","CELULOSA SANTA FE 2","CMPC SANTA FE","Santa Fe","CMPC Santa Fe","SANTAFE_BL1+BL2+BL3_COGEN","Biomasa","NACIMIENTO____220","Sí",null,1,"G_CMPC SANTA FE","-","-"]
[null,"BE FORESTALES","76.188.197-3","CMPC CELULOSA PLANTA SANTA FE",3522,"CMPC SANTA FE","CALDERA RECUPERADORA LINEA 2","IN000640-1","CELULOSA SANTA FE 2","CMPC SANTA FE","Santa Fe","CMPC Santa Fe","SANTAFE_BL1+BL2+BL3+BL4_COGEN","Biomasa","NACIMIENTO____220","Sí",null,1,"G_CMPC SANTA FE","-","-"]
[null,"BE FORESTALES","76.188.197-3","CMPC CELULOSA PLANTA SANTA FE",3522,"CMPC SANTA FE","CALDERA RECUPERADORA LINEA 2","IN000640-1","CELULOSA SANTA FE 3","CMPC SANTA FE","Santa Fe","CMPC Santa Fe","SANTAFE_BL1_COGEN","Biomasa","NACIMIENTO____220","Sí",null,1,"G_CMPC SANTA FE","-","-"]
[null,"BE FORESTALES","76.188.197-3","CMPC CELULOSA PLANTA SANTA FE",3522,"CMPC SANTA FE","CALDERA RECUPERADORA LINEA 2","IN000640-1","CELULOSA SANTA FE 3","CMPC SANTA FE","Santa Fe","CMPC Santa Fe","SANTAFE_BL1+BL2_COGEN","Biomasa","NACIMIENTO____220","Sí",null,1,"G_CMPC SANTA FE","-","-"]
[null,"BE FORESTALES","76.188.197-3","CMPC CELULOSA PLANTA SANTA FE",3522,"CMPC SANTA FE","CALDERA RECUPERADORA LINEA 2","IN000640-1","CELULOSA SANTA FE 3","CMPC SANTA FE","Santa Fe","CMPC Santa Fe","SANTAFE_BL1+BL2+BL3_COGEN","Biomasa","NACIMIENTO____220","Sí",null,1,"G_CMPC SANTA FE","-","-"]
[null,"BE FORESTALES","76.188.197-3","CMPC CELULOSA PLANTA SANTA FE",3522,"CMPC SANTA FE","CALDERA RECUPERADORA LINEA 2","IN000640-1","CELULOSA SANTA FE 3","CMPC SANTA FE","Santa Fe","CMPC Santa Fe","SANTAFE_BL1+BL2+BL3+BL4_COGEN","Biomasa","NACIMIENTO____220","Sí",null,1,"G_CMPC SANTA FE","-","-"]
[null,"BE FORESTALES","76.188.197-3","CMPC CELULOSA PLANTA PACIFICO",322488,"CMPC PACIFICO","CALDERA BIOMASA","GE000015-2","CMPC PACIFICO 1","CMPC PACIFICO","CMPC Pacífico","CMPC Pacífico","CMPCPACIFICO_BL1_COGEN","Biomasa","MININCO_______220","Sí",null,1,"G_CMPC_PACIFICO","-","-"]
[null,"BE FORESTALES","76.188.197-3","CMPC CELULOSA PLANTA PACIFICO",322488,"CMPC PACIFICO","CALDERA BIOMASA","GE000015-2","CMPC PACIFICO 1","CMPC PACIFICO","CMPC Pacífico","CMPC Pacífico","CMPCPACIFICO_BL1+BL2_COGEN","Biomasa","MININCO_______220","Sí",null,1,"G_CMPC_PACIFICO","-","-"]
[null,"BE FORESTALES","76.188.197-3","CMPC CELULOSA PLANTA PACIFICO",322488,"CMPC PACIFICO","CALDERA BIOMASA","GE000015-2","CMPC PACIFICO 1","CMPC PACIFICO","CMPC Pacífico","CMPC Pacífico","CMPCPACIFICO_BL1+BL2+BL3_COGEN","Diésel","MININCO_______220","Sí",null,1,"G_CMPC_PACIFICO","-","-"]
[null,"BE FORESTALES","76.188.197-3","CMPC CELULOSA PLANTA PACIFICO",322488,"CMPC PACIFICO","CALDERA BIOMASA","GE000015-2","CMPC PACIFICO 2","CMPC PACIFICO","CMPC Pacífico","CMPC Pacífico","CMPCPACIFICO_BL1_COGEN","Biomasa","MININCO_______220","Sí",null,1,"G_CMPC_PACIFICO","-","-"]
[null,"BE FORESTALES","76.188.197-3","CMPC CELULOSA PLANTA PACIFICO",322488,"CMPC PACIFICO","CALDERA BIOMASA","GE000015-2","CMPC PACIFICO 2","CMPC PACIFICO","CMPC Pacífico","CMPC Pacífico","CMPCPACIFICO_BL1+BL2_COGEN","Biomasa","MININCO_______220","Sí",null,1,"G_CMPC_PACIFICO","-","-"]
[null,"BE FORESTALES","76.188.197-3","CMPC CELULOSA PLANTA PACIFICO",322488,"CMPC PACIFICO","CALDERA BIOMASA","GE000015-2","CMPC PACIFICO 2","CMPC PACIFICO","CMPC Pacífico","CMPC Pacífico","CMPCPACIFICO_BL1+BL2+BL3_COGEN","Diésel","MININCO_______220","Sí",null,1,"G_CMPC_PACIFICO","-","-"]
[null,"BE FORESTALES","76.188.197-3","CMPC CELULOSA PLANTA PACIFICO",322488,"CMPC PACIFICO","CALDERA BIOMASA","GE000015-2","CMPC PACIFICO 3","CMPC PACIFICO","CMPC Pacífico","CMPC Pacífico","CMPCPACIFICO_BL1_COGEN","Biomasa","MININCO_______220","Sí",null,1,"G_CMPC_PACIFICO","-","-"]
[null,"BE FORESTALES","76.188.197-3","CMPC CELULOSA PLANTA PACIFICO",322488,"CMPC PACIFICO","CALDERA BIOMASA","GE000015-2","CMPC PACIFICO 3","CMPC PACIFICO","CMPC Pacífico","CMPC Pacífico","CMPCPACIFICO_BL1+BL2_COGEN","Biomasa","MININCO_______220","Sí",null,1,"G_CMPC_PACIFICO","-","-"]
[null,"BE FORESTALES","76.188.197-3","CMPC CELULOSA PLANTA PACIFICO",322488,"CMPC PACIFICO","CALDERA BIOMASA","GE000015-2","CMPC PACIFICO 3","CMPC PACIFICO","CMPC Pacífico","CMPC Pacífico","CMPCPACIFICO_BL1+BL2+BL3_COGEN","Diésel","MININCO_______220","Sí",null,1,"G_CMPC_PACIFICO","-","-"]
[null,"BE FORESTALES","76.188.197-3","CMPC CELULOSA PLANTA PACIFICO",322488,"CMPC PACIFICO","CALDERA AUXILIAR N°1","IN000334-8","CMPC PACIFICO 1","CMPC PACIFICO","CMPC Pacífico","CMPC Pacífico","CMPCPACIFICO_BL1_COGEN","Biomasa","MININCO_______220","Sí",null,1,"G_CMPC_PACIFICO","-","-"]
[null,"BE FORESTALES","76.188.197-3","CMPC CELULOSA PLANTA PACIFICO",322488,"CMPC PACIFICO","CALDERA AUXILIAR N°1","IN000334-8","CMPC PACIFICO 1","CMPC PACIFICO","CMPC Pacífico","CMPC Pacífico","CMPCPACIFICO_BL1+BL2_COGEN","Biomasa","MININCO_______220","Sí",null,1,"G_CMPC_PACIFICO","-","-"]
[null,"BE FORESTALES","76.188.197-3","CMPC CELULOSA PLANTA PACIFICO",322488,"CMPC PACIFICO","CALDERA AUXILIAR N°1","IN000334-8","CMPC PACIFICO 1","CMPC PACIFICO","CMPC Pacífico","CMPC Pacífico","CMPCPACIFICO_BL1+BL2+BL3_COGEN","Diésel","MININCO_______220","Sí",null,1,"G_CMPC_PACIFICO","-","-"]
[null,"BE FORESTALES","76.188.197-3","CMPC CELULOSA PLANTA PACIFICO",322488,"CMPC PACIFICO","CALDERA AUXILIAR N°1","IN000334-8","CMPC PACIFICO 2","CMPC PACIFICO","CMPC Pacífico","CMPC Pacífico","CMPCPACIFICO_BL1_COGEN","Biomasa","MININCO_______220","Sí",null,1,"G_CMPC_PACIFICO","-","-"]
[null,"BE FORESTALES","76.188.197-3","CMPC CELULOSA PLANTA PACIFICO",322488,"CMPC PACIFICO","CALDERA AUXILIAR N°1","IN000334-8","CMPC PACIFICO 2","CMPC PACIFICO","CMPC Pacífico","CMPC Pacífico","CMPCPACIFICO_BL1+BL2_COGEN","Biomasa","MININCO_______220","Sí",null,1,"G_CMPC_PACIFICO","-","-"]
[null,"BE FORESTALES","76.188.197-3","CMPC CELULOSA PLANTA PACIFICO",322488,"CMPC PACIFICO","CALDERA AUXILIAR N°1","IN000334-8","CMPC PACIFICO 2","CMPC PACIFICO","CMPC Pacífico","CMPC Pacífico","CMPCPACIFICO_BL1+BL2+BL3_COGEN","Diésel","MININCO_______220","Sí",null,1,"G_CMPC_PACIFICO","-","-"]
[null,"BE FORESTALES","76.188.197-3","CMPC CELULOSA PLANTA PACIFICO",322488,"CMPC PACIFICO","CALDERA AUXILIAR N°1","IN000334-8","CMPC PACIFICO 3","CMPC PACIFICO","CMPC Pacífico","CMPC Pacífico","CMPCPACIFICO_BL1_COGEN","Biomasa","MININCO_______220","Sí",null,1,"G_CMPC_PACIFICO","-","-"]
[null,"BE FORESTALES","76.188.197-3","CMPC CELULOSA PLANTA PACIFICO",322488,"CMPC PACIFICO","CALDERA AUXILIAR N°1","IN000334-8","CMPC PACIFICO 3","CMPC PACIFICO","CMPC Pacífico","CMPC Pacífico","CMPCPACIFICO_BL1+BL2_COGEN","Biomasa","MININCO_______220","Sí",null,1,"G_CMPC_PACIFICO","-","-"]
[null,"BE FORESTALES","76.188.197-3","CMPC CELULOSA PLANTA PACIFICO",322488,"CMPC PACIFICO","CALDERA AUXILIAR N°1","IN000334-8","CMPC PACIFICO 3","CMPC PACIFICO","CMPC Pacífico","CMPC Pacífico","CMPCPACIFICO_BL1+BL2+BL3_COGEN","Diésel","MININCO_______220","Sí",null,1,"G_CMPC_PACIFICO","-","-"]
[null,"BE FORESTALES","76.188.197-3","CMPC CELULOSA PLANTA PACIFICO",322488,"CMPC PACIFICO","CALDERA AUXILIAR N°2","IN000335-6","CMPC PACIFICO 1","CMPC PACIFICO","CMPC Pacífico","CMPC Pacífico","CMPCPACIFICO_BL1_COGEN","Biomasa","MININCO_______220","Sí",null,1,"G_CMPC_PACIFICO","-","-"]
[null,"BE FORESTALES","76.188.197-3","CMPC CELULOSA PLANTA PACIFICO",322488,"CMPC PACIFICO","CALDERA AUXILIAR N°2","IN000335-6","CMPC PACIFICO 1","CMPC PACIFICO","CMPC Pacífico","CMPC Pacífico","CMPCPACIFICO_BL1+BL2_COGEN","Biomasa","MININCO_______220","Sí",null,1,"G_CMPC_PACIFICO","-","-"]
[null,"BE FORESTALES","76.188.197-3","CMPC CELULOSA PLANTA PACIFICO",322488,"CMPC PACIFICO","CALDERA AUXILIAR N°2","IN000335-6","CMPC PACIFICO 1","CMPC PACIFICO","CMPC Pacífico","CMPC Pacífico","CMPCPACIFICO_BL1+BL2+BL3_COGEN","Diésel","MININCO_______220","Sí",null,1,"G_CMPC_PACIFICO","-","-"]
[null,"BE FORESTALES","76.188.197-3","CMPC CELULOSA PLANTA PACIFICO",322488,"CMPC PACIFICO","CALDERA AUXILIAR N°2","IN000335-6","CMPC PACIFICO 2","CMPC PACIFICO","CMPC Pacífico","CMPC Pacífico","CMPCPACIFICO_BL1_COGEN","Biomasa","MININCO_______220","Sí",null,1,"G_CMPC_PACIFICO","-","-"]
[null,"BE FORESTALES","76.188.197-3","CMPC CELULOSA PLANTA PACIFICO",322488,"CMPC PACIFICO","CALDERA AUXILIAR N°2","IN000335-6","CMPC PACIFICO 2","CMPC PACIFICO","CMPC Pacífico","CMPC Pacífico","CMPCPACIFICO_BL1+BL2_COGEN","Biomasa","MININCO_______220","Sí",null,1,"G_CMPC_PACIFICO","-","-"]
[null,"BE FORESTALES","76.188.197-3","CMPC CELULOSA PLANTA PACIFICO",322488,"CMPC PACIFICO","CALDERA AUXILIAR N°2","IN000335-6","CMPC PACIFICO 2","CMPC PACIFICO","CMPC Pacífico","CMPC Pacífico","CMPCPACIFICO_BL1+BL2+BL3_COGEN","Diésel","MININCO_______220","Sí",null,1,"G_CMPC_PACIFICO","-","-"]
[null,"BE FORESTALES","76.188.197-3","CMPC CELULOSA PLANTA PACIFICO",322488,"CMPC PACIFICO","CALDERA AUXILIAR N°2","IN000335-6","CMPC PACIFICO 3","CMPC PACIFICO","CMPC Pacífico","CMPC Pacífico","CMPCPACIFICO_BL1_COGEN","Biomasa","MININCO_______220","Sí",null,1,"G_CMPC_PACIFICO","-","-"]
[null,"BE FORESTALES","76.188.197-3","CMPC CELULOSA PLANTA PACIFICO",322488,"CMPC PACIFICO","CALDERA AUXILIAR N°2","IN000335-6","CMPC PACIFICO 3","CMPC PACIFICO","CMPC Pacífico","CMPC Pacífico","CMPCPACIFICO_BL1+BL2_COGEN","Biomasa","MININCO_______220","Sí",null,1,"G_CMPC_PACIFICO","-","-"]
[null,"BE FORESTALES","76.188.197-3","CMPC CELULOSA PLANTA PACIFICO",322488,"CMPC PACIFICO","CALDERA AUXILIAR N°2","IN000335-6","CMPC PACIFICO 3","CMPC PACIFICO","CMPC Pacífico","CMPC Pacífico","CMPCPACIFICO_BL1+BL2+BL3_COGEN","Diésel","MININCO_______220","Sí",null,1,"G_CMPC_PACIFICO","-","-"]
[null,"BE FORESTALES","76.188.197-3","CMPC CELULOSA PLANTA PACIFICO",322488,"CMPC PACIFICO","CALDERA RECUPERADORA","IN000336-4","CMPC PACIFICO 1","CMPC PACIFICO","CMPC Pacífico","CMPC Pacífico","CMPCPACIFICO_BL1_COGEN","Biomasa","MININCO_______220","Sí",null,1,"G_CMPC_PACIFICO","-","-"]
[null,"BE FORESTALES","76.188.197-3","CMPC CELULOSA PLANTA PACIFICO",322488,"CMPC PACIFICO","CALDERA RECUPERADORA","IN000336-4","CMPC PACIFICO 1","CMPC PACIFICO","CMPC Pacífico","CMPC Pacífico","CMPCPACIFICO_BL1+BL2_COGEN","Biomasa","MININCO_______220","Sí",null,1,"G_CMPC_PACIFICO","-","-"]
[null,"BE FORESTALES","76.188.197-3","CMPC CELULOSA PLANTA PACIFICO",322488,"CMPC PACIFICO","CALDERA RECUPERADORA","IN000336-4","CMPC PACIFICO 1","CMPC PACIFICO","CMPC Pacífico","CMPC Pacífico","CMPCPACIFICO_BL1+BL2+BL3_COGEN","Diésel","MININCO_______220","Sí",null,1,"G_CMPC_PACIFICO","-","-"]
[null,"BE FORESTALES","76.188.197-3","CMPC CELULOSA PLANTA PACIFICO",322488,"CMPC PACIFICO","CALDERA RECUPERADORA","IN000336-4","CMPC PACIFICO 2","CMPC PACIFICO","CMPC Pacífico","CMPC Pacífico","CMPCPACIFICO_BL1_COGEN","Biomasa","MININCO_______220","Sí",null,1,"G_CMPC_PACIFICO","-","-"]
[null,"BE FORESTALES","76.188.197-3","CMPC CELULOSA PLANTA PACIFICO",322488,"CMPC PACIFICO","CALDERA RECUPERADORA","IN000336-4","CMPC PACIFICO 2","CMPC PACIFICO","CMPC Pacífico","CMPC Pacífico","CMPCPACIFICO_BL1+BL2_COGEN","Biomasa","MININCO_______220","Sí",null,1,"G_CMPC_PACIFICO","-","-"]
[null,"BE FORESTALES","76.188.197-3","CMPC CELULOSA PLANTA PACIFICO",322488,"CMPC PACIFICO","CALDERA RECUPERADORA","IN000336-4","CMPC PACIFICO 2","CMPC PACIFICO","CMPC Pacífico","CMPC Pacífico","CMPCPACIFICO_BL1+BL2+BL3_COGEN","Diésel","MININCO_______220","Sí",null,1,"G_CMPC_PACIFICO","-","-"]
[null,"BE FORESTALES","76.188.197-3","CMPC CELULOSA PLANTA PACIFICO",322488,"CMPC PACIFICO","CALDERA RECUPERADORA","IN000336-4","CMPC PACIFICO 3","CMPC PACIFICO","CMPC Pacífico","CMPC Pacífico","CMPCPACIFICO_BL1_COGEN","Biomasa","MININCO_______220","Sí",null,1,"G_CMPC_PACIFICO","-","-"]
[null,"BE FORESTALES","76.188.197-3","CMPC CELULOSA PLANTA PACIFICO",322488,"CMPC PACIFICO","CALDERA RECUPERADORA","IN000336-4","CMPC PACIFICO 3","CMPC PACIFICO","CMPC Pacífico","CMPC Pacífico","CMPCPACIFICO_BL1+BL2_COGEN","Biomasa","MININCO_______220","Sí",null,1,"G_CMPC_PACIFICO","-","-"]
[null,"BE FORESTALES","76.188.197-3","CMPC CELULOSA PLANTA PACIFICO",322488,"CMPC PACIFICO","CALDERA RECUPERADORA","IN000336-4","CMPC PACIFICO 3","CMPC PACIFICO","CMPC Pacífico","CMPC Pacífico","CMPCPACIFICO_BL1+BL2+BL3_COGEN","Diésel","MININCO_______220","Sí",null,1,"G_CMPC_PACIFICO","-","-"]
[null,"BE FORESTALES","76.188.197-3","CMPC CELULOSA PLANTA PACIFICO",322488,"CMPC PACIFICO","INCINERADOR DEDICADO","PC001041-8","CMPC PACIFICO 1","CMPC PACIFICO","CMPC Pacífico","CMPC Pacífico","CMPCPACIFICO_BL1_COGEN","Biomasa","MININCO_______220","Sí",null,1,"G_CMPC_PACIFICO","-","-"]
[null,"BE FORESTALES","76.188.197-3","CMPC CELULOSA PLANTA PACIFICO",322488,"CMPC PACIFICO","INCINERADOR DEDICADO","PC001041-8","CMPC PACIFICO 1","CMPC PACIFICO","CMPC Pacífico","CMPC Pacífico","CMPCPACIFICO_BL1+BL2_COGEN","Biomasa","MININCO_______220","Sí",null,1,"G_CMPC_PACIFICO","-","-"]
[null,"BE FORESTALES","76.188.197-3","CMPC CELULOSA PLANTA PACIFICO",322488,"CMPC PACIFICO","INCINERADOR DEDICADO","PC001041-8","CMPC PACIFICO 1","CMPC PACIFICO","CMPC Pacífico","CMPC Pacífico","CMPCPACIFICO_BL1+BL2+BL3_COGEN","Diésel","MININCO_______220","Sí",null,1,"G_CMPC_PACIFICO","-","-"]
[null,"BE FORESTALES","76.188.197-3","CMPC CELULOSA PLANTA PACIFICO",322488,"CMPC PACIFICO","INCINERADOR DEDICADO","PC001041-8","CMPC PACIFICO 2","CMPC PACIFICO","CMPC Pacífico","CMPC Pacífico","CMPCPACIFICO_BL1_COGEN","Biomasa","MININCO_______220","Sí",null,1,"G_CMPC_PACIFICO","-","-"]
[null,"BE FORESTALES","76.188.197-3","CMPC CELULOSA PLANTA PACIFICO",322488,"CMPC PACIFICO","INCINERADOR DEDICADO","PC001041-8","CMPC PACIFICO 2","CMPC PACIFICO","CMPC Pacífico","CMPC Pacífico","CMPCPACIFICO_BL1+BL2_COGEN","Biomasa","MININCO_______220","Sí",null,1,"G_CMPC_PACIFICO","-","-"]
[null,"BE FORESTALES","76.188.197-3","CMPC CELULOSA PLANTA PACIFICO",322488,"CMPC PACIFICO","INCINERADOR DEDICADO","PC001041-8","CMPC PACIFICO 2","CMPC PACIFICO","CMPC Pacífico","CMPC Pacífico","CMPCPACIFICO_BL1+BL2+BL3_COGEN","Diésel","MININCO_______220","Sí",null,1,"G_CMPC_PACIFICO","-","-"]
[null,"BE FORESTALES","76.188.197-3","CMPC CELULOSA PLANTA PACIFICO",322488,"CMPC PACIFICO","INCINERADOR DEDICADO","PC001041-8","CMPC PACIFICO 3","CMPC PACIFICO","CMPC Pacífico","CMPC Pacífico","CMPCPACIFICO_BL1_COGEN","Biomasa","MININCO_______220","Sí",null,1,"G_CMPC_PACIFICO","-","-"]
[null,"BE FORESTALES","76.188.197-3","CMPC CELULOSA PLANTA PACIFICO",322488,"CMPC PACIFICO","INCINERADOR DEDICADO","PC001041-8","CMPC PACIFICO 3","CMPC PACIFICO","CMPC Pacífico","CMPC Pacífico","CMPCPACIFICO_BL1+BL2_COGEN","Biomasa","MININCO_______220","Sí",null,1,"G_CMPC_PACIFICO","-","-"]
[null,"BE FORESTALES","76.188.197-3","CMPC CELULOSA PLANTA PACIFICO",322488,"CMPC PACIFICO","INCINERADOR DEDICADO","PC001041-8","CMPC PACIFICO 3","CMPC PACIFICO","CMPC Pacífico","CMPC Pacífico","CMPCPACIFICO_BL1+BL2+BL3_COGEN","Diésel","MININCO_______220","Sí",null,1,"G_CMPC_PACIFICO","-","-"]
[null,"BE FORESTALES","76.188.197-3","PAPELES CORDILLERA S.A.",2897,"CMPC CORDILLERA","CALDERA 1","IN001148-0","CMPC CORDILLERA","CMPC CORDILLERA","CMPC Cordillera","CMPC Cordillera","CMPCCORDILLERA_BL1_COGEN","GNL","PALTO_________110","Sí",null,1,"G_CMPC CORDILLERA","-","-"]
[null,"BE FORESTALES","76.188.197-3","PAPELES CORDILLERA S.A.",2897,"CMPC CORDILLERA","CALDERA 1","IN001148-0","CMPC CORDILLERA","CMPC CORDILLERA","CMPC Cordillera","CMPC Cordillera","CMPCCORDILLERA_BL1+BL2_COGEN","GNL","PALTO_________110","Sí",null,1,"G_CMPC CORDILLERA","-","-"]
[null,"BE FORESTALES","76.188.197-3","PAPELES CORDILLERA S.A.",2897,"CMPC CORDILLERA","CALDERA 1","IN001148-0","CMPC CORDILLERA","CMPC CORDILLERA","CMPC Cordillera","CMPC Cordillera","CMPCCORDILLERA_BL1+BL2+BL3_COGEN","GNL","PALTO_________110","Sí",null,1,"G_CMPC CORDILLERA","-","-"]
[null,"BE FORESTALES","76.188.197-3","PAPELES CORDILLERA S.A.",2897,"CMPC CORDILLERA","CALDERA 2","IN001149-9","CMPC CORDILLERA","CMPC CORDILLERA","CMPC Cordillera","CMPC Cordillera","CMPCCORDILLERA_BL1_COGEN","GNL","PALTO_________110","Sí",null,1,"G_CMPC CORDILLERA","-","-"]
[null,"BE FORESTALES","76.188.197-3","PAPELES CORDILLERA S.A.",2897,"CMPC CORDILLERA","CALDERA 2","IN001149-9","CMPC CORDILLERA","CMPC CORDILLERA","CMPC Cordillera","CMPC Cordillera","CMPCCORDILLERA_BL1+BL2_COGEN","GNL","PALTO_________110","Sí",null,1,"G_CMPC CORDILLERA","-","-"]
[null,"BE FORESTALES","76.188.197-3","PAPELES CORDILLERA S.A.",2897,"CMPC CORDILLERA","CALDERA 2","IN001149-9","CMPC CORDILLERA","CMPC CORDILLERA","CMPC Cordillera","CMPC Cordillera","CMPCCORDILLERA_BL1+BL2+BL3_COGEN","GNL","PALTO_________110","Sí",null,1,"G_CMPC CORDILLERA","-","-"]
[null,"BE FORESTALES","76.188.197-3","PAPELES CORDILLERA S.A.",2897,"CMPC CORDILLERA","CALDERA 3","IN001150-2","CMPC CORDILLERA","CMPC CORDILLERA","CMPC Cordillera","CMPC Cordillera","CMPCCORDILLERA_BL1_COGEN","GNL","PALTO_________110","Sí",null,1,"G_CMPC CORDILLERA","-","-"]
[null,"BE FORESTALES","76.188.197-3","PAPELES CORDILLERA S.A.",2897,"CMPC CORDILLERA","CALDERA 3","IN001150-2","CMPC CORDILLERA","CMPC CORDILLERA","CMPC Cordillera","CMPC Cordillera","CMPCCORDILLERA_BL1+BL2_COGEN","GNL","PALTO_________110","Sí",null,1,"G_CMPC CORDILLERA","-","-"]
[null,"BE FORESTALES","76.188.197-3","PAPELES CORDILLERA S.A.",2897,"CMPC CORDILLERA","CALDERA 3","IN001150-2","CMPC CORDILLERA","CMPC CORDILLERA","CMPC Cordillera","CMPC Cordillera","CMPCCORDILLERA_BL1+BL2+BL3_COGEN","GNL","PALTO_________110","Sí",null,1,"G_CMPC CORDILLERA","-","-"]
[null,"BE FORESTALES","76.188.197-3","PAPELES CORDILLERA S.A.",2897,"CMPC CORDILLERA","TURBINA","PC003526-2","CMPC CORDILLERA","CMPC CORDILLERA","CMPC Cordillera","CMPC Cordillera","CMPCCORDILLERA_BL1_COGEN","GNL","PALTO_________110","Sí",null,1,"G_CMPC CORDILLERA","-","-"]
[null,"BE FORESTALES","76.188.197-3","PAPELES CORDILLERA S.A.",2897,"CMPC CORDILLERA","TURBINA","PC003526-2","CMPC CORDILLERA","CMPC CORDILLERA","CMPC Cordillera","CMPC Cordillera","CMPCCORDILLERA_BL1+BL2_COGEN","GNL","PALTO_________110","Sí",null,1,"G_CMPC CORDILLERA","-","-"]
[null,"BE FORESTALES","76.188.197-3","PAPELES CORDILLERA S.A.",2897,"CMPC CORDILLERA","TURBINA","PC003526-2","CMPC CORDILLERA","CMPC CORDILLERA","CMPC Cordillera","CMPC Cordillera","CMPCCORDILLERA_BL1+BL2+BL3_COGEN","GNL","PALTO_________110","Sí",null,1,"G_CMPC CORDILLERA","-","-"]
[null,"BE FORESTALES","76.188.197-3","CMPC TISSUE S.A.",9898,"CMPC TISSUE",null,"IN002463-9","CMPC TISSUE","CMPC TISSUE",null,"CMPC TISSUE",null,null,null,"Sí",null,1,"G_CMPC TISSUE","-","-"]
[null,"BE FORESTALES","76.188.197-3","CMPC TISSUE S.A.",9898,"CMPC TISSUE",null,"PC003087-7","CMPC TISSUE","CMPC TISSUE",null,"CMPC TISSUE",null,null,null,"Sí",null,1,"G_CMPC TISSUE","-","-"]
[null,"BE FORESTALES","76.188.197-3","CMPC TISSUE S.A.",9898,"CMPC TISSUE","TURBINA AERODERIVATIVA","PR15149","CMPC TISSUE","CMPC TISSUE",null,"CMPC TISSUE",null,null,null,"Sí",null,1,"G_CMPC TISSUE","-","-"]
[null,"CARDONES SA","76.550.580-1","CENTRAL CARDONES",245656,"CENTRAL CARDONES","UGE Cardones","PC001834-6","CARDONES (EX TIERRA AMARILLA)","CARDONES","Cardones","Cardones","CARDONES_DIESEL","Diésel","CARDONES______220","No",null,1,"CTRL_TAMARILLA","-","-"]
[null,"COCHRANE","76.085.254-6","CENTRAL TERMOELÉCTRICA COCHRANE",5452233,"COCHRANE (CCH2)","UGE CCH-2","GE000235-6","CCR2","Cochrane","Cochrane","CCH2","COCHRANE-CCH2_CAR","Carbón","COCHRANE______220","No",null,1,"04337700000IF","-","-"]
[null,"COCHRANE","76.085.254-6","CENTRAL TERMOELÉCTRICA COCHRANE",5452233,"COCHRANE (CCH1)","UGE CCH-1","GE000234-8","CCR1","Cochrane","Cochrane","CCH1","COCHRANE-CCH1_CAR","Carbón","COCHRANE______220","No",null,1,"04338100000IF","-","-"]
[null,"COLBUN","96.505.760-9","TERMOELECTRICA NEHUENCO SA",28770,"NEHUENCO 1 ","UGE Nehuenco I","PC001510-0 ","NEHUENCO","NEHUENCO","Nehuenco","Nehuenco","NEHUENCO-1_TG1_GNL_INFLEX","GNL","S.LUIS2_______220","No",null,3,"NEHUENCO_1_DIE","NEHUENCO_1_GNL","NEHUENCO_1_GNL_CA"]
[null,"COLBUN","96.505.760-9","TERMOELECTRICA NEHUENCO SA",28770,"NEHUENCO 1 ","UGE Nehuenco I","PC001510-0 ","NEHUENCO","NEHUENCO","Nehuenco","Nehuenco","NEHUENCO-1_TG1+TV1_GNL_INFLEX","GNL","S.LUIS2_______220","No",null,3,"NEHUENCO_1_DIE","NEHUENCO_1_GNL","NEHUENCO_1_GNL_CA"]
[null,"COLBUN","96.505.760-9","TERMOELECTRICA NEHUENCO SA",28770,"NEHUENCO 1 ","UGE Nehuenco I","PC001510-0 ","NEHUENCO","NEHUENCO","Nehuenco","Nehuenco","NEHUENCO-1_TG1+TV1_GNL_E","GNL","S.LUIS2_______220","No",null,3,"NEHUENCO_1_DIE","NEHUENCO_1_GNL","NEHUENCO_1_GNL_CA"]
[null,"COLBUN","96.505.760-9","TERMOELECTRICA NEHUENCO SA",28770,"NEHUENCO 1 ","UGE Nehuenco I","PC001510-0 ","NEHUENCO","NEHUENCO","Nehuenco","Nehuenco","NEHUENCO-1_TG1+TV1_GNL_C","GNL","S.LUIS2_______220","No",null,3,"NEHUENCO_1_DIE","NEHUENCO_1_GNL","NEHUENCO_1_GNL_CA"]
[null,"COLBUN","96.505.760-9","TERMOELECTRICA NEHUENCO SA",28770,"NEHUENCO 1 ","UGE Nehuenco I","PC001510-0 ","NEHUENCO","NEHUENCO","Nehuenco","Nehuenco","NEHUENCO-1_TG1+TV1_GNL_D","GNL","S.LUIS2_______220","No",null,3,"NEHUENCO_1_DIE","NEHUENCO_1_GNL","NEHUENCO_1_GNL_CA"]
[null,"COLBUN","96.505.760-9","TERMOELECTRICA NEHUENCO SA",28770,"NEHUENCO 1 ","UGE Nehuenco I","PC001510-0 ","NEHUENCO","NEHUENCO","Nehuenco","Nehuenco","NEHUENCO-1_TG1+TV1_GNL_A","GNL","S.LUIS2_______220","No",null,3,"NEHUENCO_1_DIE","NEHUENCO_1_GNL","NEHUENCO_1_GNL_CA"]
[null,"COLBUN","96.505.760-9","TERMOELECTRICA NEHUENCO SA",28770,"NEHUENCO 1 ","UGE Nehuenco I","PC001510-0 ","NEHUENCO","NEHUENCO","Nehuenco","Nehuenco","NEHUENCO_1-FA_GNL_C","GNL",null,"No",null,3,"NEHUENCO_1_DIE","NEHUENCO_1_GNL","NEHUENCO_1_GNL_CA"]
[null,"COLBUN","96.505.760-9","TERMOELECTRICA NEHUENCO SA",28770,"NEHUENCO 1 ","UGE Nehuenco I","PC001510-0 ","NEHUENCO","NEHUENCO","Nehuenco","Nehuenco","NEHUENCO_1-FA_GNL_D","GNL",null,"No",null,3,"NEHUENCO_1_DIE","NEHUENCO_1_GNL","NEHUENCO_1_GNL_CA"]
[null,"COLBUN","96.505.760-9","TERMOELECTRICA NEHUENCO SA",28770,"NEHUENCO 1 ","UGE Nehuenco I","PC001510-0 ","NEHUENCO","NEHUENCO","Nehuenco","Nehuenco","NEHUENCO-1_TG1+TV1+FA1_GNL_A","GNL","S.LUIS2_______220","No",null,3,"NEHUENCO_1_DIE","NEHUENCO_1_GNL","NEHUENCO_1_GNL_CA"]
[null,"COLBUN","96.505.760-9","TERMOELECTRICA NEHUENCO SA",28770,"NEHUENCO 1 ","UGE Nehuenco I","PC001510-0 ","NEHUENCO","NEHUENCO","Nehuenco","Nehuenco","NEHUENCO-1_TG1_GNL_E","GNL","S.LUIS2_______220","No",null,3,"NEHUENCO_1_DIE","NEHUENCO_1_GNL","NEHUENCO_1_GNL_CA"]
[null,"COLBUN","96.505.760-9","TERMOELECTRICA NEHUENCO SA",28770,"NEHUENCO 1 ","UGE Nehuenco I","PC001510-0 ","NEHUENCO","NEHUENCO","Nehuenco","Nehuenco","NEHUENCO-1_TG1_GNL_C","GNL","S.LUIS2_______220","No",null,3,"NEHUENCO_1_DIE","NEHUENCO_1_GNL","NEHUENCO_1_GNL_CA"]
[null,"COLBUN","96.505.760-9","TERMOELECTRICA NEHUENCO SA",28770,"NEHUENCO 1 ","UGE Nehuenco I","PC001510-0 ","NEHUENCO","NEHUENCO","Nehuenco","Nehuenco","NEHUENCO-1_TG1_GNL_D","GNL","S.LUIS2_______220","No",null,3,"NEHUENCO_1_DIE","NEHUENCO_1_GNL","NEHUENCO_1_GNL_CA"]
[null,"COLBUN","96.505.760-9","TERMOELECTRICA NEHUENCO SA",28770,"NEHUENCO 1 ","UGE Nehuenco I","PC001510-0 ","NEHUENCO","NEHUENCO","Nehuenco","Nehuenco","NEHUENCO-1_TG1_GNL_A","GNL","S.LUIS2_______220","No",null,3,"NEHUENCO_1_DIE","NEHUENCO_1_GNL","NEHUENCO_1_GNL_CA"]
[null,"COLBUN","96.505.760-9","TERMOELECTRICA NEHUENCO SA",28770,"NEHUENCO 1 ","UGE Nehuenco I","PC001510-0 ","NEHUENCO","NEHUENCO","Nehuenco","Nehuenco","NEHUENCO-1_TG1+TV1_DIESEL","Diésel","S.LUIS2_______220","No",null,3,"NEHUENCO_1_DIE","NEHUENCO_1_GNL","NEHUENCO_1_GNL_CA"]
[null,"COLBUN","96.505.760-9","TERMOELECTRICA NEHUENCO SA",28770,"NEHUENCO 1 ","UGE Nehuenco I","PC001510-0 ","NEHUENCO","NEHUENCO","Nehuenco","Nehuenco","NEHUENCO-1_TG1+TV1_GNL_F","GNL","S.LUIS2_______220","No",null,3,"NEHUENCO_1_DIE","NEHUENCO_1_GNL","NEHUENCO_1_GNL_CA"]
[null,"COLBUN","96.505.760-9","TERMOELECTRICA NEHUENCO SA",28770,"NEHUENCO 1 ","UGE Nehuenco I","PC001510-0 ","NEHUENCO","NEHUENCO","Nehuenco","Nehuenco","NEHUENCO-1_TG1+TV1_GNL_G","GNL","S.LUIS2_______220","No",null,3,"NEHUENCO_1_DIE","NEHUENCO_1_GNL","NEHUENCO_1_GNL_CA"]
[null,"COLBUN","96.505.760-9","TERMOELECTRICA NEHUENCO SA",28770,"NEHUENCO 1 ","UGE Nehuenco I","PC001510-0 ","NEHUENCO","NEHUENCO","Nehuenco","Nehuenco","NEHUENCO-1_TG1+TV1_GNL_B","GNL","S.LUIS2_______220","No",null,3,"NEHUENCO_1_DIE","NEHUENCO_1_GNL","NEHUENCO_1_GNL_CA"]
[null,"COLBUN","96.505.760-9","TERMOELECTRICA NEHUENCO SA",28770,"NEHUENCO 1 ","UGE Nehuenco I","PC001510-0 ","NEHUENCO","NEHUENCO","Nehuenco","Nehuenco","NEHUENCO-1_TG1_GNL_F","GNL","S.LUIS2_______220","No",null,3,"NEHUENCO_1_DIE","NEHUENCO_1_GNL","NEHUENCO_1_GNL_CA"]
[null,"COLBUN","96.505.760-9","TERMOELECTRICA NEHUENCO SA",28770,"NEHUENCO 1 ","UGE Nehuenco I","PC001510-0 ","NEHUENCO","NEHUENCO","Nehuenco","Nehuenco","NEHUENCO-1_TG1_GNL_G","GNL","S.LUIS2_______220","No",null,3,"NEHUENCO_1_DIE","NEHUENCO_1_GNL","NEHUENCO_1_GNL_CA"]
[null,"COLBUN","96.505.760-9","TERMOELECTRICA NEHUENCO SA",28770,"NEHUENCO 1 ","UGE Nehuenco I","PC001510-0 ","NEHUENCO","NEHUENCO","Nehuenco","Nehuenco","NEHUENCO-1_TG1_GNL_B","GNL","S.LUIS2_______220","No",null,3,"NEHUENCO_1_DIE","NEHUENCO_1_GNL","NEHUENCO_1_GNL_CA"]
[null,"COLBUN","96.505.760-9","TERMOELECTRICA NEHUENCO SA",28770,"NEHUENCO 1 ","UGE Nehuenco I","PC001510-0 ","NEHUENCO","NEHUENCO","Nehuenco","Nehuenco","NEHUENCO-1_TG1+TV1_GN_A","GN","S.LUIS2_______220","No",null,3,"NEHUENCO_1_DIE","NEHUENCO_1_GNL","NEHUENCO_1_GNL_CA"]
[null,"COLBUN","96.505.760-9","TERMOELECTRICA NEHUENCO SA",28770,"NEHUENCO 1 ","UGE Nehuenco I","PC001510-0 ","NEHUENCO","NEHUENCO","Nehuenco","Nehuenco","NEHUENCO-1_TG1+TV1+FA1_GN_A","GN","S.LUIS2_______220","No",null,3,"NEHUENCO_1_DIE","NEHUENCO_1_GNL","NEHUENCO_1_GNL_CA"]
[null,"COLBUN","96.505.760-9","TERMOELECTRICA NEHUENCO SA",28770,"NEHUENCO 1 ","UGE Nehuenco I","PC001510-0 ","NEHUENCO","NEHUENCO","Nehuenco","Nehuenco","NEHUENCO-1_TG1_GN_A","GN","S.LUIS2_______220","No",null,3,"NEHUENCO_1_DIE","NEHUENCO_1_GNL","NEHUENCO_1_GNL_CA"]
[null,"COLBUN","96.505.760-9","TERMOELECTRICA NEHUENCO SA",28770,"NEHUENCO 1 ","Caldera Auxiliar","IN000473-5 ","NEHUENCO","NEHUENCO","Nehuenco","Nehuenco","NEHUENCO-1_TG1_GNL_INFLEX","GNL","S.LUIS2_______220","No",null,3,"NEHUENCO_1_DIE","NEHUENCO_1_GNL","NEHUENCO_1_GNL_CA"]
[null,"COLBUN","96.505.760-9","TERMOELECTRICA NEHUENCO SA",28770,"NEHUENCO 1 ","Caldera Auxiliar","IN000473-5 ","NEHUENCO","NEHUENCO","Nehuenco","Nehuenco","NEHUENCO-1_TG1+TV1_GNL_INFLEX","GNL","S.LUIS2_______220","No",null,3,"NEHUENCO_1_DIE","NEHUENCO_1_GNL","NEHUENCO_1_GNL_CA"]
[null,"COLBUN","96.505.760-9","TERMOELECTRICA NEHUENCO SA",28770,"NEHUENCO 1 ","Caldera Auxiliar","IN000473-5 ","NEHUENCO","NEHUENCO","Nehuenco","Nehuenco","NEHUENCO-1_TG1+TV1_GNL_E","GNL","S.LUIS2_______220","No",null,3,"NEHUENCO_1_DIE","NEHUENCO_1_GNL","NEHUENCO_1_GNL_CA"]
[null,"COLBUN","96.505.760-9","TERMOELECTRICA NEHUENCO SA",28770,"NEHUENCO 1 ","Caldera Auxiliar","IN000473-5 ","NEHUENCO","NEHUENCO","Nehuenco","Nehuenco","NEHUENCO-1_TG1+TV1_GNL_C","GNL","S.LUIS2_______220","No",null,3,"NEHUENCO_1_DIE","NEHUENCO_1_GNL","NEHUENCO_1_GNL_CA"]
[null,"COLBUN","96.505.760-9","TERMOELECTRICA NEHUENCO SA",28770,"NEHUENCO 1 ","Caldera Auxiliar","IN000473-5 ","NEHUENCO","NEHUENCO","Nehuenco","Nehuenco","NEHUENCO-1_TG1+TV1_GNL_D","GNL","S.LUIS2_______220","No",null,3,"NEHUENCO_1_DIE","NEHUENCO_1_GNL","NEHUENCO_1_GNL_CA"]
[null,"COLBUN","96.505.760-9","TERMOELECTRICA NEHUENCO SA",28770,"NEHUENCO 1 ","Caldera Auxiliar","IN000473-5 ","NEHUENCO","NEHUENCO","Nehuenco","Nehuenco","NEHUENCO-1_TG1+TV1_GNL_A","GNL","S.LUIS2_______220","No",null,3,"NEHUENCO_1_DIE","NEHUENCO_1_GNL","NEHUENCO_1_GNL_CA"]
[null,"COLBUN","96.505.760-9","TERMOELECTRICA NEHUENCO SA",28770,"NEHUENCO 1 ","Caldera Auxiliar","IN000473-5 ","NEHUENCO","NEHUENCO","Nehuenco","Nehuenco","NEHUENCO_1-FA_GNL_C","GNL",null,"No",null,3,"NEHUENCO_1_DIE","NEHUENCO_1_GNL","NEHUENCO_1_GNL_CA"]
[null,"COLBUN","96.505.760-9","TERMOELECTRICA NEHUENCO SA",28770,"NEHUENCO 1 ","Caldera Auxiliar","IN000473-5 ","NEHUENCO","NEHUENCO","Nehuenco","Nehuenco","NEHUENCO_1-FA_GNL_D","GNL",null,"No",null,3,"NEHUENCO_1_DIE","NEHUENCO_1_GNL","NEHUENCO_1_GNL_CA"]
[null,"COLBUN","96.505.760-9","TERMOELECTRICA NEHUENCO SA",28770,"NEHUENCO 1 ","Caldera Auxiliar","IN000473-5 ","NEHUENCO","NEHUENCO","Nehuenco","Nehuenco","NEHUENCO-1_TG1+TV1+FA1_GNL_A","GNL","S.LUIS2_______220","No",null,3,"NEHUENCO_1_DIE","NEHUENCO_1_GNL","NEHUENCO_1_GNL_CA"]
[null,"COLBUN","96.505.760-9","TERMOELECTRICA NEHUENCO SA",28770,"NEHUENCO 1 ","Caldera Auxiliar","IN000473-5 ","NEHUENCO","NEHUENCO","Nehuenco","Nehuenco","NEHUENCO-1_TG1_GNL_E","GNL","S.LUIS2_______220","No",null,3,"NEHUENCO_1_DIE","NEHUENCO_1_GNL","NEHUENCO_1_GNL_CA"]
[null,"COLBUN","96.505.760-9","TERMOELECTRICA NEHUENCO SA",28770,"NEHUENCO 1 ","Caldera Auxiliar","IN000473-5 ","NEHUENCO","NEHUENCO","Nehuenco","Nehuenco","NEHUENCO-1_TG1_GNL_C","GNL","S.LUIS2_______220","No",null,3,"NEHUENCO_1_DIE","NEHUENCO_1_GNL","NEHUENCO_1_GNL_CA"]
[null,"COLBUN","96.505.760-9","TERMOELECTRICA NEHUENCO SA",28770,"NEHUENCO 1 ","Caldera Auxiliar","IN000473-5 ","NEHUENCO","NEHUENCO","Nehuenco","Nehuenco","NEHUENCO-1_TG1_GNL_D","GNL","S.LUIS2_______220","No",null,3,"NEHUENCO_1_DIE","NEHUENCO_1_GNL","NEHUENCO_1_GNL_CA"]
[null,"COLBUN","96.505.760-9","TERMOELECTRICA NEHUENCO SA",28770,"NEHUENCO 1 ","Caldera Auxiliar","IN000473-5 ","NEHUENCO","NEHUENCO","Nehuenco","Nehuenco","NEHUENCO-1_TG1_GNL_A","GNL","S.LUIS2_______220","No",null,3,"NEHUENCO_1_DIE","NEHUENCO_1_GNL","NEHUENCO_1_GNL_CA"]
[null,"COLBUN","96.505.760-9","TERMOELECTRICA NEHUENCO SA",28770,"NEHUENCO 1 ","Caldera Auxiliar","IN000473-5 ","NEHUENCO","NEHUENCO","Nehuenco","Nehuenco","NEHUENCO-1_TG1+TV1_DIESEL","Diésel","S.LUIS2_______220","No",null,3,"NEHUENCO_1_DIE","NEHUENCO_1_GNL","NEHUENCO_1_GNL_CA"]
[null,"COLBUN","96.505.760-9","TERMOELECTRICA NEHUENCO SA",28770,"NEHUENCO 1 ","Caldera Auxiliar","IN000473-5 ","NEHUENCO","NEHUENCO","Nehuenco","Nehuenco","NEHUENCO-1_TG1+TV1_GNL_F","GNL","S.LUIS2_______220","No",null,3,"NEHUENCO_1_DIE","NEHUENCO_1_GNL","NEHUENCO_1_GNL_CA"]
[null,"COLBUN","96.505.760-9","TERMOELECTRICA NEHUENCO SA",28770,"NEHUENCO 1 ","Caldera Auxiliar","IN000473-5 ","NEHUENCO","NEHUENCO","Nehuenco","Nehuenco","NEHUENCO-1_TG1+TV1_GNL_G","GNL","S.LUIS2_______220","No",null,3,"NEHUENCO_1_DIE","NEHUENCO_1_GNL","NEHUENCO_1_GNL_CA"]
[null,"COLBUN","96.505.760-9","TERMOELECTRICA NEHUENCO SA",28770,"NEHUENCO 1 ","Caldera Auxiliar","IN000473-5 ","NEHUENCO","NEHUENCO","Nehuenco","Nehuenco","NEHUENCO-1_TG1+TV1_GNL_B","GNL","S.LUIS2_______220","No",null,3,"NEHUENCO_1_DIE","NEHUENCO_1_GNL","NEHUENCO_1_GNL_CA"]
[null,"COLBUN","96.505.760-9","TERMOELECTRICA NEHUENCO SA",28770,"NEHUENCO 1 ","Caldera Auxiliar","IN000473-5 ","NEHUENCO","NEHUENCO","Nehuenco","Nehuenco","NEHUENCO-1_TG1_GNL_F","GNL","S.LUIS2_______220","No",null,3,"NEHUENCO_1_DIE","NEHUENCO_1_GNL","NEHUENCO_1_GNL_CA"]
[null,"COLBUN","96.505.760-9","TERMOELECTRICA NEHUENCO SA",28770,"NEHUENCO 1 ","Caldera Auxiliar","IN000473-5 ","NEHUENCO","NEHUENCO","Nehuenco","Nehuenco","NEHUENCO-1_TG1_GNL_G","GNL","S.LUIS2_______220","No",null,3,"NEHUENCO_1_DIE","NEHUENCO_1_GNL","NEHUENCO_1_GNL_CA"]
[null,"COLBUN","96.505.760-9","TERMOELECTRICA NEHUENCO SA",28770,"NEHUENCO 1 ","Caldera Auxiliar","IN000473-5 ","NEHUENCO","NEHUENCO","Nehuenco","Nehuenco","NEHUENCO-1_TG1_GNL_B","GNL","S.LUIS2_______220","No",null,3,"NEHUENCO_1_DIE","NEHUENCO_1_GNL","NEHUENCO_1_GNL_CA"]
[null,"COLBUN","96.505.760-9","TERMOELECTRICA NEHUENCO SA",28770,"NEHUENCO 1 ","Caldera Auxiliar","IN000473-5 ","NEHUENCO","NEHUENCO","Nehuenco","Nehuenco","NEHUENCO-1_TG1+TV1_GN_A","GN","S.LUIS2_______220","No",null,3,"NEHUENCO_1_DIE","NEHUENCO_1_GNL","NEHUENCO_1_GNL_CA"]
[null,"COLBUN","96.505.760-9","TERMOELECTRICA NEHUENCO SA",28770,"NEHUENCO 1 ","Caldera Auxiliar","IN000473-5 ","NEHUENCO","NEHUENCO","Nehuenco","Nehuenco","NEHUENCO-1_TG1+TV1+FA1_GN_A","GN","S.LUIS2_______220","No",null,3,"NEHUENCO_1_DIE","NEHUENCO_1_GNL","NEHUENCO_1_GNL_CA"]
[null,"COLBUN","96.505.760-9","TERMOELECTRICA NEHUENCO SA",28770,"NEHUENCO 1 ","Caldera Auxiliar","IN000473-5 ","NEHUENCO","NEHUENCO","Nehuenco","Nehuenco","NEHUENCO-1_TG1_GN_A","GN","S.LUIS2_______220","No",null,3,"NEHUENCO_1_DIE","NEHUENCO_1_GNL","NEHUENCO_1_GNL_CA"]
[null,"COLBUN","96.505.760-9","TERMOELECTRICA NEHUENCO SA",28770,"NEHUENCO 2","UGE Nehuenco II","PC001511-0 ","NEHUENCO II","NEHUENCO II","Nehuenco","Nehuenco II","NEHUENCO-2_TG1+TV1_GNL_INFLEX","GNL","S.LUIS2_______220","No",null,3,"NEHUENCO_2_DIE","NEHUENCO_2_GNL","NEHUENCO_2_GNL_CA"]
[null,"COLBUN","96.505.760-9","TERMOELECTRICA NEHUENCO SA",28770,"NEHUENCO 2","UGE Nehuenco II","PC001511-0 ","NEHUENCO II","NEHUENCO II","Nehuenco","Nehuenco II","NEHUENCO-2_TG1_GNL_INFLEX","GNL","S.LUIS2_______220","No",null,3,"NEHUENCO_2_DIE","NEHUENCO_2_GNL","NEHUENCO_2_GNL_CA"]
[null,"COLBUN","96.505.760-9","TERMOELECTRICA NEHUENCO SA",28770,"NEHUENCO 2","UGE Nehuenco II","PC001511-0 ","NEHUENCO II","NEHUENCO II","Nehuenco","Nehuenco II","NEHUENCO-2_TG1+TV1_GNL_E","GNL","S.LUIS2_______220","No",null,3,"NEHUENCO_2_DIE","NEHUENCO_2_GNL","NEHUENCO_2_GNL_CA"]
[null,"COLBUN","96.505.760-9","TERMOELECTRICA NEHUENCO SA",28770,"NEHUENCO 2","UGE Nehuenco II","PC001511-0 ","NEHUENCO II","NEHUENCO II","Nehuenco","Nehuenco II","NEHUENCO-2_TG1+TV1_GNL_C","GNL","S.LUIS2_______220","No",null,3,"NEHUENCO_2_DIE","NEHUENCO_2_GNL","NEHUENCO_2_GNL_CA"]
[null,"COLBUN","96.505.760-9","TERMOELECTRICA NEHUENCO SA",28770,"NEHUENCO 2","UGE Nehuenco II","PC001511-0 ","NEHUENCO II","NEHUENCO II","Nehuenco","Nehuenco II","NEHUENCO-2_TG1+TV1_GNL_D","GNL","S.LUIS2_______220","No",null,3,"NEHUENCO_2_DIE","NEHUENCO_2_GNL","NEHUENCO_2_GNL_CA"]
[null,"COLBUN","96.505.760-9","TERMOELECTRICA NEHUENCO SA",28770,"NEHUENCO 2","UGE Nehuenco II","PC001511-0 ","NEHUENCO II","NEHUENCO II","Nehuenco","Nehuenco II","NEHUENCO-2_TG1+TV1_GNL_A","GNL","S.LUIS2_______220","No",null,3,"NEHUENCO_2_DIE","NEHUENCO_2_GNL","NEHUENCO_2_GNL_CA"]
[null,"COLBUN","96.505.760-9","TERMOELECTRICA NEHUENCO SA",28770,"NEHUENCO 2","UGE Nehuenco II","PC001511-0 ","NEHUENCO II","NEHUENCO II","Nehuenco","Nehuenco II","NEHUENCO-2_TG1_GNL_E","GNL","S.LUIS2_______220","No",null,3,"NEHUENCO_2_DIE","NEHUENCO_2_GNL","NEHUENCO_2_GNL_CA"]
[null,"COLBUN","96.505.760-9","TERMOELECTRICA NEHUENCO SA",28770,"NEHUENCO 2","UGE Nehuenco II","PC001511-0 ","NEHUENCO II","NEHUENCO II","Nehuenco","Nehuenco II","NEHUENCO-2_TG1_GNL_C","GNL","S.LUIS2_______220","No",null,3,"NEHUENCO_2_DIE","NEHUENCO_2_GNL","NEHUENCO_2_GNL_CA"]
[null,"COLBUN","96.505.760-9","TERMOELECTRICA NEHUENCO SA",28770,"NEHUENCO 2","UGE Nehuenco II","PC001511-0 ","NEHUENCO II","NEHUENCO II","Nehuenco","Nehuenco II","NEHUENCO-2_TG1_GNL_D","GNL","S.LUIS2_______220","No",null,3,"NEHUENCO_2_DIE","NEHUENCO_2_GNL","NEHUENCO_2_GNL_CA"]
[null,"COLBUN","96.505.760-9","TERMOELECTRICA NEHUENCO SA",28770,"NEHUENCO 2","UGE Nehuenco II","PC001511-0 ","NEHUENCO II","NEHUENCO II","Nehuenco","Nehuenco II","NEHUENCO-2_TG1_GNL_A","GNL","S.LUIS2_______220","No",null,3,"NEHUENCO_2_DIE","NEHUENCO_2_GNL","NEHUENCO_2_GNL_CA"]
[null,"COLBUN","96.505.760-9","TERMOELECTRICA NEHUENCO SA",28770,"NEHUENCO 2","UGE Nehuenco II","PC001511-0 ","NEHUENCO II","NEHUENCO II","Nehuenco","Nehuenco II","NEHUENCO-2_TG1+TV1_DIESEL","Diésel","S.LUIS2_______220","No",null,3,"NEHUENCO_2_DIE","NEHUENCO_2_GNL","NEHUENCO_2_GNL_CA"]
[null,"COLBUN","96.505.760-9","TERMOELECTRICA NEHUENCO SA",28770,"NEHUENCO 2","UGE Nehuenco II","PC001511-0 ","NEHUENCO II","NEHUENCO II","Nehuenco","Nehuenco II","NEHUENCO-2_TG1+TV1_GNL_F","GNL","S.LUIS2_______220","No",null,3,"NEHUENCO_2_DIE","NEHUENCO_2_GNL","NEHUENCO_2_GNL_CA"]
[null,"COLBUN","96.505.760-9","TERMOELECTRICA NEHUENCO SA",28770,"NEHUENCO 2","UGE Nehuenco II","PC001511-0 ","NEHUENCO II","NEHUENCO II","Nehuenco","Nehuenco II","NEHUENCO-2_TG1+TV1_GNL_G","GNL","S.LUIS2_______220","No",null,3,"NEHUENCO_2_DIE","NEHUENCO_2_GNL","NEHUENCO_2_GNL_CA"]
[null,"COLBUN","96.505.760-9","TERMOELECTRICA NEHUENCO SA",28770,"NEHUENCO 2","UGE Nehuenco II","PC001511-0 ","NEHUENCO II","NEHUENCO II","Nehuenco","Nehuenco II","NEHUENCO-2_TG1+TV1_GNL_B","GNL","S.LUIS2_______220","No",null,3,"NEHUENCO_2_DIE","NEHUENCO_2_GNL","NEHUENCO_2_GNL_CA"]
[null,"COLBUN","96.505.760-9","TERMOELECTRICA NEHUENCO SA",28770,"NEHUENCO 2","UGE Nehuenco II","PC001511-0 ","NEHUENCO II","NEHUENCO II","Nehuenco","Nehuenco II","NEHUENCO-2_TG1_GNL_F","GNL","S.LUIS2_______220","No",null,3,"NEHUENCO_2_DIE","NEHUENCO_2_GNL","NEHUENCO_2_GNL_CA"]
[null,"COLBUN","96.505.760-9","TERMOELECTRICA NEHUENCO SA",28770,"NEHUENCO 2","UGE Nehuenco II","PC001511-0 ","NEHUENCO II","NEHUENCO II","Nehuenco","Nehuenco II","NEHUENCO-2_TG1_GNL_G","GNL","S.LUIS2_______220","No",null,3,"NEHUENCO_2_DIE","NEHUENCO_2_GNL","NEHUENCO_2_GNL_CA"]
[null,"COLBUN","96.505.760-9","TERMOELECTRICA NEHUENCO SA",28770,"NEHUENCO 2","UGE Nehuenco II","PC001511-0 ","NEHUENCO II","NEHUENCO II","Nehuenco","Nehuenco II","NEHUENCO-2_TG1_GNL_B","GNL","S.LUIS2_______220","No",null,3,"NEHUENCO_2_DIE","NEHUENCO_2_GNL","NEHUENCO_2_GNL_CA"]
[null,"COLBUN","96.505.760-9","TERMOELECTRICA NEHUENCO SA",28770,"NEHUENCO 2","UGE Nehuenco II","PC001511-0 ","NEHUENCO II","NEHUENCO II","Nehuenco","Nehuenco II","NEHUENCO-2_TG1+TV1_GN_A","GN","S.LUIS2_______220","No",null,3,"NEHUENCO_2_DIE","NEHUENCO_2_GNL","NEHUENCO_2_GNL_CA"]
[null,"COLBUN","96.505.760-9","TERMOELECTRICA NEHUENCO SA",28770,"NEHUENCO 2","UGE Nehuenco II","PC001511-0 ","NEHUENCO II","NEHUENCO II","Nehuenco","Nehuenco II","NEHUENCO-2_TG1_GN_A","GN","S.LUIS2_______220","No",null,3,"NEHUENCO_2_DIE","NEHUENCO_2_GNL","NEHUENCO_2_GNL_CA"]
[null,"COLBUN","96.505.760-9","TERMOELECTRICA NEHUENCO SA",28770,"NEHUENCO 3","UGE Nehuenco III","PC001512-0 ","NEHUENCO 9B","NEHUENCO 9B","Nehuenco","Nehuenco TG 9B","NEHUENCO-9B_GNL_INFLEX","GNL","S.LUIS2_______220","No",null,2,"NEHUENCO_9B_B","NEHUENCO_9B_B_GNL","-"]
[null,"COLBUN","96.505.760-9","TERMOELECTRICA NEHUENCO SA",28770,"NEHUENCO 3","UGE Nehuenco III","PC001512-0 ","NEHUENCO 9B","NEHUENCO 9B","Nehuenco","Nehuenco TG 9B","NEHUENCO-9B_GNL_E","GNL","S.LUIS2_______220","No",null,2,"NEHUENCO_9B_B","NEHUENCO_9B_B_GNL","-"]
[null,"COLBUN","96.505.760-9","TERMOELECTRICA NEHUENCO SA",28770,"NEHUENCO 3","UGE Nehuenco III","PC001512-0 ","NEHUENCO 9B","NEHUENCO 9B","Nehuenco","Nehuenco TG 9B","NEHUENCO-9B_GNL_C","GNL","S.LUIS2_______220","No",null,2,"NEHUENCO_9B_B","NEHUENCO_9B_B_GNL","-"]
[null,"COLBUN","96.505.760-9","TERMOELECTRICA NEHUENCO SA",28770,"NEHUENCO 3","UGE Nehuenco III","PC001512-0 ","NEHUENCO 9B","NEHUENCO 9B","Nehuenco","Nehuenco TG 9B","NEHUENCO-9B_GNL_D","GNL","S.LUIS2_______220","No",null,2,"NEHUENCO_9B_B","NEHUENCO_9B_B_GNL","-"]
[null,"COLBUN","96.505.760-9","TERMOELECTRICA NEHUENCO SA",28770,"NEHUENCO 3","UGE Nehuenco III","PC001512-0 ","NEHUENCO 9B","NEHUENCO 9B","Nehuenco","Nehuenco TG 9B","NEHUENCO-9B_GNL_A","GNL","S.LUIS2_______220","No",null,2,"NEHUENCO_9B_B","NEHUENCO_9B_B_GNL","-"]
[null,"COLBUN","96.505.760-9","TERMOELECTRICA NEHUENCO SA",28770,"NEHUENCO 3","UGE Nehuenco III","PC001512-0 ","NEHUENCO 9B","NEHUENCO 9B","Nehuenco","Nehuenco TG 9B","NEHUENCO-9B_DIESEL","Diésel","S.LUIS2_______220","No",null,2,"NEHUENCO_9B_B","NEHUENCO_9B_B_GNL","-"]
[null,"COLBUN","96.505.760-9","TERMOELECTRICA NEHUENCO SA",28770,"NEHUENCO 3","UGE Nehuenco III","PC001512-0 ","NEHUENCO 9B","NEHUENCO 9B","Nehuenco","Nehuenco TG 9B","NEHUENCO-9B_GNL_F","GNL","S.LUIS2_______220","No",null,2,"NEHUENCO_9B_B","NEHUENCO_9B_B_GNL","-"]
[null,"COLBUN","96.505.760-9","TERMOELECTRICA NEHUENCO SA",28770,"NEHUENCO 3","UGE Nehuenco III","PC001512-0 ","NEHUENCO 9B","NEHUENCO 9B","Nehuenco","Nehuenco TG 9B","NEHUENCO-9B_GNL_G","GNL","S.LUIS2_______220","No",null,2,"NEHUENCO_9B_B","NEHUENCO_9B_B_GNL","-"]
[null,"COLBUN","96.505.760-9","TERMOELECTRICA NEHUENCO SA",28770,"NEHUENCO 3","UGE Nehuenco III","PC001512-0 ","NEHUENCO 9B","NEHUENCO 9B","Nehuenco","Nehuenco TG 9B","NEHUENCO-9B_GNL_B","GNL","S.LUIS2_______220","No",null,2,"NEHUENCO_9B_B","NEHUENCO_9B_B_GNL","-"]
[null,"COLBUN","96.505.760-9","TERMOELECTRICA NEHUENCO SA",28770,"NEHUENCO 3","UGE Nehuenco III","PC001512-0 ","NEHUENCO 9B","NEHUENCO 9B","Nehuenco","Nehuenco TG 9B","NEHUENCO-9B_GN_A","GN","S.LUIS2_______220","No",null,2,"NEHUENCO_9B_B","NEHUENCO_9B_B_GNL","-"]
[null,"COLBUN","96.505.760-9","CENTRAL CANDELARIA",6888,"CANDELARIA 1","TG1","PC000387-k","CANDELARIA TG1","CANDELARIA","Candelaria","Candelaria 1","CANDELARIA-1_GNL_INFLEX","GNL","CANDELARIA____220","No",null,2,"CANDELARIA_B1_DIE","CANDELARIA_B1_GNL","-"]
[null,"COLBUN","96.505.760-9","CENTRAL CANDELARIA",6888,"CANDELARIA 1","TG1","PC000387-k","CANDELARIA TG1","CANDELARIA","Candelaria","Candelaria 1","CANDELARIA-1_GNL_E","GNL","CANDELARIA____220","No",null,2,"CANDELARIA_B1_DIE","CANDELARIA_B1_GNL","-"]
[null,"COLBUN","96.505.760-9","CENTRAL CANDELARIA",6888,"CANDELARIA 1","TG1","PC000387-k","CANDELARIA TG1","CANDELARIA","Candelaria","Candelaria 1","CANDELARIA-1_GNL_C","GNL","CANDELARIA____220","No",null,2,"CANDELARIA_B1_DIE","CANDELARIA_B1_GNL","-"]
[null,"COLBUN","96.505.760-9","CENTRAL CANDELARIA",6888,"CANDELARIA 1","TG1","PC000387-k","CANDELARIA TG1","CANDELARIA","Candelaria","Candelaria 1","CANDELARIA-1_GNL_D","GNL","CANDELARIA____220","No",null,2,"CANDELARIA_B1_DIE","CANDELARIA_B1_GNL","-"]
[null,"COLBUN","96.505.760-9","CENTRAL CANDELARIA",6888,"CANDELARIA 1","TG1","PC000387-k","CANDELARIA TG1","CANDELARIA","Candelaria","Candelaria 1","CANDELARIA-1_GNL_A","GNL","CANDELARIA____220","No",null,2,"CANDELARIA_B1_DIE","CANDELARIA_B1_GNL","-"]
[null,"COLBUN","96.505.760-9","CENTRAL CANDELARIA",6888,"CANDELARIA 1","TG1","PC000387-k","CANDELARIA TG1","CANDELARIA","Candelaria","Candelaria 1","CANDELARIA-1_DIESEL","Diésel","CANDELARIA____220","No",null,2,"CANDELARIA_B1_DIE","CANDELARIA_B1_GNL","-"]
[null,"COLBUN","96.505.760-9","CENTRAL CANDELARIA",6888,"CANDELARIA 1","TG1","PC000387-k","CANDELARIA TG1","CANDELARIA","Candelaria","Candelaria 1","CANDELARIA-1_GNL_F","GNL","CANDELARIA____220","No",null,2,"CANDELARIA_B1_DIE","CANDELARIA_B1_GNL","-"]
[null,"COLBUN","96.505.760-9","CENTRAL CANDELARIA",6888,"CANDELARIA 1","TG1","PC000387-k","CANDELARIA TG1","CANDELARIA","Candelaria","Candelaria 1","CANDELARIA-1_GNL_G","GNL","CANDELARIA____220","No",null,2,"CANDELARIA_B1_DIE","CANDELARIA_B1_GNL","-"]
[null,"COLBUN","96.505.760-9","CENTRAL CANDELARIA",6888,"CANDELARIA 1","TG1","PC000387-k","CANDELARIA TG1","CANDELARIA","Candelaria","Candelaria 1","CANDELARIA-1_GNL_B","GNL","CANDELARIA____220","No",null,2,"CANDELARIA_B1_DIE","CANDELARIA_B1_GNL","-"]
[null,"COLBUN","96.505.760-9","CENTRAL CANDELARIA",6888,"CANDELARIA 1","TG1","PC000387-k","CANDELARIA TG1","CANDELARIA","Candelaria","Candelaria 1","CANDELARIA-1_GN_A","GN","CANDELARIA____220","No",null,2,"CANDELARIA_B1_DIE","CANDELARIA_B1_GNL","-"]
[null,"COLBUN","96.505.760-9","CENTRAL CANDELARIA",6888,"CANDELARIA 2","TG2","PC000388-8","CANDELARIA TG2","CANDELARIA","Candelaria","Candelaria 2","CANDELARIA-2_GNL_INFLEX","GNL","CANDELARIA____220","No",null,2,"CANDELARIA_B2_DIE","CANDELARIA_B2_GNL","-"]
[null,"COLBUN","96.505.760-9","CENTRAL CANDELARIA",6888,"CANDELARIA 2","TG2","PC000388-8","CANDELARIA TG2","CANDELARIA","Candelaria","Candelaria 2","CANDELARIA-2_GNL_E","GNL","CANDELARIA____220","No",null,2,"CANDELARIA_B2_DIE","CANDELARIA_B2_GNL","-"]
[null,"COLBUN","96.505.760-9","CENTRAL CANDELARIA",6888,"CANDELARIA 2","TG2","PC000388-8","CANDELARIA TG2","CANDELARIA","Candelaria","Candelaria 2","CANDELARIA-2_GNL_C","GNL","CANDELARIA____220","No",null,2,"CANDELARIA_B2_DIE","CANDELARIA_B2_GNL","-"]
[null,"COLBUN","96.505.760-9","CENTRAL CANDELARIA",6888,"CANDELARIA 2","TG2","PC000388-8","CANDELARIA TG2","CANDELARIA","Candelaria","Candelaria 2","CANDELARIA-2_GNL_D","GNL","CANDELARIA____220","No",null,2,"CANDELARIA_B2_DIE","CANDELARIA_B2_GNL","-"]
[null,"COLBUN","96.505.760-9","CENTRAL CANDELARIA",6888,"CANDELARIA 2","TG2","PC000388-8","CANDELARIA TG2","CANDELARIA","Candelaria","Candelaria 2","CANDELARIA-2_GNL_A","GNL","CANDELARIA____220","No",null,2,"CANDELARIA_B2_DIE","CANDELARIA_B2_GNL","-"]
[null,"COLBUN","96.505.760-9","CENTRAL CANDELARIA",6888,"CANDELARIA 2","TG2","PC000388-8","CANDELARIA TG2","CANDELARIA","Candelaria","Candelaria 2","CANDELARIA-2_DIESEL","Diésel","CANDELARIA____220","No",null,2,"CANDELARIA_B2_DIE","CANDELARIA_B2_GNL","-"]
[null,"COLBUN","96.505.760-9","CENTRAL CANDELARIA",6888,"CANDELARIA 2","TG2","PC000388-8","CANDELARIA TG2","CANDELARIA","Candelaria","Candelaria 2","CANDELARIA-2_GNL_F","GNL","CANDELARIA____220","No",null,2,"CANDELARIA_B2_DIE","CANDELARIA_B2_GNL","-"]
[null,"COLBUN","96.505.760-9","CENTRAL CANDELARIA",6888,"CANDELARIA 2","TG2","PC000388-8","CANDELARIA TG2","CANDELARIA","Candelaria","Candelaria 2","CANDELARIA-2_GNL_G","GNL","CANDELARIA____220","No",null,2,"CANDELARIA_B2_DIE","CANDELARIA_B2_GNL","-"]
[null,"COLBUN","96.505.760-9","CENTRAL CANDELARIA",6888,"CANDELARIA 2","TG2","PC000388-8","CANDELARIA TG2","CANDELARIA","Candelaria","Candelaria 2","CANDELARIA-2_GNL_B","GNL","CANDELARIA____220","No",null,2,"CANDELARIA_B2_DIE","CANDELARIA_B2_GNL","-"]
[null,"COLBUN","96.505.760-9","CENTRAL CANDELARIA",6888,"CANDELARIA 2","TG2","PC000388-8","CANDELARIA TG2","CANDELARIA","Candelaria","Candelaria 2","CANDELARIA-2_GN_A","GN","CANDELARIA____220","No",null,2,"CANDELARIA_B2_DIE","CANDELARIA_B2_GNL","-"]
[null,"COLBUN","96.505.760-9","CENTRAL TERMOELECTRICA LOS PINOS",2099211,"LOS PINOS","UGE Los Pinos","PC000507-4","LOS PINOS 1","LOS PINOS","Los Pinos","Los Pinos","LOSPINOS_DIESEL","Diésel","CHARRUA_______220","No",null,1,"LOS PINOS","-","-"]
[null,"COLBUN","96.505.760-9","CENTRAL TERMOELECTRICA SANTA MARIA",5452085,"SANTA MARÍA","UGE Santa Maria 1","GE000094-2","SANTA MARIA  1","SANTA MARIA","Santa María","Santa María","SANTAMARIA_CAR","Carbón","CHARRUA_______220","No",null,1,"G_STAMARIA","-","-"]
[null,"COLBUN","96.505.760-9","CENTRAL TERMOELECTRICA SANTA MARIA",5452085,"SANTA MARÍA","Caldera Auxiliar","IN001433-1","SANTA MARIA  1","SANTA MARIA","Santa María","Santa María","SANTAMARIA_CAR","Carbón","CHARRUA_______220","No",null,1,"G_STAMARIA","-","-"]
[null,"COLBUN","96.505.760-9","CENTRAL TERMOELÉCTRICA ANTILHUE",4586106,"ANTILHUE 1","TG1","PC001400-1 ","ANTILHUE 1","ANTILHUE TG","Antilhue TG","Antilhue TG U1","ANTILHUE-1_DIESEL","Diésel","VALDIVIA______220","No",null,1,"G_ANTIL","-","-"]
[null,"COLBUN","96.505.760-9","CENTRAL TERMOELÉCTRICA ANTILHUE",4586106,"ANTILHUE 1","Caldera auxiliar","CA000124-7","ANTILHUE 1","ANTILHUE TG","Antilhue TG","Antilhue TG U1","ANTILHUE-1_DIESEL","Diésel","VALDIVIA______220","No",null,1,"G_ANTIL","-","-"]
[null,"COLBUN","96.505.760-9","CENTRAL TERMOELÉCTRICA ANTILHUE",4586106,"ANTILHUE 2","TG2","PC001401-1 ","ANTILHUE 2","ANTILHUE TG","Antilhue TG","Antilhue TG U2","ANTILHUE-2_DIESEL","Diésel","VALDIVIA______220","No",null,1,"G_ANTIL","-","-"]
[null,"COLBUN","96.505.760-9","CENTRAL TERMOELÉCTRICA ANTILHUE",4586106,"ANTILHUE 2","Caldera auxiliar","CA000125-5","ANTILHUE 2","ANTILHUE TG","Antilhue TG","Antilhue TG U2","ANTILHUE-2_DIESEL","Diésel","VALDIVIA______220","No",null,1,"G_ANTIL","-","-"]
[null,"COLMITO","76.326.949-3","CENTRAL COLMITO",5453654,"CENTRAL COLMITO","UGE Colmito","PC003323-5","COLMITO 1","COLMITO","Colmito","Colmito","COLMITO_GNL_INFLEX","GNL","TORQUEMADA____110","No",null,1,"COLMITO_P","-","-"]
[null,"COLMITO","76.326.949-3","CENTRAL COLMITO",5453654,"CENTRAL COLMITO","UGE Colmito","PC003323-5","COLMITO 1","COLMITO","Colmito","Colmito","COLMITO_GNL_A","GNL","TORQUEMADA____110","No",null,1,"COLMITO_P","-","-"]
[null,"COLMITO","76.326.949-3","CENTRAL COLMITO",5453654,"CENTRAL COLMITO","UGE Colmito","PC003323-5","COLMITO 1","COLMITO","Colmito","Colmito","COLMITO_DIESEL","Diésel","TORQUEMADA____110","No",null,1,"COLMITO_P","-","-"]
[null,"COMASA","96.546.010-1","COMASA S.A.",2342251,"LAUTARO 1","UGE Comasa 1","GE000114-0 ","LAUTARO I","LAUTARO","Lautaro","Lautaro-Comasa","LAUTARO-1_BL1_COGEN","Biomasa","LAUTARO_______066","No",null,1,"G_COMASA_U1","-","-"]
[null,"COMASA","96.546.010-1","COMASA S.A.",2342251,"LAUTARO 1","UGE Comasa 1","GE000114-0 ","LAUTARO I","LAUTARO","Lautaro","Lautaro-Comasa","LAUTARO-1_BL1+BL2_COGEN","Biomasa","LAUTARO_______066","No",null,1,"G_COMASA_U1","-","-"]
[null,"COMASA","96.546.010-1","COMASA S.A.",2342251,"LAUTARO 2","UGE Comasa 2","GE000203-8","LAUTARO II","LAUTARO","Lautaro","Lautaro-Comasa 2","LAUTARO-2_COGEN","Biomasa","LAUTARO_______066","No",null,1,"G_COMASA_U2","-","-"]
[null,"COMASA","96.546.010-1","COMASA S.A.",2342251,"LAUTARO 2","UGE Comasa 2","GE000203-8","LAUTARO II","LAUTARO","Lautaro","Lautaro-Comasa 2","LAUTARO-2_BL1_COGEN","Biomasa",null,"No",null,1,"G_COMASA_U2","-","-"]
[null,"COMASA","96.546.010-1","COMASA S.A.",2342251,"LAUTARO 2","UGE Comasa 2","GE000203-8","LAUTARO II","LAUTARO","Lautaro","Lautaro-Comasa 2","LAUTARO-2_BL1+BL2_COGEN","Biomasa",null,"No",null,1,"G_COMASA_U2","-","-"]
[null,"NUEVA ENERGIA","76.045.612-8","ELECTRICA NUEVA ENERGÍA S.A.",4585623,"ESCUADRON","Caldera 1","GE000257-7","ESCUADRON 1","ESCUADRON","Escuadron","Escuadrón","ESCUADRON_COGEN","Biomasa","FOPACO________154","No",null,1,"GFPC1","-","-"]
[null,"NUEVA ENERGIA","76.045.612-8","ELECTRICA NUEVA ENERGÍA S.A.",4585623,"ESCUADRON","Caldera2","IN002847-2","ESCUADRON 2","ESCUADRON","Escuadron","Escuadrón","ESCUADRON_COGEN","Biomasa","FOPACO________154","No",null,1,"GFPC2","-","-"]
[null,"EMELDA","76.004.337-0","EMELDA",5442119," EMELDA U1","UGE EMELDA 1","EL029919-7","EMELDA 1","EMELDA","Emelda","Emelda U1","EMELDA-1_DIESEL","Diésel","D.ALMAGRO_____110","No",null,1,"G_EMELDA_U1","-","-"]
[null,"EMELDA","76.004.337-0","EMELDA",5442119," EMELDAU2","UGE EMELDA 2","EL029922-7","EMELDA 2","EMELDA","Emelda","Emelda U2","EMELDA-2_DIESEL","Diésel","D.ALMAGRO_____110","No",null,1,"G_EMELDA_U2","-","-"]
[null,"ENEL_GENERACION","91.081.000-6","CENTRAL TALTAL",82993,"TALTAL U1","UGE TG-1","PC000312-8","TALTAL 1","TALTAL","Taltal","Taltal 1","TALTAL-1_GNL_INFLEX","GNL","PAPOSO________220","No",null,1,"I019_1","-","-"]
[null,"ENEL_GENERACION","91.081.000-6","CENTRAL TALTAL",82993,"TALTAL U1","UGE TG-1","PC000312-8","TALTAL 1","TALTAL","Taltal","Taltal 1","TALTAL-1_GNL_A","GNL","PAPOSO________220","No",null,1,"I019_1","-","-"]
[null,"ENEL_GENERACION","91.081.000-6","CENTRAL TALTAL",82993,"TALTAL U1","UGE TG-1","PC000312-8","TALTAL 1","TALTAL","Taltal","Taltal 1","TALTAL-1_GNL_C","GNL","PAPOSO________220","No",null,1,"I019_1","-","-"]
[null,"ENEL_GENERACION","91.081.000-6","CENTRAL TALTAL",82993,"TALTAL U1","UGE TG-1","PC000312-8","TALTAL 1","TALTAL","Taltal","Taltal 1","TALTAL-1_GNL_E","GNL","PAPOSO________220","No",null,1,"I019_1","-","-"]
[null,"ENEL_GENERACION","91.081.000-6","CENTRAL TALTAL",82993,"TALTAL U1","UGE TG-1","PC000312-8","TALTAL 1","TALTAL","Taltal","Taltal 1","TALTAL-1_GNL_D","GNL","PAPOSO________220","No",null,1,"I019_1","-","-"]
[null,"ENEL_GENERACION","91.081.000-6","CENTRAL TALTAL",82993,"TALTAL U1","UGE TG-1","PC000312-8","TALTAL 1","TALTAL","Taltal","Taltal 1","TALTAL-1_GNL_B","GNL","PAPOSO________220","No",null,1,"I019_1","-","-"]
[null,"ENEL_GENERACION","91.081.000-6","CENTRAL TALTAL",82993,"TALTAL U1","UGE TG-1","PC000312-8","TALTAL 1","TALTAL","Taltal","Taltal 1","TALTAL-1_DIESEL","Diésel","PAPOSO________220","No",null,1,"I019_1","-","-"]
[null,"ENEL_GENERACION","91.081.000-6","CENTRAL TALTAL",82993,"TALTAL U2","UGE TG-2","PC000313-6","TALTAL 2","TALTAL","Taltal","Taltal 2","TALTAL-2_GNL_INFLEX","GNL","PAPOSO________220","No",null,1,"I019_2","-","-"]
[null,"ENEL_GENERACION","91.081.000-6","CENTRAL TALTAL",82993,"TALTAL U2","UGE TG-2","PC000313-6","TALTAL 2","TALTAL","Taltal","Taltal 2","TALTAL-2_GNL_A","GNL","PAPOSO________220","No",null,1,"I019_2","-","-"]
[null,"ENEL_GENERACION","91.081.000-6","CENTRAL TALTAL",82993,"TALTAL U2","UGE TG-2","PC000313-6","TALTAL 2","TALTAL","Taltal","Taltal 2","TALTAL-2_GNL_C","GNL","PAPOSO________220","No",null,1,"I019_2","-","-"]
[null,"ENEL_GENERACION","91.081.000-6","CENTRAL TALTAL",82993,"TALTAL U2","UGE TG-2","PC000313-6","TALTAL 2","TALTAL","Taltal","Taltal 2","TALTAL-2_GNL_E","GNL","PAPOSO________220","No",null,1,"I019_2","-","-"]
[null,"ENEL_GENERACION","91.081.000-6","CENTRAL TALTAL",82993,"TALTAL U2","UGE TG-2","PC000313-6","TALTAL 2","TALTAL","Taltal","Taltal 2","TALTAL-2_GNL_D","GNL","PAPOSO________220","No",null,1,"I019_2","-","-"]
[null,"ENEL_GENERACION","91.081.000-6","CENTRAL TALTAL",82993,"TALTAL U2","UGE TG-2","PC000313-6","TALTAL 2","TALTAL","Taltal","Taltal 2","TALTAL-2_GNL_B","GNL","PAPOSO________220","No",null,1,"I019_2","-","-"]
[null,"ENEL_GENERACION","91.081.000-6","CENTRAL TALTAL",82993,"TALTAL U2","UGE TG-2","PC000313-6","TALTAL 2","TALTAL","Taltal","Taltal 2","TALTAL-2_DIESEL","Diésel","PAPOSO________220","No",null,1,"I019_2","-","-"]
[null,"ENEL_GENERACION","91.081.000-6","DIEGO DE ALMAGRO",4586033,"DIEGO DE ALMAGRO","UGE Diego de Almagro TG-1","PC000355-1","DIEGO DE ALMAGRO","DIEGO DE ALMAGRO","Diego de Almagro","Diego de Almagro","DALMAGRO_DIESEL","Diésel","D.ALMAGRO_____110","No",null,1,"I001","-","-"]
[null,"ENEL_GENERACION","91.081.000-6","CENTRAL HUASCO",82992,"HUASCO TG3","UGE TG-3","PC000335-7","HUASCO 3","HUASCO TG","Huasco TG","Huasco TG","HUASCO-1_IFO","Fuel Oil","HUASCO________110","No",null,1,"G_HUAS","-","-"]
[null,"ENEL_GENERACION","91.081.000-6","CENTRAL HUASCO",82992,"HUASCO TG3","UGE TG-3","PC000335-7","HUASCO 3","HUASCO TG","Huasco TG","Huasco TG","HUASCO-1_DIESEL","Diésel","HUASCO________110","No",null,1,"G_HUAS","-","-"]
[null,"ENEL_GENERACION","91.081.000-6","CENTRAL HUASCO",82992,"HUASCO TG4","UGE TG-4","PC000336-5","HUASCO 4","HUASCO TG","Huasco TG","Huasco TG","HUASCO-2_IFO","Fuel Oil","HUASCO________110","No",null,1,"G_HUAS","-","-"]
[null,"ENEL_GENERACION","91.081.000-6","CENTRAL HUASCO",82992,"HUASCO TG4","UGE TG-4","PC000336-5","HUASCO 4","HUASCO TG","Huasco TG","Huasco TG","HUASCO-2_DIESEL","Diésel","HUASCO________110","No",null,1,"G_HUAS","-","-"]
[null,"ENEL_GENERACION","91.081.000-6","CENTRAL HUASCO",82992,"HUASCO TG5","UGE TG-5","PC000337-3","HUASCO 5","HUASCO TG","Huasco TG","Huasco TG","HUASCO-3_IFO","Fuel Oil","HUASCO________110","No",null,1,"G_HUAS","-","-"]
[null,"ENEL_GENERACION","91.081.000-6","CENTRAL HUASCO",82992,"HUASCO TG5","UGE TG-5","PC000337-3","HUASCO 5","HUASCO TG","Huasco TG","Huasco TG","HUASCO-3_DIESEL","Diésel","HUASCO________110","No",null,1,"G_HUAS","-","-"]
[null,"ENEL_GENERACION","91.081.000-6","SAN ISIDRO II",1211027,"SAN ISIDRO 2","UGE San Isidro II","PC000318-7","SAN ISIDRO II","SAN ISIDRO II","San Isidro 2","San Isidro II","SANISIDRO-2_TG1+TV1_FSTVU_GNL_INFLEX","GNL","S.LUIS________220","No",null,1,"ISIDROII","-","-"]
[null,"ENEL_GENERACION","91.081.000-6","SAN ISIDRO II",1211027,"SAN ISIDRO 2","UGE San Isidro II","PC000318-7","SAN ISIDRO II","SAN ISIDRO II","San Isidro 2","San Isidro II","SANISIDRO-2_TG1+TV1_GNL_INFLEX","GNL","S.LUIS________220","No",null,1,"ISIDROII","-","-"]
[null,"ENEL_GENERACION","91.081.000-6","SAN ISIDRO II",1211027,"SAN ISIDRO 2","UGE San Isidro II","PC000318-7","SAN ISIDRO II","SAN ISIDRO II","San Isidro 2","San Isidro II","SANISIDRO-2_TG1_GNL_INFLEX","GNL","S.LUIS________220","No",null,1,"ISIDROII","-","-"]
[null,"ENEL_GENERACION","91.081.000-6","SAN ISIDRO II",1211027,"SAN ISIDRO 2","UGE San Isidro II","PC000318-7","SAN ISIDRO II","SAN ISIDRO II","San Isidro 2","San Isidro II","SANISIDRO-2_TG1+TV1_FSTVU_GNL_B","GNL","S.LUIS________220","No",null,1,"ISIDROII","-","-"]
[null,"ENEL_GENERACION","91.081.000-6","SAN ISIDRO II",1211027,"SAN ISIDRO 2","UGE San Isidro II","PC000318-7","SAN ISIDRO II","SAN ISIDRO II","San Isidro 2","San Isidro II","SANISIDRO-2_TG1+TV1_FSTVU_GNL_E","GNL","S.LUIS________220","No",null,1,"ISIDROII","-","-"]
[null,"ENEL_GENERACION","91.081.000-6","SAN ISIDRO II",1211027,"SAN ISIDRO 2","UGE San Isidro II","PC000318-7","SAN ISIDRO II","SAN ISIDRO II","San Isidro 2","San Isidro II","SANISIDRO-2_TG1+TV1_GNL_E","GNL","S.LUIS________220","No",null,1,"ISIDROII","-","-"]
[null,"ENEL_GENERACION","91.081.000-6","SAN ISIDRO II",1211027,"SAN ISIDRO 2","UGE San Isidro II","PC000318-7","SAN ISIDRO II","SAN ISIDRO II","San Isidro 2","San Isidro II","SANISIDRO-2_TG1+TV1_GNL_B","GNL","S.LUIS________220","No",null,1,"ISIDROII","-","-"]
[null,"ENEL_GENERACION","91.081.000-6","SAN ISIDRO II",1211027,"SAN ISIDRO 2","UGE San Isidro II","PC000318-7","SAN ISIDRO II","SAN ISIDRO II","San Isidro 2","San Isidro II","SANISIDRO-2_TG1+TV1_FSTVU_GNL_C","GNL","S.LUIS________220","No",null,1,"ISIDROII","-","-"]
[null,"ENEL_GENERACION","91.081.000-6","SAN ISIDRO II",1211027,"SAN ISIDRO 2","UGE San Isidro II","PC000318-7","SAN ISIDRO II","SAN ISIDRO II","San Isidro 2","San Isidro II","SANISIDRO-2_TG1+TV1_GNL_C","GNL","S.LUIS________220","No",null,1,"ISIDROII","-","-"]
[null,"ENEL_GENERACION","91.081.000-6","SAN ISIDRO II",1211027,"SAN ISIDRO 2","UGE San Isidro II","PC000318-7","SAN ISIDRO II","SAN ISIDRO II","San Isidro 2","San Isidro II","SANISIDRO-2_TG1+TV1_FSTVU_GNL_D","GNL","S.LUIS________220","No",null,1,"ISIDROII","-","-"]
[null,"ENEL_GENERACION","91.081.000-6","SAN ISIDRO II",1211027,"SAN ISIDRO 2","UGE San Isidro II","PC000318-7","SAN ISIDRO II","SAN ISIDRO II","San Isidro 2","San Isidro II","SANISIDRO-2_TG1+TV1_FSTVU_GNL_A","GNL","S.LUIS________220","No",null,1,"ISIDROII","-","-"]
[null,"ENEL_GENERACION","91.081.000-6","SAN ISIDRO II",1211027,"SAN ISIDRO 2","UGE San Isidro II","PC000318-7","SAN ISIDRO II","SAN ISIDRO II","San Isidro 2","San Isidro II","SANISIDRO-2_TG1+TV1_GNL_D","GNL","S.LUIS________220","No",null,1,"ISIDROII","-","-"]
[null,"ENEL_GENERACION","91.081.000-6","SAN ISIDRO II",1211027,"SAN ISIDRO 2","UGE San Isidro II","PC000318-7","SAN ISIDRO II","SAN ISIDRO II","San Isidro 2","San Isidro II","SANISIDRO-2_TG1+TV1_GNL_A","GNL","S.LUIS________220","No",null,1,"ISIDROII","-","-"]
[null,"ENEL_GENERACION","91.081.000-6","SAN ISIDRO II",1211027,"SAN ISIDRO 2","UGE San Isidro II","PC000318-7","SAN ISIDRO II","SAN ISIDRO II","San Isidro 2","San Isidro II","SANISIDRO-2_TG1_GNL_B","GNL","S.LUIS________220","No",null,1,"ISIDROII","-","-"]
[null,"ENEL_GENERACION","91.081.000-6","SAN ISIDRO II",1211027,"SAN ISIDRO 2","UGE San Isidro II","PC000318-7","SAN ISIDRO II","SAN ISIDRO II","San Isidro 2","San Isidro II","SANISIDRO-2_TG1_GNL_E","GNL","S.LUIS________220","No",null,1,"ISIDROII","-","-"]
[null,"ENEL_GENERACION","91.081.000-6","SAN ISIDRO II",1211027,"SAN ISIDRO 2","UGE San Isidro II","PC000318-7","SAN ISIDRO II","SAN ISIDRO II","San Isidro 2","San Isidro II","SANISIDRO-2_TG1_GNL_C","GNL","S.LUIS________220","No",null,1,"ISIDROII","-","-"]
[null,"ENEL_GENERACION","91.081.000-6","SAN ISIDRO II",1211027,"SAN ISIDRO 2","UGE San Isidro II","PC000318-7","SAN ISIDRO II","SAN ISIDRO II","San Isidro 2","San Isidro II","SANISIDRO-2_TG1_GNL_D","GNL","S.LUIS________220","No",null,1,"ISIDROII","-","-"]
[null,"ENEL_GENERACION","91.081.000-6","SAN ISIDRO II",1211027,"SAN ISIDRO 2","UGE San Isidro II","PC000318-7","SAN ISIDRO II","SAN ISIDRO II","San Isidro 2","San Isidro II","SANISIDRO-2_TG1_GNL_A","GNL","S.LUIS________220","No",null,1,"ISIDROII","-","-"]
[null,"ENEL_GENERACION","91.081.000-6","SAN ISIDRO II",1211027,"SAN ISIDRO 2","UGE San Isidro II","PC000318-7","SAN ISIDRO II","SAN ISIDRO II","San Isidro 2","San Isidro II","SANISIDRO-2_TG1+TV1_FSTVU_DIESEL","Diésel","S.LUIS________220","No",null,1,"ISIDROII","-","-"]
[null,"ENEL_GENERACION","91.081.000-6","SAN ISIDRO II",1211027,"SAN ISIDRO 2","UGE San Isidro II","PC000318-7","SAN ISIDRO II","SAN ISIDRO II","San Isidro 2","San Isidro II","SANISIDRO-2_TG1+TV1_DIESEL","Diésel","S.LUIS________220","No",null,1,"ISIDROII","-","-"]
[null,"ENEL_GENERACION","91.081.000-6","SAN ISIDRO II",1211027,"SAN ISIDRO 2","UGE San Isidro II","PC000318-7","SAN ISIDRO II","SAN ISIDRO II","San Isidro 2","San Isidro II","SANISIDRO-2_TG1_DIESEL","Diésel","S.LUIS________220","No",null,1,"ISIDROII","-","-"]
[null,"ENEL_GENERACION","91.081.000-6","CENTRAL SAN ISIDRO I",5462275,"SAN ISIDRO 1","UGE San Isidro I","PC000319-5","SAN ISIDRO I","SAN ISIDRO I","San Isidro","San Isidro","SANISIDRO-1_TG1+TV1+FA1_GNL_INFLEX","GNL","S.LUIS________220","No",null,1,"CSISDRO","-","-"]
[null,"ENEL_GENERACION","91.081.000-6","CENTRAL SAN ISIDRO I",5462275,"SAN ISIDRO 1","UGE San Isidro I","PC000319-5","SAN ISIDRO I","SAN ISIDRO I","San Isidro","San Isidro","SANISIDRO-1_TG1+TV1_FSTVD_GNL_INFLEX","GNL","S.LUIS________220","No",null,1,"CSISDRO","-","-"]
[null,"ENEL_GENERACION","91.081.000-6","CENTRAL SAN ISIDRO I",5462275,"SAN ISIDRO 1","UGE San Isidro I","PC000319-5","SAN ISIDRO I","SAN ISIDRO I","San Isidro","San Isidro","SANISIDRO-1_TG1+TV1_GNL_INFLEX","GNL","S.LUIS________220","No",null,1,"CSISDRO","-","-"]
[null,"ENEL_GENERACION","91.081.000-6","CENTRAL SAN ISIDRO I",5462275,"SAN ISIDRO 1","UGE San Isidro I","PC000319-5","SAN ISIDRO I","SAN ISIDRO I","San Isidro","San Isidro","SANISIDRO-1_TG1_GNL_INFLEX","GNL","S.LUIS________220","No",null,1,"CSISDRO","-","-"]
[null,"ENEL_GENERACION","91.081.000-6","CENTRAL SAN ISIDRO I",5462275,"SAN ISIDRO 1","UGE San Isidro I","PC000319-5","SAN ISIDRO I","SAN ISIDRO I","San Isidro","San Isidro","SANISIDRO-1_TG1+TV1_FSTVD_GNL_B","GNL","S.LUIS________220","No",null,1,"CSISDRO","-","-"]
[null,"ENEL_GENERACION","91.081.000-6","CENTRAL SAN ISIDRO I",5462275,"SAN ISIDRO 1","UGE San Isidro I","PC000319-5","SAN ISIDRO I","SAN ISIDRO I","San Isidro","San Isidro","SANISIDRO-1_TG1+TV1_FSTVD_GNL_E","GNL","S.LUIS________220","No",null,1,"CSISDRO","-","-"]
[null,"ENEL_GENERACION","91.081.000-6","CENTRAL SAN ISIDRO I",5462275,"SAN ISIDRO 1","UGE San Isidro I","PC000319-5","SAN ISIDRO I","SAN ISIDRO I","San Isidro","San Isidro","SANISIDRO-1_TG1+TV1_GNL_B","GNL","S.LUIS________220","No",null,1,"CSISDRO","-","-"]
[null,"ENEL_GENERACION","91.081.000-6","CENTRAL SAN ISIDRO I",5462275,"SAN ISIDRO 1","UGE San Isidro I","PC000319-5","SAN ISIDRO I","SAN ISIDRO I","San Isidro","San Isidro","SANISIDRO-1_TG1+TV1_GNL_E","GNL","S.LUIS________220","No",null,1,"CSISDRO","-","-"]
[null,"ENEL_GENERACION","91.081.000-6","CENTRAL SAN ISIDRO I",5462275,"SAN ISIDRO 1","UGE San Isidro I","PC000319-5","SAN ISIDRO I","SAN ISIDRO I","San Isidro","San Isidro","SANISIDRO-1_TG1+TV1_FSTVD_GNL_C","GNL","S.LUIS________220","No",null,1,"CSISDRO","-","-"]
[null,"ENEL_GENERACION","91.081.000-6","CENTRAL SAN ISIDRO I",5462275,"SAN ISIDRO 1","UGE San Isidro I","PC000319-5","SAN ISIDRO I","SAN ISIDRO I","San Isidro","San Isidro","SANISIDRO-1_TG1+TV1_GNL_C","GNL","S.LUIS________220","No",null,1,"CSISDRO","-","-"]
[null,"ENEL_GENERACION","91.081.000-6","CENTRAL SAN ISIDRO I",5462275,"SAN ISIDRO 1","UGE San Isidro I","PC000319-5","SAN ISIDRO I","SAN ISIDRO I","San Isidro","San Isidro","SANISIDRO-1_TG1+TV1_FSTVD_GNL_D","GNL","S.LUIS________220","No",null,1,"CSISDRO","-","-"]
[null,"ENEL_GENERACION","91.081.000-6","CENTRAL SAN ISIDRO I",5462275,"SAN ISIDRO 1","UGE San Isidro I","PC000319-5","SAN ISIDRO I","SAN ISIDRO I","San Isidro","San Isidro","SANISIDRO-1_TG1+TV1_FSTVD_GNL_A","GNL","S.LUIS________220","No",null,1,"CSISDRO","-","-"]
[null,"ENEL_GENERACION","91.081.000-6","CENTRAL SAN ISIDRO I",5462275,"SAN ISIDRO 1","UGE San Isidro I","PC000319-5","SAN ISIDRO I","SAN ISIDRO I","San Isidro","San Isidro","SANISIDRO-1_TG1+TV1_GNL_D","GNL","S.LUIS________220","No",null,1,"CSISDRO","-","-"]
[null,"ENEL_GENERACION","91.081.000-6","CENTRAL SAN ISIDRO I",5462275,"SAN ISIDRO 1","UGE San Isidro I","PC000319-5","SAN ISIDRO I","SAN ISIDRO I","San Isidro","San Isidro","SANISIDRO-1_TG1+TV1_GNL_A","GNL","S.LUIS________220","No",null,1,"CSISDRO","-","-"]
[null,"ENEL_GENERACION","91.081.000-6","CENTRAL SAN ISIDRO I",5462275,"SAN ISIDRO 1","UGE San Isidro I","PC000319-5","SAN ISIDRO I","SAN ISIDRO I","San Isidro","San Isidro","SANISIDRO-1_TG1_GNL_B","GNL","S.LUIS________220","No",null,1,"CSISDRO","-","-"]
[null,"ENEL_GENERACION","91.081.000-6","CENTRAL SAN ISIDRO I",5462275,"SAN ISIDRO 1","UGE San Isidro I","PC000319-5","SAN ISIDRO I","SAN ISIDRO I","San Isidro","San Isidro","SANISIDRO-1_TG1_GNL_E","GNL","S.LUIS________220","No",null,1,"CSISDRO","-","-"]
[null,"ENEL_GENERACION","91.081.000-6","CENTRAL SAN ISIDRO I",5462275,"SAN ISIDRO 1","UGE San Isidro I","PC000319-5","SAN ISIDRO I","SAN ISIDRO I","San Isidro","San Isidro","SANISIDRO-1_TG1+TV1+FA1_GNL_B","GNL","S.LUIS________220","No",null,1,"CSISDRO","-","-"]
[null,"ENEL_GENERACION","91.081.000-6","CENTRAL SAN ISIDRO I",5462275,"SAN ISIDRO 1","UGE San Isidro I","PC000319-5","SAN ISIDRO I","SAN ISIDRO I","San Isidro","San Isidro","SANISIDRO-1_TG1+TV1+FA1_GNL_E","GNL","S.LUIS________220","No",null,1,"CSISDRO","-","-"]
[null,"ENEL_GENERACION","91.081.000-6","CENTRAL SAN ISIDRO I",5462275,"SAN ISIDRO 1","UGE San Isidro I","PC000319-5","SAN ISIDRO I","SAN ISIDRO I","San Isidro","San Isidro","SANISIDRO-1_TG1_GNL_C","GNL","S.LUIS________220","No",null,1,"CSISDRO","-","-"]
[null,"ENEL_GENERACION","91.081.000-6","CENTRAL SAN ISIDRO I",5462275,"SAN ISIDRO 1","UGE San Isidro I","PC000319-5","SAN ISIDRO I","SAN ISIDRO I","San Isidro","San Isidro","SANISIDRO-1_TG1_GNL_D","GNL","S.LUIS________220","No",null,1,"CSISDRO","-","-"]
[null,"ENEL_GENERACION","91.081.000-6","CENTRAL SAN ISIDRO I",5462275,"SAN ISIDRO 1","UGE San Isidro I","PC000319-5","SAN ISIDRO I","SAN ISIDRO I","San Isidro","San Isidro","SANISIDRO-1_TG1_GNL_A","GNL","S.LUIS________220","No",null,1,"CSISDRO","-","-"]
[null,"ENEL_GENERACION","91.081.000-6","CENTRAL SAN ISIDRO I",5462275,"SAN ISIDRO 1","UGE San Isidro I","PC000319-5","SAN ISIDRO I","SAN ISIDRO I","San Isidro","San Isidro","SANISIDRO-1_TG1+TV1+FA1_GNL_C","GNL","S.LUIS________220","No",null,1,"CSISDRO","-","-"]
[null,"ENEL_GENERACION","91.081.000-6","CENTRAL SAN ISIDRO I",5462275,"SAN ISIDRO 1","UGE San Isidro I","PC000319-5","SAN ISIDRO I","SAN ISIDRO I","San Isidro","San Isidro","SANISIDRO-1_TG1+TV1+FA1_GNL_D","GNL","S.LUIS________220","No",null,1,"CSISDRO","-","-"]
[null,"ENEL_GENERACION","91.081.000-6","CENTRAL SAN ISIDRO I",5462275,"SAN ISIDRO 1","UGE San Isidro I","PC000319-5","SAN ISIDRO I","SAN ISIDRO I","San Isidro","San Isidro","SANISIDRO-1_TG1+TV1+FA1_GNL_A","GNL","S.LUIS________220","No",null,1,"CSISDRO","-","-"]
[null,"ENEL_GENERACION","91.081.000-6","CENTRAL SAN ISIDRO I",5462275,"SAN ISIDRO 1","UGE San Isidro I","PC000319-5","SAN ISIDRO I","SAN ISIDRO I","San Isidro","San Isidro","SANISIDRO-1_TG1+TV1_DIESEL","Diésel","S.LUIS________220","No",null,1,"CSISDRO","-","-"]
[null,"ENEL_GENERACION","91.081.000-6","CENTRAL SAN ISIDRO I",5462275,"SAN ISIDRO 1","UGE San Isidro I","PC000319-5","SAN ISIDRO I","SAN ISIDRO I","San Isidro","San Isidro","SANISIDRO-1_TG1+TV1_FSTVD_DIESEL","Diésel","S.LUIS________220","No",null,1,"CSISDRO","-","-"]
[null,"ENEL_GENERACION","91.081.000-6","CENTRAL SAN ISIDRO I",5462275,"SAN ISIDRO 1","UGE San Isidro I","PC000319-5","SAN ISIDRO I","SAN ISIDRO I","San Isidro","San Isidro","SANISIDRO-1_TG1_DIESEL","Diésel","S.LUIS________220","No",null,1,"CSISDRO","-","-"]
[null,"ENEL_GENERACION","91.081.000-6","CENTRAL QUINTERO",4586035,"QUINTERO TG1A","UGE Quintero TG-1A","PC000620-8","QUINTERO 1","QUINTERO","Quintero","Quintero A","QUINTERO-1_GNL_INFLEX","GNL","QUINTERO______220","No",null,1,"GQUINTERO","-","-"]
[null,"ENEL_GENERACION","91.081.000-6","CENTRAL QUINTERO",4586035,"QUINTERO TG1A","UGE Quintero TG-1A","PC000620-8","QUINTERO 1","QUINTERO","Quintero","Quintero A","QUINTERO-1_GNL_B","GNL","QUINTERO______220","No",null,1,"GQUINTERO","-","-"]
[null,"ENEL_GENERACION","91.081.000-6","CENTRAL QUINTERO",4586035,"QUINTERO TG1A","UGE Quintero TG-1A","PC000620-8","QUINTERO 1","QUINTERO","Quintero","Quintero A","QUINTERO-1_GNL_E","GNL","QUINTERO______220","No",null,1,"GQUINTERO","-","-"]
[null,"ENEL_GENERACION","91.081.000-6","CENTRAL QUINTERO",4586035,"QUINTERO TG1A","UGE Quintero TG-1A","PC000620-8","QUINTERO 1","QUINTERO","Quintero","Quintero A","QUINTERO-1_GNL_C","GNL","QUINTERO______220","No",null,1,"GQUINTERO","-","-"]
[null,"ENEL_GENERACION","91.081.000-6","CENTRAL QUINTERO",4586035,"QUINTERO TG1A","UGE Quintero TG-1A","PC000620-8","QUINTERO 1","QUINTERO","Quintero","Quintero A","QUINTERO-1_GNL_D","GNL","QUINTERO______220","No",null,1,"GQUINTERO","-","-"]
[null,"ENEL_GENERACION","91.081.000-6","CENTRAL QUINTERO",4586035,"QUINTERO TG1A","UGE Quintero TG-1A","PC000620-8","QUINTERO 1","QUINTERO","Quintero","Quintero A","QUINTERO-1_GNL_A","GNL","QUINTERO______220","No",null,1,"GQUINTERO","-","-"]
[null,"ENEL_GENERACION","91.081.000-6","CENTRAL QUINTERO",4586035,"QUINTERO TG1A","UGE Quintero TG-1A","PC000620-8","QUINTERO 1","QUINTERO","Quintero","Quintero A","QUINTERO-1_DIESEL","Diésel","QUINTERO______220","No",null,1,"GQUINTERO","-","-"]
[null,"ENEL_GENERACION","91.081.000-6","CENTRAL QUINTERO",4586035,"QUINTERO TG1B","UGE Quintero TG-1B","PC000621-6","QUINTERO 2","QUINTERO","Quintero","Quintero B","QUINTERO-2_GNL_INFLEX","GNL","QUINTERO______220","No",null,1,"GQUINTERO","-","-"]
[null,"ENEL_GENERACION","91.081.000-6","CENTRAL QUINTERO",4586035,"QUINTERO TG1B","UGE Quintero TG-1B","PC000621-6","QUINTERO 2","QUINTERO","Quintero","Quintero B","QUINTERO-2_GNL_B","GNL","QUINTERO______220","No",null,1,"GQUINTERO","-","-"]
[null,"ENEL_GENERACION","91.081.000-6","CENTRAL QUINTERO",4586035,"QUINTERO TG1B","UGE Quintero TG-1B","PC000621-6","QUINTERO 2","QUINTERO","Quintero","Quintero B","QUINTERO-2_GNL_E","GNL","QUINTERO______220","No",null,1,"GQUINTERO","-","-"]
[null,"ENEL_GENERACION","91.081.000-6","CENTRAL QUINTERO",4586035,"QUINTERO TG1B","UGE Quintero TG-1B","PC000621-6","QUINTERO 2","QUINTERO","Quintero","Quintero B","QUINTERO-2_GNL_C","GNL","QUINTERO______220","No",null,1,"GQUINTERO","-","-"]
[null,"ENEL_GENERACION","91.081.000-6","CENTRAL QUINTERO",4586035,"QUINTERO TG1B","UGE Quintero TG-1B","PC000621-6","QUINTERO 2","QUINTERO","Quintero","Quintero B","QUINTERO-2_GNL_D","GNL","QUINTERO______220","No",null,1,"GQUINTERO","-","-"]
[null,"ENEL_GENERACION","91.081.000-6","CENTRAL QUINTERO",4586035,"QUINTERO TG1B","UGE Quintero TG-1B","PC000621-6","QUINTERO 2","QUINTERO","Quintero","Quintero B","QUINTERO-2_GNL_A","GNL","QUINTERO______220","No",null,1,"GQUINTERO","-","-"]
[null,"ENEL_GENERACION","91.081.000-6","CENTRAL QUINTERO",4586035,"QUINTERO TG1B","UGE Quintero TG-1B","PC000621-6","QUINTERO 2","QUINTERO","Quintero","Quintero B","QUINTERO-2_DIESEL","Diésel","QUINTERO______220","No",null,1,"GQUINTERO","-","-"]
[null,"ENEL_GENERACION","91.081.000-6","CENTRAL TERMICA BOCAMINA - ENDESA",5441923,"BOCAMINA 1","UGE Bocamina 1","GE000043-8","BOCAMINA","BOCAMINA","Termoeléctrica Bocamina","Bocamina","BOCAMINA-1_CAR","Carbón","BOCAMINA______154","No",null,1,"I006","-","-"]
[null,"ENEL_GENERACION","91.081.000-6","CENTRAL TERMICA BOCAMINA II - ENDESA",5441923,"BOCAMINA 2","UGE Bocamina 2","GE000106-k","BOCAMINA II","BOCAMINA II","Termoeléctrica Bocamina","Bocamina II","BOCAMINA-2_CAR","Carbón","BOCAMINA_II___220","No",null,1,"G_BOCA2","-","-"]
[null,"ENERGÍA BIO BIO","77.562.510-4","PAPELES BÍO BÍO S.A.",245714,"EBIOBIO",null,"IN000595-2","EBIOBIO",null,null,"EBIOBIO",null,null,null,"Sí",null,1,"G_EBIOBIO","-","-"]
[null,"ENERGÍA BIO BIO","77.562.510-4","PAPELES BÍO BÍO S.A.",245714,"EBIOBIO",null,"IN000596-0","EBIOBIO",null,null,"EBIOBIO",null,null,null,"Sí",null,1,"G_EBIOBIO","-","-"]
[null,"ENERGÍA LEÓN","76.166.356-9","ENERGÍA LEÓN",5464370,"ENERGÍA LEÓN","Caldera Bremer ","GE 000140-K","Coelemu",null,null,"Coelemu",null,null,null,"No",null,1,"G_COELEMU","-","-"]
[null,"ENERGIA PACIFICO","76.004.531-4","Energía Pacífico S.A. (PLANTA DE VAPOR SAN FRANCISCO DE MOSTAZAL)",348951,"ENERGIA PACIFICO","Caldera N°1","GE000102-7","ENERGIA PACIFICO","ENERGIA PACIFICO","Energía Pacífico","Energía Pacífico","EPACIFICO_COGEN","Biomasa","S.F.MOSTAZAL__013","Sí",null,1,"02305400000IA","-","-"]
[null,"ENGIE","88.006.900-4","DIESEL IQUIQUE (EX EDELNOR S.A)",6568,"CENTRAL DIÉSEL IQUIQUE","UGE TURBINA DE GAS IQUIQUE","PC003590-4","MAIQ","DIESEL IQUIQUE",null,"CD Iquique",null,null,null,"No",null,1,"02305400000IA","-","-"]
[null,"ENGIE","88.006.900-4","DIESEL IQUIQUE (EX EDELNOR S.A)",6568,"CENTRAL DIÉSEL IQUIQUE","UGE TURBINA DE GAS IQUIQUE","PC003590-4","MIIQ4","DIESEL IQUIQUE",null,"CD Iquique",null,null,null,"No",null,1,"02305400000IA","-","-"]
[null,"ENGIE","88.006.900-4","DIESEL IQUIQUE (EX EDELNOR S.A)",6568,"CENTRAL DIÉSEL IQUIQUE","UGE TURBINA DE GAS IQUIQUE","PC003590-4","MSIQ","DIESEL IQUIQUE",null,"CD Iquique",null,null,null,"No",null,1,"02305400000IA","-","-"]
[null,"ENGIE","88.006.900-4","DIESEL IQUIQUE (EX EDELNOR S.A)",6568,"CENTRAL DIÉSEL IQUIQUE","UGE TURBINA DE GAS IQUIQUE","PC003590-4","SUIQ1","DIESEL IQUIQUE",null,"CD Iquique",null,null,null,"No",null,1,"02305400000IA","-","-"]
[null,"ENGIE","88.006.900-4","DIESEL IQUIQUE (EX EDELNOR S.A)",6568,"CENTRAL DIÉSEL IQUIQUE","UGE TURBINA DE GAS IQUIQUE","PC003590-4","TGIQ","DIESEL IQUIQUE",null,"CD Iquique",null,null,null,"No",null,1,"02305400000IA","-","-"]
[null,"ENGIE","88.006.900-4","DIESEL IQUIQUE (EX EDELNOR S.A)",6568,"CENTRAL DIÉSEL IQUIQUE","UGE TURBINA DE GAS IQUIQUE","PC003590-4","MIIQ5","DIESEL IQUIQUE",null,"CD Iquique",null,null,null,"No",null,1,"02305400000IA","-","-"]
[null,"ENGIE","88.006.900-4","DIESEL IQUIQUE (EX EDELNOR S.A)",6568,"CENTRAL DIÉSEL IQUIQUE","UGE TURBINA DE GAS IQUIQUE","PC003590-4","SUIQ2","DIESEL IQUIQUE",null,"CD Iquique",null,null,null,"No",null,1,"02305400000IA","-","-"]
[null,"ENGIE","88.006.900-4","DIESEL IQUIQUE (EX EDELNOR S.A)",6568,"CENTRAL DIÉSEL IQUIQUE","UGE TURBINA DE GAS IQUIQUE","PC003590-4","SUIQ3","DIESEL IQUIQUE",null,"CD Iquique",null,null,null,"No",null,1,"02305400000IA","-","-"]
[null,"ENGIE","88.006.900-4","CENTRAL TERMICA MEJILLONES",5441785,"TERMOELÉCTRICA MEJILLONES (CTM1)","UGE CTM-1","GE000018-7","CTM1","TERMOELÉCTRICA MEJILLONES","Mejillones","CTM1","MEJILLONES-CTM1_CAR","Carbón","CHACAYA_______220","No",null,1,"02429200000IF","-","-"]
[null,"ENGIE","88.006.900-4","CENTRAL TERMICA MEJILLONES",5441785,"TERMOELÉCTRICA MEJILLONES (CTM2)","UGE CTM-2","GE000019-5","CTM2","TERMOELÉCTRICA MEJILLONES","Mejillones","CTM2","MEJILLONES-CTM2_CAR","Carbón","CHACAYA_______220","No",null,1,"02429300000IF","-","-"]
[null,"ENGIE","88.006.900-4","CENTRAL TERMICA MEJILLONES",5441785,"TERMOELÉCTRICA MEJILLONES (CTM3)","UGE CTM-3","GE000250-K","CTM3","TERMOELÉCTRICA MEJILLONES","Mejillones","CTM3","MEJILLONES-CTM3_TG1+TV1_GNL_INFLEX","GNL","CHACAYA_______220","No",null,1,"02429400000IF","-","-"]
[null,"ENGIE","88.006.900-4","CENTRAL TERMICA MEJILLONES",5441785,"TERMOELÉCTRICA MEJILLONES (CTM3)","UGE CTM-3","GE000250-K","CTM3","TERMOELÉCTRICA MEJILLONES","Mejillones","CTM3","MEJILLONES-CTM3_TG1_GNL_INFLEX","GNL","CHACAYA_______220","No",null,1,"02429400000IF","-","-"]
[null,"ENGIE","88.006.900-4","CENTRAL TERMICA MEJILLONES",5441785,"TERMOELÉCTRICA MEJILLONES (CTM3)","UGE CTM-3","GE000250-K","CTM3","TERMOELÉCTRICA MEJILLONES","Mejillones","CTM3","MEJILLONES-CTM3_TG1+TV1_GN_A","GN","CHACAYA_______220","No",null,1,"02429400000IF","-","-"]
[null,"ENGIE","88.006.900-4","CENTRAL TERMICA MEJILLONES",5441785,"TERMOELÉCTRICA MEJILLONES (CTM3)","UGE CTM-3","GE000250-K","CTM3","TERMOELÉCTRICA MEJILLONES","Mejillones","CTM3","MEJILLONES-CTM3_TG1+TV1_GNL_A","GNL","CHACAYA_______220","No",null,1,"02429400000IF","-","-"]
[null,"ENGIE","88.006.900-4","CENTRAL TERMICA MEJILLONES",5441785,"TERMOELÉCTRICA MEJILLONES (CTM3)","UGE CTM-3","GE000250-K","CTM3","TERMOELÉCTRICA MEJILLONES","Mejillones","CTM3","MEJILLONES-CTM3_TG1+TV1_GNL_C","GNL","CHACAYA_______220","No",null,1,"02429400000IF","-","-"]
[null,"ENGIE","88.006.900-4","CENTRAL TERMICA MEJILLONES",5441785,"TERMOELÉCTRICA MEJILLONES (CTM3)","UGE CTM-3","GE000250-K","CTM3","TERMOELÉCTRICA MEJILLONES","Mejillones","CTM3","MEJILLONES-CTM3_TG1+TV1_GNL_B","GNL","CHACAYA_______220","No",null,1,"02429400000IF","-","-"]
[null,"ENGIE","88.006.900-4","CENTRAL TERMICA MEJILLONES",5441785,"TERMOELÉCTRICA MEJILLONES (CTM3)","UGE CTM-3","GE000250-K","CTM3","TERMOELÉCTRICA MEJILLONES","Mejillones","CTM3","MEJILLONES-CTM3_TG1_GN_A","GN","CHACAYA_______220","No",null,1,"02429400000IF","-","-"]
[null,"ENGIE","88.006.900-4","CENTRAL TERMICA MEJILLONES",5441785,"TERMOELÉCTRICA MEJILLONES (CTM3)","UGE CTM-3","GE000250-K","CTM3","TERMOELÉCTRICA MEJILLONES","Mejillones","CTM3","MEJILLONES-CTM3_TG1_GNL_A","GNL","CHACAYA_______220","No",null,1,"02429400000IF","-","-"]
[null,"ENGIE","88.006.900-4","CENTRAL TERMICA MEJILLONES",5441785,"TERMOELÉCTRICA MEJILLONES (CTM3)","UGE CTM-3","GE000250-K","CTM3","TERMOELÉCTRICA MEJILLONES","Mejillones","CTM3","MEJILLONES-CTM3_TG1_GNL_C","GNL","CHACAYA_______220","No",null,1,"02429400000IF","-","-"]
[null,"ENGIE","88.006.900-4","CENTRAL TERMICA MEJILLONES",5441785,"TERMOELÉCTRICA MEJILLONES (CTM3)","UGE CTM-3","GE000250-K","CTM3","TERMOELÉCTRICA MEJILLONES","Mejillones","CTM3","MEJILLONES-CTM3_TG1_GNL_B","GNL","CHACAYA_______220","No",null,1,"02429400000IF","-","-"]
[null,"ENGIE","88.006.900-4","CENTRAL TERMICA MEJILLONES",5441785,"TERMOELÉCTRICA MEJILLONES (CTM3)","UGE CTM-3","GE000250-K","CTM3","TERMOELÉCTRICA MEJILLONES","Mejillones","CTM3","MEJILLONES-CTM3_TG1+TV1_DIESEL","Diésel","CHACAYA_______220","No",null,1,"02429400000IF","-","-"]
[null,"ENGIE","88.006.900-4","CENTRAL TERMICA MEJILLONES",5441785,"TERMOELÉCTRICA MEJILLONES (CTM3)","UGE CTM-3","GE000250-K","CTM3","TERMOELÉCTRICA MEJILLONES","Mejillones","CTM3","MEJILLONES-CTM3_TG1_DIESEL","Diésel","CHACAYA_______220","No",null,1,"02429400000IF","-","-"]
[null,"ENGIE","88.006.900-4","CENTRAL TERMICA MEJILLONES",5441785,"TERMOELÉCTRICA MEJILLONES (CTM7)","UGE CTM-7","GE000277-1","IEM","IEM","Mejillones","IEM","MEJILLONES-IEM_CAR","Carbón","IEM___________023","No",null,1,"G_IEM",null,"-"]
[null,"ENGIE","88.006.900-4","CENTRAL TERMICA TOCOPILLA",5441787,"TERMOELÉCTRICA TOCOPILLA (TG1)","UGE TG-1","PC003591-2","TG1","TERMOELÉCTRICA TOCOPILLA","Tocopilla","TG1","TOCOPILLA-TG1_DIESEL","Diésel","TOCOPILLA_____110","No",null,1,"13740300000IF","-","-"]
[null,"ENGIE","88.006.900-4","CENTRAL TERMICA TOCOPILLA",5441787,"TERMOELÉCTRICA TOCOPILLA (TG2)","UGE TG-2","PC003592-0","TG2","TERMOELÉCTRICA TOCOPILLA","Tocopilla","TG2","TOCOPILLA-TG2_DIESEL","Diésel","TOCOPILLA_____110","No",null,1,"13740300000IF","-","-"]
[null,"ENGIE","88.006.900-4","CENTRAL TERMICA TOCOPILLA",5441787,"TERMOELÉCTRICA TOCOPILLA (TG3)","UGE TG-3","PC003593-9","TG3","TERMOELÉCTRICA TOCOPILLA","Tocopilla","TG3","TOCOPILLA-TG3_GNL_INFLEX","GNL","TOCOPILLA_____220","No",null,1,"13740300000IF","-","-"]
[null,"ENGIE","88.006.900-4","CENTRAL TERMICA TOCOPILLA",5441787,"TERMOELÉCTRICA TOCOPILLA (TG3)","UGE TG-3","PC003593-9","TG3","TERMOELÉCTRICA TOCOPILLA","Tocopilla","TG3","TOCOPILLA-TG3_GNL_A","GNL","TOCOPILLA_____220","No",null,1,"13740300000IF","-","-"]
[null,"ENGIE","88.006.900-4","CENTRAL TERMICA TOCOPILLA",5441787,"TERMOELÉCTRICA TOCOPILLA (TG3)","UGE TG-3","PC003593-9","TG3","TERMOELÉCTRICA TOCOPILLA","Tocopilla","TG3","TOCOPILLA-TG3_GNL_C","GNL","TOCOPILLA_____220","No",null,1,"13740300000IF","-","-"]
[null,"ENGIE","88.006.900-4","CENTRAL TERMICA TOCOPILLA",5441787,"TERMOELÉCTRICA TOCOPILLA (TG3)","UGE TG-3","PC003593-9","TG3","TERMOELÉCTRICA TOCOPILLA","Tocopilla","TG3","TOCOPILLA-TG3_GNL_B","GNL","TOCOPILLA_____220","No",null,1,"13740300000IF","-","-"]
[null,"ENGIE","88.006.900-4","CENTRAL TERMICA TOCOPILLA",5441787,"TERMOELÉCTRICA TOCOPILLA (TG3)","UGE TG-3","PC003593-9","TG3","TERMOELÉCTRICA TOCOPILLA","Tocopilla","TG3","TOCOPILLA-TG3_DIESEL","Diésel","TOCOPILLA_____220","No",null,1,"13740300000IF","-","-"]
[null,"ENGIE","88.006.900-4","CENTRAL TERMICA TOCOPILLA",5441787,"TERMOELÉCTRICA TOCOPILLA (U12)","UGE UNIDAD 12","GE000025-k","U12","TERMOELÉCTRICA TOCOPILLA","Tocopilla","U12","TOCOPILLA-U12_CAR","Carbón","TOCOPILLA_____110","No",null,1,"13740300000IF","-","-"]
[null,"ENGIE","88.006.900-4","CENTRAL TERMICA TOCOPILLA",5441787,"TERMOELÉCTRICA TOCOPILLA (U13)","UGE UNIDAD 13","GE000024-1","U13","TERMOELÉCTRICA TOCOPILLA","Tocopilla","U13","TOCOPILLA-U13_CAR","Carbón","TOCOPILLA_____110","No",null,1,"13740300000IF","-","-"]
[null,"ENGIE","88.006.900-4","CENTRAL TERMICA TOCOPILLA",5441787,"TERMOELÉCTRICA TOCOPILLA (U14)","UGE UNIDAD 14","GE000023-3","U14","TERMOELÉCTRICA TOCOPILLA","Tocopilla","U14","TOCOPILLA-U14_CAR","Carbón","TOCOPILLA_____220","No",null,1,"13740300000IF","-","-"]
[null,"ENGIE","88.006.900-4","CENTRAL TERMICA TOCOPILLA",5441787,"TERMOELÉCTRICA TOCOPILLA (U15)","UGE UNIDAD 15","GE000022-5","U15","TERMOELÉCTRICA TOCOPILLA","Tocopilla","U15","TOCOPILLA-U15_CAR","Carbón","TOCOPILLA_____220","No",null,1,"13740300000IF","-","-"]
[null,"ENGIE","88.006.900-4","CENTRAL TERMICA TOCOPILLA",5441787,"TERMOELÉCTRICA TOCOPILLA (U16)","UGE UNIDAD 16","PC003594-7","U16","TERMOELÉCTRICA TOCOPILLA","Tocopilla","U16","TOCOPILLA-U16_TG1+TV1_GN_A","GN","TOCOPILLA_____220","No",null,1,"13740300000IF","-","-"]
[null,"ENGIE","88.006.900-4","CENTRAL TERMICA TOCOPILLA",5441787,"TERMOELÉCTRICA TOCOPILLA (U16)","UGE UNIDAD 16","PC003594-7","U16","TERMOELÉCTRICA TOCOPILLA","Tocopilla","U16","TOCOPILLA-U16_TG1+TV1_GNL_INFLEX","GNL","TOCOPILLA_____220","No",null,1,"13740300000IF","-","-"]
[null,"ENGIE","88.006.900-4","CENTRAL TERMICA TOCOPILLA",5441787,"TERMOELÉCTRICA TOCOPILLA (U16)","UGE UNIDAD 16","PC003594-7","U16","TERMOELÉCTRICA TOCOPILLA","Tocopilla","U16","TOCOPILLA-U16_TG1_GN_A","GN","TOCOPILLA_____220","No",null,1,"13740300000IF","-","-"]
[null,"ENGIE","88.006.900-4","CENTRAL TERMICA TOCOPILLA",5441787,"TERMOELÉCTRICA TOCOPILLA (U16)","UGE UNIDAD 16","PC003594-7","U16","TERMOELÉCTRICA TOCOPILLA","Tocopilla","U16","TOCOPILLA-U16_TG1_GNL_INFLEX","GNL","TOCOPILLA_____220","No",null,1,"13740300000IF","-","-"]
[null,"ENGIE","88.006.900-4","CENTRAL TERMICA TOCOPILLA",5441787,"TERMOELÉCTRICA TOCOPILLA (U16)","UGE UNIDAD 16","PC003594-7","U16","TERMOELÉCTRICA TOCOPILLA","Tocopilla","U16","TOCOPILLA-U16_TG1+TV1_GNL_A","GNL","TOCOPILLA_____220","No",null,1,"13740300000IF","-","-"]
[null,"ENGIE","88.006.900-4","CENTRAL TERMICA TOCOPILLA",5441787,"TERMOELÉCTRICA TOCOPILLA (U16)","UGE UNIDAD 16","PC003594-7","U16","TERMOELÉCTRICA TOCOPILLA","Tocopilla","U16","TOCOPILLA-U16_TG1+TV1_GNL_C","GNL","TOCOPILLA_____220","No",null,1,"13740300000IF","-","-"]
[null,"ENGIE","88.006.900-4","CENTRAL TERMICA TOCOPILLA",5441787,"TERMOELÉCTRICA TOCOPILLA (U16)","UGE UNIDAD 16","PC003594-7","U16","TERMOELÉCTRICA TOCOPILLA","Tocopilla","U16","TOCOPILLA-U16_TG1+TV1_GNL_B","GNL","TOCOPILLA_____220","No",null,1,"13740300000IF","-","-"]
[null,"ENGIE","88.006.900-4","CENTRAL TERMICA TOCOPILLA",5441787,"TERMOELÉCTRICA TOCOPILLA (U16)","UGE UNIDAD 16","PC003594-7","U16","TERMOELÉCTRICA TOCOPILLA","Tocopilla","U16","TOCOPILLA-U16_TG1_GNL_A","GNL","TOCOPILLA_____220","No",null,1,"13740300000IF","-","-"]
[null,"ENGIE","88.006.900-4","CENTRAL TERMICA TOCOPILLA",5441787,"TERMOELÉCTRICA TOCOPILLA (U16)","UGE UNIDAD 16","PC003594-7","U16","TERMOELÉCTRICA TOCOPILLA","Tocopilla","U16","TOCOPILLA-U16_TG1_GNL_C","GNL","TOCOPILLA_____220","No",null,1,"13740300000IF","-","-"]
[null,"ENGIE","88.006.900-4","CENTRAL TERMICA TOCOPILLA",5441787,"TERMOELÉCTRICA TOCOPILLA (U16)","UGE UNIDAD 16","PC003594-7","U16","TERMOELÉCTRICA TOCOPILLA","Tocopilla","U16","TOCOPILLA-U16_TG1_GNL_B","GNL","TOCOPILLA_____220","No",null,1,"13740300000IF","-","-"]
[null,"ENGIE","88.006.900-4","CENTRAL TERMICA TOCOPILLA",5441787,"TERMOELÉCTRICA TOCOPILLA (U16)","UGE UNIDAD 16","PC003594-7","U16","TERMOELÉCTRICA TOCOPILLA","Tocopilla","U16","TOCOPILLA-U16_TG1+TV1_DIESEL","Diésel","TOCOPILLA_____220","No",null,1,"13740300000IF","-","-"]
[null,"ENLASA","76.009.328-9","CENTRAL TERMOELÉCTRICA DIEGO DE ALMAGRO",4585604,"SAN LORENZO de D. de ALMAGRO U1","TURBINA","PC000569-4","SAN LORENZO DE D. DE ALMAGRO 1","SAN LORENZO DE D. DE ALMAGRO","San Lorenzo de D. de Almagro","San Lorenzo de D. de Almagro U1","SANLORENZO-1_DIESEL","Diésel","D.ALMAGRO_____220","No",null,1,"GSLORENZO","-","-"]
[null,"ENLASA","76.009.328-9","CENTRAL TERMOELÉCTRICA DIEGO DE ALMAGRO",4585604,"SAN LORENZO de D. de ALMAGRO U2","TURBINA","PC000570-8","SAN LORENZO DE D. DE ALMAGRO 2","SAN LORENZO DE D. DE ALMAGRO","San Lorenzo de D. de Almagro","San Lorenzo de D. de Almagro U2","SANLORENZO-2_DIESEL","Diésel","D.ALMAGRO_____220","No",null,1,"GSLORENZO","-","-"]
[null,"ENORCHILE","96.774.300-3","PLANTA ESPERANZA",386135,"CENTRAL ESPERANZA","UGE Esperanza TG-1","PC003595-5","ESPERANZA TG-1","ESPERANZA","Esperanza","Esperanza TG","ESPERANZA-TG1_DIESEL","Diésel","M.V.CEN.______154","No",null,3,"ENOR-DS1","ENOR-DS2","ENOR-TG1"]
[null,"ENEL_GENERACION","91.081.000-6","CENTRAL TERMOELÉCTRICA TARAPACÁ",5441768,"TERMOELÉCTRICA TARAPACÁ (TGTAR)","UGE TGTAR","PC000103-6","TGTAR","TERMOELÉCTRICA TARAPACÁ","Tarapacá","TGTAR","TARAPACA-TGTAR_DIESEL","Diésel","TARAPACA______220","No",null,1,"10617605107IC","-","-"]
[null,"ENEL_GENERACION","91.081.000-6","CENTRAL TERMOELÉCTRICA TARAPACÁ",5441768,"TERMOELÉCTRICA TARAPACÁ TV (CTTA)","UGE CTTAR","GE000013-6","CTTAR","TERMOELÉCTRICA TARAPACÁ","Tarapacá","CTTAR","TARAPACA-CTTAR_CAR","Carbón","TARAPACA______220","No",null,1,"10617700035IF","-","-"]
[null,"ENEL_GENERACION","91.081.000-6","CENTRAL ATACAMA",5453818,"TG1A","UGE TG-1A - HRSG1A","PC003571-8","CC1","ATACAMA","Atacama","CC1","ATACAMA-1TG1AB_TG1A+TG1B+TV1_GNL_INFLEX","GNL","ATACAMA_______220","No",null,2,"00702400000IF","00702800000IF","-"]
[null,"ENEL_GENERACION","91.081.000-6","CENTRAL ATACAMA",5453818,"TG1A","UGE TG-1A - HRSG1A","PC003571-8","CC1","ATACAMA","Atacama","CC1","ATACAMA-1TG1A_TG1A+0.5TV1_GNL_INFLEX","GNL","ATACAMA_______220","No",null,2,"00702400000IF","00702800000IF","-"]
[null,"ENEL_GENERACION","91.081.000-6","CENTRAL ATACAMA",5453818,"TG1A","UGE TG-1A - HRSG1A","PC003571-8","CC1","ATACAMA","Atacama","CC1","ATACAMA-1TG1B_TG1B+0.5TV1_GNL_INFLEX","GNL","ATACAMA_______220","No",null,2,"00702400000IF","00702800000IF","-"]
[null,"ENEL_GENERACION","91.081.000-6","CENTRAL ATACAMA",5453818,"TG1A","UGE TG-1A - HRSG1A","PC003571-8","CC1","ATACAMA","Atacama","CC1","ATACAMA-1TG1A_TG1A_GNL_INFLEX","GNL","ATACAMA_______220","No",null,2,"00702400000IF","00702800000IF","-"]
[null,"ENEL_GENERACION","91.081.000-6","CENTRAL ATACAMA",5453818,"TG1A","UGE TG-1A - HRSG1A","PC003571-8","CC1","ATACAMA","Atacama","CC1","ATACAMA-1TG1B_TG1B_GNL_INFLEX","GNL","ATACAMA_______220","No",null,2,"00702400000IF","00702800000IF","-"]
[null,"ENEL_GENERACION","91.081.000-6","CENTRAL ATACAMA",5453818,"TG1A","UGE TG-1A - HRSG1A","PC003571-8","CC1","ATACAMA","Atacama","CC1","ATACAMA-1TG1AB_TG1A+TG1B+TV1_GNL_C","GNL","ATACAMA_______220","No",null,2,"00702400000IF","00702800000IF","-"]
[null,"ENEL_GENERACION","91.081.000-6","CENTRAL ATACAMA",5453818,"TG1A","UGE TG-1A - HRSG1A","PC003571-8","CC1","ATACAMA","Atacama","CC1","ATACAMA-1TG1AB_TG1A+TG1B+TV1_GNL_D","GNL","ATACAMA_______220","No",null,2,"00702400000IF","00702800000IF","-"]
[null,"ENEL_GENERACION","91.081.000-6","CENTRAL ATACAMA",5453818,"TG1A","UGE TG-1A - HRSG1A","PC003571-8","CC1","ATACAMA","Atacama","CC1","ATACAMA-1TG1AB_TG1A+TG1B+TV1_GNL_E","GNL","ATACAMA_______220","No",null,2,"00702400000IF","00702800000IF","-"]
[null,"ENEL_GENERACION","91.081.000-6","CENTRAL ATACAMA",5453818,"TG1A","UGE TG-1A - HRSG1A","PC003571-8","CC1","ATACAMA","Atacama","CC1","ATACAMA-1TG1AB_TG1A+TG1B+TV1_GNL_B","GNL","ATACAMA_______220","No",null,2,"00702400000IF","00702800000IF","-"]
[null,"ENEL_GENERACION","91.081.000-6","CENTRAL ATACAMA",5453818,"TG1A","UGE TG-1A - HRSG1A","PC003571-8","CC1","ATACAMA","Atacama","CC1","ATACAMA-1TG1A_TG1A+0.5TV1_GNL_C","GNL","ATACAMA_______220","No",null,2,"00702400000IF","00702800000IF","-"]
[null,"ENEL_GENERACION","91.081.000-6","CENTRAL ATACAMA",5453818,"TG1A","UGE TG-1A - HRSG1A","PC003571-8","CC1","ATACAMA","Atacama","CC1","ATACAMA-1TG1A_TG1A+0.5TV1_GNL_D","GNL","ATACAMA_______220","No",null,2,"00702400000IF","00702800000IF","-"]
[null,"ENEL_GENERACION","91.081.000-6","CENTRAL ATACAMA",5453818,"TG1A","UGE TG-1A - HRSG1A","PC003571-8","CC1","ATACAMA","Atacama","CC1","ATACAMA-1TG1A_TG1A+0.5TV1_GNL_E","GNL","ATACAMA_______220","No",null,2,"00702400000IF","00702800000IF","-"]
[null,"ENEL_GENERACION","91.081.000-6","CENTRAL ATACAMA",5453818,"TG1A","UGE TG-1A - HRSG1A","PC003571-8","CC1","ATACAMA","Atacama","CC1","ATACAMA-1TG1A_TG1A+0.5TV1_GNL_B","GNL","ATACAMA_______220","No",null,2,"00702400000IF","00702800000IF","-"]
[null,"ENEL_GENERACION","91.081.000-6","CENTRAL ATACAMA",5453818,"TG1A","UGE TG-1A - HRSG1A","PC003571-8","CC1","ATACAMA","Atacama","CC1","ATACAMA-1TG1B_TG1B+0.5TV1_GNL_C","GNL","ATACAMA_______220","No",null,2,"00702400000IF","00702800000IF","-"]
[null,"ENEL_GENERACION","91.081.000-6","CENTRAL ATACAMA",5453818,"TG1A","UGE TG-1A - HRSG1A","PC003571-8","CC1","ATACAMA","Atacama","CC1","ATACAMA-1TG1B_TG1B+0.5TV1_GNL_D","GNL","ATACAMA_______220","No",null,2,"00702400000IF","00702800000IF","-"]
[null,"ENEL_GENERACION","91.081.000-6","CENTRAL ATACAMA",5453818,"TG1A","UGE TG-1A - HRSG1A","PC003571-8","CC1","ATACAMA","Atacama","CC1","ATACAMA-1TG1B_TG1B+0.5TV1_GNL_E","GNL","ATACAMA_______220","No",null,2,"00702400000IF","00702800000IF","-"]
[null,"ENEL_GENERACION","91.081.000-6","CENTRAL ATACAMA",5453818,"TG1A","UGE TG-1A - HRSG1A","PC003571-8","CC1","ATACAMA","Atacama","CC1","ATACAMA-1TG1B_TG1B+0.5TV1_GNL_B","GNL","ATACAMA_______220","No",null,2,"00702400000IF","00702800000IF","-"]
[null,"ENEL_GENERACION","91.081.000-6","CENTRAL ATACAMA",5453818,"TG1A","UGE TG-1A - HRSG1A","PC003571-8","CC1","ATACAMA","Atacama","CC1","ATACAMA-1TG1AB_TG1A+TG1B+TV1_GNL_A","GNL","ATACAMA_______220","No",null,2,"00702400000IF","00702800000IF","-"]
[null,"ENEL_GENERACION","91.081.000-6","CENTRAL ATACAMA",5453818,"TG1A","UGE TG-1A - HRSG1A","PC003571-8","CC1","ATACAMA","Atacama","CC1","ATACAMA-1TG1A_TG1A+0.5TV1_GNL_A","GNL","ATACAMA_______220","No",null,2,"00702400000IF","00702800000IF","-"]
[null,"ENEL_GENERACION","91.081.000-6","CENTRAL ATACAMA",5453818,"TG1A","UGE TG-1A - HRSG1A","PC003571-8","CC1","ATACAMA","Atacama","CC1","ATACAMA-1TG1B_TG1B+0.5TV1_GNL_A","GNL","ATACAMA_______220","No",null,2,"00702400000IF","00702800000IF","-"]
[null,"ENEL_GENERACION","91.081.000-6","CENTRAL ATACAMA",5453818,"TG1A","UGE TG-1A - HRSG1A","PC003571-8","CC1","ATACAMA","Atacama","CC1","ATACAMA-1TG1AB_TG1A+TG1B+TV1_DIESEL","Diésel","ATACAMA_______220","No",null,2,"00702400000IF","00702800000IF","-"]
[null,"ENEL_GENERACION","91.081.000-6","CENTRAL ATACAMA",5453818,"TG1A","UGE TG-1A - HRSG1A","PC003571-8","CC1","ATACAMA","Atacama","CC1","ATACAMA-1TG1B_TG1B+0.5TV1_DIESEL","Diésel","ATACAMA_______220","No",null,2,"00702400000IF","00702800000IF","-"]
[null,"ENEL_GENERACION","91.081.000-6","CENTRAL ATACAMA",5453818,"TG1A","UGE TG-1A - HRSG1A","PC003571-8","CC1","ATACAMA","Atacama","CC1","ATACAMA-1TG1A_TG1A+0.5TV1_DIESEL","Diésel","ATACAMA_______220","No",null,2,"00702400000IF","00702800000IF","-"]
[null,"ENEL_GENERACION","91.081.000-6","CENTRAL ATACAMA",5453818,"TG1A","UGE TG-1A - HRSG1A","PC003571-8","CC1","ATACAMA","Atacama","CC1","ATACAMA-1TG1A_TG1A_GNL_C","GNL","ATACAMA_______220","No",null,2,"00702400000IF","00702800000IF","-"]
[null,"ENEL_GENERACION","91.081.000-6","CENTRAL ATACAMA",5453818,"TG1A","UGE TG-1A - HRSG1A","PC003571-8","CC1","ATACAMA","Atacama","CC1","ATACAMA-1TG1A_TG1A_GNL_D","GNL","ATACAMA_______220","No",null,2,"00702400000IF","00702800000IF","-"]
[null,"ENEL_GENERACION","91.081.000-6","CENTRAL ATACAMA",5453818,"TG1A","UGE TG-1A - HRSG1A","PC003571-8","CC1","ATACAMA","Atacama","CC1","ATACAMA-1TG1A_TG1A_GNL_E","GNL","ATACAMA_______220","No",null,2,"00702400000IF","00702800000IF","-"]
[null,"ENEL_GENERACION","91.081.000-6","CENTRAL ATACAMA",5453818,"TG1A","UGE TG-1A - HRSG1A","PC003571-8","CC1","ATACAMA","Atacama","CC1","ATACAMA-1TG1A_TG1A_GNL_B","GNL","ATACAMA_______220","No",null,2,"00702400000IF","00702800000IF","-"]
[null,"ENEL_GENERACION","91.081.000-6","CENTRAL ATACAMA",5453818,"TG1A","UGE TG-1A - HRSG1A","PC003571-8","CC1","ATACAMA","Atacama","CC1","ATACAMA-1TG1B_TG1B_GNL_C","GNL","ATACAMA_______220","No",null,2,"00702400000IF","00702800000IF","-"]
[null,"ENEL_GENERACION","91.081.000-6","CENTRAL ATACAMA",5453818,"TG1A","UGE TG-1A - HRSG1A","PC003571-8","CC1","ATACAMA","Atacama","CC1","ATACAMA-1TG1B_TG1B_GNL_D","GNL","ATACAMA_______220","No",null,2,"00702400000IF","00702800000IF","-"]
[null,"ENEL_GENERACION","91.081.000-6","CENTRAL ATACAMA",5453818,"TG1A","UGE TG-1A - HRSG1A","PC003571-8","CC1","ATACAMA","Atacama","CC1","ATACAMA-1TG1B_TG1B_GNL_E","GNL","ATACAMA_______220","No",null,2,"00702400000IF","00702800000IF","-"]
[null,"ENEL_GENERACION","91.081.000-6","CENTRAL ATACAMA",5453818,"TG1A","UGE TG-1A - HRSG1A","PC003571-8","CC1","ATACAMA","Atacama","CC1","ATACAMA-1TG1B_TG1B_GNL_B","GNL","ATACAMA_______220","No",null,2,"00702400000IF","00702800000IF","-"]
[null,"ENEL_GENERACION","91.081.000-6","CENTRAL ATACAMA",5453818,"TG1A","UGE TG-1A - HRSG1A","PC003571-8","CC1","ATACAMA","Atacama","CC1","ATACAMA-1TG1A_TG1A_GNL_A","GNL","ATACAMA_______220","No",null,2,"00702400000IF","00702800000IF","-"]
[null,"ENEL_GENERACION","91.081.000-6","CENTRAL ATACAMA",5453818,"TG1A","UGE TG-1A - HRSG1A","PC003571-8","CC1","ATACAMA","Atacama","CC1","ATACAMA-1TG1B_TG1B_GNL_A","GNL","ATACAMA_______220","No",null,2,"00702400000IF","00702800000IF","-"]
[null,"ENEL_GENERACION","91.081.000-6","CENTRAL ATACAMA",5453818,"TG1A","UGE TG-1A - HRSG1A","PC003571-8","CC1","ATACAMA","Atacama","CC1","ATACAMA-1TG1A_TG1A_DIESEL","Diésel","ATACAMA_______220","No",null,2,"00702400000IF","00702800000IF","-"]
[null,"ENEL_GENERACION","91.081.000-6","CENTRAL ATACAMA",5453818,"TG1B","UGE TG-1B - HRSG1B","PC003572-6","CC1","ATACAMA","Atacama","CC1","ATACAMA-1TG1AB_TG1A+TG1B+TV1_GNL_INFLEX","GNL","ATACAMA_______220","No",null,1,0,"-","-"]
[null,"ENEL_GENERACION","91.081.000-6","CENTRAL ATACAMA",5453818,"TG1B","UGE TG-1B - HRSG1B","PC003572-6","CC1","ATACAMA","Atacama","CC1","ATACAMA-1TG1A_TG1A+0.5TV1_GNL_INFLEX","GNL","ATACAMA_______220","No",null,1,0,"-","-"]
[null,"ENEL_GENERACION","91.081.000-6","CENTRAL ATACAMA",5453818,"TG1B","UGE TG-1B - HRSG1B","PC003572-6","CC1","ATACAMA","Atacama","CC1","ATACAMA-1TG1B_TG1B+0.5TV1_GNL_INFLEX","GNL","ATACAMA_______220","No",null,1,0,"-","-"]
[null,"ENEL_GENERACION","91.081.000-6","CENTRAL ATACAMA",5453818,"TG1B","UGE TG-1B - HRSG1B","PC003572-6","CC1","ATACAMA","Atacama","CC1","ATACAMA-1TG1A_TG1A_GNL_INFLEX","GNL","ATACAMA_______220","No",null,1,0,"-","-"]
[null,"ENEL_GENERACION","91.081.000-6","CENTRAL ATACAMA",5453818,"TG1B","UGE TG-1B - HRSG1B","PC003572-6","CC1","ATACAMA","Atacama","CC1","ATACAMA-1TG1B_TG1B_GNL_INFLEX","GNL","ATACAMA_______220","No",null,1,0,"-","-"]
[null,"ENEL_GENERACION","91.081.000-6","CENTRAL ATACAMA",5453818,"TG1B","UGE TG-1B - HRSG1B","PC003572-6","CC1","ATACAMA","Atacama","CC1","ATACAMA-1TG1AB_TG1A+TG1B+TV1_GNL_C","GNL","ATACAMA_______220","No",null,1,0,"-","-"]
[null,"ENEL_GENERACION","91.081.000-6","CENTRAL ATACAMA",5453818,"TG1B","UGE TG-1B - HRSG1B","PC003572-6","CC1","ATACAMA","Atacama","CC1","ATACAMA-1TG1AB_TG1A+TG1B+TV1_GNL_D","GNL","ATACAMA_______220","No",null,1,0,"-","-"]
[null,"ENEL_GENERACION","91.081.000-6","CENTRAL ATACAMA",5453818,"TG1B","UGE TG-1B - HRSG1B","PC003572-6","CC1","ATACAMA","Atacama","CC1","ATACAMA-1TG1AB_TG1A+TG1B+TV1_GNL_E","GNL","ATACAMA_______220","No",null,1,0,"-","-"]
[null,"ENEL_GENERACION","91.081.000-6","CENTRAL ATACAMA",5453818,"TG1B","UGE TG-1B - HRSG1B","PC003572-6","CC1","ATACAMA","Atacama","CC1","ATACAMA-1TG1AB_TG1A+TG1B+TV1_GNL_B","GNL","ATACAMA_______220","No",null,1,0,"-","-"]
[null,"ENEL_GENERACION","91.081.000-6","CENTRAL ATACAMA",5453818,"TG1B","UGE TG-1B - HRSG1B","PC003572-6","CC1","ATACAMA","Atacama","CC1","ATACAMA-1TG1A_TG1A+0.5TV1_GNL_C","GNL","ATACAMA_______220","No",null,1,0,"-","-"]
[null,"ENEL_GENERACION","91.081.000-6","CENTRAL ATACAMA",5453818,"TG1B","UGE TG-1B - HRSG1B","PC003572-6","CC1","ATACAMA","Atacama","CC1","ATACAMA-1TG1A_TG1A+0.5TV1_GNL_D","GNL","ATACAMA_______220","No",null,1,0,"-","-"]
[null,"ENEL_GENERACION","91.081.000-6","CENTRAL ATACAMA",5453818,"TG1B","UGE TG-1B - HRSG1B","PC003572-6","CC1","ATACAMA","Atacama","CC1","ATACAMA-1TG1A_TG1A+0.5TV1_GNL_E","GNL","ATACAMA_______220","No",null,1,0,"-","-"]
[null,"ENEL_GENERACION","91.081.000-6","CENTRAL ATACAMA",5453818,"TG1B","UGE TG-1B - HRSG1B","PC003572-6","CC1","ATACAMA","Atacama","CC1","ATACAMA-1TG1A_TG1A+0.5TV1_GNL_B","GNL","ATACAMA_______220","No",null,1,0,"-","-"]
[null,"ENEL_GENERACION","91.081.000-6","CENTRAL ATACAMA",5453818,"TG1B","UGE TG-1B - HRSG1B","PC003572-6","CC1","ATACAMA","Atacama","CC1","ATACAMA-1TG1B_TG1B+0.5TV1_GNL_C","GNL","ATACAMA_______220","No",null,1,0,"-","-"]
[null,"ENEL_GENERACION","91.081.000-6","CENTRAL ATACAMA",5453818,"TG1B","UGE TG-1B - HRSG1B","PC003572-6","CC1","ATACAMA","Atacama","CC1","ATACAMA-1TG1B_TG1B+0.5TV1_GNL_D","GNL","ATACAMA_______220","No",null,1,0,"-","-"]
[null,"ENEL_GENERACION","91.081.000-6","CENTRAL ATACAMA",5453818,"TG1B","UGE TG-1B - HRSG1B","PC003572-6","CC1","ATACAMA","Atacama","CC1","ATACAMA-1TG1B_TG1B+0.5TV1_GNL_E","GNL","ATACAMA_______220","No",null,1,0,"-","-"]
[null,"ENEL_GENERACION","91.081.000-6","CENTRAL ATACAMA",5453818,"TG1B","UGE TG-1B - HRSG1B","PC003572-6","CC1","ATACAMA","Atacama","CC1","ATACAMA-1TG1B_TG1B+0.5TV1_GNL_B","GNL","ATACAMA_______220","No",null,1,0,"-","-"]
[null,"ENEL_GENERACION","91.081.000-6","CENTRAL ATACAMA",5453818,"TG1B","UGE TG-1B - HRSG1B","PC003572-6","CC1","ATACAMA","Atacama","CC1","ATACAMA-1TG1AB_TG1A+TG1B+TV1_GNL_A","GNL","ATACAMA_______220","No",null,1,0,"-","-"]
[null,"ENEL_GENERACION","91.081.000-6","CENTRAL ATACAMA",5453818,"TG1B","UGE TG-1B - HRSG1B","PC003572-6","CC1","ATACAMA","Atacama","CC1","ATACAMA-1TG1A_TG1A+0.5TV1_GNL_A","GNL","ATACAMA_______220","No",null,1,0,"-","-"]
[null,"ENEL_GENERACION","91.081.000-6","CENTRAL ATACAMA",5453818,"TG1B","UGE TG-1B - HRSG1B","PC003572-6","CC1","ATACAMA","Atacama","CC1","ATACAMA-1TG1B_TG1B+0.5TV1_GNL_A","GNL","ATACAMA_______220","No",null,1,0,"-","-"]
[null,"ENEL_GENERACION","91.081.000-6","CENTRAL ATACAMA",5453818,"TG1B","UGE TG-1B - HRSG1B","PC003572-6","CC1","ATACAMA","Atacama","CC1","ATACAMA-1TG1AB_TG1A+TG1B+TV1_DIESEL","Diésel","ATACAMA_______220","No",null,1,0,"-","-"]
[null,"ENEL_GENERACION","91.081.000-6","CENTRAL ATACAMA",5453818,"TG1B","UGE TG-1B - HRSG1B","PC003572-6","CC1","ATACAMA","Atacama","CC1","ATACAMA-1TG1B_TG1B+0.5TV1_DIESEL","Diésel","ATACAMA_______220","No",null,1,0,"-","-"]
[null,"ENEL_GENERACION","91.081.000-6","CENTRAL ATACAMA",5453818,"TG1B","UGE TG-1B - HRSG1B","PC003572-6","CC1","ATACAMA","Atacama","CC1","ATACAMA-1TG1A_TG1A+0.5TV1_DIESEL","Diésel","ATACAMA_______220","No",null,1,0,"-","-"]
[null,"ENEL_GENERACION","91.081.000-6","CENTRAL ATACAMA",5453818,"TG1B","UGE TG-1B - HRSG1B","PC003572-6","CC1","ATACAMA","Atacama","CC1","ATACAMA-1TG1A_TG1A_GNL_C","GNL","ATACAMA_______220","No",null,1,0,"-","-"]
[null,"ENEL_GENERACION","91.081.000-6","CENTRAL ATACAMA",5453818,"TG1B","UGE TG-1B - HRSG1B","PC003572-6","CC1","ATACAMA","Atacama","CC1","ATACAMA-1TG1A_TG1A_GNL_D","GNL","ATACAMA_______220","No",null,1,0,"-","-"]
[null,"ENEL_GENERACION","91.081.000-6","CENTRAL ATACAMA",5453818,"TG1B","UGE TG-1B - HRSG1B","PC003572-6","CC1","ATACAMA","Atacama","CC1","ATACAMA-1TG1A_TG1A_GNL_E","GNL","ATACAMA_______220","No",null,1,0,"-","-"]
[null,"ENEL_GENERACION","91.081.000-6","CENTRAL ATACAMA",5453818,"TG1B","UGE TG-1B - HRSG1B","PC003572-6","CC1","ATACAMA","Atacama","CC1","ATACAMA-1TG1A_TG1A_GNL_B","GNL","ATACAMA_______220","No",null,1,0,"-","-"]
[null,"ENEL_GENERACION","91.081.000-6","CENTRAL ATACAMA",5453818,"TG1B","UGE TG-1B - HRSG1B","PC003572-6","CC1","ATACAMA","Atacama","CC1","ATACAMA-1TG1B_TG1B_GNL_C","GNL","ATACAMA_______220","No",null,1,0,"-","-"]
[null,"ENEL_GENERACION","91.081.000-6","CENTRAL ATACAMA",5453818,"TG1B","UGE TG-1B - HRSG1B","PC003572-6","CC1","ATACAMA","Atacama","CC1","ATACAMA-1TG1B_TG1B_GNL_D","GNL","ATACAMA_______220","No",null,1,0,"-","-"]
[null,"ENEL_GENERACION","91.081.000-6","CENTRAL ATACAMA",5453818,"TG1B","UGE TG-1B - HRSG1B","PC003572-6","CC1","ATACAMA","Atacama","CC1","ATACAMA-1TG1B_TG1B_GNL_E","GNL","ATACAMA_______220","No",null,1,0,"-","-"]
[null,"ENEL_GENERACION","91.081.000-6","CENTRAL ATACAMA",5453818,"TG1B","UGE TG-1B - HRSG1B","PC003572-6","CC1","ATACAMA","Atacama","CC1","ATACAMA-1TG1B_TG1B_GNL_B","GNL","ATACAMA_______220","No",null,1,0,"-","-"]
[null,"ENEL_GENERACION","91.081.000-6","CENTRAL ATACAMA",5453818,"TG1B","UGE TG-1B - HRSG1B","PC003572-6","CC1","ATACAMA","Atacama","CC1","ATACAMA-1TG1A_TG1A_GNL_A","GNL","ATACAMA_______220","No",null,1,0,"-","-"]
[null,"ENEL_GENERACION","91.081.000-6","CENTRAL ATACAMA",5453818,"TG1B","UGE TG-1B - HRSG1B","PC003572-6","CC1","ATACAMA","Atacama","CC1","ATACAMA-1TG1B_TG1B_GNL_A","GNL","ATACAMA_______220","No",null,1,0,"-","-"]
[null,"ENEL_GENERACION","91.081.000-6","CENTRAL ATACAMA",5453818,"TG1B","UGE TG-1B - HRSG1B","PC003572-6","CC1","ATACAMA","Atacama","CC1","ATACAMA-1TG1A_TG1A_DIESEL","Diésel","ATACAMA_______220","No",null,1,0,"-","-"]
[null,"ENEL_GENERACION","91.081.000-6","CENTRAL ATACAMA",5453818,"TG2A","UGE TG-2A - HRSG2A","PC003573-4","CC2","ATACAMA","Atacama","CC2","ATACAMA-2TG2AB_TG2A+TG2B+TV2_GNL_INFLEX","GNL","ATACAMA_______220","No",null,2,"00702600000IF","00702900000IF","-"]
[null,"ENEL_GENERACION","91.081.000-6","CENTRAL ATACAMA",5453818,"TG2A","UGE TG-2A - HRSG2A","PC003573-4","CC2","ATACAMA","Atacama","CC2","ATACAMA-2TG2B_TG2B+0.5TV2_GNL_INFLEX","GNL","ATACAMA_______220","No",null,2,"00702600000IF","00702900000IF","-"]
[null,"ENEL_GENERACION","91.081.000-6","CENTRAL ATACAMA",5453818,"TG2A","UGE TG-2A - HRSG2A","PC003573-4","CC2","ATACAMA","Atacama","CC2","ATACAMA-2TG2A_TG2A+0.5TV2_GNL_INFLEX","GNL","ATACAMA_______220","No",null,2,"00702600000IF","00702900000IF","-"]
[null,"ENEL_GENERACION","91.081.000-6","CENTRAL ATACAMA",5453818,"TG2A","UGE TG-2A - HRSG2A","PC003573-4","CC2","ATACAMA","Atacama","CC2","ATACAMA-2TG2A_TG2A_GNL_INFLEX","GNL","ATACAMA_______220","No",null,2,"00702600000IF","00702900000IF","-"]
[null,"ENEL_GENERACION","91.081.000-6","CENTRAL ATACAMA",5453818,"TG2A","UGE TG-2A - HRSG2A","PC003573-4","CC2","ATACAMA","Atacama","CC2","ATACAMA-2TG2B_TG2B_GNL_INFLEX","GNL","ATACAMA_______220","No",null,2,"00702600000IF","00702900000IF","-"]
[null,"ENEL_GENERACION","91.081.000-6","CENTRAL ATACAMA",5453818,"TG2A","UGE TG-2A - HRSG2A","PC003573-4","CC2","ATACAMA","Atacama","CC2","ATACAMA-2TG2AB_TG2A+TG2B+TV2_GNL_C","GNL","ATACAMA_______220","No",null,2,"00702600000IF","00702900000IF","-"]
[null,"ENEL_GENERACION","91.081.000-6","CENTRAL ATACAMA",5453818,"TG2A","UGE TG-2A - HRSG2A","PC003573-4","CC2","ATACAMA","Atacama","CC2","ATACAMA-2TG2AB_TG2A+TG2B+TV2_GNL_D","GNL","ATACAMA_______220","No",null,2,"00702600000IF","00702900000IF","-"]
[null,"ENEL_GENERACION","91.081.000-6","CENTRAL ATACAMA",5453818,"TG2A","UGE TG-2A - HRSG2A","PC003573-4","CC2","ATACAMA","Atacama","CC2","ATACAMA-2TG2AB_TG2A+TG2B+TV2_GNL_E","GNL","ATACAMA_______220","No",null,2,"00702600000IF","00702900000IF","-"]
[null,"ENEL_GENERACION","91.081.000-6","CENTRAL ATACAMA",5453818,"TG2A","UGE TG-2A - HRSG2A","PC003573-4","CC2","ATACAMA","Atacama","CC2","ATACAMA-2TG2AB_TG2A+TG2B+TV2_GNL_B","GNL","ATACAMA_______220","No",null,2,"00702600000IF","00702900000IF","-"]
[null,"ENEL_GENERACION","91.081.000-6","CENTRAL ATACAMA",5453818,"TG2A","UGE TG-2A - HRSG2A","PC003573-4","CC2","ATACAMA","Atacama","CC2","ATACAMA-2TG2B_TG2B+0.5TV2_GNL_C","GNL","ATACAMA_______220","No",null,2,"00702600000IF","00702900000IF","-"]
[null,"ENEL_GENERACION","91.081.000-6","CENTRAL ATACAMA",5453818,"TG2A","UGE TG-2A - HRSG2A","PC003573-4","CC2","ATACAMA","Atacama","CC2","ATACAMA-2TG2B_TG2B+0.5TV2_GNL_D","GNL","ATACAMA_______220","No",null,2,"00702600000IF","00702900000IF","-"]
[null,"ENEL_GENERACION","91.081.000-6","CENTRAL ATACAMA",5453818,"TG2A","UGE TG-2A - HRSG2A","PC003573-4","CC2","ATACAMA","Atacama","CC2","ATACAMA-2TG2B_TG2B+0.5TV2_GNL_E","GNL","ATACAMA_______220","No",null,2,"00702600000IF","00702900000IF","-"]
[null,"ENEL_GENERACION","91.081.000-6","CENTRAL ATACAMA",5453818,"TG2A","UGE TG-2A - HRSG2A","PC003573-4","CC2","ATACAMA","Atacama","CC2","ATACAMA-2TG2B_TG2B+0.5TV2_GNL_B","GNL","ATACAMA_______220","No",null,2,"00702600000IF","00702900000IF","-"]
[null,"ENEL_GENERACION","91.081.000-6","CENTRAL ATACAMA",5453818,"TG2A","UGE TG-2A - HRSG2A","PC003573-4","CC2","ATACAMA","Atacama","CC2","ATACAMA-2TG2A_TG2A+0.5TV2_GNL_C","GNL","ATACAMA_______220","No",null,2,"00702600000IF","00702900000IF","-"]
[null,"ENEL_GENERACION","91.081.000-6","CENTRAL ATACAMA",5453818,"TG2A","UGE TG-2A - HRSG2A","PC003573-4","CC2","ATACAMA","Atacama","CC2","ATACAMA-2TG2A_TG2A+0.5TV2_GNL_D","GNL","ATACAMA_______220","No",null,2,"00702600000IF","00702900000IF","-"]
[null,"ENEL_GENERACION","91.081.000-6","CENTRAL ATACAMA",5453818,"TG2A","UGE TG-2A - HRSG2A","PC003573-4","CC2","ATACAMA","Atacama","CC2","ATACAMA-2TG2A_TG2A+0.5TV2_GNL_E","GNL","ATACAMA_______220","No",null,2,"00702600000IF","00702900000IF","-"]
[null,"ENEL_GENERACION","91.081.000-6","CENTRAL ATACAMA",5453818,"TG2A","UGE TG-2A - HRSG2A","PC003573-4","CC2","ATACAMA","Atacama","CC2","ATACAMA-2TG2A_TG2A+0.5TV2_GNL_B","GNL","ATACAMA_______220","No",null,2,"00702600000IF","00702900000IF","-"]
[null,"ENEL_GENERACION","91.081.000-6","CENTRAL ATACAMA",5453818,"TG2A","UGE TG-2A - HRSG2A","PC003573-4","CC2","ATACAMA","Atacama","CC2","ATACAMA-2TG2AB_TG2A+TG2B+TV2_GNL_A","GNL","ATACAMA_______220","No",null,2,"00702600000IF","00702900000IF","-"]
[null,"ENEL_GENERACION","91.081.000-6","CENTRAL ATACAMA",5453818,"TG2A","UGE TG-2A - HRSG2A","PC003573-4","CC2","ATACAMA","Atacama","CC2","ATACAMA-2TG2B_TG2B+0.5TV2_GNL_A","GNL","ATACAMA_______220","No",null,2,"00702600000IF","00702900000IF","-"]
[null,"ENEL_GENERACION","91.081.000-6","CENTRAL ATACAMA",5453818,"TG2A","UGE TG-2A - HRSG2A","PC003573-4","CC2","ATACAMA","Atacama","CC2","ATACAMA-2TG2A_TG2A+0.5TV2_GNL_A","GNL","ATACAMA_______220","No",null,2,"00702600000IF","00702900000IF","-"]
[null,"ENEL_GENERACION","91.081.000-6","CENTRAL ATACAMA",5453818,"TG2A","UGE TG-2A - HRSG2A","PC003573-4","CC2","ATACAMA","Atacama","CC2","ATACAMA-2TG2AB_TG2A+TG2B+TV2_DIESEL","Diésel","ATACAMA_______220","No",null,2,"00702600000IF","00702900000IF","-"]
[null,"ENEL_GENERACION","91.081.000-6","CENTRAL ATACAMA",5453818,"TG2A","UGE TG-2A - HRSG2A","PC003573-4","CC2","ATACAMA","Atacama","CC2","ATACAMA-2TG2B_TG2B+0.5TV2_DIESEL","Diésel","ATACAMA_______220","No",null,2,"00702600000IF","00702900000IF","-"]
[null,"ENEL_GENERACION","91.081.000-6","CENTRAL ATACAMA",5453818,"TG2A","UGE TG-2A - HRSG2A","PC003573-4","CC2","ATACAMA","Atacama","CC2","ATACAMA-2TG2A_TG2A+0.5TV2_DIESEL","Diésel","ATACAMA_______220","No",null,2,"00702600000IF","00702900000IF","-"]
[null,"ENEL_GENERACION","91.081.000-6","CENTRAL ATACAMA",5453818,"TG2A","UGE TG-2A - HRSG2A","PC003573-4","CC2","ATACAMA","Atacama","CC2","ATACAMA-2TG2A_TG2A_GNL_C","GNL","ATACAMA_______220","No",null,2,"00702600000IF","00702900000IF","-"]
[null,"ENEL_GENERACION","91.081.000-6","CENTRAL ATACAMA",5453818,"TG2A","UGE TG-2A - HRSG2A","PC003573-4","CC2","ATACAMA","Atacama","CC2","ATACAMA-2TG2A_TG2A_GNL_D","GNL","ATACAMA_______220","No",null,2,"00702600000IF","00702900000IF","-"]
[null,"ENEL_GENERACION","91.081.000-6","CENTRAL ATACAMA",5453818,"TG2A","UGE TG-2A - HRSG2A","PC003573-4","CC2","ATACAMA","Atacama","CC2","ATACAMA-2TG2A_TG2A_GNL_E","GNL","ATACAMA_______220","No",null,2,"00702600000IF","00702900000IF","-"]
[null,"ENEL_GENERACION","91.081.000-6","CENTRAL ATACAMA",5453818,"TG2A","UGE TG-2A - HRSG2A","PC003573-4","CC2","ATACAMA","Atacama","CC2","ATACAMA-2TG2A_TG2A_GNL_B","GNL","ATACAMA_______220","No",null,2,"00702600000IF","00702900000IF","-"]
[null,"ENEL_GENERACION","91.081.000-6","CENTRAL ATACAMA",5453818,"TG2A","UGE TG-2A - HRSG2A","PC003573-4","CC2","ATACAMA","Atacama","CC2","ATACAMA-2TG2B_TG2B_GNL_C","GNL","ATACAMA_______220","No",null,2,"00702600000IF","00702900000IF","-"]
[null,"ENEL_GENERACION","91.081.000-6","CENTRAL ATACAMA",5453818,"TG2A","UGE TG-2A - HRSG2A","PC003573-4","CC2","ATACAMA","Atacama","CC2","ATACAMA-2TG2B_TG2B_GNL_D","GNL","ATACAMA_______220","No",null,2,"00702600000IF","00702900000IF","-"]
[null,"ENEL_GENERACION","91.081.000-6","CENTRAL ATACAMA",5453818,"TG2A","UGE TG-2A - HRSG2A","PC003573-4","CC2","ATACAMA","Atacama","CC2","ATACAMA-2TG2B_TG2B_GNL_E","GNL","ATACAMA_______220","No",null,2,"00702600000IF","00702900000IF","-"]
[null,"ENEL_GENERACION","91.081.000-6","CENTRAL ATACAMA",5453818,"TG2A","UGE TG-2A - HRSG2A","PC003573-4","CC2","ATACAMA","Atacama","CC2","ATACAMA-2TG2B_TG2B_GNL_B","GNL","ATACAMA_______220","No",null,2,"00702600000IF","00702900000IF","-"]
[null,"ENEL_GENERACION","91.081.000-6","CENTRAL ATACAMA",5453818,"TG2A","UGE TG-2A - HRSG2A","PC003573-4","CC2","ATACAMA","Atacama","CC2","ATACAMA-2TG2A_TG2A_GNL_A","GNL","ATACAMA_______220","No",null,2,"00702600000IF","00702900000IF","-"]
[null,"ENEL_GENERACION","91.081.000-6","CENTRAL ATACAMA",5453818,"TG2A","UGE TG-2A - HRSG2A","PC003573-4","CC2","ATACAMA","Atacama","CC2","ATACAMA-2TG2B_TG2B_GNL_A","GNL","ATACAMA_______220","No",null,2,"00702600000IF","00702900000IF","-"]
[null,"ENEL_GENERACION","91.081.000-6","CENTRAL ATACAMA",5453818,"TG2A","UGE TG-2A - HRSG2A","PC003573-4","CC2","ATACAMA","Atacama","CC2","ATACAMA-2TG2A_TG2A_DIESEL","Diésel","ATACAMA_______220","No",null,2,"00702600000IF","00702900000IF","-"]
[null,"ENEL_GENERACION","91.081.000-6","CENTRAL ATACAMA",5453818,"TG2A","UGE TG-2A - HRSG2A","PC003573-4","CC2","ATACAMA","Atacama","CC2","ATACAMA-2TG2B_TG2B_DIESEL","Diésel","ATACAMA_______220","No",null,2,"00702600000IF","00702900000IF","-"]
[null,"ENEL_GENERACION","91.081.000-6","CENTRAL ATACAMA",5453818,"TG2A","UGE TG-2A - HRSG2A","PC003573-4","CC2","ATACAMA","Atacama","CC2","ATACAMA-1TG1B_TG1B_DIESEL","Diésel","ATACAMA_______220","No",null,2,"00702600000IF","00702900000IF","-"]
[null,"ENEL_GENERACION","91.081.000-6","CENTRAL ATACAMA",5453818,"TG2B","UGE TG-2B - HRSG2B","PC003574-2","CC2","ATACAMA","Atacama","CC2","ATACAMA-2TG2AB_TG2A+TG2B+TV2_GNL_INFLEX","GNL","ATACAMA_______220","No",null,1,"00702700000IF","-","-"]
[null,"ENEL_GENERACION","91.081.000-6","CENTRAL ATACAMA",5453818,"TG2B","UGE TG-2B - HRSG2B","PC003574-2","CC2","ATACAMA","Atacama","CC2","ATACAMA-2TG2B_TG2B+0.5TV2_GNL_INFLEX","GNL","ATACAMA_______220","No",null,1,"00702700000IF","-","-"]
[null,"ENEL_GENERACION","91.081.000-6","CENTRAL ATACAMA",5453818,"TG2B","UGE TG-2B - HRSG2B","PC003574-2","CC2","ATACAMA","Atacama","CC2","ATACAMA-2TG2A_TG2A+0.5TV2_GNL_INFLEX","GNL","ATACAMA_______220","No",null,1,"00702700000IF","-","-"]
[null,"ENEL_GENERACION","91.081.000-6","CENTRAL ATACAMA",5453818,"TG2B","UGE TG-2B - HRSG2B","PC003574-2","CC2","ATACAMA","Atacama","CC2","ATACAMA-2TG2A_TG2A_GNL_INFLEX","GNL","ATACAMA_______220","No",null,1,"00702700000IF","-","-"]
[null,"ENEL_GENERACION","91.081.000-6","CENTRAL ATACAMA",5453818,"TG2B","UGE TG-2B - HRSG2B","PC003574-2","CC2","ATACAMA","Atacama","CC2","ATACAMA-2TG2B_TG2B_GNL_INFLEX","GNL","ATACAMA_______220","No",null,1,"00702700000IF","-","-"]
[null,"ENEL_GENERACION","91.081.000-6","CENTRAL ATACAMA",5453818,"TG2B","UGE TG-2B - HRSG2B","PC003574-2","CC2","ATACAMA","Atacama","CC2","ATACAMA-2TG2AB_TG2A+TG2B+TV2_GNL_C","GNL","ATACAMA_______220","No",null,1,"00702700000IF","-","-"]
[null,"ENEL_GENERACION","91.081.000-6","CENTRAL ATACAMA",5453818,"TG2B","UGE TG-2B - HRSG2B","PC003574-2","CC2","ATACAMA","Atacama","CC2","ATACAMA-2TG2AB_TG2A+TG2B+TV2_GNL_D","GNL","ATACAMA_______220","No",null,1,"00702700000IF","-","-"]
[null,"ENEL_GENERACION","91.081.000-6","CENTRAL ATACAMA",5453818,"TG2B","UGE TG-2B - HRSG2B","PC003574-2","CC2","ATACAMA","Atacama","CC2","ATACAMA-2TG2AB_TG2A+TG2B+TV2_GNL_E","GNL","ATACAMA_______220","No",null,1,"00702700000IF","-","-"]
[null,"ENEL_GENERACION","91.081.000-6","CENTRAL ATACAMA",5453818,"TG2B","UGE TG-2B - HRSG2B","PC003574-2","CC2","ATACAMA","Atacama","CC2","ATACAMA-2TG2AB_TG2A+TG2B+TV2_GNL_B","GNL","ATACAMA_______220","No",null,1,"00702700000IF","-","-"]
[null,"ENEL_GENERACION","91.081.000-6","CENTRAL ATACAMA",5453818,"TG2B","UGE TG-2B - HRSG2B","PC003574-2","CC2","ATACAMA","Atacama","CC2","ATACAMA-2TG2B_TG2B+0.5TV2_GNL_C","GNL","ATACAMA_______220","No",null,1,"00702700000IF","-","-"]
[null,"ENEL_GENERACION","91.081.000-6","CENTRAL ATACAMA",5453818,"TG2B","UGE TG-2B - HRSG2B","PC003574-2","CC2","ATACAMA","Atacama","CC2","ATACAMA-2TG2B_TG2B+0.5TV2_GNL_D","GNL","ATACAMA_______220","No",null,1,"00702700000IF","-","-"]
[null,"ENEL_GENERACION","91.081.000-6","CENTRAL ATACAMA",5453818,"TG2B","UGE TG-2B - HRSG2B","PC003574-2","CC2","ATACAMA","Atacama","CC2","ATACAMA-2TG2B_TG2B+0.5TV2_GNL_E","GNL","ATACAMA_______220","No",null,1,"00702700000IF","-","-"]
[null,"ENEL_GENERACION","91.081.000-6","CENTRAL ATACAMA",5453818,"TG2B","UGE TG-2B - HRSG2B","PC003574-2","CC2","ATACAMA","Atacama","CC2","ATACAMA-2TG2B_TG2B+0.5TV2_GNL_B","GNL","ATACAMA_______220","No",null,1,"00702700000IF","-","-"]
[null,"ENEL_GENERACION","91.081.000-6","CENTRAL ATACAMA",5453818,"TG2B","UGE TG-2B - HRSG2B","PC003574-2","CC2","ATACAMA","Atacama","CC2","ATACAMA-2TG2A_TG2A+0.5TV2_GNL_C","GNL","ATACAMA_______220","No",null,1,"00702700000IF","-","-"]
[null,"ENEL_GENERACION","91.081.000-6","CENTRAL ATACAMA",5453818,"TG2B","UGE TG-2B - HRSG2B","PC003574-2","CC2","ATACAMA","Atacama","CC2","ATACAMA-2TG2A_TG2A+0.5TV2_GNL_D","GNL","ATACAMA_______220","No",null,1,"00702700000IF","-","-"]
[null,"ENEL_GENERACION","91.081.000-6","CENTRAL ATACAMA",5453818,"TG2B","UGE TG-2B - HRSG2B","PC003574-2","CC2","ATACAMA","Atacama","CC2","ATACAMA-2TG2A_TG2A+0.5TV2_GNL_E","GNL","ATACAMA_______220","No",null,1,"00702700000IF","-","-"]
[null,"ENEL_GENERACION","91.081.000-6","CENTRAL ATACAMA",5453818,"TG2B","UGE TG-2B - HRSG2B","PC003574-2","CC2","ATACAMA","Atacama","CC2","ATACAMA-2TG2A_TG2A+0.5TV2_GNL_B","GNL","ATACAMA_______220","No",null,1,"00702700000IF","-","-"]
[null,"ENEL_GENERACION","91.081.000-6","CENTRAL ATACAMA",5453818,"TG2B","UGE TG-2B - HRSG2B","PC003574-2","CC2","ATACAMA","Atacama","CC2","ATACAMA-2TG2AB_TG2A+TG2B+TV2_GNL_A","GNL","ATACAMA_______220","No",null,1,"00702700000IF","-","-"]
[null,"ENEL_GENERACION","91.081.000-6","CENTRAL ATACAMA",5453818,"TG2B","UGE TG-2B - HRSG2B","PC003574-2","CC2","ATACAMA","Atacama","CC2","ATACAMA-2TG2B_TG2B+0.5TV2_GNL_A","GNL","ATACAMA_______220","No",null,1,"00702700000IF","-","-"]
[null,"ENEL_GENERACION","91.081.000-6","CENTRAL ATACAMA",5453818,"TG2B","UGE TG-2B - HRSG2B","PC003574-2","CC2","ATACAMA","Atacama","CC2","ATACAMA-2TG2A_TG2A+0.5TV2_GNL_A","GNL","ATACAMA_______220","No",null,1,"00702700000IF","-","-"]
[null,"ENEL_GENERACION","91.081.000-6","CENTRAL ATACAMA",5453818,"TG2B","UGE TG-2B - HRSG2B","PC003574-2","CC2","ATACAMA","Atacama","CC2","ATACAMA-2TG2AB_TG2A+TG2B+TV2_DIESEL","Diésel","ATACAMA_______220","No",null,1,"00702700000IF","-","-"]
[null,"ENEL_GENERACION","91.081.000-6","CENTRAL ATACAMA",5453818,"TG2B","UGE TG-2B - HRSG2B","PC003574-2","CC2","ATACAMA","Atacama","CC2","ATACAMA-2TG2B_TG2B+0.5TV2_DIESEL","Diésel","ATACAMA_______220","No",null,1,"00702700000IF","-","-"]
[null,"ENEL_GENERACION","91.081.000-6","CENTRAL ATACAMA",5453818,"TG2B","UGE TG-2B - HRSG2B","PC003574-2","CC2","ATACAMA","Atacama","CC2","ATACAMA-2TG2A_TG2A+0.5TV2_DIESEL","Diésel","ATACAMA_______220","No",null,1,"00702700000IF","-","-"]
[null,"ENEL_GENERACION","91.081.000-6","CENTRAL ATACAMA",5453818,"TG2B","UGE TG-2B - HRSG2B","PC003574-2","CC2","ATACAMA","Atacama","CC2","ATACAMA-2TG2A_TG2A_GNL_C","GNL","ATACAMA_______220","No",null,1,"00702700000IF","-","-"]
[null,"ENEL_GENERACION","91.081.000-6","CENTRAL ATACAMA",5453818,"TG2B","UGE TG-2B - HRSG2B","PC003574-2","CC2","ATACAMA","Atacama","CC2","ATACAMA-2TG2A_TG2A_GNL_D","GNL","ATACAMA_______220","No",null,1,"00702700000IF","-","-"]
[null,"ENEL_GENERACION","91.081.000-6","CENTRAL ATACAMA",5453818,"TG2B","UGE TG-2B - HRSG2B","PC003574-2","CC2","ATACAMA","Atacama","CC2","ATACAMA-2TG2A_TG2A_GNL_E","GNL","ATACAMA_______220","No",null,1,"00702700000IF","-","-"]
[null,"ENEL_GENERACION","91.081.000-6","CENTRAL ATACAMA",5453818,"TG2B","UGE TG-2B - HRSG2B","PC003574-2","CC2","ATACAMA","Atacama","CC2","ATACAMA-2TG2A_TG2A_GNL_B","GNL","ATACAMA_______220","No",null,1,"00702700000IF","-","-"]
[null,"ENEL_GENERACION","91.081.000-6","CENTRAL ATACAMA",5453818,"TG2B","UGE TG-2B - HRSG2B","PC003574-2","CC2","ATACAMA","Atacama","CC2","ATACAMA-2TG2B_TG2B_GNL_C","GNL","ATACAMA_______220","No",null,1,"00702700000IF","-","-"]
[null,"ENEL_GENERACION","91.081.000-6","CENTRAL ATACAMA",5453818,"TG2B","UGE TG-2B - HRSG2B","PC003574-2","CC2","ATACAMA","Atacama","CC2","ATACAMA-2TG2B_TG2B_GNL_D","GNL","ATACAMA_______220","No",null,1,"00702700000IF","-","-"]
[null,"ENEL_GENERACION","91.081.000-6","CENTRAL ATACAMA",5453818,"TG2B","UGE TG-2B - HRSG2B","PC003574-2","CC2","ATACAMA","Atacama","CC2","ATACAMA-2TG2B_TG2B_GNL_E","GNL","ATACAMA_______220","No",null,1,"00702700000IF","-","-"]
[null,"ENEL_GENERACION","91.081.000-6","CENTRAL ATACAMA",5453818,"TG2B","UGE TG-2B - HRSG2B","PC003574-2","CC2","ATACAMA","Atacama","CC2","ATACAMA-2TG2B_TG2B_GNL_B","GNL","ATACAMA_______220","No",null,1,"00702700000IF","-","-"]
[null,"ENEL_GENERACION","91.081.000-6","CENTRAL ATACAMA",5453818,"TG2B","UGE TG-2B - HRSG2B","PC003574-2","CC2","ATACAMA","Atacama","CC2","ATACAMA-2TG2A_TG2A_GNL_A","GNL","ATACAMA_______220","No",null,1,"00702700000IF","-","-"]
[null,"ENEL_GENERACION","91.081.000-6","CENTRAL ATACAMA",5453818,"TG2B","UGE TG-2B - HRSG2B","PC003574-2","CC2","ATACAMA","Atacama","CC2","ATACAMA-2TG2B_TG2B_GNL_A","GNL","ATACAMA_______220","No",null,1,"00702700000IF","-","-"]
[null,"ENEL_GENERACION","91.081.000-6","CENTRAL ATACAMA",5453818,"TG2B","UGE TG-2B - HRSG2B","PC003574-2","CC2","ATACAMA","Atacama","CC2","ATACAMA-2TG2A_TG2A_DIESEL","Diésel","ATACAMA_______220","No",null,1,"00702700000IF","-","-"]
[null,"ENEL_GENERACION","91.081.000-6","CENTRAL ATACAMA",5453818,"TG2B","UGE TG-2B - HRSG2B","PC003574-2","CC2","ATACAMA","Atacama","CC2","ATACAMA-2TG2B_TG2B_DIESEL","Diésel","ATACAMA_______220","No",null,1,"00702700000IF","-","-"]
[null,"ENEL_GENERACION","91.081.000-6","CENTRAL ATACAMA",5453818,"TG2B","UGE TG-2B - HRSG2B","PC003574-2","CC2","ATACAMA","Atacama","CC2","ATACAMA-1TG1B_TG1B_DIESEL","Diésel","ATACAMA_______220","No",null,1,"00702700000IF","-","-"]
[null,"GUACOLDA","76.418.918-3","GUACOLDA",6638,"CENTRAL GUACOLDA UN-1","UGE Guacolda 1","GE000016-0","GUACOLDA 1","GUACOLDA","Guacolda","Guacolda 1","GUACOLDA-1_CAR","Carbón","GUACOLDA______220","No",null,1,"G_GUAC","-","-"]
[null,"GUACOLDA","76.418.918-3","GUACOLDA",6638,"CENTRAL GUACOLDA UN-2","UGE Guacolda 2","GE000017-9","GUACOLDA 2","GUACOLDA","Guacolda","Guacolda 2","GUACOLDA-2_CAR","Carbón","GUACOLDA______220","No",null,1,"G_GUAC","-","-"]
[null,"GUACOLDA","76.418.918-3","GUACOLDA",6638,"CENTRAL GUACOLDA UN-3","UGE Guacolda 3","GE000079-9","GUACOLDA 3","GUACOLDA","Guacolda","Guacolda 3","GUACOLDA-3_CAR","Carbón","GUACOLDA______220","No",null,1,"G_GUAC","-","-"]
[null,"GUACOLDA","76.418.918-3","GUACOLDA",6638,"CENTRAL GUACOLDA UN-4","UGE Guacolda 4","GE000080-2","GUACOLDA 4","GUACOLDA","Guacolda","Guacolda 4","GUACOLDA-4_CAR","Carbón","GUACOLDA______220","No",null,1,"G_GUAC","-","-"]
[null,"GUACOLDA","76.418.918-3","GUACOLDA",6638,"CENTRAL GUACOLDA UN-5","UGE Guacolda 5","GE000215-1","GUACOLDA 5","GUACOLDA","Guacolda","Guacolda 5","GUACOLDA-5_CAR","Carbón","GUACOLDA______220","No",null,1,"G_GUAC","-","-"]
[null,"HORNITOS","76.009.698-9","CENTRAL TERMOELECTRICA HORNITOS",436492,"CENTRAL TERMOELÉCTRICA HORNITOS (CTH)","UGE CTH","GE000100-0","CTH1","TERMOELÉCTRICA HORNITOS","Hornitos","CTH","HORNITOS-CTH_CAR","Carbón","CHACAYA_______220","No",null,1,"02427400000IF","-","-"]
[null,"HORNITOS","76.009.698-9","CENTRAL TERMOELECTRICA HORNITOS",436492,"CENTRAL TERMOELÉCTRICA HORNITOS (CTH)","UGE CTH","GE000100-0","HORNITOS 1","TERMOELÉCTRICA HORNITOS","Hornitos","CTH","HORNITOS-CTH_CAR","Carbón","CHACAYA_______220","No",null,1,"02427400000IF","-","-"]
[null,"TAMAKAYA_ENERGIA","76.349.223-0","KELAR",5463833,"KELAR TG1","Unidad Kelar 1","PC003576-9","KELAR","KELAR","Kelar","CC KELAR","KELAR-TG12_TG1+TG2+TV1_GNL_INFLEX","GNL","KELAR_________220","No",null,2,"26842400000IF","26842400000IF","-"]
[null,"TAMAKAYA_ENERGIA","76.349.223-0","KELAR",5463833,"KELAR TG1","Unidad Kelar 1","PC003576-9","KELAR","KELAR","Kelar","CC KELAR","KELAR-TG1_TG1+0.5TV_GNL_INFLEX","GNL","KELAR_________220","No",null,2,"26842400000IF","26842400000IF","-"]
[null,"TAMAKAYA_ENERGIA","76.349.223-0","KELAR",5463833,"KELAR TG1","Unidad Kelar 1","PC003576-9","KELAR","KELAR","Kelar","CC KELAR","KELAR-TG2_TG2+0.5TV_GNL_INFLEX","GNL","KELAR_________220","No",null,2,"26842400000IF","26842400000IF","-"]
[null,"TAMAKAYA_ENERGIA","76.349.223-0","KELAR",5463833,"KELAR TG1","Unidad Kelar 1","PC003576-9","KELAR","KELAR","Kelar","CC KELAR","KELAR-TG1_TG1_GNL_INFLEX","GNL","KELAR_________220","No",null,2,"26842400000IF","26842400000IF","-"]
[null,"TAMAKAYA_ENERGIA","76.349.223-0","KELAR",5463833,"KELAR TG1","Unidad Kelar 1","PC003576-9","KELAR","KELAR","Kelar","CC KELAR","KELAR-TG2_TG2_GNL_INFLEX","GNL","KELAR_________220","No",null,2,"26842400000IF","26842400000IF","-"]
[null,"TAMAKAYA_ENERGIA","76.349.223-0","KELAR",5463833,"KELAR TG1","Unidad Kelar 1","PC003576-9","KELAR","KELAR","Kelar","CC KELAR","KELAR-TG12_TG1+TG2+TV1_GNL_A","GNL","KELAR_________220","No",null,2,"26842400000IF","26842400000IF","-"]
[null,"TAMAKAYA_ENERGIA","76.349.223-0","KELAR",5463833,"KELAR TG1","Unidad Kelar 1","PC003576-9","KELAR","KELAR","Kelar","CC KELAR","KELAR-TG12_TG1+TG2+TV1_GNL_B","GNL","KELAR_________220","No",null,2,"26842400000IF","26842400000IF","-"]
[null,"TAMAKAYA_ENERGIA","76.349.223-0","KELAR",5463833,"KELAR TG1","Unidad Kelar 1","PC003576-9","KELAR","KELAR","Kelar","CC KELAR","KELAR-TG12_TG1+TG2+TV1_GNL_C","GNL","KELAR_________220","No",null,2,"26842400000IF","26842400000IF","-"]
[null,"TAMAKAYA_ENERGIA","76.349.223-0","KELAR",5463833,"KELAR TG1","Unidad Kelar 1","PC003576-9","KELAR","KELAR","Kelar","CC KELAR","KELAR-TG1_TG1+0.5TV_GNL_A","GNL","KELAR_________220","No",null,2,"26842400000IF","26842400000IF","-"]
[null,"TAMAKAYA_ENERGIA","76.349.223-0","KELAR",5463833,"KELAR TG1","Unidad Kelar 1","PC003576-9","KELAR","KELAR","Kelar","CC KELAR","KELAR-TG2_TG2+0.5TV_GNL_A","GNL","KELAR_________220","No",null,2,"26842400000IF","26842400000IF","-"]
[null,"TAMAKAYA_ENERGIA","76.349.223-0","KELAR",5463833,"KELAR TG1","Unidad Kelar 1","PC003576-9","KELAR","KELAR","Kelar","CC KELAR","KELAR-TG1_TG1+0.5TV_GNL_B","GNL","KELAR_________220","No",null,2,"26842400000IF","26842400000IF","-"]
[null,"TAMAKAYA_ENERGIA","76.349.223-0","KELAR",5463833,"KELAR TG1","Unidad Kelar 1","PC003576-9","KELAR","KELAR","Kelar","CC KELAR","KELAR-TG1_TG1+0.5TV_GNL_C","GNL","KELAR_________220","No",null,2,"26842400000IF","26842400000IF","-"]
[null,"TAMAKAYA_ENERGIA","76.349.223-0","KELAR",5463833,"KELAR TG1","Unidad Kelar 1","PC003576-9","KELAR","KELAR","Kelar","CC KELAR","KELAR-TG2_TG2+0.5TV_GNL_B","GNL","KELAR_________220","No",null,2,"26842400000IF","26842400000IF","-"]
[null,"TAMAKAYA_ENERGIA","76.349.223-0","KELAR",5463833,"KELAR TG1","Unidad Kelar 1","PC003576-9","KELAR","KELAR","Kelar","CC KELAR","KELAR-TG2_TG2+0.5TV_GNL_C","GNL","KELAR_________220","No",null,2,"26842400000IF","26842400000IF","-"]
[null,"TAMAKAYA_ENERGIA","76.349.223-0","KELAR",5463833,"KELAR TG1","Unidad Kelar 1","PC003576-9","KELAR","KELAR","Kelar","CC KELAR","KELAR-TG12_TG1+TG2+TV1_DIESEL",null,"KELAR_________220","No",null,2,"26842400000IF","26842400000IF","-"]
[null,"TAMAKAYA_ENERGIA","76.349.223-0","KELAR",5463833,"KELAR TG1","Unidad Kelar 1","PC003576-9","KELAR","KELAR","Kelar","CC KELAR","KELAR-TG1_TG1+0.5TV_DIESEL",null,"KELAR_________220","No",null,2,"26842400000IF","26842400000IF","-"]
[null,"TAMAKAYA_ENERGIA","76.349.223-0","KELAR",5463833,"KELAR TG1","Unidad Kelar 1","PC003576-9","KELAR","KELAR","Kelar","CC KELAR","KELAR-TG2_TG2+0.5TV_DIESEL",null,"KELAR_________220","No",null,2,"26842400000IF","26842400000IF","-"]
[null,"TAMAKAYA_ENERGIA","76.349.223-0","KELAR",5463833,"KELAR TG1","Unidad Kelar 1","PC003576-9","KELAR","KELAR","Kelar","CC KELAR","KELAR-TG1_TG1_GNL_A","GNL","KELAR_________220","No",null,2,"26842400000IF","26842400000IF","-"]
[null,"TAMAKAYA_ENERGIA","76.349.223-0","KELAR",5463833,"KELAR TG1","Unidad Kelar 1","PC003576-9","KELAR","KELAR","Kelar","CC KELAR","KELAR-TG2_TG2_GNL_A","GNL","KELAR_________220","No",null,2,"26842400000IF","26842400000IF","-"]
[null,"TAMAKAYA_ENERGIA","76.349.223-0","KELAR",5463833,"KELAR TG1","Unidad Kelar 1","PC003576-9","KELAR","KELAR","Kelar","CC KELAR","KELAR-TG1_TG1_GNL_B","GNL","KELAR_________220","No",null,2,"26842400000IF","26842400000IF","-"]
[null,"TAMAKAYA_ENERGIA","76.349.223-0","KELAR",5463833,"KELAR TG1","Unidad Kelar 1","PC003576-9","KELAR","KELAR","Kelar","CC KELAR","KELAR-TG1_TG1_GNL_C","GNL","KELAR_________220","No",null,2,"26842400000IF","26842400000IF","-"]
[null,"TAMAKAYA_ENERGIA","76.349.223-0","KELAR",5463833,"KELAR TG1","Unidad Kelar 1","PC003576-9","KELAR","KELAR","Kelar","CC KELAR","KELAR-TG2_TG2_GNL_B","GNL","KELAR_________220","No",null,2,"26842400000IF","26842400000IF","-"]
[null,"TAMAKAYA_ENERGIA","76.349.223-0","KELAR",5463833,"KELAR TG1","Unidad Kelar 1","PC003576-9","KELAR","KELAR","Kelar","CC KELAR","KELAR-TG2_TG2_GNL_C","GNL","KELAR_________220","No",null,2,"26842400000IF","26842400000IF","-"]
[null,"TAMAKAYA_ENERGIA","76.349.223-0","KELAR",5463833,"KELAR TG1","Unidad Kelar 1","PC003576-9","KELAR","KELAR","Kelar","CC KELAR","KELAR-TG1_TG1_DIESEL",null,"KELAR_________220","No",null,2,"26842400000IF","26842400000IF","-"]
[null,"TAMAKAYA_ENERGIA","76.349.223-0","KELAR",5463833,"KELAR TG1","Unidad Kelar 1","PC003576-9","KELAR","KELAR","Kelar","CC KELAR","KELAR-TG2_TG2_DIESEL",null,"KELAR_________220","No",null,2,"26842400000IF","26842400000IF","-"]
[null,"TAMAKAYA_ENERGIA","76.349.223-0","KELAR",5463833,"KELAR TG2","Unidad Kelar 2","PC003577-7","KELAR","KELAR","Kelar","CC KELAR","KELAR-TG12_TG1+TG2+TV1_GNL_INFLEX","GNL","KELAR_________220","No",null,1,"26842500000IF","-","-"]
[null,"TAMAKAYA_ENERGIA","76.349.223-0","KELAR",5463833,"KELAR TG2","Unidad Kelar 2","PC003577-7","KELAR","KELAR","Kelar","CC KELAR","KELAR-TG1_TG1+0.5TV_GNL_INFLEX","GNL","KELAR_________220","No",null,1,"26842500000IF","-","-"]
[null,"TAMAKAYA_ENERGIA","76.349.223-0","KELAR",5463833,"KELAR TG2","Unidad Kelar 2","PC003577-7","KELAR","KELAR","Kelar","CC KELAR","KELAR-TG2_TG2+0.5TV_GNL_INFLEX","GNL","KELAR_________220","No",null,1,"26842500000IF","-","-"]
[null,"TAMAKAYA_ENERGIA","76.349.223-0","KELAR",5463833,"KELAR TG2","Unidad Kelar 2","PC003577-7","KELAR","KELAR","Kelar","CC KELAR","KELAR-TG1_TG1_GNL_INFLEX","GNL","KELAR_________220","No",null,1,"26842500000IF","-","-"]
[null,"TAMAKAYA_ENERGIA","76.349.223-0","KELAR",5463833,"KELAR TG2","Unidad Kelar 2","PC003577-7","KELAR","KELAR","Kelar","CC KELAR","KELAR-TG2_TG2_GNL_INFLEX","GNL","KELAR_________220","No",null,1,"26842500000IF","-","-"]
[null,"TAMAKAYA_ENERGIA","76.349.223-0","KELAR",5463833,"KELAR TG2","Unidad Kelar 2","PC003577-7","KELAR","KELAR","Kelar","CC KELAR","KELAR-TG12_TG1+TG2+TV1_GNL_A","GNL","KELAR_________220","No",null,1,"26842500000IF","-","-"]
[null,"TAMAKAYA_ENERGIA","76.349.223-0","KELAR",5463833,"KELAR TG2","Unidad Kelar 2","PC003577-7","KELAR","KELAR","Kelar","CC KELAR","KELAR-TG12_TG1+TG2+TV1_GNL_B","GNL","KELAR_________220","No",null,1,"26842500000IF","-","-"]
[null,"TAMAKAYA_ENERGIA","76.349.223-0","KELAR",5463833,"KELAR TG2","Unidad Kelar 2","PC003577-7","KELAR","KELAR","Kelar","CC KELAR","KELAR-TG12_TG1+TG2+TV1_GNL_C","GNL","KELAR_________220","No",null,1,"26842500000IF","-","-"]
[null,"TAMAKAYA_ENERGIA","76.349.223-0","KELAR",5463833,"KELAR TG2","Unidad Kelar 2","PC003577-7","KELAR","KELAR","Kelar","CC KELAR","KELAR-TG1_TG1+0.5TV_GNL_A","GNL","KELAR_________220","No",null,1,"26842500000IF","-","-"]
[null,"TAMAKAYA_ENERGIA","76.349.223-0","KELAR",5463833,"KELAR TG2","Unidad Kelar 2","PC003577-7","KELAR","KELAR","Kelar","CC KELAR","KELAR-TG2_TG2+0.5TV_GNL_A","GNL","KELAR_________220","No",null,1,"26842500000IF","-","-"]
[null,"TAMAKAYA_ENERGIA","76.349.223-0","KELAR",5463833,"KELAR TG2","Unidad Kelar 2","PC003577-7","KELAR","KELAR","Kelar","CC KELAR","KELAR-TG1_TG1+0.5TV_GNL_B","GNL","KELAR_________220","No",null,1,"26842500000IF","-","-"]
[null,"TAMAKAYA_ENERGIA","76.349.223-0","KELAR",5463833,"KELAR TG2","Unidad Kelar 2","PC003577-7","KELAR","KELAR","Kelar","CC KELAR","KELAR-TG1_TG1+0.5TV_GNL_C","GNL","KELAR_________220","No",null,1,"26842500000IF","-","-"]
[null,"TAMAKAYA_ENERGIA","76.349.223-0","KELAR",5463833,"KELAR TG2","Unidad Kelar 2","PC003577-7","KELAR","KELAR","Kelar","CC KELAR","KELAR-TG2_TG2+0.5TV_GNL_B","GNL","KELAR_________220","No",null,1,"26842500000IF","-","-"]
[null,"TAMAKAYA_ENERGIA","76.349.223-0","KELAR",5463833,"KELAR TG2","Unidad Kelar 2","PC003577-7","KELAR","KELAR","Kelar","CC KELAR","KELAR-TG2_TG2+0.5TV_GNL_C","GNL","KELAR_________220","No",null,1,"26842500000IF","-","-"]
[null,"TAMAKAYA_ENERGIA","76.349.223-0","KELAR",5463833,"KELAR TG2","Unidad Kelar 2","PC003577-7","KELAR","KELAR","Kelar","CC KELAR","KELAR-TG12_TG1+TG2+TV1_DIESEL",null,"KELAR_________220","No",null,1,"26842500000IF","-","-"]
[null,"TAMAKAYA_ENERGIA","76.349.223-0","KELAR",5463833,"KELAR TG2","Unidad Kelar 2","PC003577-7","KELAR","KELAR","Kelar","CC KELAR","KELAR-TG1_TG1+0.5TV_DIESEL",null,"KELAR_________220","No",null,1,"26842500000IF","-","-"]
[null,"TAMAKAYA_ENERGIA","76.349.223-0","KELAR",5463833,"KELAR TG2","Unidad Kelar 2","PC003577-7","KELAR","KELAR","Kelar","CC KELAR","KELAR-TG2_TG2+0.5TV_DIESEL",null,"KELAR_________220","No",null,1,"26842500000IF","-","-"]
[null,"TAMAKAYA_ENERGIA","76.349.223-0","KELAR",5463833,"KELAR TG2","Unidad Kelar 2","PC003577-7","KELAR","KELAR","Kelar","CC KELAR","KELAR-TG1_TG1_GNL_A","GNL","KELAR_________220","No",null,1,"26842500000IF","-","-"]
[null,"TAMAKAYA_ENERGIA","76.349.223-0","KELAR",5463833,"KELAR TG2","Unidad Kelar 2","PC003577-7","KELAR","KELAR","Kelar","CC KELAR","KELAR-TG2_TG2_GNL_A","GNL","KELAR_________220","No",null,1,"26842500000IF","-","-"]
[null,"TAMAKAYA_ENERGIA","76.349.223-0","KELAR",5463833,"KELAR TG2","Unidad Kelar 2","PC003577-7","KELAR","KELAR","Kelar","CC KELAR","KELAR-TG1_TG1_GNL_B","GNL","KELAR_________220","No",null,1,"26842500000IF","-","-"]
[null,"TAMAKAYA_ENERGIA","76.349.223-0","KELAR",5463833,"KELAR TG2","Unidad Kelar 2","PC003577-7","KELAR","KELAR","Kelar","CC KELAR","KELAR-TG1_TG1_GNL_C","GNL","KELAR_________220","No",null,1,"26842500000IF","-","-"]
[null,"TAMAKAYA_ENERGIA","76.349.223-0","KELAR",5463833,"KELAR TG2","Unidad Kelar 2","PC003577-7","KELAR","KELAR","Kelar","CC KELAR","KELAR-TG2_TG2_GNL_B","GNL","KELAR_________220","No",null,1,"26842500000IF","-","-"]
[null,"TAMAKAYA_ENERGIA","76.349.223-0","KELAR",5463833,"KELAR TG2","Unidad Kelar 2","PC003577-7","KELAR","KELAR","Kelar","CC KELAR","KELAR-TG2_TG2_GNL_C","GNL","KELAR_________220","No",null,1,"26842500000IF","-","-"]
[null,"LOS_GUINDOS","76.284.294-7","CENTRAL LOS GUINDOS (ACTUAL INPROLEC S.A.76585700-7)",5467880,"LOS GUINDOS 001","TURBINA","PC003468-1","LOS GUINDOS 1","LOS GUINDOS","Los Guindos","Los Guindos","LOS_GUINDOS","Diésel","CHARRUA_______220","No",null,1,"G_LOS_GUINDOS","-","-"]
[null,"LOS_GUINDOS","76.284.294-7","CENTRAL LOS GUINDOS (ACTUAL INPROLEC S.A.76585700-7)",5467880,"LOS GUINDOS 002","TURBINA","PC004352-4","LOS GUINDOS 2","LOS GUINDOS","Los Guindos","Los Guindos 2","LOSGUINDOS-2_DIESEL","Diésel","CHARRUA_______220","No",null,1,"G_LOS_GUINDOS_U2"]
[null,"NEOMAS","96.802.690-9","PLANTA CABRERO DIVISIÓN MADERAS",96760,"MASISA","CALENTADOR ACEITE TÉRMICO KONUS","CA010879-0","MASISA","MASISA","Masisa","Masisa (Cabrero)","MASISA_COGEN","Biomasa","MASISA________066","Sí",null,1,"G_MASISA","-","-"]
[null,"NEOMAS","96.802.690-9","PLANTA CABRERO DIVISIÓN MADERAS",96760,"MASISA","CALENTADOR ACEITE TÉRMICO VYNCKE","CA010880-4","MASISA","MASISA","Masisa","Masisa (Cabrero)","MASISA_COGEN","Biomasa","MASISA________066","Sí",null,1,"G_MASISA","-","-"]
[null,"NEOMAS","96.802.690-9","PLANTA CABRERO DIVISIÓN MADERAS",96760,"MASISA","CALDERA COGENERACIÓN","GE000130-2","MASISA","MASISA","Masisa","Masisa (Cabrero)","MASISA_COGEN","Biomasa","MASISA________066","Sí",null,1,"G_MASISA","-","-"]
[null,"NEOMAS","96.802.690-9","PLANTA CABRERO DIVISIÓN MADERAS",96760,"MASISA","CALDERA BREMER","IN002647-k","MASISA","MASISA","Masisa","Masisa (Cabrero)","MASISA_COGEN","Biomasa","MASISA________066","Sí",null,1,"G_MASISA","-","-"]
[null,"NEOMAS","96.802.690-9","PLANTA CABRERO DIVISIÓN MADERAS",96760,"MASISA","CALDERA H. BRIONES","IN002653-4","MASISA","MASISA","Masisa","Masisa (Cabrero)","MASISA_COGEN","Biomasa","MASISA________066","Sí",null,1,"G_MASISA","-","-"]
[null,"ORAFTI","77.894.990-3","ORAFTI CHILE S.A.",245367,"ORAFTI",null,"IN001655-5","ORAFTI",null,null,"ORAFTI",null,null,null,"No",null,1,"G_ORAFTI_TE","-","-"]
[null,"ORAFTI","77.894.990-3","ORAFTI CHILE S.A.",245367,"ORAFTI",null,"IN001615-6","ORAFTI",null,null,"ORAFTI",null,null,null,"No",null,1,"G_ORAFTI_TE","-","-"]
[null,"ORAFTI","77.894.990-3","ORAFTI CHILE S.A.",245367,"ORAFTI",null,"GE000256-9","ORAFTI",null,null,"ORAFTI",null,null,null,"No",null,1,"G_ORAFTI_TE","-","-"]
[null,"ORAZUL_CHILE","76.060.441-0","CENTRAL TERMOELÉCTRICA YUNGAY",245724,"YUNGAY 1","UGE U 1A","PC000444-2","YUNGAY 1","YUNGAY","Yungay","Yungay 1","YUNGAY-1_DIESEL","Diésel","CHARRUA_______154","No",null,1,"G_YUNGAY","-","-"]
[null,"ORAZUL_CHILE","76.060.441-0","CENTRAL TERMOELÉCTRICA YUNGAY",245724,"YUNGAY 1","UGE U 1A","PC000444-2","YUNGAY 1","YUNGAY","Yungay","Yungay 1","YUNGAY-1_GNL_A","GNL","CHARRUA_______154","No",null,1,"G_YUNGAY","-","-"]
[null,"ORAZUL_CHILE","76.060.441-0","CENTRAL TERMOELÉCTRICA YUNGAY",245724,"YUNGAY 1","UGE U 1B","PC000445-0","YUNGAY 1","YUNGAY","Yungay","Yungay 1","YUNGAY-1_DIESEL","Diésel","CHARRUA_______154","No",null,1,"G_YUNGAY","-","-"]
[null,"ORAZUL_CHILE","76.060.441-0","CENTRAL TERMOELÉCTRICA YUNGAY",245724,"YUNGAY 1","UGE U 1B","PC000445-0","YUNGAY 1","YUNGAY","Yungay","Yungay 1","YUNGAY-1_GNL_A","GNL","CHARRUA_______154","No",null,1,"G_YUNGAY","-","-"]
[null,"ORAZUL_CHILE","76.060.441-0","CENTRAL TERMOELÉCTRICA YUNGAY",245724,"YUNGAY 2","UGE U 2A","PC000446-9","YUNGAY 2","YUNGAY","Yungay","Yungay 2","YUNGAY-2_DIESEL","Diésel","CHARRUA_______154","No",null,1,"G_YUNGAY","-","-"]
[null,"ORAZUL_CHILE","76.060.441-0","CENTRAL TERMOELÉCTRICA YUNGAY",245724,"YUNGAY 2","UGE U 2A","PC000446-9","YUNGAY 2","YUNGAY","Yungay","Yungay 2","YUNGAY-2_GNL_A","GNL","CHARRUA_______154","No",null,1,"G_YUNGAY","-","-"]
[null,"ORAZUL_CHILE","76.060.441-0","CENTRAL TERMOELÉCTRICA YUNGAY",245724,"YUNGAY 2","UGE U 2B","PC000447-7","YUNGAY 2","YUNGAY","Yungay","Yungay 2","YUNGAY-2_DIESEL","Diésel","CHARRUA_______154","No",null,1,"G_YUNGAY","-","-"]
[null,"ORAZUL_CHILE","76.060.441-0","CENTRAL TERMOELÉCTRICA YUNGAY",245724,"YUNGAY 2","UGE U 2B","PC000447-7","YUNGAY 2","YUNGAY","Yungay","Yungay 2","YUNGAY-2_GNL_A","GNL","CHARRUA_______154","No",null,1,"G_YUNGAY","-","-"]
[null,"ORAZUL_CHILE","76.060.441-0","CENTRAL TERMOELÉCTRICA YUNGAY",245724,"YUNGAY 3","UGE U 3A","PC000448-5","YUNGAY 3","YUNGAY","Yungay","Yungay 3","YUNGAY-3_DIESEL","Diésel","CHARRUA_______154","No",null,1,"G_YUNGAY","-","-"]
[null,"ORAZUL_CHILE","76.060.441-0","CENTRAL TERMOELÉCTRICA YUNGAY",245724,"YUNGAY 3","UGE U 3A","PC000448-5","YUNGAY 3","YUNGAY","Yungay","Yungay 3","YUNGAY-3_GNL_A","GNL","CHARRUA_______154","No",null,1,"G_YUNGAY","-","-"]
[null,"ORAZUL_CHILE","76.060.441-0","CENTRAL TERMOELÉCTRICA YUNGAY",245724,"YUNGAY 3","UGE U 3B","PC000449-3","YUNGAY 3","YUNGAY","Yungay","Yungay 3","YUNGAY-3_DIESEL","Diésel","CHARRUA_______154","No",null,1,"G_YUNGAY","-","-"]
[null,"ORAZUL_CHILE","76.060.441-0","CENTRAL TERMOELÉCTRICA YUNGAY",245724,"YUNGAY 3","UGE U 3B","PC000449-3","YUNGAY 3","YUNGAY","Yungay","Yungay 3","YUNGAY-3_GNL_A","GNL","CHARRUA_______154","No",null,1,"G_YUNGAY","-","-"]
[null,"ORAZUL_CHILE","76.060.441-0","CENTRAL TERMOELÉCTRICA YUNGAY",245724,"YUNGAY 4","UGE U 4","PC000952-5","YUNGAY 4","YUNGAY","Yungay","Yungay 4 ca","YUNGAY-4_DIESEL","Diésel","CHARRUA_______154","No",null,1,"G_YUNGAY","-","-"]
[null,"ERSA","78.335.760-7","COGENERADORA PETROPOWER",5452212,"CENTRAL PETROPOWER","Caldera","GE000010-1","PETROPOWER","PETROPOWER ","Petropower","Petropower","PETROPOWER_PET","Petcoke","PETROPOWER____066","Sí",null,1,"G_PETRO","-","-"]
[null,"SGA","99.528.750-1","CENTRAL CORONEL",323615,"CENTRAL CORONEL","UGE Coronel","PC000146-k","CORONEL","CORONEL TG","Coronel","TG_Coronel","CORONEL_GNL_B","GNL","ESCUADRON_____015","No",null,1,"G_CORO","-","-"]
[null,"SGA","99.528.750-1","CENTRAL CORONEL",323615,"CENTRAL CORONEL","UGE Coronel","PC000146-k","CORONEL","CORONEL TG","Coronel","TG_Coronel","CORONEL_GNL_A","GNL","ESCUADRON_____015","No",null,1,"G_CORO","-","-"]
[null,"SGA","99.528.750-1","CENTRAL CORONEL",323615,"CENTRAL CORONEL","UGE Coronel","PC000146-k","CORONEL","CORONEL TG","Coronel","TG_Coronel","CORONEL_DIESEL","Diésel","ESCUADRON_____015","No",null,1,"G_CORO","-","-"]
[null,"SGA","99.528.750-1","EAGON LAUTARO S.A.",742,"EAGON",null,"IN000373-9","EAGON",null,null,"EAGON",null,null,null,"No",null,1,"G_EAGON","-","-"]
[null,"SGA","99.528.750-1","EAGON LAUTARO S.A.",742,"EAGON",null,"IN003176-3","EAGON",null,null,"EAGON",null,null,null,"No",null,1,"G_EAGON","-","-"]
[null,"SWO","96.903.720-3","UGE EL SALVADOR TG",5466834,"CENTRAL EL SALVADOR","UGE El Salvador TG","PC003725-7","EL SALVADOR 2","EL SALVADOR","El Salvador","El Salvador","SALVADOR_DIESEL","Diésel","D.ALMAGRO_____110","No",null,1,"G_SALVADOR","-","-"]

{"sheet":"Unidades","index":3,"n_rows":103,"n_cols":6,"rows_kept":103,"cut":false,"hidden":false,"merged":[]}
[]
[null,"Lista Unidades TCV"]
[]
[null," "]
[null,"Nombre unidad TCV","Nombre central TCV","Empresa","Autoproductor","Total"]
[null,"ANG1","Angamos","ANGAMOS","No",1]
[null,"ANG2","Angamos","ANGAMOS","No",1]
[null,"Antilhue TG U1","Antilhue TG","COLBUN","No",2]
[null,"Antilhue TG U2","Antilhue TG","COLBUN","No",2]
[null,"Arauco","Arauco","ARAUCO BIO","Sí",11]
[null,"Bocamina","Termoeléctrica Bocamina","ENEL_GENERACION","No",1]
[null,"Bocamina II","Termoeléctrica Bocamina","ENEL_GENERACION","No",1]
[null,"Campiche","Termoeléctrica Ventanas","AES_GENER","No",1]
[null,"Candelaria 1","Candelaria","COLBUN","No",10]
[null,"Candelaria 2","Candelaria","COLBUN","No",10]
[null,"Cardones","Cardones","CARDONES SA","No",1]
[null,"CC KELAR","Kelar","TAMAKAYA_ENERGIA","No",48]
[null,"CC1","Atacama","ENEL_GENERACION","No",68]
[null,"CC2","Atacama","ENEL_GENERACION","No",72]
[null,"CCH1","Cochrane","COCHRANE","No",1]
[null,"CCH2","Cochrane","COCHRANE","No",1]
[null,"CD Iquique","(en blanco)","ENGIE","No"]
[null,"Celco","Celco","ARAUCO BIO","Sí",4]
[null,"Cholguán","Cholguan","ARAUCO BIO","Sí",6]
[null,"CMPC Cordillera","CMPC Cordillera","BE FORESTALES","Sí",12]
[null,"CMPC Laja","CMPC Laja","BE FORESTALES","Sí",12]
[null,"CMPC Pacífico","CMPC Pacífico","BE FORESTALES","Sí",45]
[null,"CMPC Santa Fe","Santa Fe","BE FORESTALES","Sí",36]
[null,"CMPC TISSUE","(en blanco)","BE FORESTALES","Sí"]
[null,"Colmito","Colmito","COLMITO","No",3]
[null,"CTA","Andina","ANDINA","No",1]
[null,"CTH","Hornitos","HORNITOS","No",2]
[null,"CTM1","Mejillones","ENGIE","No",1]
[null,"CTM2","Mejillones","ENGIE","No",1]
[null,"CTM3","Mejillones","ENGIE","No",12]
[null,"CTTAR","Tarapacá","ENEL_GENERACION","No",1]
[null,"Diego de Almagro","Diego de Almagro","ENEL_GENERACION","No",1]
[null,"El Salvador","El Salvador","SWO","No",1]
[null,"Emelda U1","Emelda","EMELDA","No",1]
[null,"Emelda U2","Emelda","EMELDA","No",1]
[null,"Energía Pacífico","Energía Pacífico","ENERGIA PACIFICO","Sí",1]
[null,"Escuadrón","Escuadron","NUEVA ENERGIA","No",2]
[null,"Esperanza TG","Esperanza","ENORCHILE","No",1]
[null,"Guacolda 1","Guacolda","GUACOLDA","No",1]
[null,"Guacolda 2","Guacolda","GUACOLDA","No",1]
[null,"Guacolda 3","Guacolda","GUACOLDA","No",1]
[null,"Guacolda 4","Guacolda","GUACOLDA","No",1]
[null,"Guacolda 5","Guacolda","GUACOLDA","No",1]
[null,"Horcones","Horcones TG","ARAUCO BIO","No",1]
[null,"Huasco TG","Huasco TG","ENEL_GENERACION","No",6]
[null,"IEM","Mejillones","ENGIE","No",1]
[null,"Laguna Verde TG","Laguna Verde","AES_GENER","No",1]
[null,"Laguna Verde TV","Laguna Verde","AES_GENER","No",4]
[null,"Laja","Laja","AES_GENER","Sí",2]
[null,"Lautaro-Comasa","Lautaro","COMASA","No",2]
[null,"Lautaro-Comasa 2","Lautaro","COMASA","No",1]
[null,"Licantén","Licanten","ARAUCO BIO","Sí",2]
[null,"Los Guindos","Los Guindos","LOS_GUINDOS","No",1]
[null,"Los Pinos","Los Pinos","COLBUN","No",1]
[null,"Los Vientos","Los Vientos","GMETROPOLITANA","No",2]
[null,"Masisa (Cabrero)","Masisa","NEOMAS","Sí",5]
[null,"Nehuenco","Nehuenco","COLBUN","No",42]
[null,"Nehuenco II","Nehuenco","COLBUN","No",19]
[null,"Nehuenco TG 9B","Nehuenco","COLBUN","No",10]
[null,"NTO1","Norgener","AES_GENER","No",1]
[null,"NTO2","Norgener","AES_GENER","No",1]
[null,"Nueva Aldea I","Nueva Aldea I","ARAUCO BIO","Sí",6]
[null,"Nueva Aldea III","Nueva Aldea III","ARAUCO BIO","Sí",3]
[null,"Nueva Renca","Nueva Renca","GMETROPOLITANA","No",14]
[null,"Nueva Ventanas","Termoeléctrica Ventanas","AES_GENER","No",1]
[null,"Petropower","Petropower","ERSA","Sí",1]
[null,"Quintero A","Quintero","ENEL_GENERACION","No",7]
[null,"Quintero B","Quintero","ENEL_GENERACION","No",7]
[null,"Renca U1","Renca","GMETROPOLITANA","No",1]
[null,"Renca U2","Renca","GMETROPOLITANA","No",1]
[null,"San Isidro","San Isidro","ENEL_GENERACION","No",27]
[null,"San Isidro II","San Isidro 2","ENEL_GENERACION","No",21]
[null,"San Lorenzo de D. de Almagro U1","San Lorenzo de D. de Almagro","ENLASA","No",1]
[null,"San Lorenzo de D. de Almagro U2","San Lorenzo de D. de Almagro","ENLASA","No",1]
[null,"Santa Lidia","Santa Lidia","GMETROPOLITANA","No",1]
[null,"Santa María","Santa María","COLBUN","No",2]
[null,"Taltal 1","Taltal","ENEL_GENERACION","No",7]
[null,"Taltal 2","Taltal","ENEL_GENERACION","No",7]
[null,"TG_Coronel","Coronel","SGA","No",3]
[null,"TG1","Tocopilla","ENGIE","No",1]
[null,"TG2","Tocopilla","ENGIE","No",1]
[null,"TG3","Tocopilla","ENGIE","No",5]
[null,"TGTAR","Tarapacá","ENEL_GENERACION","No",1]
[null,"U12","Tocopilla","ENGIE","No",1]
[null,"U13","Tocopilla","ENGIE","No",1]
[null,"U14","Tocopilla","ENGIE","No",1]
[null,"U15","Tocopilla","ENGIE","No",1]
[null,"U16","Tocopilla","ENGIE","No",11]
[null,"Valdivia","Valdivia","ARAUCO BIO","Sí",16]
[null,"Ventanas 1","Termoeléctrica Ventanas","AES_GENER","No",1]
[null,"Ventanas 2","Termoeléctrica Ventanas","AES_GENER","No",1]
[null,"Viñales","Viñales","ARAUCO BIO","Sí",2]
[null,"Yungay 1","Yungay","ORAZUL_CHILE","No",4]
[null,"Yungay 2","Yungay","ORAZUL_CHILE","No",4]
[null,"Yungay 3","Yungay","ORAZUL_CHILE","No",4]
[null,"Yungay 4 ca","Yungay","ORAZUL_CHILE","No",1]
[null,"Los Guindos 2","Los Guindos","LOS_GUINDOS","No",1]
[null,"Total general",null,null,null,650]

{"sheet":"Retiros Anuales","index":4,"n_rows":96,"n_cols":9,"rows_kept":96,"cut":false,"hidden":false,"merged":[]}
[]
[null,"Empresa","Medida_kWh","Prorrata",null,"Empresa","Energía Retirada kWh","Prorrata","Pago CLP"]
[null,"AASA_ENERGIA",-1407677.175,{"$f":"+TablaRetiros[[#This Row],[Medida_kWh]]/SUM(TablaRetiros[Medida_kWh])","v":1.9803206704738917E-5},null,{"$f":"+TablaRetiros[[#This Row],[Empresa]]","v":"AASA_ENERGIA"},{"$f":"+TablaRetiros[[#This Row],[Medida_kWh]]*-1","v":1407677.175},{"$f":"+TablaRetiros[[#This Row],[Prorrata]]","v":1.9803206704738917E-5},{"$f":"+H3*GETPIVOTDATA(\"Compensación\",Resultados!$Q$4)","v":440020.77873077209}]
[null,"ABASTIBLE",-261711.41500000004,{"$f":"+TablaRetiros[[#This Row],[Medida_kWh]]/SUM(TablaRetiros[Medida_kWh])","v":3.6817569683437605E-6},null,{"$f":"+TablaRetiros[[#This Row],[Empresa]]","v":"ABASTIBLE"},{"$f":"+TablaRetiros[[#This Row],[Medida_kWh]]*-1","v":261711.41500000004},{"$f":"+TablaRetiros[[#This Row],[Prorrata]]","v":3.6817569683437605E-6},{"$f":"+H4*GETPIVOTDATA(\"Compensación\",Resultados!$Q$4)","v":81807.436162366037}]
[null,"ACCIONA_ENERGIA",-829375473.66339874,{"$f":"+TablaRetiros[[#This Row],[Medida_kWh]]/SUM(TablaRetiros[Medida_kWh])","v":1.166765664208275E-2},null,{"$f":"+TablaRetiros[[#This Row],[Empresa]]","v":"ACCIONA_ENERGIA"},{"$f":"+TablaRetiros[[#This Row],[Medida_kWh]]*-1","v":829375473.66339874},{"$f":"+TablaRetiros[[#This Row],[Prorrata]]","v":1.166765664208275E-2},{"$f":"+H5*GETPIVOTDATA(\"Compensación\",Resultados!$Q$4)","v":259251516.08824775}]
[null,"AELA_GENERACION",-486005905.9143374,{"$f":"+TablaRetiros[[#This Row],[Medida_kWh]]/SUM(TablaRetiros[Medida_kWh])","v":6.8371325368300562E-3},null,{"$f":"+TablaRetiros[[#This Row],[Empresa]]","v":"AELA_GENERACION"},{"$f":"+TablaRetiros[[#This Row],[Medida_kWh]]*-1","v":486005905.9143374},{"$f":"+TablaRetiros[[#This Row],[Prorrata]]","v":6.8371325368300562E-3},{"$f":"+H6*GETPIVOTDATA(\"Compensación\",Resultados!$Q$4)","v":151918849.70940235}]
[null,"AES_GENER",-8190075541.7821674,{"$f":"+TablaRetiros[[#This Row],[Medida_kWh]]/SUM(TablaRetiros[Medida_kWh])","v":0.11521800719780714},null,{"$f":"+TablaRetiros[[#This Row],[Empresa]]","v":"AES_GENER"},{"$f":"+TablaRetiros[[#This Row],[Medida_kWh]]*-1","v":8190075541.7821674},{"$f":"+TablaRetiros[[#This Row],[Prorrata]]","v":0.11521800719780714},{"$f":"+H7*GETPIVOTDATA(\"Compensación\",Resultados!$Q$4)","v":2560106451.7927127}]
[null,"AGSA",-8994469.273,{"$f":"+TablaRetiros[[#This Row],[Medida_kWh]]/SUM(TablaRetiros[Medida_kWh])","v":1.2653422061250781E-4},null,{"$f":"+TablaRetiros[[#This Row],[Empresa]]","v":"AGSA"},{"$f":"+TablaRetiros[[#This Row],[Medida_kWh]]*-1","v":8994469.273},{"$f":"+TablaRetiros[[#This Row],[Prorrata]]","v":1.2653422061250781E-4},{"$f":"+H8*GETPIVOTDATA(\"Compensación\",Resultados!$Q$4)","v":2811549.0142656192}]
[null,"ALBA",-6713532.7029999997,{"$f":"+TablaRetiros[[#This Row],[Medida_kWh]]/SUM(TablaRetiros[Medida_kWh])","v":9.4445998129175863E-5},null,{"$f":"+TablaRetiros[[#This Row],[Empresa]]","v":"ALBA"},{"$f":"+TablaRetiros[[#This Row],[Medida_kWh]]*-1","v":6713532.7029999997},{"$f":"+TablaRetiros[[#This Row],[Prorrata]]","v":9.4445998129175863E-5},{"$f":"+H9*GETPIVOTDATA(\"Compensación\",Resultados!$Q$4)","v":2098559.2012661318}]
[null,"ALLIPEN",-33248827.550999999,{"$f":"+TablaRetiros[[#This Row],[Medida_kWh]]/SUM(TablaRetiros[Medida_kWh])","v":4.6774460535148706E-4},null,{"$f":"+TablaRetiros[[#This Row],[Empresa]]","v":"ALLIPEN"},{"$f":"+TablaRetiros[[#This Row],[Medida_kWh]]*-1","v":33248827.550999999},{"$f":"+TablaRetiros[[#This Row],[Prorrata]]","v":4.6774460535148706E-4},{"$f":"+H10*GETPIVOTDATA(\"Compensación\",Resultados!$Q$4)","v":10393132.211493142}]
[null,"ALMEYDA",-71500981.917815015,{"$f":"+TablaRetiros[[#This Row],[Medida_kWh]]/SUM(TablaRetiros[Medida_kWh])","v":1.0058760273002865E-3},null,{"$f":"+TablaRetiros[[#This Row],[Empresa]]","v":"ALMEYDA"},{"$f":"+TablaRetiros[[#This Row],[Medida_kWh]]*-1","v":71500981.917815015},{"$f":"+TablaRetiros[[#This Row],[Prorrata]]","v":1.0058760273002865E-3},{"$f":"+H11*GETPIVOTDATA(\"Compensación\",Resultados!$Q$4)","v":22350236.476265814}]
[null,"ANDINA",-1002855919.4641782,{"$f":"+TablaRetiros[[#This Row],[Medida_kWh]]/SUM(TablaRetiros[Medida_kWh])","v":1.4108180072053896E-2},null,{"$f":"+TablaRetiros[[#This Row],[Empresa]]","v":"ANDINA"},{"$f":"+TablaRetiros[[#This Row],[Medida_kWh]]*-1","v":1002855919.4641782},{"$f":"+TablaRetiros[[#This Row],[Prorrata]]","v":1.4108180072053896E-2},{"$f":"+H12*GETPIVOTDATA(\"Compensación\",Resultados!$Q$4)","v":313479148.82358742}]
[null,"ANGAMOS",-3148920684.5044761,{"$f":"+TablaRetiros[[#This Row],[Medida_kWh]]/SUM(TablaRetiros[Medida_kWh])","v":4.429902560014877E-2},null,{"$f":"+TablaRetiros[[#This Row],[Empresa]]","v":"ANGAMOS"},{"$f":"+TablaRetiros[[#This Row],[Medida_kWh]]*-1","v":3148920684.5044761},{"$f":"+TablaRetiros[[#This Row],[Prorrata]]","v":4.429902560014877E-2},{"$f":"+H13*GETPIVOTDATA(\"Compensación\",Resultados!$Q$4)","v":984309866.1858288}]
[null,"ARAUCO BIO",-459954344.53699982,{"$f":"+TablaRetiros[[#This Row],[Medida_kWh]]/SUM(TablaRetiros[Medida_kWh])","v":6.4706390935186601E-3},null,{"$f":"+TablaRetiros[[#This Row],[Empresa]]","v":"ARAUCO BIO"},{"$f":"+TablaRetiros[[#This Row],[Medida_kWh]]*-1","v":459954344.53699982},{"$f":"+TablaRetiros[[#This Row],[Prorrata]]","v":6.4706390935186601E-3},{"$f":"+H14*GETPIVOTDATA(\"Compensación\",Resultados!$Q$4)","v":143775485.21646839}]
[null,"ARRAYAN_EOLICO",-232961822.27500001,{"$f":"+TablaRetiros[[#This Row],[Medida_kWh]]/SUM(TablaRetiros[Medida_kWh])","v":3.2773076119703907E-3},null,{"$f":"+TablaRetiros[[#This Row],[Empresa]]","v":"ARRAYAN_EOLICO"},{"$f":"+TablaRetiros[[#This Row],[Medida_kWh]]*-1","v":232961822.27500001},{"$f":"+TablaRetiros[[#This Row],[Prorrata]]","v":3.2773076119703907E-3},{"$f":"+H15*GETPIVOTDATA(\"Compensación\",Resultados!$Q$4)","v":72820703.690095156}]
[null,"ATACAMA_GX_CHILE",-199268067.16972789,{"$f":"+TablaRetiros[[#This Row],[Medida_kWh]]/SUM(TablaRetiros[Medida_kWh])","v":2.8033037644557388E-3},null,{"$f":"+TablaRetiros[[#This Row],[Empresa]]","v":"ATACAMA_GX_CHILE"},{"$f":"+TablaRetiros[[#This Row],[Medida_kWh]]*-1","v":199268067.16972789},{"$f":"+TablaRetiros[[#This Row],[Prorrata]]","v":2.8033037644557388E-3},{"$f":"+H16*GETPIVOTDATA(\"Compensación\",Resultados!$Q$4)","v":62288493.164066158}]
[null,"ATRIA_ENERGIA",-26517518.419000003,{"$f":"+TablaRetiros[[#This Row],[Medida_kWh]]/SUM(TablaRetiros[Medida_kWh])","v":3.7304852836601442E-4},null,{"$f":"+TablaRetiros[[#This Row],[Empresa]]","v":"ATRIA_ENERGIA"},{"$f":"+TablaRetiros[[#This Row],[Medida_kWh]]*-1","v":26517518.419000003},{"$f":"+TablaRetiros[[#This Row],[Prorrata]]","v":3.7304852836601442E-4},{"$f":"+H17*GETPIVOTDATA(\"Compensación\",Resultados!$Q$4)","v":8289016.3397982018}]
[null,"BE FORESTALES",-44857847.322000012,{"$f":"+TablaRetiros[[#This Row],[Medida_kWh]]/SUM(TablaRetiros[Medida_kWh])","v":6.3106033018343519E-4},null,{"$f":"+TablaRetiros[[#This Row],[Empresa]]","v":"BE FORESTALES"},{"$f":"+TablaRetiros[[#This Row],[Medida_kWh]]*-1","v":44857847.322000012},{"$f":"+TablaRetiros[[#This Row],[Prorrata]]","v":6.3106033018343519E-4},{"$f":"+H18*GETPIVOTDATA(\"Compensación\",Resultados!$Q$4)","v":14021954.22456326}]
[null,"BESALCO",-98162643.122000039,{"$f":"+TablaRetiros[[#This Row],[Medida_kWh]]/SUM(TablaRetiros[Medida_kWh])","v":1.380952356799054E-3},null,{"$f":"+TablaRetiros[[#This Row],[Empresa]]","v":"BESALCO"},{"$f":"+TablaRetiros[[#This Row],[Medida_kWh]]*-1","v":98162643.122000039},{"$f":"+TablaRetiros[[#This Row],[Prorrata]]","v":1.380952356799054E-3},{"$f":"+H19*GETPIVOTDATA(\"Compensación\",Resultados!$Q$4)","v":30684309.894286182}]
[null,"CABO_LEONES",-130450313.94295371,{"$f":"+TablaRetiros[[#This Row],[Medida_kWh]]/SUM(TablaRetiros[Medida_kWh])","v":1.8351754063998355E-3},null,{"$f":"+TablaRetiros[[#This Row],[Empresa]]","v":"CABO_LEONES"},{"$f":"+TablaRetiros[[#This Row],[Medida_kWh]]*-1","v":130450313.94295371},{"$f":"+TablaRetiros[[#This Row],[Prorrata]]","v":1.8351754063998355E-3},{"$f":"+H20*GETPIVOTDATA(\"Compensación\",Resultados!$Q$4)","v":40776997.557591416}]
[null,"CARBOMET",-18163094.86500001,{"$f":"+TablaRetiros[[#This Row],[Medida_kWh]]/SUM(TablaRetiros[Medida_kWh])","v":2.5551847284117338E-4},null,{"$f":"+TablaRetiros[[#This Row],[Empresa]]","v":"CARBOMET"},{"$f":"+TablaRetiros[[#This Row],[Medida_kWh]]*-1","v":18163094.86500001},{"$f":"+TablaRetiros[[#This Row],[Prorrata]]","v":2.5551847284117338E-4},{"$f":"+H21*GETPIVOTDATA(\"Compensación\",Resultados!$Q$4)","v":5677536.9300551396}]
[null,"CAREN",-69746771.649853721,{"$f":"+TablaRetiros[[#This Row],[Medida_kWh]]/SUM(TablaRetiros[Medida_kWh])","v":9.8119779200815508E-4},null,{"$f":"+TablaRetiros[[#This Row],[Empresa]]","v":"CAREN"},{"$f":"+TablaRetiros[[#This Row],[Medida_kWh]]*-1","v":69746771.649853721},{"$f":"+TablaRetiros[[#This Row],[Prorrata]]","v":9.8119779200815508E-4},{"$f":"+H22*GETPIVOTDATA(\"Compensación\",Resultados!$Q$4)","v":21801894.156112868}]
[null,"CCAMPESINO",-209067210.13395894,{"$f":"+TablaRetiros[[#This Row],[Medida_kWh]]/SUM(TablaRetiros[Medida_kWh])","v":2.9411581369612498E-3},null,{"$f":"+TablaRetiros[[#This Row],[Empresa]]","v":"CCAMPESINO"},{"$f":"+TablaRetiros[[#This Row],[Medida_kWh]]*-1","v":209067210.13395894},{"$f":"+TablaRetiros[[#This Row],[Prorrata]]","v":2.9411581369612498E-3},{"$f":"+H23*GETPIVOTDATA(\"Compensación\",Resultados!$Q$4)","v":65351572.25250496}]
[null,"CERRO_DOMINADOR_CSP",-89175039.845073849,{"$f":"+TablaRetiros[[#This Row],[Medida_kWh]]/SUM(TablaRetiros[Medida_kWh])","v":1.2545147270398317E-3},null,{"$f":"+TablaRetiros[[#This Row],[Empresa]]","v":"CERRO_DOMINADOR_CSP"},{"$f":"+TablaRetiros[[#This Row],[Medida_kWh]]*-1","v":89175039.845073849},{"$f":"+TablaRetiros[[#This Row],[Prorrata]]","v":1.2545147270398317E-3},{"$f":"+H24*GETPIVOTDATA(\"Compensación\",Resultados!$Q$4)","v":27874907.097202186}]
[null,"CHACAYES",-454764676.54163784,{"$f":"+TablaRetiros[[#This Row],[Medida_kWh]]/SUM(TablaRetiros[Medida_kWh])","v":6.3976308286506009E-3},null,{"$f":"+TablaRetiros[[#This Row],[Empresa]]","v":"CHACAYES"},{"$f":"+TablaRetiros[[#This Row],[Medida_kWh]]*-1","v":454764676.54163784},{"$f":"+TablaRetiros[[#This Row],[Prorrata]]","v":6.3976308286506009E-3},{"$f":"+H25*GETPIVOTDATA(\"Compensación\",Resultados!$Q$4)","v":142153265.43964112}]
[null,"CHUNGUNGO",-105963361.383314,{"$f":"+TablaRetiros[[#This Row],[Medida_kWh]]/SUM(TablaRetiros[Medida_kWh])","v":1.4906928846116416E-3},null,{"$f":"+TablaRetiros[[#This Row],[Empresa]]","v":"CHUNGUNGO"},{"$f":"+TablaRetiros[[#This Row],[Medida_kWh]]*-1","v":105963361.383314},{"$f":"+TablaRetiros[[#This Row],[Prorrata]]","v":1.4906928846116416E-3},{"$f":"+H26*GETPIVOTDATA(\"Compensación\",Resultados!$Q$4)","v":33122708.544887822}]
[null,"COCHRANE",-1775675670.689847,{"$f":"+TablaRetiros[[#This Row],[Medida_kWh]]/SUM(TablaRetiros[Medida_kWh])","v":2.4980210641866056E-2},null,{"$f":"+TablaRetiros[[#This Row],[Empresa]]","v":"COCHRANE"},{"$f":"+TablaRetiros[[#This Row],[Medida_kWh]]*-1","v":1775675670.689847},{"$f":"+TablaRetiros[[#This Row],[Prorrata]]","v":2.4980210641866056E-2},{"$f":"+H27*GETPIVOTDATA(\"Compensación\",Resultados!$Q$4)","v":555052113.69945836}]
[null,"COLBUN",-10807047213.332043,{"$f":"+TablaRetiros[[#This Row],[Medida_kWh]]/SUM(TablaRetiros[Medida_kWh])","v":0.15203357249398258},null,{"$f":"+TablaRetiros[[#This Row],[Empresa]]","v":"COLBUN"},{"$f":"+TablaRetiros[[#This Row],[Medida_kWh]]*-1","v":10807047213.332043},{"$f":"+TablaRetiros[[#This Row],[Prorrata]]","v":0.15203357249398258},{"$f":"+H28*GETPIVOTDATA(\"Compensación\",Resultados!$Q$4)","v":3378136276.5867004}]
[null,"COMASA",-49292657.825999998,{"$f":"+TablaRetiros[[#This Row],[Medida_kWh]]/SUM(TablaRetiros[Medida_kWh])","v":6.934492576071245E-4},null,{"$f":"+TablaRetiros[[#This Row],[Empresa]]","v":"COMASA"},{"$f":"+TablaRetiros[[#This Row],[Medida_kWh]]*-1","v":49292657.825999998},{"$f":"+TablaRetiros[[#This Row],[Prorrata]]","v":6.934492576071245E-4},{"$f":"+H29*GETPIVOTDATA(\"Compensación\",Resultados!$Q$4)","v":15408215.7951492}]
[null,"CONEJO_SOLAR",-210637301.82300046,{"$f":"+TablaRetiros[[#This Row],[Medida_kWh]]/SUM(TablaRetiros[Medida_kWh])","v":2.9632461915349005E-3},null,{"$f":"+TablaRetiros[[#This Row],[Empresa]]","v":"CONEJO_SOLAR"},{"$f":"+TablaRetiros[[#This Row],[Medida_kWh]]*-1","v":210637301.82300046},{"$f":"+TablaRetiros[[#This Row],[Prorrata]]","v":2.9632461915349005E-3},{"$f":"+H30*GETPIVOTDATA(\"Compensación\",Resultados!$Q$4)","v":65842361.603899233}]
[null,"COYANCO",-40958662.831000008,{"$f":"+TablaRetiros[[#This Row],[Medida_kWh]]/SUM(TablaRetiros[Medida_kWh])","v":5.7620659111134618E-4},null,{"$f":"+TablaRetiros[[#This Row],[Empresa]]","v":"COYANCO"},{"$f":"+TablaRetiros[[#This Row],[Medida_kWh]]*-1","v":40958662.831000008},{"$f":"+TablaRetiros[[#This Row],[Prorrata]]","v":5.7620659111134618E-4},{"$f":"+H31*GETPIVOTDATA(\"Compensación\",Resultados!$Q$4)","v":12803122.075676017}]
[null,"CUMPEO",-906747.37499999988,{"$f":"+TablaRetiros[[#This Row],[Medida_kWh]]/SUM(TablaRetiros[Medida_kWh])","v":1.2756124781311744E-5},null,{"$f":"+TablaRetiros[[#This Row],[Empresa]]","v":"CUMPEO"},{"$f":"+TablaRetiros[[#This Row],[Medida_kWh]]*-1","v":906747.37499999988},{"$f":"+TablaRetiros[[#This Row],[Prorrata]]","v":1.2756124781311744E-5},{"$f":"+H32*GETPIVOTDATA(\"Compensación\",Resultados!$Q$4)","v":283436.92228978802}]
[null,"DUQUECO",-221861691.28512642,{"$f":"+TablaRetiros[[#This Row],[Medida_kWh]]/SUM(TablaRetiros[Medida_kWh])","v":3.1211509360321416E-3},null,{"$f":"+TablaRetiros[[#This Row],[Empresa]]","v":"DUQUECO"},{"$f":"+TablaRetiros[[#This Row],[Medida_kWh]]*-1","v":221861691.28512642},{"$f":"+TablaRetiros[[#This Row],[Prorrata]]","v":3.1211509360321416E-3},{"$f":"+H33*GETPIVOTDATA(\"Compensación\",Resultados!$Q$4)","v":69350953.402940184}]
[null,"EGP_SUR",-2545728.564999999,{"$f":"+TablaRetiros[[#This Row],[Medida_kWh]]/SUM(TablaRetiros[Medida_kWh])","v":3.5813317060321985E-5},null,{"$f":"+TablaRetiros[[#This Row],[Empresa]]","v":"EGP_SUR"},{"$f":"+TablaRetiros[[#This Row],[Medida_kWh]]*-1","v":2545728.564999999},{"$f":"+TablaRetiros[[#This Row],[Prorrata]]","v":3.5813317060321985E-5},{"$f":"+H34*GETPIVOTDATA(\"Compensación\",Resultados!$Q$4)","v":795760.19665763946}]
[null,"EL_CAMPESINO_I",-134996.95100000012,{"$f":"+TablaRetiros[[#This Row],[Medida_kWh]]/SUM(TablaRetiros[Medida_kWh])","v":1.8991375101059753E-6},null,{"$f":"+TablaRetiros[[#This Row],[Empresa]]","v":"EL_CAMPESINO_I"},{"$f":"+TablaRetiros[[#This Row],[Medida_kWh]]*-1","v":134996.95100000012},{"$f":"+TablaRetiros[[#This Row],[Prorrata]]","v":1.8991375101059753E-6},{"$f":"+H35*GETPIVOTDATA(\"Compensación\",Resultados!$Q$4)","v":42198.214590855983}]
[null,"EL_MORADO",-22310710.448970605,{"$f":"+TablaRetiros[[#This Row],[Medida_kWh]]/SUM(TablaRetiros[Medida_kWh])","v":3.1386714127160814E-4},null,{"$f":"+TablaRetiros[[#This Row],[Empresa]]","v":"EL_MORADO"},{"$f":"+TablaRetiros[[#This Row],[Medida_kWh]]*-1","v":22310710.448970605},{"$f":"+TablaRetiros[[#This Row],[Prorrata]]","v":3.1386714127160814E-4},{"$f":"+H36*GETPIVOTDATA(\"Compensación\",Resultados!$Q$4)","v":6974025.2666900121}]
[null,"EL_PELICANO",-217229979.34299999,{"$f":"+TablaRetiros[[#This Row],[Medida_kWh]]/SUM(TablaRetiros[Medida_kWh])","v":3.0559919985884503E-3},null,{"$f":"+TablaRetiros[[#This Row],[Empresa]]","v":"EL_PELICANO"},{"$f":"+TablaRetiros[[#This Row],[Medida_kWh]]*-1","v":217229979.34299999},{"$f":"+TablaRetiros[[#This Row],[Prorrata]]","v":3.0559919985884503E-3},{"$f":"+H37*GETPIVOTDATA(\"Compensación\",Resultados!$Q$4)","v":67903143.115307242}]
[null,"ELECTRICA CENIZAS",-100417720.711,{"$f":"+TablaRetiros[[#This Row],[Medida_kWh]]/SUM(TablaRetiros[Medida_kWh])","v":1.412676795060398E-3},null,{"$f":"+TablaRetiros[[#This Row],[Empresa]]","v":"ELECTRICA CENIZAS"},{"$f":"+TablaRetiros[[#This Row],[Medida_kWh]]*-1","v":100417720.711},{"$f":"+TablaRetiros[[#This Row],[Prorrata]]","v":1.412676795060398E-3},{"$f":"+H38*GETPIVOTDATA(\"Compensación\",Resultados!$Q$4)","v":31389216.540804818}]
[null,"EMBALSE_ANCOA",-10638523.229000004,{"$f":"+TablaRetiros[[#This Row],[Medida_kWh]]/SUM(TablaRetiros[Medida_kWh])","v":1.4966277657876606E-4},null,{"$f":"+TablaRetiros[[#This Row],[Empresa]]","v":"EMBALSE_ANCOA"},{"$f":"+TablaRetiros[[#This Row],[Medida_kWh]]*-1","v":10638523.229000004},{"$f":"+TablaRetiros[[#This Row],[Prorrata]]","v":1.4966277657876606E-4},{"$f":"+H39*GETPIVOTDATA(\"Compensación\",Resultados!$Q$4)","v":3325457.966433241}]
[null,"EMELDA",-137959598.699224,{"$f":"+TablaRetiros[[#This Row],[Medida_kWh]]/SUM(TablaRetiros[Medida_kWh])","v":1.9408160467925203E-3},null,{"$f":"+TablaRetiros[[#This Row],[Empresa]]","v":"EMELDA"},{"$f":"+TablaRetiros[[#This Row],[Medida_kWh]]*-1","v":137959598.699224},{"$f":"+TablaRetiros[[#This Row],[Prorrata]]","v":1.9408160467925203E-3},{"$f":"+H40*GETPIVOTDATA(\"Compensación\",Resultados!$Q$4)","v":43124298.050096147}]
[null,"ENEL_GENERACION",-18475816822.724319,{"$f":"+TablaRetiros[[#This Row],[Medida_kWh]]/SUM(TablaRetiros[Medida_kWh])","v":0.25991784627700759},null,{"$f":"+TablaRetiros[[#This Row],[Empresa]]","v":"ENEL_GENERACION"},{"$f":"+TablaRetiros[[#This Row],[Medida_kWh]]*-1","v":18475816822.724319},{"$f":"+TablaRetiros[[#This Row],[Prorrata]]","v":0.25991784627700759},{"$f":"+H41*GETPIVOTDATA(\"Compensación\",Resultados!$Q$4)","v":5775289569.5152931}]
[null,"ENERGIA PACIFICO",-46962807.238000005,{"$f":"+TablaRetiros[[#This Row],[Medida_kWh]]/SUM(TablaRetiros[Medida_kWh])","v":6.6067291257238935E-4},null,{"$f":"+TablaRetiros[[#This Row],[Empresa]]","v":"ENERGIA PACIFICO"},{"$f":"+TablaRetiros[[#This Row],[Medida_kWh]]*-1","v":46962807.238000005},{"$f":"+TablaRetiros[[#This Row],[Prorrata]]","v":6.6067291257238935E-4},{"$f":"+H42*GETPIVOTDATA(\"Compensación\",Resultados!$Q$4)","v":14679936.124024957}]
[null,"ENERGIA_LEON",-11978641.4,{"$f":"+TablaRetiros[[#This Row],[Medida_kWh]]/SUM(TablaRetiros[Medida_kWh])","v":1.6851556301333305E-4},null,{"$f":"+TablaRetiros[[#This Row],[Empresa]]","v":"ENERGIA_LEON"},{"$f":"+TablaRetiros[[#This Row],[Medida_kWh]]*-1","v":11978641.4},{"$f":"+TablaRetiros[[#This Row],[Prorrata]]","v":1.6851556301333305E-4},{"$f":"+H43*GETPIVOTDATA(\"Compensación\",Resultados!$Q$4)","v":3744360.7174810274}]
[null,"ENGIE",-8741551493.3547249,{"$f":"+TablaRetiros[[#This Row],[Medida_kWh]]/SUM(TablaRetiros[Medida_kWh])","v":0.12297617253261407},null,{"$f":"+TablaRetiros[[#This Row],[Empresa]]","v":"ENGIE"},{"$f":"+TablaRetiros[[#This Row],[Medida_kWh]]*-1","v":8741551493.3547249},{"$f":"+TablaRetiros[[#This Row],[Prorrata]]","v":0.12297617253261407},{"$f":"+H44*GETPIVOTDATA(\"Compensación\",Resultados!$Q$4)","v":2732490349.160552}]
[null,"ENORCHILE",-379271729.17770475,{"$f":"+TablaRetiros[[#This Row],[Medida_kWh]]/SUM(TablaRetiros[Medida_kWh])","v":5.3355958195243488E-3},null,{"$f":"+TablaRetiros[[#This Row],[Empresa]]","v":"ENORCHILE"},{"$f":"+TablaRetiros[[#This Row],[Medida_kWh]]*-1","v":379271729.17770475},{"$f":"+TablaRetiros[[#This Row],[Prorrata]]","v":5.3355958195243488E-3},{"$f":"+H45*GETPIVOTDATA(\"Compensación\",Resultados!$Q$4)","v":118555194.74721904}]
[null,"EOLICA_ESPERANZA",-35639839.539999999,{"$f":"+TablaRetiros[[#This Row],[Medida_kWh]]/SUM(TablaRetiros[Medida_kWh])","v":5.0138136915827108E-4},null,{"$f":"+TablaRetiros[[#This Row],[Empresa]]","v":"EOLICA_ESPERANZA"},{"$f":"+TablaRetiros[[#This Row],[Medida_kWh]]*-1","v":35639839.539999999},{"$f":"+TablaRetiros[[#This Row],[Prorrata]]","v":5.0138136915827108E-4},{"$f":"+H46*GETPIVOTDATA(\"Compensación\",Resultados!$Q$4)","v":11140530.106436202}]
[null,"ERNC1",-40594701.469281338,{"$f":"+TablaRetiros[[#This Row],[Medida_kWh]]/SUM(TablaRetiros[Medida_kWh])","v":5.7108638158699058E-4},null,{"$f":"+TablaRetiros[[#This Row],[Empresa]]","v":"ERNC1"},{"$f":"+TablaRetiros[[#This Row],[Medida_kWh]]*-1","v":40594701.469281338},{"$f":"+TablaRetiros[[#This Row],[Prorrata]]","v":5.7108638158699058E-4},{"$f":"+H47*GETPIVOTDATA(\"Compensación\",Resultados!$Q$4)","v":12689352.693991356}]
[null,"ERSA",-311316348.33715945,{"$f":"+TablaRetiros[[#This Row],[Medida_kWh]]/SUM(TablaRetiros[Medida_kWh])","v":4.3795993187751101E-3},null,{"$f":"+TablaRetiros[[#This Row],[Empresa]]","v":"ERSA"},{"$f":"+TablaRetiros[[#This Row],[Medida_kWh]]*-1","v":311316348.33715945},{"$f":"+TablaRetiros[[#This Row],[Prorrata]]","v":4.3795993187751101E-3},{"$f":"+H48*GETPIVOTDATA(\"Compensación\",Resultados!$Q$4)","v":97313265.043838754}]
[null,"ESTANCILLA SPA",-156635.28199999989,{"$f":"+TablaRetiros[[#This Row],[Medida_kWh]]/SUM(TablaRetiros[Medida_kWh])","v":2.2035456152800576E-6},null,{"$f":"+TablaRetiros[[#This Row],[Empresa]]","v":"ESTANCILLA SPA"},{"$f":"+TablaRetiros[[#This Row],[Medida_kWh]]*-1","v":156635.28199999989},{"$f":"+TablaRetiros[[#This Row],[Prorrata]]","v":2.2035456152800576E-6},{"$f":"+H49*GETPIVOTDATA(\"Compensación\",Resultados!$Q$4)","v":48962.06316789503}]
[null,"GAS SUR",-1501622.4279999998,{"$f":"+TablaRetiros[[#This Row],[Medida_kWh]]/SUM(TablaRetiros[Medida_kWh])","v":2.1124828804698015E-5},null,{"$f":"+TablaRetiros[[#This Row],[Empresa]]","v":"GAS SUR"},{"$f":"+TablaRetiros[[#This Row],[Medida_kWh]]*-1","v":1501622.4279999998},{"$f":"+TablaRetiros[[#This Row],[Prorrata]]","v":2.1124828804698015E-5},{"$f":"+H50*GETPIVOTDATA(\"Compensación\",Resultados!$Q$4)","v":469386.78971487383}]
[null,"GASATACAMA",-845814731.69834924,{"$f":"+TablaRetiros[[#This Row],[Medida_kWh]]/SUM(TablaRetiros[Medida_kWh])","v":1.1898924173247106E-2},null,{"$f":"+TablaRetiros[[#This Row],[Empresa]]","v":"GASATACAMA"},{"$f":"+TablaRetiros[[#This Row],[Medida_kWh]]*-1","v":845814731.69834924},{"$f":"+TablaRetiros[[#This Row],[Prorrata]]","v":1.1898924173247106E-2},{"$f":"+H51*GETPIVOTDATA(\"Compensación\",Resultados!$Q$4)","v":264390205.02258742}]
[null,"GM_HOLDINGS",-1018295473.9518168,{"$f":"+TablaRetiros[[#This Row],[Medida_kWh]]/SUM(TablaRetiros[Medida_kWh])","v":1.4325383770727056E-2},null,{"$f":"+TablaRetiros[[#This Row],[Empresa]]","v":"GM_HOLDINGS"},{"$f":"+TablaRetiros[[#This Row],[Medida_kWh]]*-1","v":1018295473.9518168},{"$f":"+TablaRetiros[[#This Row],[Prorrata]]","v":1.4325383770727056E-2},{"$f":"+H52*GETPIVOTDATA(\"Compensación\",Resultados!$Q$4)","v":318305343.99785167}]
[null,"GUACOLDA",-3529543685.9070587,{"$f":"+TablaRetiros[[#This Row],[Medida_kWh]]/SUM(TablaRetiros[Medida_kWh])","v":4.9653631121370972E-2},null,{"$f":"+TablaRetiros[[#This Row],[Empresa]]","v":"GUACOLDA"},{"$f":"+TablaRetiros[[#This Row],[Medida_kWh]]*-1","v":3529543685.9070587},{"$f":"+TablaRetiros[[#This Row],[Prorrata]]","v":4.9653631121370972E-2},{"$f":"+H53*GETPIVOTDATA(\"Compensación\",Resultados!$Q$4)","v":1103287450.2899456}]
[null,"HELIO_ATACAMA_TRES",-16872440.824999999,{"$f":"+TablaRetiros[[#This Row],[Medida_kWh]]/SUM(TablaRetiros[Medida_kWh])","v":2.373615479493376E-4},null,{"$f":"+TablaRetiros[[#This Row],[Empresa]]","v":"HELIO_ATACAMA_TRES"},{"$f":"+TablaRetiros[[#This Row],[Medida_kWh]]*-1","v":16872440.824999999},{"$f":"+TablaRetiros[[#This Row],[Prorrata]]","v":2.373615479493376E-4},{"$f":"+H54*GETPIVOTDATA(\"Compensación\",Resultados!$Q$4)","v":5274095.9949893132}]
[null,"HIDROLIRCAY",-127499361.26100001,{"$f":"+TablaRetiros[[#This Row],[Medida_kWh]]/SUM(TablaRetiros[Medida_kWh])","v":1.7936613952511979E-3},null,{"$f":"+TablaRetiros[[#This Row],[Empresa]]","v":"HIDROLIRCAY"},{"$f":"+TablaRetiros[[#This Row],[Medida_kWh]]*-1","v":127499361.26100001},{"$f":"+TablaRetiros[[#This Row],[Prorrata]]","v":1.7936613952511979E-3},{"$f":"+H55*GETPIVOTDATA(\"Compensación\",Resultados!$Q$4)","v":39854569.802015334}]
[null,"HORNITOS",-1293362761.4776011,{"$f":"+TablaRetiros[[#This Row],[Medida_kWh]]/SUM(TablaRetiros[Medida_kWh])","v":1.8195031193677533E-2},null,{"$f":"+TablaRetiros[[#This Row],[Empresa]]","v":"HORNITOS"},{"$f":"+TablaRetiros[[#This Row],[Medida_kWh]]*-1","v":1293362761.4776011},{"$f":"+TablaRetiros[[#This Row],[Prorrata]]","v":1.8195031193677533E-2},{"$f":"+H56*GETPIVOTDATA(\"Compensación\",Resultados!$Q$4)","v":404287644.63468397}]
[null,"HUAJACHE",-18655316.110999998,{"$f":"+TablaRetiros[[#This Row],[Medida_kWh]]/SUM(TablaRetiros[Medida_kWh])","v":2.6244304280090291E-4},null,{"$f":"+TablaRetiros[[#This Row],[Empresa]]","v":"HUAJACHE"},{"$f":"+TablaRetiros[[#This Row],[Medida_kWh]]*-1","v":18655316.110999998},{"$f":"+TablaRetiros[[#This Row],[Prorrata]]","v":2.6244304280090291E-4},{"$f":"+H57*GETPIVOTDATA(\"Compensación\",Resultados!$Q$4)","v":5831398.6107155131}]
[null,"IMELSA_ENERGIA",-142188600.80899999,{"$f":"+TablaRetiros[[#This Row],[Medida_kWh]]/SUM(TablaRetiros[Medida_kWh])","v":2.0003096611112088E-3},null,{"$f":"+TablaRetiros[[#This Row],[Empresa]]","v":"IMELSA_ENERGIA"},{"$f":"+TablaRetiros[[#This Row],[Medida_kWh]]*-1","v":142188600.80899999},{"$f":"+TablaRetiros[[#This Row],[Prorrata]]","v":2.0003096611112088E-3},{"$f":"+H58*GETPIVOTDATA(\"Compensación\",Resultados!$Q$4)","v":44446226.710051656}]
[null,"JAVIERA",-186818834.2929996,{"$f":"+TablaRetiros[[#This Row],[Medida_kWh]]/SUM(TablaRetiros[Medida_kWh])","v":2.6281679191414312E-3},null,{"$f":"+TablaRetiros[[#This Row],[Empresa]]","v":"JAVIERA"},{"$f":"+TablaRetiros[[#This Row],[Medida_kWh]]*-1","v":186818834.2929996},{"$f":"+TablaRetiros[[#This Row],[Prorrata]]","v":2.6281679191414312E-3},{"$f":"+H59*GETPIVOTDATA(\"Compensación\",Resultados!$Q$4)","v":58397031.938221738}]
[null,"KALTEMP",-3367828.6880000005,{"$f":"+TablaRetiros[[#This Row],[Medida_kWh]]/SUM(TablaRetiros[Medida_kWh])","v":4.7378624047529702E-5},null,{"$f":"+TablaRetiros[[#This Row],[Empresa]]","v":"KALTEMP"},{"$f":"+TablaRetiros[[#This Row],[Medida_kWh]]*-1","v":3367828.6880000005},{"$f":"+TablaRetiros[[#This Row],[Prorrata]]","v":4.7378624047529702E-5},{"$f":"+H60*GETPIVOTDATA(\"Compensación\",Resultados!$Q$4)","v":1052737.5368756652}]
[null,"KDM_ENERGIA",-127129641.366,{"$f":"+TablaRetiros[[#This Row],[Medida_kWh]]/SUM(TablaRetiros[Medida_kWh])","v":1.7884601746634308E-3},null,{"$f":"+TablaRetiros[[#This Row],[Empresa]]","v":"KDM_ENERGIA"},{"$f":"+TablaRetiros[[#This Row],[Medida_kWh]]*-1","v":127129641.366},{"$f":"+TablaRetiros[[#This Row],[Prorrata]]","v":1.7884601746634308E-3},{"$f":"+H61*GETPIVOTDATA(\"Compensación\",Resultados!$Q$4)","v":39739000.380986564}]
[null,"LA ARENA SPA",-73062285.818999976,{"$f":"+TablaRetiros[[#This Row],[Medida_kWh]]/SUM(TablaRetiros[Medida_kWh])","v":1.0278404552481084E-3},null,{"$f":"+TablaRetiros[[#This Row],[Empresa]]","v":"LA ARENA SPA"},{"$f":"+TablaRetiros[[#This Row],[Medida_kWh]]*-1","v":73062285.818999976},{"$f":"+TablaRetiros[[#This Row],[Prorrata]]","v":1.0278404552481084E-3},{"$f":"+H62*GETPIVOTDATA(\"Compensación\",Resultados!$Q$4)","v":22838278.884451337}]
[null,"LA CONFLUENCIA",-245576173.34429166,{"$f":"+TablaRetiros[[#This Row],[Medida_kWh]]/SUM(TablaRetiros[Medida_kWh])","v":3.4547663405111351E-3},null,{"$f":"+TablaRetiros[[#This Row],[Empresa]]","v":"LA CONFLUENCIA"},{"$f":"+TablaRetiros[[#This Row],[Medida_kWh]]*-1","v":245576173.34429166},{"$f":"+TablaRetiros[[#This Row],[Prorrata]]","v":3.4547663405111351E-3},{"$f":"+H63*GETPIVOTDATA(\"Compensación\",Resultados!$Q$4)","v":76763778.621812403}]
[null,"LA HIGUERA",-269801369.33425003,{"$f":"+TablaRetiros[[#This Row],[Medida_kWh]]/SUM(TablaRetiros[Medida_kWh])","v":3.7955664700947932E-3},null,{"$f":"+TablaRetiros[[#This Row],[Empresa]]","v":"LA HIGUERA"},{"$f":"+TablaRetiros[[#This Row],[Medida_kWh]]*-1","v":269801369.33425003},{"$f":"+TablaRetiros[[#This Row],[Prorrata]]","v":3.7955664700947932E-3},{"$f":"+H64*GETPIVOTDATA(\"Compensación\",Resultados!$Q$4)","v":84336246.083613127}]
[null,"LIPIGAS",-63604496.269000001,{"$f":"+TablaRetiros[[#This Row],[Medida_kWh]]/SUM(TablaRetiros[Medida_kWh])","v":8.9478824359413378E-4},null,{"$f":"+TablaRetiros[[#This Row],[Empresa]]","v":"LIPIGAS"},{"$f":"+TablaRetiros[[#This Row],[Medida_kWh]]*-1","v":63604496.269000001},{"$f":"+TablaRetiros[[#This Row],[Prorrata]]","v":8.9478824359413378E-4},{"$f":"+H65*GETPIVOTDATA(\"Compensación\",Resultados!$Q$4)","v":19881902.240166582}]
[null,"LOS_CURUROS",-13982408.938000003,{"$f":"+TablaRetiros[[#This Row],[Medida_kWh]]/SUM(TablaRetiros[Medida_kWh])","v":1.9670457072617023E-4},null,{"$f":"+TablaRetiros[[#This Row],[Empresa]]","v":"LOS_CURUROS"},{"$f":"+TablaRetiros[[#This Row],[Medida_kWh]]*-1","v":13982408.938000003},{"$f":"+TablaRetiros[[#This Row],[Prorrata]]","v":1.9670457072617023E-4},{"$f":"+H66*GETPIVOTDATA(\"Compensación\",Resultados!$Q$4)","v":4370711.2530476805}]
[null,"LUZ_DEL_NORTE",-122244787.93324779,{"$f":"+TablaRetiros[[#This Row],[Medida_kWh]]/SUM(TablaRetiros[Medida_kWh])","v":1.7197400419731034E-3},null,{"$f":"+TablaRetiros[[#This Row],[Empresa]]","v":"LUZ_DEL_NORTE"},{"$f":"+TablaRetiros[[#This Row],[Medida_kWh]]*-1","v":122244787.93324779},{"$f":"+TablaRetiros[[#This Row],[Prorrata]]","v":1.7197400419731034E-3},{"$f":"+H67*GETPIVOTDATA(\"Compensación\",Resultados!$Q$4)","v":38212061.499232434}]
[null,"MALLARAUCO",-1322142.2760000005,{"$f":"+TablaRetiros[[#This Row],[Medida_kWh]]/SUM(TablaRetiros[Medida_kWh])","v":1.8599901489986141E-5},null,{"$f":"+TablaRetiros[[#This Row],[Empresa]]","v":"MALLARAUCO"},{"$f":"+TablaRetiros[[#This Row],[Medida_kWh]]*-1","v":1322142.2760000005},{"$f":"+TablaRetiros[[#This Row],[Prorrata]]","v":1.8599901489986141E-5},{"$f":"+H68*GETPIVOTDATA(\"Compensación\",Resultados!$Q$4)","v":413283.73025469825}]
[null,"MONTE REDONDO",-189694456.89386055,{"$f":"+TablaRetiros[[#This Row],[Medida_kWh]]/SUM(TablaRetiros[Medida_kWh])","v":2.6686221864841322E-3},null,{"$f":"+TablaRetiros[[#This Row],[Empresa]]","v":"MONTE REDONDO"},{"$f":"+TablaRetiros[[#This Row],[Medida_kWh]]*-1","v":189694456.89386055},{"$f":"+TablaRetiros[[#This Row],[Prorrata]]","v":2.6686221864841322E-3},{"$f":"+H69*GETPIVOTDATA(\"Compensación\",Resultados!$Q$4)","v":59295912.532891206}]
[null,"NEOMAS",-69566407.392999977,{"$f":"+TablaRetiros[[#This Row],[Medida_kWh]]/SUM(TablaRetiros[Medida_kWh])","v":9.7866042710371861E-4},null,{"$f":"+TablaRetiros[[#This Row],[Empresa]]","v":"NEOMAS"},{"$f":"+TablaRetiros[[#This Row],[Medida_kWh]]*-1","v":69566407.392999977},{"$f":"+TablaRetiros[[#This Row],[Prorrata]]","v":9.7866042710371861E-4},{"$f":"+H70*GETPIVOTDATA(\"Compensación\",Resultados!$Q$4)","v":21745514.737475224}]
[null,"NORACID",-19652679.436907195,{"$f":"+TablaRetiros[[#This Row],[Medida_kWh]]/SUM(TablaRetiros[Medida_kWh])","v":2.7647395305038254E-4},null,{"$f":"+TablaRetiros[[#This Row],[Empresa]]","v":"NORACID"},{"$f":"+TablaRetiros[[#This Row],[Medida_kWh]]*-1","v":19652679.436907195},{"$f":"+TablaRetiros[[#This Row],[Prorrata]]","v":2.7647395305038254E-4},{"$f":"+H71*GETPIVOTDATA(\"Compensación\",Resultados!$Q$4)","v":6143160.8493432691}]
[null,"NORVIND",-33679394.39491836,{"$f":"+TablaRetiros[[#This Row],[Medida_kWh]]/SUM(TablaRetiros[Medida_kWh])","v":4.7380182099847823E-4},null,{"$f":"+TablaRetiros[[#This Row],[Empresa]]","v":"NORVIND"},{"$f":"+TablaRetiros[[#This Row],[Medida_kWh]]*-1","v":33679394.39491836},{"$f":"+TablaRetiros[[#This Row],[Prorrata]]","v":4.7380182099847823E-4},{"$f":"+H72*GETPIVOTDATA(\"Compensación\",Resultados!$Q$4)","v":10527721.562888008}]
[null,"NUEVA ENERGIA",-57960935.104999997,{"$f":"+TablaRetiros[[#This Row],[Medida_kWh]]/SUM(TablaRetiros[Medida_kWh])","v":8.1539460827321651E-4},null,{"$f":"+TablaRetiros[[#This Row],[Empresa]]","v":"NUEVA ENERGIA"},{"$f":"+TablaRetiros[[#This Row],[Medida_kWh]]*-1","v":57960935.104999997},{"$f":"+TablaRetiros[[#This Row],[Prorrata]]","v":8.1539460827321651E-4},{"$f":"+H73*GETPIVOTDATA(\"Compensación\",Resultados!$Q$4)","v":18117801.619441502}]
[null,"ON GROUP",-25724970.34134905,{"$f":"+TablaRetiros[[#This Row],[Medida_kWh]]/SUM(TablaRetiros[Medida_kWh])","v":3.618989596410933E-4},null,{"$f":"+TablaRetiros[[#This Row],[Empresa]]","v":"ON GROUP"},{"$f":"+TablaRetiros[[#This Row],[Medida_kWh]]*-1","v":25724970.34134905},{"$f":"+TablaRetiros[[#This Row],[Prorrata]]","v":3.618989596410933E-4},{"$f":"+H74*GETPIVOTDATA(\"Compensación\",Resultados!$Q$4)","v":8041276.5678511644}]
[null,"ORAZUL_DUQUECO",-27180531.928919479,{"$f":"+TablaRetiros[[#This Row],[Medida_kWh]]/SUM(TablaRetiros[Medida_kWh])","v":3.8237580440497547E-4},null,{"$f":"+TablaRetiros[[#This Row],[Empresa]]","v":"ORAZUL_DUQUECO"},{"$f":"+TablaRetiros[[#This Row],[Medida_kWh]]*-1","v":27180531.928919479},{"$f":"+TablaRetiros[[#This Row],[Prorrata]]","v":3.8237580440497547E-4},{"$f":"+H75*GETPIVOTDATA(\"Compensación\",Resultados!$Q$4)","v":8496265.3640240803}]
[null,"PACIFIC HYDRO",-8167012.4520000014,{"$f":"+TablaRetiros[[#This Row],[Medida_kWh]]/SUM(TablaRetiros[Medida_kWh])","v":1.1489355558182765E-4},null,{"$f":"+TablaRetiros[[#This Row],[Empresa]]","v":"PACIFIC HYDRO"},{"$f":"+TablaRetiros[[#This Row],[Medida_kWh]]*-1","v":8167012.4520000014},{"$f":"+TablaRetiros[[#This Row],[Prorrata]]","v":1.1489355558182765E-4},{"$f":"+H76*GETPIVOTDATA(\"Compensación\",Resultados!$Q$4)","v":2552897.2429583883}]
[null,"PANGUIPULLI",-437124563.02899164,{"$f":"+TablaRetiros[[#This Row],[Medida_kWh]]/SUM(TablaRetiros[Medida_kWh])","v":6.1494696590372686E-3},null,{"$f":"+TablaRetiros[[#This Row],[Empresa]]","v":"PANGUIPULLI"},{"$f":"+TablaRetiros[[#This Row],[Medida_kWh]]*-1","v":437124563.02899164},{"$f":"+TablaRetiros[[#This Row],[Prorrata]]","v":6.1494696590372686E-3},{"$f":"+H77*GETPIVOTDATA(\"Compensación\",Resultados!$Q$4)","v":136639205.38199061}]
[null,"PARQUE_EOLICO_LEBU",-16097704.278000005,{"$f":"+TablaRetiros[[#This Row],[Medida_kWh]]/SUM(TablaRetiros[Medida_kWh])","v":2.2646255189084387E-4},null,{"$f":"+TablaRetiros[[#This Row],[Empresa]]","v":"PARQUE_EOLICO_LEBU"},{"$f":"+TablaRetiros[[#This Row],[Medida_kWh]]*-1","v":16097704.278000005},{"$f":"+TablaRetiros[[#This Row],[Prorrata]]","v":2.2646255189084387E-4},{"$f":"+H78*GETPIVOTDATA(\"Compensación\",Resultados!$Q$4)","v":5031923.865770746}]
[null,"PEHUENCHE",-334814830.14400005,{"$f":"+TablaRetiros[[#This Row],[Medida_kWh]]/SUM(TablaRetiros[Medida_kWh])","v":4.7101760310588846E-3},null,{"$f":"+TablaRetiros[[#This Row],[Empresa]]","v":"PEHUENCHE"},{"$f":"+TablaRetiros[[#This Row],[Medida_kWh]]*-1","v":334814830.14400005},{"$f":"+TablaRetiros[[#This Row],[Prorrata]]","v":4.7101760310588846E-3},{"$f":"+H79*GETPIVOTDATA(\"Compensación\",Resultados!$Q$4)","v":104658571.51557073}]
[null,"POZO_ALMONTE_SOLAR_2",-21271603.873451777,{"$f":"+TablaRetiros[[#This Row],[Medida_kWh]]/SUM(TablaRetiros[Medida_kWh])","v":2.9924898686184247E-4},null,{"$f":"+TablaRetiros[[#This Row],[Empresa]]","v":"POZO_ALMONTE_SOLAR_2"},{"$f":"+TablaRetiros[[#This Row],[Medida_kWh]]*-1","v":21271603.873451777},{"$f":"+TablaRetiros[[#This Row],[Prorrata]]","v":2.9924898686184247E-4},{"$f":"+H80*GETPIVOTDATA(\"Compensación\",Resultados!$Q$4)","v":6649214.654808023}]
[null,"POZO_ALMONTE_SOLAR_3",-38667343.853136063,{"$f":"+TablaRetiros[[#This Row],[Medida_kWh]]/SUM(TablaRetiros[Medida_kWh])","v":5.4397230888315656E-4},null,{"$f":"+TablaRetiros[[#This Row],[Empresa]]","v":"POZO_ALMONTE_SOLAR_3"},{"$f":"+TablaRetiros[[#This Row],[Medida_kWh]]*-1","v":38667343.853136063},{"$f":"+TablaRetiros[[#This Row],[Prorrata]]","v":5.4397230888315656E-4},{"$f":"+H81*GETPIVOTDATA(\"Compensación\",Resultados!$Q$4)","v":12086886.862897001}]
[null,"PUCLARO",-12174402.492999997,{"$f":"+TablaRetiros[[#This Row],[Medida_kWh]]/SUM(TablaRetiros[Medida_kWh])","v":1.7126953065468842E-4},null,{"$f":"+TablaRetiros[[#This Row],[Empresa]]","v":"PUCLARO"},{"$f":"+TablaRetiros[[#This Row],[Medida_kWh]]*-1","v":12174402.492999997},{"$f":"+TablaRetiros[[#This Row],[Prorrata]]","v":1.7126953065468842E-4},{"$f":"+H82*GETPIVOTDATA(\"Compensación\",Resultados!$Q$4)","v":3805552.9781192276}]
[null,"PUNTILLA",-168121892.33637336,{"$f":"+TablaRetiros[[#This Row],[Medida_kWh]]/SUM(TablaRetiros[Medida_kWh])","v":2.3651392838198596E-3},null,{"$f":"+TablaRetiros[[#This Row],[Empresa]]","v":"PUNTILLA"},{"$f":"+TablaRetiros[[#This Row],[Medida_kWh]]*-1","v":168121892.33637336},{"$f":"+TablaRetiros[[#This Row],[Prorrata]]","v":2.3651392838198596E-3},{"$f":"+H83*GETPIVOTDATA(\"Compensación\",Resultados!$Q$4)","v":52552621.653144322}]
[null,"RAKI",-25068686.067999996,{"$f":"+TablaRetiros[[#This Row],[Medida_kWh]]/SUM(TablaRetiros[Medida_kWh])","v":3.5266635052231529E-4},null,{"$f":"+TablaRetiros[[#This Row],[Empresa]]","v":"RAKI"},{"$f":"+TablaRetiros[[#This Row],[Medida_kWh]]*-1","v":25068686.067999996},{"$f":"+TablaRetiros[[#This Row],[Prorrata]]","v":3.5266635052231529E-4},{"$f":"+H84*GETPIVOTDATA(\"Compensación\",Resultados!$Q$4)","v":7836131.0116423639}]
[null,"RIO_COLORADO",-20564255.987999998,{"$f":"+TablaRetiros[[#This Row],[Medida_kWh]]/SUM(TablaRetiros[Medida_kWh])","v":2.8929801469539985E-4},null,{"$f":"+TablaRetiros[[#This Row],[Empresa]]","v":"RIO_COLORADO"},{"$f":"+TablaRetiros[[#This Row],[Medida_kWh]]*-1","v":20564255.987999998},{"$f":"+TablaRetiros[[#This Row],[Prorrata]]","v":2.8929801469539985E-4},{"$f":"+H85*GETPIVOTDATA(\"Compensación\",Resultados!$Q$4)","v":6428107.3065340435}]
[null,"RUCATAYO",-241831487.1544165,{"$f":"+TablaRetiros[[#This Row],[Medida_kWh]]/SUM(TablaRetiros[Medida_kWh])","v":3.4020860840009884E-3},null,{"$f":"+TablaRetiros[[#This Row],[Empresa]]","v":"RUCATAYO"},{"$f":"+TablaRetiros[[#This Row],[Medida_kWh]]*-1","v":241831487.1544165},{"$f":"+TablaRetiros[[#This Row],[Prorrata]]","v":3.4020860840009884E-3},{"$f":"+H86*GETPIVOTDATA(\"Compensación\",Resultados!$Q$4)","v":75593240.544876382}]
[null,"SAFIRA_ENERGIA_CHILE",-10157963.574999997,{"$f":"+TablaRetiros[[#This Row],[Medida_kWh]]/SUM(TablaRetiros[Medida_kWh])","v":1.4290226193014292E-4},null,{"$f":"+TablaRetiros[[#This Row],[Empresa]]","v":"SAFIRA_ENERGIA_CHILE"},{"$f":"+TablaRetiros[[#This Row],[Medida_kWh]]*-1","v":10157963.574999997},{"$f":"+TablaRetiros[[#This Row],[Prorrata]]","v":1.4290226193014292E-4},{"$f":"+H87*GETPIVOTDATA(\"Compensación\",Resultados!$Q$4)","v":3175241.5411511636}]
[null,"SAN_JUAN_LAP",-453729558.66652715,{"$f":"+TablaRetiros[[#This Row],[Medida_kWh]]/SUM(TablaRetiros[Medida_kWh])","v":6.3830687872900973E-3},null,{"$f":"+TablaRetiros[[#This Row],[Empresa]]","v":"SAN_JUAN_LAP"},{"$f":"+TablaRetiros[[#This Row],[Medida_kWh]]*-1","v":453729558.66652715},{"$f":"+TablaRetiros[[#This Row],[Prorrata]]","v":6.3830687872900973E-3},{"$f":"+H88*GETPIVOTDATA(\"Compensación\",Resultados!$Q$4)","v":141829701.64136875}]
[null,"SANTIAGO_SOLAR",-66929357.427825704,{"$f":"+TablaRetiros[[#This Row],[Medida_kWh]]/SUM(TablaRetiros[Medida_kWh])","v":9.4156240031283123E-4},null,{"$f":"+TablaRetiros[[#This Row],[Empresa]]","v":"SANTIAGO_SOLAR"},{"$f":"+TablaRetiros[[#This Row],[Medida_kWh]]*-1","v":66929357.427825704},{"$f":"+TablaRetiros[[#This Row],[Prorrata]]","v":9.4156240031283123E-4},{"$f":"+H89*GETPIVOTDATA(\"Compensación\",Resultados!$Q$4)","v":20921208.710613675}]
[null,"SGA",-128698399.00999999,{"$f":"+TablaRetiros[[#This Row],[Medida_kWh]]/SUM(TablaRetiros[Medida_kWh])","v":1.8105294618874501E-3},null,{"$f":"+TablaRetiros[[#This Row],[Empresa]]","v":"SGA"},{"$f":"+TablaRetiros[[#This Row],[Medida_kWh]]*-1","v":128698399.00999999},{"$f":"+TablaRetiros[[#This Row],[Prorrata]]","v":1.8105294618874501E-3},{"$f":"+H90*GETPIVOTDATA(\"Compensación\",Resultados!$Q$4)","v":40229372.728007622}]
[null,"SPVP4",-11099435.23547974,{"$f":"+TablaRetiros[[#This Row],[Medida_kWh]]/SUM(TablaRetiros[Medida_kWh])","v":1.5614688806335711E-4},null,{"$f":"+TablaRetiros[[#This Row],[Empresa]]","v":"SPVP4"},{"$f":"+TablaRetiros[[#This Row],[Medida_kWh]]*-1","v":11099435.23547974},{"$f":"+TablaRetiros[[#This Row],[Prorrata]]","v":1.5614688806335711E-4},{"$f":"+H91*GETPIVOTDATA(\"Compensación\",Resultados!$Q$4)","v":3469532.8037748183}]
[null,"TACORA_ENERGY",-3257243.0999999992,{"$f":"+TablaRetiros[[#This Row],[Medida_kWh]]/SUM(TablaRetiros[Medida_kWh])","v":4.5822905665060995E-5},null,{"$f":"+TablaRetiros[[#This Row],[Empresa]]","v":"TACORA_ENERGY"},{"$f":"+TablaRetiros[[#This Row],[Medida_kWh]]*-1","v":3257243.0999999992},{"$f":"+TablaRetiros[[#This Row],[Prorrata]]","v":4.5822905665060995E-5},{"$f":"+H92*GETPIVOTDATA(\"Compensación\",Resultados!$Q$4)","v":1018169.9830271339}]
[null,"TAMAKAYA_ENERGIA",-2804407738.1423469,{"$f":"+TablaRetiros[[#This Row],[Medida_kWh]]/SUM(TablaRetiros[Medida_kWh])","v":3.9452416441150454E-2},null,{"$f":"+TablaRetiros[[#This Row],[Empresa]]","v":"TAMAKAYA_ENERGIA"},{"$f":"+TablaRetiros[[#This Row],[Medida_kWh]]*-1","v":2804407738.1423469},{"$f":"+TablaRetiros[[#This Row],[Prorrata]]","v":3.9452416441150454E-2},{"$f":"+H93*GETPIVOTDATA(\"Compensación\",Resultados!$Q$4)","v":876619795.17143106}]
[null,"TECNORED",-187408353.30599996,{"$f":"+TablaRetiros[[#This Row],[Medida_kWh]]/SUM(TablaRetiros[Medida_kWh])","v":2.6364612743780959E-3},null,{"$f":"+TablaRetiros[[#This Row],[Empresa]]","v":"TECNORED"},{"$f":"+TablaRetiros[[#This Row],[Medida_kWh]]*-1","v":187408353.30599996},{"$f":"+TablaRetiros[[#This Row],[Prorrata]]","v":2.6364612743780959E-3},{"$f":"+H94*GETPIVOTDATA(\"Compensación\",Resultados!$Q$4)","v":58581307.580239594}]
[null,"UCUQUER_DOS",-10279711.954000002,{"$f":"+TablaRetiros[[#This Row],[Medida_kWh]]/SUM(TablaRetiros[Medida_kWh])","v":1.4461501848975965E-4},null,{"$f":"+TablaRetiros[[#This Row],[Empresa]]","v":"UCUQUER_DOS"},{"$f":"+TablaRetiros[[#This Row],[Medida_kWh]]*-1","v":10279711.954000002},{"$f":"+TablaRetiros[[#This Row],[Prorrata]]","v":1.4461501848975965E-4},{"$f":"+H95*GETPIVOTDATA(\"Compensación\",Resultados!$Q$4)","v":3213298.4319555424}]
[null,"Total general",{"$f":"+SUM(TablaRetiros[Medida_kWh])","v":-71083294538.512405},{"$f":"+SUM(TablaRetiros[Prorrata])","v":0.99999999999999956},null,"Total general",{"$f":"SUM(G3:G95)","v":71083294538.512405},{"$f":"SUM(H3:H95)","v":0.99999999999999956},{"$f":"SUM(I3:I95)","v":22219673070.698956}]

{"sheet":"Impuestos SII","index":5,"n_rows":276,"n_cols":30,"rows_kept":276,"cut":false,"hidden":false,"merged":[]}
[]
[null,null,"Impuesto a Emisiones 2019"]
[null,null,"Fuente Oficial Servicio de Impuesto Internos",null,null,null,null,null,null,null,null,null,null,null,"Matriz 1: Unidades, Gx Anual e Impuestos",null,null,null,null,"Matriz 2: Fuente e Impuestos",null,null,"Matriz 3: Relación Fuente Emisora con Unidades Generadoras",null,null,null,null,"Matriz 4: Distribución Impuesto"]
[]
["RUT","DV","ESTABLECIMIENTO","CÓDIGO FUENTE","MONTO IMPUESTO USD","TIPO DE CAMBIO","FOLIO","ID FOLIO","PERIODO","FECHA MODIFICACIÓN","Planta Generación Eléctrica SEN",null,null,null,{"$f":"+Unidades!B5","v":"Nombre unidad TCV"},"N° Caso","Gx Anual   [kWh]","Impuesto por central CLP",null,"N° Fuente","Impuesto por fuente CLP",null,"Fuente Emisora","N° Unidades","Unidad Generadora 1","Unidad Generadora 2",null,"Fuente Emisora","Unidad Generadora 1","Unidad Generadora 2"]
[96510970,6,"PLANTA TRUPÁN/CHOLGUAN","IN000611-8",170136.27,852.03,3657035,212660058,202004,"2020-04-01",1,null,null,null,{"$f":"+Unidades!B6","v":"ANG1"},1,{"$f":"+VLOOKUP(O6,TablaGxN_NTH1[],14,0)","v":2068339331.3550003},7130520711.3500004,null,{"$f":"+D6","v":"IN000611-8"},{"$f":"+K6*F6*E6","v":144961206.12809998},null,"GE000103-5",{"$f":"+COUNTA(Y6:Z6)","v":2},"ANG1","ANG2",null,{"$f":"+W6","v":"GE000103-5"},7130520711.3483391,7311026706.8579617]
[96510970,6,"PLANTA TRUPÁN/CHOLGUAN","IN003326-K",2896.61,852.03,3657037,212660064,202004,"2020-04-01",1,null,null,null,{"$f":"+Unidades!B7","v":"ANG2"},1,{"$f":"+VLOOKUP(O7,TablaGxN_NTH1[],14,0)","v":2120698431.7870002},7311026706.8599997,null,{"$f":"+D7","v":"IN003326-K"},{"$f":"+K7*F7*E7","v":2467998.6183000002},null,"GE000277-1",{"$f":"+COUNTA(Y7:Z7)","v":1},"IEM",null,null,{"$f":"+W7","v":"GE000277-1"},5501904707.7377996]
[96510970,6,"PLANTA TRUPÁN/CHOLGUAN","IN003325-1",16150.48,852.03,3657039,212660066,202004,"2020-04-01",1,null,null,null,{"$f":"+Unidades!B8","v":"Antilhue TG U1"},2,{"$f":"+VLOOKUP(O8,TablaGxN_NTH1[],14,0)","v":31212629.973999992},121233798.01000001,null,"IN003325-1",13760693.474399999,null,"GE000043-8",1,"Bocamina",null,null,"GE000043-8",2541576691.3860002]
[96802690,9,"PLANTA CABRERO DIVISION MADERAS","CA010879-0",161.07,852.03,3657041,212660068,202004,"2020-04-01",1,null,null,null,{"$f":"+Unidades!B9","v":"Antilhue TG U2"},2,{"$f":"+VLOOKUP(O9,TablaGxN_NTH1[],14,0)","v":20710645.629999995},117409333.55,null,"CA010879-0",137236.47209999998,null,"GE000106-k",1,"Bocamina II",null,null,"GE000106-k",10534143146.353199]
[96802690,9,"PLANTA CABRERO DIVISION MADERAS","GE000130-2",29800.28,852.03,3657043,212660070,202004,"2020-04-01",1,null,null,null,{"$f":"+Unidades!B10","v":"Arauco"},2,{"$f":"+VLOOKUP(O10,TablaGxN_NTH1[],14,0)","v":45303256.927000001},1965836674.77,null,"GE000130-2",25390732.568399999,null,"GE000124-8",1,"Campiche",null,null,"GE000124-8",6370837756.0145998]
[96802690,9,"PLANTA CABRERO DIVISION MADERAS","IN002653-4",6185.41,852.03,3657045,212660072,202004,"2020-04-01",1,null,null,null,{"$f":"+Unidades!B11","v":"Bocamina"},1,{"$f":"+VLOOKUP(O11,TablaGxN_NTH1[],14,0)","v":549260409.73399985},2541576691.3899999,null,"IN002653-4",5270154.8822999997,null,"PC001834-6",1,"Cardones",null,null,"PC001834-6",152768.97899999999]
[96802690,9,"PLANTA CABRERO DIVISION MADERAS","IN002647-K",7367.07,852.03,3657047,212660074,202004,"2020-04-01",1,null,null,null,{"$f":"+Unidades!B12","v":"Bocamina II"},1,{"$f":"+VLOOKUP(O12,TablaGxN_NTH1[],14,0)","v":2123734389.6659994},10534143146.35,null,"IN002647-K",6276964.6520999996,null,"GE000234-8",2,"CCH1","CCH2",null,"GE000234-8",5736884738.893651,5748596491.4599495]
[96802690,9,"PLANTA CABRERO DIVISION MADERAS","CA010880-4",123.57,852.03,3657049,212660076,202004,"2020-04-01",1,null,null,null,{"$f":"+Unidades!B13","v":"Campiche"},1,{"$f":"+VLOOKUP(O13,TablaGxN_NTH1[],14,0)","v":1566513230.3339994},6370837756.0100002,null,"CA010880-4",105285.34709999998,null,"PC003590-4",{"$f":"+COUNTA(Y13:Z13)","v":1},"CENTRAL DIÉSEL IQUIQUE",null,null,"PC003590-4"]
[78932860,9,"CENTRAL TARAPACÁ","GE000013-6",3819707.02,852.03,3657051,212660078,202004,"2020-04-01",1,null,null,null,{"$f":"+Unidades!B14","v":"Candelaria 1"},1,{"$f":"+VLOOKUP(O14,TablaGxN_NTH1[],14,0)","v":47777558.402923271},149792122.5,null,"GE000013-6",3254504972.2505999,null,"IN002463-9",1,"CMPC TISSUE",null,null,"IN002463-9",9933016.8618000001]
[78932860,9,"CENTRAL TARAPACÁ","PC000103-6",1036.42,852.03,3657053,212660080,202004,"2020-04-01",1,null,null,null,{"$f":"+Unidades!B15","v":"Candelaria 2"},1,{"$f":"+VLOOKUP(O15,TablaGxN_NTH1[],14,0)","v":36631821.09029983},108844199.73,null,"PC000103-6",883060.93260000006,null,"PC003087-7",1,"CMPC TISSUE",null,null,"PC003087-7",346300675.01639998]
[78932860,9,"CENTRAL SAN ISIDRO I","PC000319-5",2486901.94,852.03,3657055,212660082,202004,"2020-04-01",1,null,null,null,{"$f":"+Unidades!B16","v":"Cardones"},1,{"$f":"+VLOOKUP(O16,TablaGxN_NTH1[],14,0)","v":4.1630000000000003},152768.98000000001,null,"PC000319-5",2118915059.9382,null,"GE000251-8",1,"CTA",null,null,"GE000251-8",3090384806.5349998]
[61704000,"K","DIVISIÓN CHUQUICAMATA","CF000116-3",36386.9,852.03,3657057,212660084,202004,"2020-04-01",0,null,null,null,{"$f":"+Unidades!B17","v":"CC KELAR"},2,{"$f":"+VLOOKUP(O17,TablaGxN_NTH1[],14,0)","v":1540101475.9729996},2812750319.8099999,null,"CF000116-3",0,null,"GE000100-0",1,"CTH",null,null,"GE000100-0",4090706785.3797002]
[61704000,"K","DIVISIÓN CHUQUICAMATA","PC001459-6",1354.75,852.03,3657059,212660086,202004,"2020-04-01",0,null,null,null,{"$f":"+Unidades!B18","v":"CC1"},2,{"$f":"+VLOOKUP(O18,TablaGxN_NTH1[],14,0)","v":221875084.56509677},549818333.03999996,null,"PC001459-6",0,null,"GE000018-7",2,"CTM1","CTM2",null,"GE000018-7",839287289.28223538,734409913.96006441]
[61704000,"K","DIVISIÓN CHUQUICAMATA","PC001460-K",1094.31,852.03,3657061,212660088,202004,"2020-04-01",0,null,null,null,{"$f":"+Unidades!B19","v":"CC2"},2,{"$f":"+VLOOKUP(O19,TablaGxN_NTH1[],14,0)","v":85313347.537292644},213473066.24000001,null,"PC001460-K",0,null,"GE000019-5",0,null,null,null,"GE000019-5"]
[61704000,"K","DIVISIÓN CHUQUICAMATA","PC001461-8",1449.6,852.03,3657063,212660090,202004,"2020-04-01",0,null,null,null,{"$f":"+Unidades!B20","v":"CCH1"},1,{"$f":"+VLOOKUP(O20,TablaGxN_NTH1[],14,0)","v":1428661263.9830005},5736884738.8900003,null,"PC001461-8",0,null,"GE000250-K",1,"CTM3",null,null,"GE000250-K",1316739584.5974]
[61704000,"K","DIVISIÓN CHUQUICAMATA","IN000975-3",56913.25,852.03,3657065,212660092,202004,"2020-04-01",0,null,null,null,{"$f":"+Unidades!B21","v":"CCH2"},1,{"$f":"+VLOOKUP(O21,TablaGxN_NTH1[],14,0)","v":1431577851.6410003},5748596491.46,null,"IN000975-3",0,null,"GE000013-6",1,"CTTAR",null,null,"GE000013-6",3254504972.2505999]
[61704000,"K","DIVISIÓN CHUQUICAMATA","IN000976-1",187612.77,852.03,3657067,212660098,202004,"2020-04-01",0,null,null,null,{"$f":"+Unidades!B22","v":"CD Iquique"},1,{"$f":"+VLOOKUP(O22,TablaGxN_NTH1[],14,0)","v":0},0,null,"IN000976-1",0,null,"PC000355-1",1,"Diego de Almagro",null,null,"PC000355-1",1309936.4828999999]
[61704000,"K","DIVISIÓN CHUQUICAMATA","IN003562-9",29577.61,852.03,3657069,212660100,202004,"2020-04-01",0,null,null,null,{"$f":"+Unidades!B23","v":"Celco"},2,{"$f":"+VLOOKUP(O23,TablaGxN_NTH1[],14,0)","v":49517976.81000001},551581745.45000005,null,"IN003562-9",0,null,"PC003725-7",1,"El Salvador",null,null,"PC003725-7",1040925.051]
[61704000,"K","DIVISIÓN CHUQUICAMATA","IN003641-2",13022.78,852.03,3657071,212660102,202004,"2020-04-01",0,null,null,null,{"$f":"+Unidades!B24","v":"Cholguán"},2,{"$f":"+VLOOKUP(O24,TablaGxN_NTH1[],14,0)","v":35718370.789000005},161189898.22,null,"IN003641-2",0,null,"EL029919-7",1,"Emelda U1",null,null,"EL029919-7",1038070.7504999998]
[76186388,6,"CENTRAL CORONEL","PC000146-K",53493.07,852.03,3657073,212660104,202004,"2020-04-01",1,null,null,null,{"$f":"+Unidades!B25","v":"CMPC Cordillera"},2,{"$f":"+VLOOKUP(O25,TablaGxN_NTH1[],14,0)","v":1324445.2239999999},875895948.19000006,null,"PC000146-K",45577700.432099998,null,"EL029922-7",1,"Emelda U2",null,null,"EL029922-7",2601187.9478999996]
[76085254,6,"CENTRAL TERMOELÉCTRICA COCHRANE","GE000234-8",13480137.119999999,852.03,3657075,212660106,202004,"2020-04-01",1,null,null,null,{"$f":"+Unidades!B26","v":"CMPC Laja"},2,{"$f":"+VLOOKUP(O26,TablaGxN_NTH1[],14,0)","v":158052021.19100004},100316563.75,null,"GE000234-8",11485481230.3536,null,"GE000102-7",1,"Energía Pacífico",null,null,"GE000102-7",34547780.1483]
[96505760,9,"CENTRAL TERMOELÉCTRICA CANDELARIA","PC000387-K",175806.16,852.03,3657077,212660108,202004,"2020-04-01",1,null,null,null,{"$f":"+Unidades!B27","v":"CMPC Pacífico"},2,{"$f":"+VLOOKUP(O27,TablaGxN_NTH1[],14,0)","v":118029547.84799996},469412594.23000002,null,"PC000387-K",149792122.50479999,null,"PC003595-5",1,"Esperanza TG",null,null,"PC003595-5",784702.58939999994]
[96505760,9,"CENTRAL TERMOELÉCTRICA CANDELARIA","PC000388-8",127746.91,852.03,3657079,212660110,202004,"2020-04-01",1,null,null,null,{"$f":"+Unidades!B28","v":"CMPC Santa Fe"},2,{"$f":"+VLOOKUP(O28,TablaGxN_NTH1[],14,0)","v":0},269498963.47000003,null,"PC000388-8",108844199.7273,null,"GE000016-0",2,"Guacolda 1","Guacolda 2",null,"GE000016-0",4943516689.1289663,4434469716.5132332]
[96505760,9,"COMPLEJO TERMOELÉCTRICO NEHUENCO","PC001510-0",3352964.7,852.03,3657081,212660116,202004,"2020-04-01",1,null,null,null,{"$f":"+Unidades!B29","v":"CMPC TISSUE"},2,{"$f":"+VLOOKUP(O29,TablaGxN_NTH1[],14,0)","v":21051963.475999996},356233691.88,null,"PC001510-0",2856826513.3410001,null,"PC004352-4",1,"Los Guindos 2",null,null,"PC004352-4",0]
[96505760,9,"COMPLEJO TERMOELÉCTRICO NEHUENCO","IN000473-5",2280.86,852.03,3657083,212660118,202004,"2020-04-01",1,null,null,null,{"$f":"+Unidades!B30","v":"Colmito"},1,{"$f":"+VLOOKUP(O30,TablaGxN_NTH1[],14,0)","v":58022215.539999992},214764309.18000001,null,"IN000473-5",1943361.1458000001,null,"GE000079-9",1,"Guacolda 3",null,null,"GE000079-9",3876669198.1502995]
[96505760,9,"COMPLEJO TERMOELÉCTRICO NEHUENCO","PC001511-0",5856696.4900000002,852.03,3657085,212660120,202004,"2020-04-01",1,null,null,null,{"$f":"+Unidades!B31","v":"CTA"},1,{"$f":"+VLOOKUP(O31,TablaGxN_NTH1[],14,0)","v":654454952.04900002},3090384806.54,null,"PC001511-0",4990081110.3746996,null,"GE000080-2",1,"Guacolda 4",null,null,"GE000080-2",4228110076.4334002]
[96505760,9,"COMPLEJO TERMOELÉCTRICO NEHUENCO","PC001512-0",8880.18,852.03,3657087,212660122,202004,"2020-04-01",1,null,null,null,{"$f":"+Unidades!B32","v":"CTH"},1,{"$f":"+VLOOKUP(O32,TablaGxN_NTH1[],14,0)","v":777068043.14699996},4090706785.3800001,null,"PC001512-0",7566179.7653999999,null,"GE000215-1",1,"Guacolda 5",null,null,"GE000215-1",4288915239.9849]
[96505760,9,"CENTRAL TERMOELÉCTRICA LOS PINOS","PC000507-4",37559.56,852.03,3657089,212660124,202004,"2020-04-01",1,null,null,null,{"$f":"+Unidades!B33","v":"CTM1"},1,{"$f":"+VLOOKUP(O33,TablaGxN_NTH1[],14,0)","v":228523245.35200006},839287289.27999997,null,"PC000507-4",32001871.906799998,null,"PC002440-0",1,"Horcones",null,null,"PC002440-0",679340.55960000004]
[96505760,9,"COMPLEJO TERMOELECTRICO SANTA MARIA","GE000094-2",11198454.1,852.03,3657091,212660126,202004,"2020-04-01",1,null,null,null,{"$f":"+Unidades!B34","v":"CTM2"},1,{"$f":"+VLOOKUP(O34,TablaGxN_NTH1[],14,0)","v":199966970.90499997},734409913.96000004,null,"GE000094-2",9541418846.823,null,"PC000603-8",1,"Laguna Verde TG",null,null,"PC000603-8"]
[96505760,9,"COMPLEJO TERMOELECTRICO SANTA MARIA","IN001433-1",6608.41,852.03,3657093,212660128,202004,"2020-04-01",1,null,null,null,{"$f":"+Unidades!B35","v":"CTM3"},1,{"$f":"+VLOOKUP(O35,TablaGxN_NTH1[],14,0)","v":791656218.12000012},1316739584.5999999,null,"IN001433-1",5630563.5723000001,null,"GE000116-7",1,"Laja",null,null,"GE000116-7",4194492.5681999996]
[76008306,2,"CENTRAL TERMOELECTRICA CAMPICHE","GE000124-8",7477245.8200000003,852.03,3657095,212660130,202004,"2020-04-01",1,null,null,null,{"$f":"+Unidades!B36","v":"CTTAR"},1,{"$f":"+VLOOKUP(O36,TablaGxN_NTH1[],14,0)","v":614085753.73999989},3254504972.25,null,"GE000124-8",6370837756.0145998,null,"GE000114-0",1,"Lautaro-Comasa",null,null,"GE000114-0",84776652.708299994]
[96665000,1,"EAGON LAUTARO S.A.","IN000373-9",100454.82,852.03,3657097,212660132,202004,"2020-04-01",0,null,null,null,{"$f":"+Unidades!B37","v":"Diego de Almagro"},1,{"$f":"+VLOOKUP(O37,TablaGxN_NTH1[],14,0)","v":159438.01300000001},1309936.48,null,"IN000373-9",0,null,"GE000203-8",1,"Lautaro-Comasa 2",null,null,"GE000203-8",68877602.502299994]
[96665000,1,"EAGON LAUTARO S.A.","IN003176-3",97411.16,852.03,3657099,212660134,202004,"2020-04-01",0,null,null,null,{"$f":"+Unidades!B38","v":"El Salvador"},1,{"$f":"+VLOOKUP(O38,TablaGxN_NTH1[],14,0)","v":112731.21899999998},1040925.05,null,"IN003176-3",0,null,"PC003468-1",1,"Los Guindos",null,null,"PC003468-1",0]
[96989120,4,"CERVECERA CCU CHILE LTDA. (2)","IN001253-3",40394.99,852.03,3657101,212660140,202004,"2020-04-01",0,null,null,null,{"$f":"+Unidades!B39","v":"Emelda U1"},1,{"$f":"+VLOOKUP(O39,TablaGxN_NTH1[],14,0)","v":198569.00000000003},1038070.75,null,"IN001253-3",0,null,"PC000507-4",1,"Los Pinos",null,null,"PC000507-4",32001871.906799998]
[96989120,4,"CERVECERA CCU CHILE LTDA. (2)","IN001251-7",12524.66,852.03,3657103,212660142,202004,"2020-04-01",0,null,null,null,{"$f":"+Unidades!B40","v":"Emelda U2"},1,{"$f":"+VLOOKUP(O40,TablaGxN_NTH1[],14,0)","v":610280.99200000009},2601187.9500000002,null,"IN001251-7",0,null,"PC000023-4",1,"Los Vientos",null,null,"PC000023-4",356490826.01189995]
[96989120,4,"CERVECERA CCU CHILE LTDA. (2)","IN003583-1",44785.120000000003,852.03,3657105,212660144,202004,"2020-04-01",0,null,null,null,{"$f":"+Unidades!B41","v":"Energía Pacífico"},1,{"$f":"+VLOOKUP(O41,TablaGxN_NTH1[],14,0)","v":113384792.43799999},34547780.149999999,null,"IN003583-1",0,null,"GE000005-5",1,"NTO1",null,null,"GE000005-5",3665085883.3359003]
[96893820,7,"PLANTA SUR","CA001493-4",23702.05,852.03,3657107,212660146,202004,"2020-04-01",0,null,null,null,{"$f":"+Unidades!B42","v":"Escuadrón"},2,{"$f":"+VLOOKUP(O42,TablaGxN_NTH1[],14,0)","v":24602223.730999991},28068552.09,null,"CA001493-4",0,null,"GE000006-3",1,"NTO2",null,null,"GE000006-3",3736848766.1489997]
[96893820,7,"PLANTA SUR","IN000386-0",21210.17,852.03,3657109,212660148,202004,"2020-04-01",0,null,null,null,{"$f":"+Unidades!B43","v":"Esperanza TG"},1,{"$f":"+VLOOKUP(O43,TablaGxN_NTH1[],14,0)","v":161074.70299999998},784702.59,null,"IN000386-0",0,null,"GE000072-1",1,"Nueva Ventanas",null,null,"GE000072-1",6805550670.1884003]
[96893820,7,"PLANTA SUR","IN000385-2",55169.19,852.03,3657111,212660150,202004,"2020-04-01",0,null,null,null,{"$f":"+Unidades!B44","v":"Guacolda 1"},1,{"$f":"+VLOOKUP(O44,TablaGxN_NTH1[],14,0)","v":952399871.71996737},4943516689.1300001,null,"IN000385-2",0,null,"GE000010-1",1,"Petropower",null,null,"GE000010-1",3038016793.3757997]
[96893820,7,"PLANTA SUR","IN000387-9",210903.78,852.03,3657113,212660152,202004,"2020-04-01",0,null,null,null,{"$f":"+Unidades!B45","v":"Guacolda 2"},1,{"$f":"+VLOOKUP(O45,TablaGxN_NTH1[],14,0)","v":854328741.0034883},4434469716.5100002,null,"IN000387-9",0,null,"IN001131-6",1,"Renca U1",null,null,"IN001131-6"]
[96893820,7,"PLANTA MEJILLONES","IN000357-7",18730.939999999999,852.03,3657115,212660154,202004,"2020-04-01",0,null,null,null,{"$f":"+Unidades!B46","v":"Guacolda 3"},1,{"$f":"+VLOOKUP(O46,TablaGxN_NTH1[],14,0)","v":942221326.05080402},3876669198.1500001,null,"IN000357-7",0,null,"IN001132-4",1,"Renca U2",null,null,"IN001132-4"]
[96893820,7,"PLANTA MEJILLONES","IN000358-5",12642.81,852.03,3657117,212660156,202004,"2020-04-01",0,null,null,null,{"$f":"+Unidades!B47","v":"Guacolda 4"},1,{"$f":"+VLOOKUP(O47,TablaGxN_NTH1[],14,0)","v":877726589.29378736},4228110076.4299998,null,"IN000358-5",0,null,"PC000569-4",1,"San Lorenzo de D. de Almagro U1",null,null,"PC000569-4"]
[96893820,7,"PLANTA MEJILLONES","IN000359-3",28873.77,852.03,3657119,212660158,202004,"2020-04-01",0,null,null,null,{"$f":"+Unidades!B48","v":"Guacolda 5"},1,{"$f":"+VLOOKUP(O48,TablaGxN_NTH1[],14,0)","v":1000014318.2875366},4288915239.98,null,"IN000359-3",0,null,"PC000570-8",1,"San Lorenzo de D. de Almagro U2",null,null,"PC000570-8"]
[96893820,7,"PLANTA MEJILLONES","IN002751-4",25771.98,852.03,3657121,212660164,202004,"2020-04-01",0,null,null,null,{"$f":"+Unidades!B49","v":"Horcones"},1,{"$f":"+VLOOKUP(O49,TablaGxN_NTH1[],14,0)","v":45538.752},679340.56,null,"IN002751-4",0,null,"PC000846-4",1,"Santa Lidia",null,null,"PC000846-4",7973816.4783000005]
[96893820,7,"PLANTA MEJILLONES","IN000361-5",11901.7,852.03,3657123,212660166,202004,"2020-04-01",0,null,null,null,{"$f":"+Unidades!B50","v":"Huasco TG"},2,{"$f":"+VLOOKUP(O50,TablaGxN_NTH1[],14,0)","v":78479.466},1241279.9099999999,null,"IN000361-5",0,null,"PC003591-2",1,"TG1",null,null,"PC003591-2"]
[96893820,7,"PLANTA MEJILLONES","CA010810-3",6195.44,852.03,3657125,212660168,202004,"2020-04-01",0,null,null,null,{"$f":"+Unidades!B51","v":"IEM"},1,{"$f":"+VLOOKUP(O51,TablaGxN_NTH1[],14,0)","v":1195722241.3981833},5501904707.7399998,null,"CA010810-3",0,null,"PC003592-0",1,"TG2",null,null,"PC003592-0"]
[96893820,7,"PLANTA SUR","IN001087-5",28036.9,852.03,3657129,212660172,202004,"2020-04-01",0,null,null,null,{"$f":"+Unidades!B52","v":"Laguna Verde TG"},1,{"$f":"+VLOOKUP(O52,TablaGxN_NTH1[],14,0)","v":0},0,null,"IN001087-5",0,null,"PC003593-9",1,"TG3",null,null,"PC003593-9",31548924.238499995]
[96893820,7,"PLANTA SUR","IN001088-3",27320.02,852.03,3657131,212660174,202004,"2020-04-01",0,null,null,null,{"$f":"+Unidades!B53","v":"Laguna Verde TV"},2,{"$f":"+VLOOKUP(O53,TablaGxN_NTH1[],14,0)","v":0},0,null,"IN001088-3",0,null,"PC000103-6",1,"TGTAR",null,null,"PC000103-6",883060.93260000006]
[96893820,7,"PLANTA SUR","IN001089-1",15965.47,852.03,3657133,212660176,202004,"2020-04-01",0,null,null,null,{"$f":"+Unidades!B54","v":"Laja"},1,{"$f":"+VLOOKUP(O54,TablaGxN_NTH1[],14,0)","v":26856261.467000004},4194492.57,null,"IN001089-1",0,null,"GE000025-k",{"$f":"+COUNTA(Y54:Z54)","v":0},null,null,null,"GE000025-k"]
[96893820,7,"PLANTA SUR","IN001091-3",127749.78,852.03,3657135,212660178,202004,"2020-04-01",0,null,null,null,{"$f":"+Unidades!B55","v":"Lautaro-Comasa"},1,{"$f":"+VLOOKUP(O55,TablaGxN_NTH1[],14,0)","v":175025188.72700003},84776652.709999993,null,"IN001091-3",0,null,"GE000024-1",2,"U13","U12",null,"GE000024-1",0,64823302.950299993]
[96893820,7,"PLANTA SUR","IN001092-1",73485.69,852.03,3657137,212660180,202004,"2020-04-01",0,null,null,null,{"$f":"+Unidades!B56","v":"Lautaro-Comasa 2"},1,{"$f":"+VLOOKUP(O56,TablaGxN_NTH1[],14,0)","v":102780321.30399999},68877602.5,null,"IN001092-1",0,null,"GE000023-3",0,null,null,null,"GE000023-3"]
[96893820,7,"PLANTA SUR","IN001979-1",3794.69,852.03,3657139,212660182,202004,"2020-04-01",0,null,null,null,{"$f":"+Unidades!B57","v":"Licantén"},2,{"$f":"+VLOOKUP(O57,TablaGxN_NTH1[],14,0)","v":19243998.329999998},121635461.98,null,"IN001979-1",0,null,"GE000022-5",2,"U15","U14",null,"GE000022-5",517662974.80339479,189818210.10880518]
[96893820,7,"PLANTA SUR","IN003567-K",44497.8,852.03,3657141,212660184,202004,"2020-04-01",0,null,null,null,{"$f":"+Unidades!B58","v":"Los Guindos"},1,{"$f":"+VLOOKUP(O58,TablaGxN_NTH1[],14,0)","v":73198.011000000013},0,null,"IN003567-K",0,null,"PC003594-7",1,"U16",null,null,"PC003594-7",1657478275.9361999]
[96893820,7,"PLANTA NORTE","IN001106-5",7636.39,852.03,3657143,212660186,202004,"2020-04-01",0,null,null,null,{"$f":"+Unidades!B59","v":"Los Pinos"},1,{"$f":"+VLOOKUP(O59,TablaGxN_NTH1[],14,0)","v":13414669.942000004},32001871.91,null,"IN001106-5",0,null,"GE000035-7",1,"Ventanas 1",null,null,"GE000035-7",928894506.16139984]
[96893820,7,"PLANTA NORTE","IN001107-3",13000.22,852.03,3657145,212660188,202004,"2020-04-01",0,null,null,null,{"$f":"+Unidades!B60","v":"Los Vientos"},1,{"$f":"+VLOOKUP(O60,TablaGxN_NTH1[],14,0)","v":76372880.460999966},356490826.00999999,null,"IN001107-3",0,null,"GE000036-5",1,"Ventanas 2",null,null,"GE000036-5",3556662194.4948001]
[96893820,7,"PLANTA NORTE","IN001109-K",366.61,852.03,3657147,212660190,202004,"2020-04-01",0,null,null,null,{"$f":"+Unidades!B61","v":"Masisa (Cabrero)"},2,{"$f":"+VLOOKUP(O61,TablaGxN_NTH1[],14,0)","v":51469138.030999996},37180373.920000002,null,"IN001109-K",0,null,"GE000085-3",1,"Viñales",null,null,"GE000085-3",122629499.82809998]
[96893820,7,"PLANTA NORTE","PC000689-5",1222.92,852.03,3657149,212660192,202004,"2020-04-01",0,null,null,null,{"$f":"+Unidades!B62","v":"Nehuenco"},2,{"$f":"+VLOOKUP(O62,TablaGxN_NTH1[],14,0)","v":1646345888.4119995},2858769874.4899998,null,"PC000689-5",0,null,"PC000952-5",1,"Yungay 4 ca",null,null,"PC000952-5",235151.7597]
[96893820,7,"PLANTA NORTE","PC000690-9",896.07,852.03,3657151,212660194,202004,"2020-04-01",0,null,null,null,{"$f":"+Unidades!B63","v":"Nehuenco II"},1,{"$f":"+VLOOKUP(O63,TablaGxN_NTH1[],14,0)","v":2697708688.494},4990081110.3699999,null,"PC000690-9",0,null,"IN000611-8",1,"Cholguán",null,null,"IN000611-8",144961206.12809998]
[96893820,7,"PLANTA ORIENTE","IN000377-1",173732.56,852.03,3657153,212660196,202004,"2020-04-01",0,null,null,null,{"$f":"+Unidades!B64","v":"Nehuenco TG 9B"},1,{"$f":"+VLOOKUP(O64,TablaGxN_NTH1[],14,0)","v":2373616.764},7566179.7699999996,null,"IN000377-1",0,null,"IN003325-1",1,"Cholguán",null,null,"IN003325-1",13760693.474399999]
[96893820,7,"PLANTA ORIENTE","IN000378-K",108942.3,852.03,3657155,212660198,202004,"2020-04-01",0,null,null,null,{"$f":"+Unidades!B65","v":"NTO1"},1,{"$f":"+VLOOKUP(O65,TablaGxN_NTH1[],14,0)","v":817980049.18945682},3665085883.3400002,null,"IN000378-K",0,null,"IN003326-k",1,"Cholguán",null,null,"IN003326-k",2467998.6183000002]
[96893820,7,"PLANTA ORIENTE","IN000379-8",6810.12,852.03,3657157,212660200,202004,"2020-04-01",0,null,null,null,{"$f":"+Unidades!B66","v":"NTO2"},1,{"$f":"+VLOOKUP(O66,TablaGxN_NTH1[],14,0)","v":854673270.92170143},3736848766.1500001,null,"IN000379-8",0,null,"PC000335-7",1,"Huasco TG",null,null,"PC000335-7",607957.48619999993]
[96893820,7,"PLANTA ORIENTE","IN000380-1",49936.62,852.03,3657159,212660202,202004,"2020-04-01",0,null,null,null,{"$f":"+Unidades!B67","v":"Nueva Aldea I"},3,{"$f":"+VLOOKUP(O67,TablaGxN_NTH1[],14,0)","v":33072867.446999989},43952545.859999999,null,"IN000380-1",0,null,"PC000336-5",1,"Huasco TG",null,null,"PC000336-5",319945.78529999999]
[96893820,7,"PLANTA ORIENTE","CA001482-9",28542.68,852.03,3657161,212660204,202004,"2020-04-01",0,null,null,null,{"$f":"+Unidades!B68","v":"Nueva Aldea III"},3,{"$f":"+VLOOKUP(O68,TablaGxN_NTH1[],14,0)","v":218976931.45200002},291011767.76999998,null,"CA001482-9",0,null,"PC000337-3",1,"Huasco TG",null,null,"PC000337-3",313376.63400000002]
[96893820,7,"PLANTA ORIENTE","CA001483-7",14607.35,852.03,3657163,212660210,202004,"2020-04-01",0,null,null,null,{"$f":"+Unidades!B69","v":"Nueva Renca"},1,{"$f":"+VLOOKUP(O69,TablaGxN_NTH1[],14,0)","v":1728028972.8110006},4113464489.6399999,null,"CA001483-7",0,null,"IN000473-5",1,"Nehuenco",null,null,"IN000473-5",1943361.1458000001]
[76326949,3,"CENTRAL COLMITO","PC003323-5",252061.91,852.03,3657165,212660212,202004,"2020-04-01",1,null,null,null,{"$f":"+Unidades!B70","v":"Nueva Ventanas"},1,{"$f":"+VLOOKUP(O70,TablaGxN_NTH1[],14,0)","v":1529053921.2739997},6805550670.1899996,null,"PC003323-5",214764309.17730001,null,"PC001510-0",1,"Nehuenco",null,null,"PC001510-0",2856826513.3410001]
[76004337,0,"EMPRESA ELECTRICA DIEGO DE ALMAGRO","EL029919-7",1218.3499999999999,852.03,3657167,212660214,202004,"2020-04-01",1,null,null,null,{"$f":"+Unidades!B71","v":"Petropower"},1,{"$f":"+VLOOKUP(O71,TablaGxN_NTH1[],14,0)","v":80710093.68629086},3038016793.3800001,null,{"$f":"+D71","v":"EL029919-7"},{"$f":"+K71*F71*E71","v":1038070.7504999998},null,"EL019740-9",{"$f":"+COUNTA(Y71:Z71)","v":2},"Nueva Aldea I","Nueva Aldea III",null,{"$f":"+W71","v":"EL019740-9"},151409.12624488751,1002486.5824551122]
[76004337,0,"EMPRESA ELECTRICA DIEGO DE ALMAGRO","EL029922-7",3052.93,852.03,3657169,212660216,202004,"2020-04-01",1,null,null,null,{"$f":"+Unidades!B72","v":"Quintero A"},1,{"$f":"+VLOOKUP(O72,TablaGxN_NTH1[],14,0)","v":135139173.51222667},427470224.63999999,null,"EL029922-7",2601187.9478999996,null,"IN000218-k",2,"Nueva Aldea I","Nueva Aldea III",null,"IN000218-k",40010842.931498416,264913576.78580156]
[96591040,9,"PLANTA AGROZZI TENO","IN000522-7",69265.320000000007,852.03,3657171,212660218,202004,"2020-04-01",0,null,null,null,{"$f":"+Unidades!B73","v":"Quintero B"},1,{"$f":"+VLOOKUP(O73,TablaGxN_NTH1[],14,0)","v":127253709.33077335},430713834.69,null,"IN000522-7",0,null,"IN002622-4",2,"Nueva Aldea I","Nueva Aldea III",null,"IN002622-4",3790293.7975358851,25095704.399264112]
[96591040,9,"PLANTA AGROZZI TENO","IN000523-5",102702.14,852.03,3657173,212660220,202004,"2020-04-01",0,null,null,null,{"$f":"+Unidades!B74","v":"Renca U1"},1,{"$f":"+VLOOKUP(O74,TablaGxN_NTH1[],14,0)","v":0},0,null,"IN000523-5",0,null,"IN000219-8",1,"Valdivia",null,null,"IN000219-8",257550154.3881]
[96591040,9,"PLANTA AGROZZI TENO","IN000525-1",30769.48,852.03,3657175,212660222,202004,"2020-04-01",0,null,null,null,{"$f":"+Unidades!B75","v":"Renca U2"},1,{"$f":"+VLOOKUP(O75,TablaGxN_NTH1[],14,0)","v":0},0,null,"IN000525-1",0,null,"IN000220-1",1,"Valdivia",null,null,"IN000220-1",125089651.2501]
[96591040,9,"PLANTA AGROZZI TENO","IN000526-K",27327.83,852.03,3657177,212660224,202004,"2020-04-01",0,null,null,null,{"$f":"+Unidades!B76","v":"San Isidro"},1,{"$f":"+VLOOKUP(O76,TablaGxN_NTH1[],14,0)","v":1274158681.9880002},2118915059.9400001,null,"IN000526-K",0,null,"PC000444-2",1,"Yungay 1",null,null,"PC000444-2",237196.63169999997]
[96591040,9,"PLANTA AGROZZI TENO","IN000527-8",16903.84,852.03,3657179,212660226,202004,"2020-04-01",0,null,null,null,{"$f":"+Unidades!B77","v":"San Isidro II"},1,{"$f":"+VLOOKUP(O77,TablaGxN_NTH1[],14,0)","v":2261974134.329},4018812383.2199998,null,"IN000527-8",0,null,"PC000445-0",1,"Yungay 1",null,null,"PC000445-0",237196.63169999997]
[96591040,9,"PLANTA AGROZZI TENO","IN003413-4",26982.78,852.03,3657181,212660232,202004,"2020-04-01",0,null,null,null,{"$f":"+Unidades!B78","v":"San Lorenzo de D. de Almagro U1"},1,{"$f":"+VLOOKUP(O78,TablaGxN_NTH1[],14,0)","v":0},0,null,"IN003413-4",0,null,"PC000446-9",1,"Yungay 2",null,null,"PC000446-9",259698.74400000001]
[85145500,0,"ENERGIAS INDUSTRIALES SA","IN001047-6",22001.86,852.03,3657183,212660234,202004,"2020-04-01",0,null,null,null,{"$f":"+Unidades!B79","v":"San Lorenzo de D. de Almagro U2"},1,{"$f":"+VLOOKUP(O79,TablaGxN_NTH1[],14,0)","v":0},0,null,"IN001047-6",0,null,"PC000447-7",1,"Yungay 2",null,null,"PC000447-7",156850.20269999999]
[85145500,0,"ENERGIAS INDUSTRIALES SA","IN000411-5",22001.86,852.03,3657185,212660236,202004,"2020-04-01",0,null,null,null,{"$f":"+Unidades!B80","v":"Santa Lidia"},1,{"$f":"+VLOOKUP(O80,TablaGxN_NTH1[],14,0)","v":1782926.3840000001},7973816.4800000004,null,"IN000411-5",0,null,"PC000448-5",1,"Yungay 3",null,null,"PC000448-5",368434.8126]
[85145500,0,"ENERGIAS INDUSTRIALES SA","IN000412-3",4158.1400000000003,852.03,3657187,212660238,202004,"2020-04-01",0,null,null,null,{"$f":"+Unidades!B81","v":"Santa María"},2,{"$f":"+VLOOKUP(O81,TablaGxN_NTH1[],14,0)","v":1756723869.632},9547049410.3899994,null,"IN000412-3",0,null,"PC000449-3",1,"Yungay 3",null,null,"PC000449-3",316495.06379999995]
[85145500,0,"ENERGIAS INDUSTRIALES SA","IN000413-1",4158.1400000000003,852.03,3657189,212660240,202004,"2020-04-01",0,null,null,null,{"$f":"+Unidades!B82","v":"Taltal 1"},1,{"$f":"+VLOOKUP(O82,TablaGxN_NTH1[],14,0)","v":2630667.392},28570414.809999999,null,"IN000413-1",0,null,"PC001511-0",1,"Nehuenco II",null,null,"PC001511-0",4990081110.3746996]
[96903720,3,"UGE EL SALVADOR TG","PC003725-7",1221.7,852.03,3657191,212660242,202004,"2020-04-01",1,null,null,null,{"$f":"+Unidades!B83","v":"Taltal 2"},1,{"$f":"+VLOOKUP(O83,TablaGxN_NTH1[],14,0)","v":7776840.9840000002},104917866.56,null,"PC003725-7",1040925.051,null,"PC001512-0",1,"Nehuenco TG 9B",null,null,"PC001512-0",7566179.7653999999]
[96814370,0,"CENTRAL TERMOELÉCTRICA NUEVA VENTANAS","GE000072-1",7987454.2800000003,852.03,3657193,212660244,202004,"2020-04-01",1,null,null,null,{"$f":"+Unidades!B84","v":"TG_Coronel"},3,{"$f":"+VLOOKUP(O84,TablaGxN_NTH1[],14,0)","v":1145257.3350000002},45577700.43,null,"GE000072-1",6805550670.1884003,null,"IN001115-4",1,"Nueva Renca",null,null,"IN001115-4",4113464489.6390996]
[76101812,4,"SOPROLE","IN003122-4",111626.4,852.03,3657195,212660246,202004,"2020-04-01",0,null,null,null,{"$f":"+Unidades!B85","v":"TG1"},1,{"$f":"+VLOOKUP(O85,TablaGxN_NTH1[],14,0)","v":0},0,null,"IN003122-4",0,null,"PC000620-8",1,"Quintero A",null,null,"PC000620-8",427470224.63849998]
[76101812,4,"SOPROLE","IN002335-7",24498.25,852.03,3657197,212660248,202004,"2020-04-01",0,null,null,null,{"$f":"+Unidades!B86","v":"TG2"},1,{"$f":"+VLOOKUP(O86,TablaGxN_NTH1[],14,0)","v":0},0,null,"IN002335-7",0,null,"PC000621-6",1,"Quintero B",null,null,"PC000621-6",430713834.68610001]
[76030472,7,"METHANEX CHILE S.A.","IN000902-8",192185.41,852.03,3657199,212660250,202004,"2020-04-01",0,null,null,null,{"$f":"+Unidades!B87","v":"TG3"},1,{"$f":"+VLOOKUP(O87,TablaGxN_NTH1[],14,0)","v":21531839.244809113},31548924.239999998,null,"IN000902-8",0,null,"PC000312-8",1,"Taltal 1",null,null,"PC000312-8",28570414.805099998]
[76030472,7,"METHANEX CHILE S.A.","IN000901-K",190551.37,852.03,3657201,212660252,202004,"2020-04-01",0,null,null,null,{"$f":"+Unidades!B88","v":"TGTAR"},1,{"$f":"+VLOOKUP(O88,TablaGxN_NTH1[],14,0)","v":50284.189999999995},883060.93,null,"IN000901-K",0,null,"PC000313-6",1,"Taltal 2",null,null,"PC000313-6",104917866.56099999]
[76030472,7,"METHANEX CHILE S.A.","EL003401-1",123095.15,852.03,3657203,212660254,202004,"2020-04-01",0,null,null,null,{"$f":"+Unidades!B89","v":"U12"},1,{"$f":"+VLOOKUP(O89,TablaGxN_NTH1[],14,0)","v":7437850.9110805113},64823302.950000003,null,"EL003401-1",0,null,"PC000146-k",1,"TG_Coronel",null,null,"PC000146-k",45577700.432099998]
[76030472,7,"METHANEX CHILE S.A.","IN003456-8",235237.68,852.03,3657205,212660256,202004,"2020-04-01",0,null,null,null,{"$f":"+Unidades!B90","v":"U13"},1,{"$f":"+VLOOKUP(O90,TablaGxN_NTH1[],14,0)","v":0},0,null,"IN003456-8",0,null,"PC000387-k",1,"Candelaria 1",null,null,"PC000387-k",149792122.50479999]
[76030472,7,"METHANEX CHILE S.A.","IN003455-K",682036.83,852.03,3657207,212660258,202004,"2020-04-01",0,null,null,null,{"$f":"+Unidades!B91","v":"U14"},1,{"$f":"+VLOOKUP(O91,TablaGxN_NTH1[],14,0)","v":37631461.11399395},189818210.11000001,null,"IN003455-K",0,null,"PC000388-8",1,"Candelaria 2",null,null,"PC000388-8",108844199.7273]
[76418918,3,"GUACOLDA","GE000016-0",11006638.74,852.03,3657209,212660260,202004,"2020-04-01",1,null,null,null,{"$f":"+Unidades!B92","v":"U15"},1,{"$f":"+VLOOKUP(O92,TablaGxN_NTH1[],14,0)","v":102626687.37262915},517662974.80000001,null,"GE000016-0",9377986405.6422005,null,"PC003323-5",1,"Colmito",null,null,"PC003323-5",214764309.17730001]
[76418918,3,"GUACOLDA","GE000079-9",4549921.01,852.03,3657211,212660262,202004,"2020-04-01",1,null,null,null,{"$f":"+Unidades!B93","v":"U16"},1,{"$f":"+VLOOKUP(O93,TablaGxN_NTH1[],14,0)","v":1049302559.5399601},1657478275.9400001,null,"GE000079-9",3876669198.1502995,null,"CA000124-7",1,"Antilhue TG U1",null,null,"CA000124-7",2274.9200999999998]
[76418918,3,"GUACOLDA","GE000080-2",4962395.78,852.03,3657213,212660264,202004,"2020-04-01",1,null,null,null,{"$f":"+Unidades!B94","v":"Valdivia"},2,{"$f":"+VLOOKUP(O94,TablaGxN_NTH1[],14,0)","v":139086327.933},382639805.63999999,null,"GE000080-2",4228110076.4334002,null,"PC001400-1",1,"Antilhue TG U1",null,null,"PC001400-1",121231523.0853]
[76418918,3,"GUACOLDA","GE000215-1",5033760.83,852.03,3657215,212660266,202004,"2020-04-01",1,null,null,null,{"$f":"+Unidades!B95","v":"Ventanas 1"},1,{"$f":"+VLOOKUP(O95,TablaGxN_NTH1[],14,0)","v":180014661.97000003},928894506.15999997,null,"GE000215-1",4288915239.9849,null,"CA000125-5",1,"Antilhue TG U2",null,null,"CA000125-5",20312.395199999999]
[96565750,9,"ASERRADEROS VALDIVIA","CA010881-2",611.87,852.03,3657217,212660268,202004,"2020-04-01",0,null,null,null,{"$f":"+Unidades!B96","v":"Ventanas 2"},1,{"$f":"+VLOOKUP(O96,TablaGxN_NTH1[],14,0)","v":828018681.83299994},3556662194.4899998,null,"CA010881-2",0,null,"PC001401-1",1,"Antilhue TG U2",null,null,"PC001401-1",117389021.1507]
[96565750,9,"ASERRADEROS VALDIVIA","IN000862-5",28251.7,852.03,3657219,212660270,202004,"2020-04-01",0,null,null,null,{"$f":"+Unidades!B97","v":"Viñales"},1,{"$f":"+VLOOKUP(O97,TablaGxN_NTH1[],14,0)","v":235952677.43399996},122629499.83,null,"IN000862-5",0,null,"IN000213-9",1,"Arauco",null,null,"IN000213-9",817361146.38870001]
[96565750,9,"ASERRADEROS VALDIVIA","IN000863-3",59215.58,852.03,3657221,212660272,202004,"2020-04-01",0,null,null,null,{"$f":"+Unidades!B98","v":"Yungay 1"},2,{"$f":"+VLOOKUP(O98,TablaGxN_NTH1[],14,0)","v":119902.607},474393.26,null,"IN000863-3",0,null,"IN000214-7",1,"Arauco",null,null,"IN000214-7",144617369.42159998]
[96565750,9,"PLANTA VIÑALES","GE000085-3",143926.26999999999,852.03,3657223,212660274,202004,"2020-04-01",1,null,null,null,{"$f":"+Unidades!B99","v":"Yungay 2"},2,{"$f":"+VLOOKUP(O99,TablaGxN_NTH1[],14,0)","v":122942.34099999999},416548.94,null,"GE000085-3",122629499.82809998,null,"IN000215-5",1,"Arauco",null,null,"IN000215-5",0]
[96532330,9,"CMPC CELULOSA PLANTA LAJA","IN002371-3",17464.54,852.03,3657225,212660276,202004,"2020-04-01",1,null,null,null,{"$f":"+Unidades!B100","v":"Yungay 3"},2,{"$f":"+VLOOKUP(O100,TablaGxN_NTH1[],14,0)","v":183715.64},684929.87,null,"IN002371-3",14880312.0162,null,"IN000216-3",1,"Arauco",null,null,"IN000216-3",310179527.74979997]
[96532330,9,"CMPC CELULOSA PLANTA LAJA","IN001988-0",100273.76,852.03,3657227,212660278,202004,"2020-04-01",1,null,null,null,{"$f":"+Unidades!B101","v":"Yungay 4 ca"},1,{"$f":"+VLOOKUP(O101,TablaGxN_NTH1[],14,0)","v":50715.070000000007},235151.76,null,"IN001988-0",85436251.732799992,null,"IN000217-1",1,"Arauco",null,null,"IN000217-1",470327342.15879995]
[96532330,9,"CMPC CELULOSA PLANTA SANTA FE","IN000638-K",65436.87,852.03,3657229,212660280,202004,"2020-04-01",1,null,null,null,{"$f":"+Unidades!B102","v":"Los Guindos 2"},1,{"$f":"+VLOOKUP(O102,TablaGxN_NTH1[],14,0)","v":102215.613},0,null,"IN000638-K",55754176.346100003,null,"IN001365-3",1,"Arauco",null,null,"IN001365-3",223351289.0451]
[96532330,9,"CMPC CELULOSA PLANTA SANTA FE","IN000640-1",239235.93,852.03,3657231,212660282,202004,"2020-04-01",1,null,null,null,null,null,null,null,null,"IN000640-1",203836189.43789998,null,"PC003576-9",1,"CC KELAR",null,null,"PC003576-9",1424555614.1628001]
[96532330,9,"CMPC CELULOSA PLANTA SANTA FE","IN000639-8",11629.4,852.03,3657233,212660284,202004,"2020-04-01",1,null,null,null,null,null,null,null,null,"IN000639-8",9908597.682,null,"PC003577-7",1,"CC KELAR",null,null,"PC003577-7",1388194705.6541998]
[96532330,9,"CMPC CELULOSA PLANTA SANTA FE","IN002012-9",15958.65,852.03,3657235,212660286,202004,"2020-04-01",0,null,null,null,null,null,null,null,null,"IN002012-9",0,null,"PC003571-8",1,"CC1",null,null,"PC003571-8",459469719.38159996]
[96532330,9,"CMPC PULP SA PLANTA PACIFICO","IN000336-4",500532.31,852.03,3657237,212660288,202004,"2020-04-01",1,null,null,null,null,null,null,null,null,"IN000336-4",426468544.08929998,null,"PC003572-6",1,"CC1",null,null,"PC003572-6",90348613.657200009]
[96532330,9,"CMPC PULP SA PLANTA PACIFICO","GE000015-2",21387.05,852.03,3657239,212660290,202004,"2020-04-01",1,null,null,null,null,null,null,null,null,"GE000015-2",18222408.2115,null,"PC003573-4",1,"CC2",null,null,"PC003573-4",58735753.087499999]
[96532330,9,"CMPC PULP SA PLANTA PACIFICO","IN000334-8",15572.49,852.03,3657241,212660292,202004,"2020-04-01",1,null,null,null,null,null,null,null,null,"IN000334-8",13268228.6547,null,"PC003574-2",1,"CC2",null,null,"PC003574-2",154737313.1451]
[96532330,9,"CMPC PULP SA PLANTA PACIFICO","IN000335-6",13442.5,852.03,3657243,212660294,202004,"2020-04-01",1,null,null,null,null,null,null,null,null,"IN000335-6",11453413.275,null,"IN000211-2",1,"Celco",null,null,"IN000211-2",53377157.4912]
[78932860,9,"CENTRAL ATACAMA","PC003571-8",539264.72,852.03,3657245,212660296,202004,"2020-04-01",1,null,null,null,null,null,null,null,null,"PC003571-8",459469719.38159996,null,"IN000212-0",1,"Celco",null,null,"IN000212-0",498204587.95739996]
[78932860,9,"CENTRAL ATACAMA","PC003572-6",106039.24,852.03,3657247,212660298,202004,"2020-04-01",1,null,null,null,null,null,null,null,null,"PC003572-6",90348613.657200009,null,"IN001148-0",1,"CMPC Cordillera",null,null,"IN001148-0",166305827.15279999]
[78932860,9,"CENTRAL ATACAMA","PC003573-4",68936.25,852.03,3657249,212660300,202004,"2020-04-01",1,null,null,null,null,null,null,null,null,"PC003573-4",58735753.087499999,null,"IN001149-9",1,"CMPC Cordillera",null,null,"IN001149-9",468546480.17459995]
[78932860,9,"CENTRAL ATACAMA","PC003574-2",181610.17,852.03,3657251,212660302,202004,"2020-04-01",1,null,null,null,null,null,null,null,null,"PC003574-2",154737313.1451,null,"IN001150-2",1,"CMPC Cordillera",null,null,"IN001150-2",210701642.69069999]
[79587210,8,"MINA 0","CA001578-7",97763.12,852.03,3657253,212660304,202004,"2020-04-01",0,null,null,null,null,null,null,null,null,"CA001578-7",0,null,"PC003526-2",1,"CMPC Cordillera",null,null,"PC003526-2",30341998.182599999]
[79587210,8,"MINA 0","CA001579-5",81112.61,852.03,3657255,212660306,202004,"2020-04-01",0,null,null,null,null,null,null,null,null,"CA001579-5",0,null,"IN001988-0",1,"CMPC Laja",null,null,"IN001988-0",85436251.732799992]
[79587210,8,"MINA 0","CA001580-9",101528.03,852.03,3657257,212660308,202004,"2020-04-01",0,null,null,null,null,null,null,null,null,"CA001580-9",0,null,"IN002371-3",1,"CMPC Laja",null,null,"IN002371-3",14880312.0162]
[79587210,8,"MINA 0","CA001641-4",5446.11,852.03,3657259,212660310,202004,"2020-04-01",0,null,null,null,null,null,null,null,null,"CA001641-4",0,null,"GE000015-2",1,"CMPC Pacífico",null,null,"GE000015-2",18222408.2115]
[79587210,8,"MINA 0","CA011065-5",34838.22,852.03,3657261,212660312,202004,"2020-04-01",0,null,null,null,null,null,null,null,null,"CA011065-5",0,null,"IN000334-8",1,"CMPC Pacífico",null,null,"IN000334-8",13268228.6547]
[79587210,8,"MINA 0","CA011066-3",70810.55,852.03,3657263,212660314,202004,"2020-04-01",0,null,null,null,null,null,null,null,null,"CA011066-3",0,null,"IN000335-6",1,"CMPC Pacífico",null,null,"IN000335-6",11453413.275]
[79587210,8,"MINA 0","CA011067-1",31817.81,852.03,3657265,212660316,202004,"2020-04-01",0,null,null,null,null,null,null,null,null,"CA011067-1",0,null,"IN000336-4",1,"CMPC Pacífico",null,null,"IN000336-4",426468544.08929998]
[79587210,8,"MINA 0","CA011068-K",64496.84,852.03,3657267,212660318,202004,"2020-04-01",0,null,null,null,null,null,null,null,null,"CA011068-K",0,null,"PC001041-8",1,"CMPC Pacífico",null,null,"PC001041-8",0]
[96717620,6,"RENCA NUEVA RENCA","IN001115-4",4827839.97,852.03,3657269,212660320,202004,"2020-04-01",1,null,null,null,null,null,null,null,null,"IN001115-4",4113464489.6390996,null,"IN000638-k",1,"CMPC Santa Fe",null,null,"IN000638-k",55754176.346100003]
[96717620,6,"LOS VIENTOS","PC000023-4",418401.73,852.03,3657271,212660322,202004,"2020-04-01",1,null,null,null,null,null,null,null,null,"PC000023-4",356490826.01189995,null,"IN000639-8",1,"CMPC Santa Fe",null,null,"IN000639-8",9908597.682]
[96717620,6,"SANTA LIDIA","PC000846-4",9358.61,852.03,3657273,212660324,202004,"2020-04-01",1,null,null,null,null,null,null,null,null,"PC000846-4",7973816.4783000005,null,"IN000640-1",1,"CMPC Santa Fe",null,null,"IN000640-1",203836189.43789998]
[96529310,8,"PLANTA TISSUE TALAGANTE","IN002463-9",11658.06,852.03,3657275,212660326,202004,"2020-04-01",1,null,null,null,null,null,null,null,null,"IN002463-9",9933016.8618000001,null,"IN002012-9",0,null,null,null,"IN002012-9"]
[96529310,8,"PLANTA TISSUE TALAGANTE","PC003087-7",406441.88,852.03,3657277,212660328,202004,"2020-04-01",1,null,null,null,null,null,null,null,null,"PC003087-7",346300675.01639998,null,"GE000037-3",1,"Laguna Verde TV",null,null,"GE000037-3"]
[91081000,6,"HUASCO","PC000335-7",713.54,852.03,3657279,212660330,202004,"2020-04-01",1,null,null,null,null,null,null,null,null,"PC000335-7",607957.48619999993,null,"GE000038-1",1,"Laguna Verde TV",null,null,"GE000038-1"]
[91081000,6,"HUASCO","PC000336-5",375.51,852.03,3657281,212660332,202004,"2020-04-01",1,null,null,null,null,null,null,null,null,"PC000336-5",319945.78529999999,null,"GE000039-k",1,"Laguna Verde TV",null,null,"GE000039-k"]
[91081000,6,"HUASCO","PC000337-3",367.8,852.03,3657283,212660334,202004,"2020-04-01",1,null,null,null,null,null,null,null,null,"PC000337-3",313376.63400000002,null,"GE000040-3",1,"Laguna Verde TV",null,null,"GE000040-3"]
[91081000,6,"CENTRAL TALTAL","PC000312-8",33532.17,852.03,3657285,212660336,202004,"2020-04-01",1,null,null,null,null,null,null,null,null,"PC000312-8",28570414.805099998,null,"IN000224-4",1,"Licantén",null,null,"IN000224-4",103201682.1741]
[91081000,6,"CENTRAL TALTAL","PC000313-6",123138.7,852.03,3657287,212660338,202004,"2020-04-01",1,null,null,null,null,null,null,null,null,"PC000313-6",104917866.56099999,null,"IN000225-2",1,"Licantén",null,null,"IN000225-2",18433779.813900001]
[91081000,6,"SAN ISIDRO 2","PC000318-7",4716749.8600000003,852.03,3657289,212660340,202004,"2020-04-01",1,null,null,null,null,null,null,null,null,"PC000318-7",4018812383.2158003,null,"GE000094-2",1,"Santa María",null,null,"GE000094-2",9541418846.823]
[91081000,6,"DIEGO DE ALMAGRO","PC000355-1",1537.43,852.03,3657291,212660342,202004,"2020-04-01",1,null,null,null,null,null,null,null,null,"PC000355-1",1309936.4828999999,null,"IN001433-1",1,"Santa María",null,null,"IN001433-1",5630563.5723000001]
[91081000,6,"CENTRAL QUINTERO","PC000620-8",501707.95,852.03,3657293,212660344,202004,"2020-04-01",1,null,null,null,null,null,null,null,null,"PC000620-8",427470224.63849998,null,"CA010879-0",1,"Masisa (Cabrero)",null,null,"CA010879-0",137236.47209999998]
[91081000,6,"CENTRAL QUINTERO","PC000621-6",505514.87,852.03,3657295,212660346,202004,"2020-04-01",1,null,null,null,null,null,null,null,null,{"$f":"+D135","v":"PC000621-6"},{"$f":"+K135*F135*E135","v":430713834.68610001},null,"CA010880-4",{"$f":"+COUNTA(Y135:Z135)","v":1},"Masisa (Cabrero)",null,null,{"$f":"+W135","v":"CA010880-4"},105285.34709999998]
[91081000,6,"CENTRAL TERMOELECTRICA BOCAMINA U1","GE000043-8",2982966.2,852.03,3657297,212660348,202004,"2020-04-01",1,null,null,null,null,null,null,null,null,"GE000043-8",2541576691.3860002,null,"GE000130-2",1,"Masisa (Cabrero)",null,null,"GE000130-2",25390732.568399999]
[91081000,6,"CENTRAL TERMOELECTRICA BOCAMINA U1","GE000106-K",12363582.439999999,852.03,3657299,212660350,202004,"2020-04-01",1,null,null,null,null,null,null,null,null,"GE000106-K",10534143146.353199,null,"IN002647-k",1,"Masisa (Cabrero)",null,null,"IN002647-k",6276964.6520999996]
[96546010,1,"COMASA SA","GE000114-0",99499.61,852.03,3657301,212660352,202004,"2020-04-01",1,null,null,null,null,null,null,null,null,"GE000114-0",84776652.708299994,null,"IN002653-4",1,"Masisa (Cabrero)",null,null,"IN002653-4",5270154.8822999997]
[96546010,1,"COMASA SA","GE000203-8",80839.41,852.03,3657303,212660354,202004,"2020-04-01",1,null,null,null,null,null,null,null,null,"GE000203-8",68877602.502299994,null,"PC000319-5",1,"San Isidro",null,null,"PC000319-5",2118915059.9382]
[76550580,1,"CENTRAL CARDONES","PC001834-6",179.3,852.03,3657305,212660356,202004,"2020-04-01",1,null,null,null,null,null,null,null,null,"PC001834-6",152768.97899999999,null,"PC000318-7",1,"San Isidro II",null,null,"PC000318-7",4018812383.2158003]
[95304000,"K","ASERRADERO MULCHEN","IN002233-4",86382.3,852.03,3657307,212660358,202004,"2020-04-01",0,null,null,null,null,null,null,null,null,"IN002233-4",0,null,"GE000257-7",1,"Escuadrón",null,null,"GE000257-7",28068552.094500002]
[95304000,"K","ASERRADERO MULCHEN","IN002232-6",115451.52,852.03,3657309,212660360,202004,"2020-04-01",0,null,null,null,null,null,null,null,null,"IN002232-6",0,null,"IN002847-2",1,"Escuadrón",null,null,"IN002847-2",0]
[77894990,3,"ORAFTI CHILE S A","IN001655-5",16831.91,852.03,3657311,212660362,202004,"2020-04-01",0,null,null,null,null,null,null,null,null,"IN001655-5",0]
[77894990,3,"ORAFTI CHILE S A","IN001615-6",77556.03,852.03,3657313,212660364,202004,"2020-04-01",0,null,null,null,null,null,null,null,null,"IN001615-6",0]
[77894990,3,"ORAFTI CHILE S A","GE000256-9",3675.14,852.03,3657315,212660366,202004,"2020-04-01",0,null,null,null,null,null,null,null,null,"GE000256-9",0]
[96929960,7,"PLANTA PONIENTE ORIZON","IN000254-6",53690.52,852.03,3657317,212660368,202004,"2020-04-01",0,null,null,null,null,null,null,null,null,"IN000254-6",0]
[96929960,7,"PLANTA PONIENTE ORIZON","IN000255-4",71767.210000000006,852.03,3657319,212660370,202004,"2020-04-01",0,null,null,null,null,null,null,null,null,"IN000255-4",0]
[96929960,7,"PLANTA PONIENTE ORIZON","IN000256-2",102522.16,852.03,3657321,212660372,202004,"2020-04-01",0,null,null,null,null,null,null,null,null,"IN000256-2",0]
[96929960,7,"PLANTA PONIENTE ORIZON","IN003579-3",47904.83,852.03,3657323,212660374,202004,"2020-04-01",0,null,null,null,null,null,null,null,null,"IN003579-3",0]
[96929960,7,"PLANTA PONIENTE ORIZON","IN003580-7",7869.73,852.03,3657325,212660376,202004,"2020-04-01",0,null,null,null,null,null,null,null,null,"IN003580-7",0]
[76009904,"K","CENTRAL TERMOELÉCTRICA ANTILHUE","PC001400-1",142285.51,852.03,3657327,212660378,202004,"2020-04-01",1,null,null,null,null,null,null,null,null,"PC001400-1",121231523.0853]
[76009904,"K","CENTRAL TERMOELÉCTRICA ANTILHUE","PC001401-1",137775.69,852.03,3657329,212660380,202004,"2020-04-01",1,null,null,null,null,null,null,null,null,"PC001401-1",117389021.1507]
[76009904,"K","CENTRAL TERMOELÉCTRICA ANTILHUE","CA000124-7",2.67,852.03,3657331,212660382,202004,"2020-04-01",1,null,null,null,null,null,null,null,null,"CA000124-7",2274.9200999999998]
[76009904,"K","CENTRAL TERMOELÉCTRICA ANTILHUE","CA000125-5",23.84,852.03,3657333,212660384,202004,"2020-04-01",1,null,null,null,null,null,null,null,null,"CA000125-5",20312.395199999999]
[96547510,9,"CENTRAL HORCONES","PC002440-0",797.32,852.03,3657335,212660386,202004,"2020-04-01",1,null,null,null,null,null,null,null,null,"PC002440-0",679340.55960000004]
[76708710,1,"CENTRAL TERMICA ANDINA","GE000251-8",3627084.5,852.03,3657337,212660388,202004,"2020-04-01",1,null,null,null,null,null,null,null,null,"GE000251-8",3090384806.5349998]
[76708710,1,"CENTRAL TERMICA ANDINA","GE000100-0",4801129.99,852.03,3657339,212660390,202004,"2020-04-01",1,null,null,null,null,null,null,null,null,"GE000100-0",4090706785.3797002]
[76004976,"K","CENTRAL TERMOELÉCTRICA ANGAMOS","GE000103-5",16949576.210000001,852.03,3657341,212660392,202004,"2020-04-01",1,null,null,null,null,null,null,null,null,"GE000103-5",14441547418.206301]
[99579230,3,"INDUSTRIAS ISLA QUIHUA SA","IN001046-8",56302.05,852.03,3657343,212660394,202004,"2020-04-01",0,null,null,null,null,null,null,null,null,"IN001046-8",0]
[99579230,3,"INDUSTRIAS ISLA QUIHUA SA","IN002071-4",27421.27,852.03,3657345,212660396,202004,"2020-04-01",0,null,null,null,null,null,null,null,null,"IN002071-4",0]
[99579230,3,"INDUSTRIAS ISLA QUIHUA SA","IN001763-2",19369.11,852.03,3657347,212660398,202004,"2020-04-01",0,null,null,null,null,null,null,null,null,"IN001763-2",0]
[99579230,3,"INDUSTRIAS ISLA QUIHUA SA","IN000112-4",3098.35,852.03,3657349,212660400,202004,"2020-04-01",0,null,null,null,null,null,null,null,null,"IN000112-4",0]
[96554890,4,"COMPANIA PAPELERA PACIFICO","IN003211-5",152.71,852.03,3657351,212660402,202004,"2020-04-01",0,null,null,null,null,null,null,null,null,"IN003211-5",0]
[96554890,4,"COMPANIA PAPELERA PACIFICO","IN003212-3",152.71,852.03,3657353,212660404,202004,"2020-04-01",0,null,null,null,null,null,null,null,null,"IN003212-3",0]
[93458000,1,"PLANTA CONSTITUCION","IN000211-2",62647.040000000001,852.03,3657355,212660406,202004,"2020-04-01",1,null,null,null,null,null,null,null,null,"IN000211-2",53377157.4912]
[93458000,1,"PLANTA CONSTITUCION","IN000212-0",584726.57999999996,852.03,3657357,212660408,202004,"2020-04-01",1,null,null,null,null,null,null,null,null,"IN000212-0",498204587.95739996]
[93458000,1,"PLANTA ARAUCO","IN000213-9",959310.29,852.03,3657359,212660410,202004,"2020-04-01",1,null,null,null,null,null,null,null,null,"IN000213-9",817361146.38870001]
[93458000,1,"PLANTA ARAUCO","IN000216-3",364047.66,852.03,3657361,212660412,202004,"2020-04-01",1,null,null,null,null,null,null,null,null,"IN000216-3",310179527.74979997]
[93458000,1,"PLANTA ARAUCO","IN001365-3",262140.17,852.03,3657363,212660414,202004,"2020-04-01",1,null,null,null,null,null,null,null,null,"IN001365-3",223351289.0451]
[93458000,1,"PLANTA ARAUCO","IN000214-7",169732.72,852.03,3657365,212660416,202004,"2020-04-01",1,null,null,null,null,null,null,null,null,"IN000214-7",144617369.42159998]
[93458000,1,"PLANTA ARAUCO","IN000217-1",552007.96,852.03,3657367,212660418,202004,"2020-04-01",1,null,null,null,null,null,null,null,null,"IN000217-1",470327342.15879995]
[93458000,1,"PLANTA LICANCEL","IN000225-2",21635.13,852.03,3657369,212660420,202004,"2020-04-01",1,null,null,null,null,null,null,null,null,"IN000225-2",18433779.813900001]
[93458000,1,"PLANTA LICANCEL","IN000224-4",121124.47,852.03,3657371,212660422,202004,"2020-04-01",1,null,null,null,null,null,null,null,null,"IN000224-4",103201682.1741]
[93458000,1,"NUEVA ALDEA","IN002622-4",33902.559999999998,852.03,3657373,212660424,202004,"2020-04-01",1,null,null,null,null,null,null,null,null,"IN002622-4",28885998.196799997]
[93458000,1,"NUEVA ALDEA","IN000218-K",357879.91,852.03,3657375,212660426,202004,"2020-04-01",1,null,null,null,null,null,null,null,null,"IN000218-K",304924419.7173]
[93458000,1,"NUEVA ALDEA","EL019740-9",1354.29,852.03,3657377,212660428,202004,"2020-04-01",1,null,null,null,null,null,null,null,null,"EL019740-9",1153895.7086999998]
[93458000,1,"PLANTA VALDIVIA","IN000219-8",302278.27,852.03,3657379,212660430,202004,"2020-04-01",1,null,null,null,null,null,null,null,null,"IN000219-8",257550154.3881]
[93458000,1,"PLANTA VALDIVIA","IN000220-1",146813.67000000001,852.03,3657381,212660432,202004,"2020-04-01",1,null,null,null,null,null,null,null,null,"IN000220-1",125089651.2501]
[76143821,2,"PLANTA CORONEL","IN000245-7",27525.08,852.03,3657383,212660434,202004,"2020-04-01",0,null,null,null,null,null,null,null,null,"IN000245-7",0]
[76143821,2,"PLANTA CORONEL","IN003308-1",13829.71,852.03,3657385,212660436,202004,"2020-04-01",0,null,null,null,null,null,null,null,null,"IN003308-1",0]
[76143821,2,"PLANTA CORONEL","IN003307-3",51436.57,852.03,3657387,212660438,202004,"2020-04-01",0,null,null,null,null,null,null,null,null,"IN003307-3",0]
[76143821,2,"PLANTA CORONEL","IN000249-K",12071.65,852.03,3657389,212660440,202004,"2020-04-01",0,null,null,null,null,null,null,null,null,"IN000249-K",0]
[76143821,2,"PLANTA CORONEL","IN003557-2",17422.47,852.03,3657391,212660442,202004,"2020-04-01",0,null,null,null,null,null,null,null,null,"IN003557-2",0]
[76629030,2,"CENTRAL A GAS CICLO COMBINADO KELAR","PC003576-9",1671954.76,852.03,3657393,212660444,202004,"2020-04-01",1,null,null,null,null,null,null,null,null,"PC003576-9",1424555614.1628001]
[76629030,2,"CENTRAL A GAS CICLO COMBINADO KELAR","PC003577-7",1629279.14,852.03,3657395,212660446,202004,"2020-04-01",1,null,null,null,null,null,null,null,null,"PC003577-7",1388194705.6541998]
[87756500,9,"EMPRESA NACIONAL DEL PETRÓLEO (ENAP)","IN000649-5",313025.37,852.03,3657397,212660448,202004,"2020-04-01",0,null,null,null,null,null,null,null,null,"IN000649-5",0]
[87756500,9,"EMPRESA NACIONAL DEL PETRÓLEO (ENAP)","IN000650-9",281508.06,852.03,3657399,212660450,202004,"2020-04-01",0,null,null,null,null,null,null,null,null,"IN000650-9",0]
[87756500,9,"EMPRESA NACIONAL DEL PETRÓLEO (ENAP)","IN000651-7",296625.59000000003,852.03,3657401,212660452,202004,"2020-04-01",0,null,null,null,null,null,null,null,null,"IN000651-7",0]
[87756500,9,"EMPRESA NACIONAL DEL PETRÓLEO (ENAP)","IN001036-0",301626.05,852.03,3657403,212660454,202004,"2020-04-01",0,null,null,null,null,null,null,null,null,"IN001036-0",0]
[87756500,9,"EMPRESA NACIONAL DEL PETRÓLEO (ENAP)","IN000652-5",266294.67,852.03,3657405,212660456,202004,"2020-04-01",0,null,null,null,null,null,null,null,null,"IN000652-5",0]
[87756500,9,"EMPRESA NACIONAL DEL PETRÓLEO (ENAP)","PC003440-1",571.08000000000004,852.03,3657407,212660458,202004,"2020-04-01",0,null,null,null,null,null,null,null,null,"PC003440-1",0]
[87756500,9,"REFINERIA BIO BIO","IN000555-3",5548.47,852.03,3657409,212660460,202004,"2020-04-01",0,null,null,null,null,null,null,null,null,"IN000555-3",0]
[87756500,9,"REFINERIA BIO BIO","IN000560-K",86702.58,852.03,3657411,212660462,202004,"2020-04-01",0,null,null,null,null,null,null,null,null,"IN000560-K",0]
[87756500,9,"REFINERIA BIO BIO","IN000559-6",33955.519999999997,852.03,3657413,212660464,202004,"2020-04-01",0,null,null,null,null,null,null,null,null,"IN000559-6",0]
[87756500,9,"REFINERIA BIO BIO","IN000558-8",83848.490000000005,852.03,3657415,212660466,202004,"2020-04-01",0,null,null,null,null,null,null,null,null,"IN000558-8",0]
[87756500,9,"REFINERIA BIO BIO","IN000557-K",73063.679999999993,852.03,3657417,212660468,202004,"2020-04-01",0,null,null,null,null,null,null,null,null,"IN000557-K",0]
[87756500,9,"REFINERIA BIO BIO","IN000556-1",117938.73,852.03,3657419,212660470,202004,"2020-04-01",0,null,null,null,null,null,null,null,null,"IN000556-1",0]
[87756500,9,"COGENERADORA PETROPOWER","GE000010-1",3565621.86,852.03,3657421,212660472,202004,"2020-04-01",1,null,null,null,null,null,null,null,null,"GE000010-1",3038016793.3757997]
[87756500,9,"PLANTA CO GENERADORA","PC003861-K",113520.37,852.03,3657423,212660474,202004,"2020-04-01",0,null,null,null,null,null,null,null,null,{"$f":"+D199","v":"PC003861-K"},{"$f":"+K199*F199*E199","v":0}]
[87756500,9,"PLANTA CO GENERADORA","IN003466-5",25576.28,852.03,3657425,212660476,202004,"2020-04-01",0,null,null,null,null,null,null,null,null,"IN003466-5",0]
[79947100,0,"FAENA COYA SUR","CA002705-K",30113.59,852.03,3657427,212660478,202004,"2020-04-01",0,null,null,null,null,null,null,null,null,"CA002705-K",0]
[79947100,0,"FAENA COYA SUR","CA002708-4",34498.74,852.03,3657429,212660480,202004,"2020-04-01",0,null,null,null,null,null,null,null,null,"CA002708-4",0]
[79947100,0,"FAENA COYA SUR","IN001485-4",41125.769999999997,852.03,3657431,212660482,202004,"2020-04-01",0,null,null,null,null,null,null,null,null,"IN001485-4",0]
[79947100,0,"FAENA COYA SUR","IN001487-0",45398.02,852.03,3657433,212660484,202004,"2020-04-01",0,null,null,null,null,null,null,null,null,"IN001487-0",0]
[79947100,0,"FAENA COYA SUR","IN000194-9",30305.72,852.03,3657435,212660486,202004,"2020-04-01",0,null,null,null,null,null,null,null,null,"IN000194-9",0]
[79947100,0,"FAENA COYA SUR","IN000195-7",20726.72,852.03,3657437,212660488,202004,"2020-04-01",0,null,null,null,null,null,null,null,null,"IN000195-7",0]
[79947100,0,"FAENA COYA SUR","IN000197-3",29724.94,852.03,3657439,212660490,202004,"2020-04-01",0,null,null,null,null,null,null,null,null,"IN000197-3",0]
[79947100,0,"FAENA COYA SUR","IN000190-6",7966.67,852.03,3657441,212660492,202004,"2020-04-01",0,null,null,null,null,null,null,null,null,"IN000190-6",0]
[79947100,0,"FAENA COYA SUR","IN001484-6",20824.82,852.03,3657443,212660494,202004,"2020-04-01",0,null,null,null,null,null,null,null,null,"IN001484-6",0]
[79947100,0,"FAENA COYA SUR","CA009993-7",21918.95,852.03,3657445,212660496,202004,"2020-04-01",0,null,null,null,null,null,null,null,null,"CA009993-7",0]
[79947100,0,"FAENA COYA SUR","CA009991-0",19454.09,852.03,3657447,212660498,202004,"2020-04-01",0,null,null,null,null,null,null,null,null,"CA009991-0",0]
[79947100,0,"FAENA COYA SUR","CA013673-5",3755.38,852.03,3657449,212660500,202004,"2020-04-01",0,null,null,null,null,null,null,null,null,"CA013673-5",0]
[79947100,0,"FAENA COYA SUR","IN003374-K",562.96,852.03,3657451,212660502,202004,"2020-04-01",0,null,null,null,null,null,null,null,null,"IN003374-K",0]
[88006900,4,"CENTRAL TÉRMICA MEJILLONES","GE000018-7",1846997.41,852.03,3657453,212660504,202004,"2020-04-01",1,null,null,null,null,null,null,null,null,"GE000018-7",1573697203.2422998]
[88006900,4,"CENTRAL TÉRMICA MEJILLONES","GE000250-K",1545414.58,852.03,3657455,212660506,202004,"2020-04-01",1,null,null,null,null,null,null,null,null,"GE000250-K",1316739584.5974]
[88006900,4,"CENTRAL TÉRMICA MEJILLONES","GE000277-1",6457407.2599999998,852.03,3657457,212660508,202004,"2020-04-01",1,null,null,null,null,null,null,null,null,"GE000277-1",5501904707.7377996]
[88006900,4,"CENTRAL TERMICA TOCOPILLA","GE000024-1",76081.009999999995,852.03,3657459,212660510,202004,"2020-04-01",1,null,null,null,null,null,null,null,null,"GE000024-1",64823302.950299993]
[88006900,4,"CENTRAL TERMICA TOCOPILLA","GE000022-5",830347.74,852.03,3657461,212660512,202004,"2020-04-01",1,null,null,null,null,null,null,null,null,"GE000022-5",707481184.91219997]
[88006900,4,"CENTRAL TERMICA TOCOPILLA","PC003594-7",1945328.54,852.03,3657463,212660514,202004,"2020-04-01",1,null,null,null,null,null,null,null,null,"PC003594-7",1657478275.9361999]
[88006900,4,"CENTRAL TERMICA TOCOPILLA","PC003593-9",37027.949999999997,852.03,3657465,212660516,202004,"2020-04-01",1,null,null,null,null,null,null,null,null,"PC003593-9",31548924.238499995]
[76045612,8,"ELÉCTRICA NUEVA ENERGÍA S.A.,  CENTRAL ESCUADRÓN","GE000257-7",32943.15,852.03,3657467,212660518,202004,"2020-04-01",1,null,null,null,null,null,null,null,null,"GE000257-7",28068552.094500002]
[76045612,8,"ELÉCTRICA NUEVA ENERGÍA S.A.,  CENTRAL ESCUADRÓN","GE000262-3",30620.44,852.03,3657469,212660520,202004,"2020-04-01",0,null,null,null,null,null,null,null,null,"GE000262-3",0]
[94272000,9,"CENTRAL TERMOELÉCTRICA VENTANAS UNIDADES 1 Y 2","GE000035-7",1090213.3799999999,852.03,3657471,212660522,202004,"2020-04-01",1,null,null,null,null,null,null,null,null,"GE000035-7",928894506.16139984]
[94272000,9,"CENTRAL TERMOELÉCTRICA VENTANAS UNIDADES 1 Y 2","GE000036-5",4174339.16,852.03,3657473,212660524,202004,"2020-04-01",1,null,null,null,null,null,null,null,null,"GE000036-5",3556662194.4948001]
[94272000,9,"CENTRAL TERMOELECTRICA LAJA","GE000116-7",4922.9399999999996,852.03,3657475,212660526,202004,"2020-04-01",1,null,null,null,null,null,null,null,null,"GE000116-7",4194492.5681999996]
[94272000,9,"CENTRAL TERMOELÉCTRICA NUEVA TOCOPILLA","GE000005-5",4301592.53,852.03,3657477,212660528,202004,"2020-04-01",1,null,null,null,null,null,null,null,null,"GE000005-5",3665085883.3359003]
[94272000,9,"CENTRAL TERMOELÉCTRICA NUEVA TOCOPILLA","GE000006-3",4385818.3,852.03,3657479,212660530,202004,"2020-04-01",1,null,null,null,null,null,null,null,null,"GE000006-3",3736848766.1489997]
[96731890,6,"CARTULINAS CMPC PLANTA MAULE","IN000419-0",152032.62,852.03,3657481,212660532,202004,"2020-04-01",0,null,null,null,null,null,null,null,null,"IN000419-0",0]
[96731890,6,"CARTULINAS CMPC PLANTA MAULE","IN000420-4",138036.66,852.03,3657483,212660534,202004,"2020-04-01",0,null,null,null,null,null,null,null,null,"IN000420-4",0]
[76004531,4,"ENERGIA PACIFICO SA","GE000102-7",40547.61,852.03,3657485,212660536,202004,"2020-04-01",1,null,null,null,null,null,null,null,null,"GE000102-7",34547780.1483]
[76216511,2,"SUGAL CHILE PLANTA TALCA","IN002094-3",7919.94,852.03,3657487,212660538,202004,"2020-04-01",0,null,null,null,null,null,null,null,null,"IN002094-3",0]
[76216511,2,"SUGAL CHILE PLANTA TALCA","IN002095-1",1303.54,852.03,3657489,212660540,202004,"2020-04-01",0,null,null,null,null,null,null,null,null,"IN002095-1",0]
[76216511,2,"SUGAL CHILE PLANTA TALCA","IN002096-K",7919.94,852.03,3657491,212660542,202004,"2020-04-01",0,null,null,null,null,null,null,null,null,"IN002096-K",0]
[76216511,2,"SUGAL CHILE PLANTA TALCA","IN002097-8",1303.54,852.03,3657493,212660544,202004,"2020-04-01",0,null,null,null,null,null,null,null,null,"IN002097-8",0]
[76216511,2,"SUGAL CHILE PLANTA TALCA","IN002098-6",31731.02,852.03,3657495,212660546,202004,"2020-04-01",0,null,null,null,null,null,null,null,null,"IN002098-6",0]
[76216511,2,"SUGAL CHILE PLANTA TALCA","IN002099-4",31731.02,852.03,3657497,212660548,202004,"2020-04-01",0,null,null,null,null,null,null,null,null,"IN002099-4",0]
[76216511,2,"SUGAL CHILE PLANTA TALCA","IN002100-1",38973.26,852.03,3657499,212660550,202004,"2020-04-01",0,null,null,null,null,null,null,null,null,"IN002100-1",0]
[76216511,2,"SUGAL CHILE PLANTA TALCA","IN002477-9",42824.92,852.03,3657501,212660552,202004,"2020-04-01",0,null,null,null,null,null,null,null,null,"IN002477-9",0]
[76216511,2,"SUGAL CHILE PLANTA TILCOCO","IN002205-9",13180.38,852.03,3657503,212660554,202004,"2020-04-01",0,null,null,null,null,null,null,null,null,"IN002205-9",0]
[76216511,2,"SUGAL CHILE PLANTA TILCOCO","IN002206-7",8656.34,852.03,3657505,212660556,202004,"2020-04-01",0,null,null,null,null,null,null,null,null,"IN002206-7",0]
[76216511,2,"SUGAL CHILE PLANTA TILCOCO","IN002207-5",28235.38,852.03,3657507,212660558,202004,"2020-04-01",0,null,null,null,null,null,null,null,null,"IN002207-5",0]
[76216511,2,"SUGAL CHILE PLANTA TILCOCO","IN002208-3",23749.439999999999,852.03,3657509,212660560,202004,"2020-04-01",0,null,null,null,null,null,null,null,null,"IN002208-3",0]
[76216511,2,"SUGAL CHILE PLANTA TILCOCO","IN002209-1",24154.02,852.03,3657511,212660562,202004,"2020-04-01",0,null,null,null,null,null,null,null,null,"IN002209-1",0]
[76216511,2,"SUGAL CHILE PLANTA TILCOCO","IN002211-3",59103.7,852.03,3657513,212660564,202004,"2020-04-01",0,null,null,null,null,null,null,null,null,"IN002211-3",0]
[76216511,2,"SUGAL CHILE PLANTA TILCOCO","IN002212-1",42004.46,852.03,3657515,212660566,202004,"2020-04-01",0,null,null,null,null,null,null,null,null,"IN002212-1",0]
[76216511,2,"SUGAL CHILE PLANTA TILCOCO","IN003402-9",20594.79,852.03,3657517,212660568,202004,"2020-04-01",0,null,null,null,null,null,null,null,null,"IN003402-9",0]
[76216511,2,"SUGAL CHILE PLANTA TILCOCO","IN003404-5",27451.41,852.03,3657519,212660570,202004,"2020-04-01",0,null,null,null,null,null,null,null,null,"IN003404-5",0]
[76216511,2,"SUGAL CHILE PLANTA TILCOCO","IN003677-3",18461.03,852.03,3657521,212660572,202004,"2020-04-01",0,null,null,null,null,null,null,null,null,"IN003677-3",0]
[76216511,2,"SUGAL CHILE PLANTA TILCOCO","IN003676-5",10539.1,852.03,3657523,212660574,202004,"2020-04-01",0,null,null,null,null,null,null,null,null,"IN003676-5",0]
[76060441,0,"YUNGAY (EX CAMPANARIO)","PC000444-2",278.39,852.03,3657525,212660576,202004,"2020-04-01",1,null,null,null,null,null,null,null,null,"PC000444-2",237196.63169999997]
[76060441,0,"YUNGAY (EX CAMPANARIO)","PC000445-0",278.39,852.03,3657527,212660578,202004,"2020-04-01",1,null,null,null,null,null,null,null,null,"PC000445-0",237196.63169999997]
[76060441,0,"YUNGAY (EX CAMPANARIO)","PC000446-9",304.8,852.03,3657529,212660580,202004,"2020-04-01",1,null,null,null,null,null,null,null,null,"PC000446-9",259698.74400000001]
[76060441,0,"YUNGAY (EX CAMPANARIO)","PC000447-7",184.09,852.03,3657531,212660582,202004,"2020-04-01",1,null,null,null,null,null,null,null,null,"PC000447-7",156850.20269999999]
[76060441,0,"YUNGAY (EX CAMPANARIO)","PC000448-5",432.42,852.03,3657533,212660584,202004,"2020-04-01",1,null,null,null,null,null,null,null,null,"PC000448-5",368434.8126]
[76060441,0,"YUNGAY (EX CAMPANARIO)","PC000449-3",371.46,852.03,3657535,212660586,202004,"2020-04-01",1,null,null,null,null,null,null,null,null,"PC000449-3",316495.06379999995]
[76060441,0,"YUNGAY (EX CAMPANARIO)","PC000952-5",275.99,852.03,3657537,212660588,202004,"2020-04-01",1,null,null,null,null,null,null,null,null,"PC000952-5",235151.7597]
[96772810,1,"IANSAGRO PLANTA ÑUBLE","IN000589-8",290229.43,852.03,3657539,212660590,202004,"2020-04-01",0,null,null,null,null,null,null,null,null,"IN000589-8",0]
[96772810,1,"IANSAGRO PLANTA ÑUBLE","IN000587-1",295805.8,852.03,3657541,212660592,202004,"2020-04-01",0,null,null,null,null,null,null,null,null,"IN000587-1",0]
[96772810,1,"IANSAGRO PLANTA ÑUBLE","IN000588-K",5608.38,852.03,3657543,212660594,202004,"2020-04-01",0,null,null,null,null,null,null,null,null,"IN000588-K",0]
[96772810,1,"IANSAGRO PLANTA ÑUBLE","CA000521-8",268.91000000000003,852.03,3657545,212660596,202004,"2020-04-01",0,null,null,null,null,null,null,null,null,"CA000521-8",0]
[96772810,1,"IANSAGRO PLANTA ÑUBLE","CA008143-7",285.83999999999997,852.03,3657547,212660598,202004,"2020-04-01",0,null,null,null,null,null,null,null,null,"CA008143-7",0]
[96853150,6,"PAPELES CORDILLERA S.A.","IN001148-0",195187.76,852.03,3657549,212660600,202004,"2020-04-01",1,null,null,null,null,null,null,null,null,"IN001148-0",166305827.15279999]
[96853150,6,"PAPELES CORDILLERA S.A.","IN001149-9",549917.81999999995,852.03,3657551,212660602,202004,"2020-04-01",1,null,null,null,null,null,null,null,null,{"$f":"+D263","v":"IN001149-9"},{"$f":"+K263*F263*E263","v":468546480.17459995}]
[96853150,6,"PAPELES CORDILLERA S.A.","IN001150-2",247293.69,852.03,3657553,212660604,202004,"2020-04-01",1,null,null,null,null,null,null,null,null,"IN001150-2",210701642.69069999]
[96853150,6,"PAPELES CORDILLERA S.A.","PC003526-2",35611.42,852.03,3657555,212660606,202004,"2020-04-01",1,null,null,null,null,null,null,null,null,"PC003526-2",{"$f":"+K265*F265*E265","v":30341998.182599999}]
[88221200,9,"TRES PUENTES","PC003563-7",50685.49,852.03,3657557,212660608,202004,"2020-04-01",0,null,null,null,null,null,null,null,null,"PC003563-7",0]
[88221200,9,"TRES PUENTES","PC003561-0",182886.03,852.03,3657559,212660610,202004,"2020-04-01",0,null,null,null,null,null,null,null,null,"PC003561-0",0]
[88221200,9,"TRES PUENTES","PC003564-5",508237.45,852.03,3657561,212660612,202004,"2020-04-01",0,null,null,null,null,null,null,null,null,"PC003564-5",0]
[88221200,9,"TRES PUENTES","PC003565-3",184177.18,852.03,3657563,212660614,202004,"2020-04-01",0,null,null,null,null,null,null,null,null,"PC003565-3",0]
[88221200,9,"TRES PUENTES","PC003566-1",406710.25,852.03,3657565,212660616,202004,"2020-04-01",0,null,null,null,null,null,null,null,null,"PC003566-1",0]
[96774300,3,"PLANTA ESPERANZA","PC003595-5",920.98,852.03,3657567,212660618,202004,"2020-04-01",1,null,null,null,null,null,null,null,null,"PC003595-5",784702.58939999994]
[77562510,4,"BO PAPER BIO BIO","GE000271-2",6181.08,846.3,3651193,212660620,202004,"2020-04-01",0,null,null,null,null,null,null,null,null,"GE000271-2",0]
[77562510,4,"BO PAPER BIO BIO","GE000270-4",61090.87,846.3,3651195,212660622,202004,"2020-04-01",0,null,null,null,null,null,null,null,null,"GE000270-4",0]
[90266000,3,"PRILLEX AMÉRICA","IN002734-4",14416.09,846.3,3651197,212660624,202004,"2020-04-01",0,null,null,null,null,null,null,null,null,"IN002734-4",{"$f":"+K274*F274*E274","v":0}]
[90266000,3,"PRILLEX AMÉRICA","IN002733-6",7107.62,846.3,3651199,212660626,202004,"2020-04-01",0,null,null,null,null,null,null,null,null,{"$f":"+D275","v":"IN002733-6"},{"$f":"+K275*F275*E275","v":0}]
[90266000,3,"PRILLEX AMÉRICA","IN002731-K",1683.29,846.3,3651201,212660628,202004,"2020-04-01",0,null,null,null,null,null,null,null,null,"IN002731-K",0]

{"sheet":"Empresas","index":6,"n_rows":103,"n_cols":2,"rows_kept":103,"cut":false,"hidden":false,"merged":[]}
[]
[]
[null,"Empresas"]
[null,"AASA_ENERGIA"]
[null,"ABASTIBLE"]
[null,"ACCIONA_ENERGIA"]
[null,"AELA_GENERACION"]
[null,"AES_GENER"]
[null,"AGSA"]
[null,"ALBA"]
[null,"ALLIPEN"]
[null,"ALMEYDA"]
[null,"ANDINA"]
[null,"ANGAMOS"]
[null,"ARAUCO BIO"]
[null,"ARRAYAN_EOLICO"]
[null,"ATACAMA_GX_CHILE"]
[null,"ATRIA_ENERGIA"]
[null,"BE FORESTALES"]
[null,"BESALCO"]
[null,"CABO_LEONES"]
[null,"CARBOMET"]
[null,"CARDONES SA"]
[null,"CAREN"]
[null,"CCAMPESINO"]
[null,"CERRO_DOMINADOR_CSP"]
[null,"CHACAYES"]
[null,"CHUNGUNGO"]
[null,"COCHRANE"]
[null,"COLBUN"]
[null,"COLMITO"]
[null,"COMASA"]
[null,"CONEJO_SOLAR"]
[null,"COYANCO"]
[null,"CUMPEO"]
[null,"DUQUECO"]
[null,"EGP_SUR"]
[null,"EL_CAMPESINO_I"]
[null,"EL_MORADO"]
[null,"EL_PELICANO"]
[null,"ELECTRICA CENIZAS"]
[null,"EMBALSE_ANCOA"]
[null,"EMELDA"]
[null,"ENEL_GENERACION"]
[null,"ENERGIA PACIFICO"]
[null,"ENERGIA_LEON"]
[null,"ENGIE"]
[null,"ENLASA"]
[null,"ENORCHILE"]
[null,"EOLICA_ESPERANZA"]
[null,"ERNC1"]
[null,"ERSA"]
[null,"ESTANCILLA SPA"]
[null,"GAS SUR"]
[null,"GASATACAMA"]
[null,"GM_HOLDINGS"]
[null,"GMETROPOLITANA"]
[null,"GUACOLDA"]
[null,"HELIO_ATACAMA_TRES"]
[null,"HIDROLIRCAY"]
[null,"HORNITOS"]
[null,"HUAJACHE"]
[null,"IMELSA_ENERGIA"]
[null,"JAVIERA"]
[null,"KALTEMP"]
[null,"KDM_ENERGIA"]
[null,"LA ARENA SPA"]
[null,"LA CONFLUENCIA"]
[null,"LA HIGUERA"]
[null,"LIPIGAS"]
[null,"LOS_CURUROS"]
[null,"LOS_GUINDOS"]
[null,"LUZ_DEL_NORTE"]
[null,"MALLARAUCO"]
[null,"MONTE REDONDO"]
[null,"NEOMAS"]
[null,"NORACID"]
[null,"NORVIND"]
[null,"NUEVA ENERGIA"]
[null,"ON GROUP"]
[null,"ORAZUL_CHILE"]
[null,"ORAZUL_DUQUECO"]
[null,"PACIFIC HYDRO"]
[null,"PANGUIPULLI"]
[null,"PARQUE_EOLICO_LEBU"]
[null,"PEHUENCHE"]
[null,"POZO_ALMONTE_SOLAR_2"]
[null,"POZO_ALMONTE_SOLAR_3"]
[null,"PUCLARO"]
[null,"PUNTILLA"]
[null,"RAKI"]
[null,"RIO_COLORADO"]
[null,"RUCATAYO"]
[null,"SAFIRA_ENERGIA_CHILE"]
[null,"SAN_JUAN_LAP"]
[null,"SANTIAGO_SOLAR"]
[null,"SGA"]
[null,"SPVP4"]
[null,"SWO"]
[null,"TACORA_ENERGY"]
[null,"TAMAKAYA_ENERGIA"]
[null,"TECNORED"]
[null,"UCUQUER_DOS"]

{"sheet":"CVP-pre","index":7,"n_rows":101,"n_cols":15,"rows_kept":101,"cut":false,"hidden":false,"merged":[]}
[]
[null,"Costos variables Promedio (numeradores)"]
[]
[null,"Nombre unidad TCV","Enero","Febrero","Marzo","Abril","Mayo","Junio","Julio","Agosto","Septiembre","Octubre","Noviembre","Diciembre","Total"]
[null,{"$f":"+Unidades!B6","v":"ANG1"},2218325307.251545,4566350128.2901049,4280977424.8955221,2027505.0203619492,241210241.88257092,79159275.009889081,96207154.92698893,23581271.562053423,831940142.01039636,1526697082.3486621,2490541847.767014,2333740303.8871651,{"$f":"+SUM(TablaCVP_pre[[#This Row],[Enero]:[Diciembre]])","v":18690757684.852272}]
[null,{"$f":"+Unidades!B7","v":"ANG2"},5268604380.1229343,4511782695.5797119,4591983423.4152088,3644988731.6651969,5091540009.6934385,4869407023.1147251,4200315684.0888395,4405598712.3488522,4163041794.0005646,3706187605.7676678,3621753993.0645866,3559063751.4009218,{"$f":"+SUM(TablaCVP_pre[[#This Row],[Enero]:[Diciembre]])","v":51634267804.26265}]
[null,{"$f":"+Unidades!B8","v":"Antilhue TG U1"},577875293.15539789,1930925657.6495075,685675089.40186429,32457731.186394785,45907293.632188343,13446198.295199368,4399800.4875182398,0,0,43804951.425884038,0,40655412.218888722,{"$f":"+SUM(TablaCVP_pre[[#This Row],[Enero]:[Diciembre]])","v":3375147427.4528437}]
[null,{"$f":"+Unidades!B9","v":"Antilhue TG U2"},38437996.234221786,1420420155.4742243,347115077.2169559,377586902.08802027,0,0,0,0,0,136485550.63239032,0,16880155.418846071,{"$f":"+SUM(TablaCVP_pre[[#This Row],[Enero]:[Diciembre]])","v":2336925837.0646586}]
[null,{"$f":"+Unidades!B10","v":"Arauco"},90793109.762234241,63435056.435052574,26638116.202393997,73004731.445285395,65342868.075505234,42137391.519282609,35072966.006989829,32963453.446900617,62538376.848314688,82366602.660494834,100612200.68765458,77308103.090678453,{"$f":"+SUM(TablaCVP_pre[[#This Row],[Enero]:[Diciembre]])","v":752212976.18078721}]
[null,{"$f":"+Unidades!B11","v":"Bocamina"},844358060.91542935,2059460427.0452702,2428137444.5775251,2423993724.6460471,2019163997.2323194,882532801.98650312,1309725484.7841818,1282602141.9143724,1471079774.29513,1440309971.9765861,2103881721.7638218,370685130.8574419,{"$f":"+SUM(TablaCVP_pre[[#This Row],[Enero]:[Diciembre]])","v":18635930681.994629}]
[null,{"$f":"+Unidades!B12","v":"Bocamina II"},4328968075.736393,5936143060.2066031,5619050183.997448,5806146505.0287123,5526395558.3840923,1662863640.046406,5561960675.5846701,5845980693.7597713,4945685281.5440187,4030793662.3476706,740217054.91193748,1772706475.4969199,{"$f":"+SUM(TablaCVP_pre[[#This Row],[Enero]:[Diciembre]])","v":51776910867.04464}]
[null,{"$f":"+Unidades!B13","v":"Campiche"},4296803832.3222313,4536584250.2626324,4718461055.6272316,5683740710.0072718,5408609723.9161463,4827077052.997694,3202680278.2326903,4279822509.2897968,1717128302.1583483,2123962014.8489444,2041851288.7357442,3384051600.9932156,{"$f":"+SUM(TablaCVP_pre[[#This Row],[Enero]:[Diciembre]])","v":46220772619.391945}]
[null,{"$f":"+Unidades!B14","v":"Candelaria 1"},0,0,30575554.89744832,18249893.974706013,38728422.097658738,98132111.077609062,0,24811912.8164015,27232791.563942369,220478.01827176957,0,0,{"$f":"+SUM(TablaCVP_pre[[#This Row],[Enero]:[Diciembre]])","v":237951164.4460378}]
[null,{"$f":"+Unidades!B15","v":"Candelaria 2"},0,0,19693737.164513603,86423956.382229894,17574911.907376859,100431142.28950511,0,22401283.217184905,24862632.381383218,0,11816148.742309768,0,{"$f":"+SUM(TablaCVP_pre[[#This Row],[Enero]:[Diciembre]])","v":283203812.08450335}]
[null,{"$f":"+Unidades!B16","v":"Cardones"},0,0,0,0,0,510.2953695540001,0,0,0,0,0,0,{"$f":"+SUM(TablaCVP_pre[[#This Row],[Enero]:[Diciembre]])","v":510.2953695540001}]
[null,{"$f":"+Unidades!B17","v":"CC KELAR"},1649646971.1062574,4174951440.0971346,1935150087.9219739,2902392455.4295454,2460643119.4744492,1071316273.0833151,104976681.95994985,1138781201.379586,395716016.78395486,576729473.56827188,82134496.363689438,0,{"$f":"+SUM(TablaCVP_pre[[#This Row],[Enero]:[Diciembre]])","v":16492438217.168127}]
[null,{"$f":"+Unidades!B18","v":"CC1"},1310862622.6266587,666757347.28763998,233026683.16686887,605427675.72353768,310299018.11560577,1030993465.8004457,0,382924473.5980888,423653272.20852458,425291760.99276322,651902187.61976492,6056918.9437033078,{"$f":"+SUM(TablaCVP_pre[[#This Row],[Enero]:[Diciembre]])","v":6047195426.083602}]
[null,{"$f":"+Unidades!B19","v":"CC2"},826199054.45101881,176149753.20559746,306790576.54579782,627903957.05658996,336120112.84577519,449074683.53094661,10823122.651455829,0,234247050.78916559,439495395.59065843,125349638.9519552,4012656.6869513523,{"$f":"+SUM(TablaCVP_pre[[#This Row],[Enero]:[Diciembre]])","v":3536166002.305912}]
[null,{"$f":"+Unidades!B20","v":"CCH1"},4029251987.5047836,3379435148.027122,2984336788.1333165,2956785674.3153658,3750030555.5509763,3414518056.1887884,2836392066.8115749,1626716245.9738162,3337151908.1744199,3179149052.5898051,3083984643.3767548,3545718125.4961801,{"$f":"+SUM(TablaCVP_pre[[#This Row],[Enero]:[Diciembre]])","v":38123470252.142906}]
[null,{"$f":"+Unidades!B21","v":"CCH2"},4036280217.0971341,3381055333.5486045,3009904467.4503341,3271456761.5277286,3640065240.5680184,3260264793.0684133,2019155438.1167436,2577079734.5709844,3319619862.7322292,3177560216.0316172,3081228511.1811857,3548757408.6220903,{"$f":"+SUM(TablaCVP_pre[[#This Row],[Enero]:[Diciembre]])","v":38322427984.515083}]
[null,{"$f":"+Unidades!B22","v":"CD Iquique"},0,0,0,0,0,0,0,0,0,0,0,0,{"$f":"+SUM(TablaCVP_pre[[#This Row],[Enero]:[Diciembre]])","v":0}]
[null,{"$f":"+Unidades!B23","v":"Celco"},84052584.890785471,88972246.863288999,74267825.062762156,55224167.595329069,99795957.488012061,58314868.712566204,72642224.911312014,69286020.250865579,71647613.208224654,68080679.724081472,110610217.61824045,98658805.589030966,{"$f":"+SUM(TablaCVP_pre[[#This Row],[Enero]:[Diciembre]])","v":951553211.91449916}]
[null,{"$f":"+Unidades!B24","v":"Cholguán"},125266102.5726936,87586672.302766129,182313186.22259599,221100289.64578018,136332753.94905964,132464704.8258452,0,0,0,0,26151539.72951442,18936056.796080593,{"$f":"+SUM(TablaCVP_pre[[#This Row],[Enero]:[Diciembre]])","v":930151306.04433584}]
[null,{"$f":"+Unidades!B25","v":"CMPC Cordillera"},0,0,0,0,0,0,0,0,0,36052.417341096021,163779.88240816162,612654.51157943264,{"$f":"+SUM(TablaCVP_pre[[#This Row],[Enero]:[Diciembre]])","v":812486.81132869027}]
[null,{"$f":"+Unidades!B26","v":"CMPC Laja"},254075144.64687929,238957639.16062593,216859619.67680287,289999780.31008077,263690501.98924103,269910040.93196619,258231968.62141594,282199268.04940999,5551599.9393505277,21917082.076917022,0,0,{"$f":"+SUM(TablaCVP_pre[[#This Row],[Enero]:[Diciembre]])","v":2101392645.4026897}]
[null,{"$f":"+Unidades!B27","v":"CMPC Pacífico"},0,72297.271740376818,2374388.9946375629,151318069.40421295,341405623.31063306,196040991.58629894,249644740.48264655,252724632.30353197,47737973.400615297,14737917.001647176,3280140.610939478,0,{"$f":"+SUM(TablaCVP_pre[[#This Row],[Enero]:[Diciembre]])","v":1259336774.3669033}]
[null,{"$f":"+Unidades!B28","v":"CMPC Santa Fe"},0,0,0,0,0,0,0,0,0,0,0,0,{"$f":"+SUM(TablaCVP_pre[[#This Row],[Enero]:[Diciembre]])","v":0}]
[null,{"$f":"+Unidades!B29","v":"CMPC TISSUE"},41711896.892896317,74500283.035852388,35045494.697021984,58027902.383765914,57532681.037088729,49418061.731377222,50857745.512005955,48295163.022313364,45924053.680164143,41445855.219181053,21512416.787900649,24480726.790368162,{"$f":"+SUM(TablaCVP_pre[[#This Row],[Enero]:[Diciembre]])","v":548752280.78993595}]
[null,{"$f":"+Unidades!B30","v":"Colmito"},36196925.989379965,49785626.204946265,1319996818.3121462,1564338584.8047712,1695440695.6032698,348132907.4931618,784535164.46538043,894661086.77833021,116185850.84742793,20939317.547588419,8181334.8475094065,0,{"$f":"+SUM(TablaCVP_pre[[#This Row],[Enero]:[Diciembre]])","v":6838394312.8939123}]
[null,{"$f":"+Unidades!B31","v":"CTA"},2829492193.0577936,1028314016.2592348,434019899.10192704,962830158.31632841,2472963169.445056,1075685877.7556295,0,639905633.00147021,2028851787.1895669,2006288507.6835012,1717571632.8419182,2213552144.5122232,{"$f":"+SUM(TablaCVP_pre[[#This Row],[Enero]:[Diciembre]])","v":17409475019.16465}]
[null,{"$f":"+Unidades!B32","v":"CTH"},2669530375.2422929,1637973000.6910563,2250066877.2394524,2765480306.1254749,2665182885.5266762,1085690374.9275942,722066121.41121817,2449205835.3131537,1264045635.3354185,1109490354.1505561,1800694231.0766525,1244841163.8834021,{"$f":"+SUM(TablaCVP_pre[[#This Row],[Enero]:[Diciembre]])","v":21664267160.922951}]
[null,{"$f":"+Unidades!B33","v":"CTM1"},134586821.17977029,560215914.33883655,690435220.04913235,1004457510.0489271,1516058054.2517815,0,223444410.51263261,1818059074.793926,790397203.15765309,1119871031.2061958,465605840.03482801,0,{"$f":"+SUM(TablaCVP_pre[[#This Row],[Enero]:[Diciembre]])","v":8323131079.5736837}]
[null,{"$f":"+Unidades!B34","v":"CTM2"},689078370.13443267,1352301307.2522953,884722247.17566764,33890644.955594957,46465025.694886297,335267673.17619091,514991847.43300974,1734201935.3973229,398548256.84214491,144458.28078841019,728579244.92130733,128694109.98831779,{"$f":"+SUM(TablaCVP_pre[[#This Row],[Enero]:[Diciembre]])","v":6846885121.2519588}]
[null,{"$f":"+Unidades!B35","v":"CTM3"},0,1958447457.9314108,1045561750.4280474,1695188797.4952393,1538754472.7190101,2697812217.0447078,338254916.45602936,1059740400.9102192,1184353443.5381925,1019958795.2369472,1853867427.6807485,231355177.51933938,{"$f":"+SUM(TablaCVP_pre[[#This Row],[Enero]:[Diciembre]])","v":14623294856.959892}]
[null,{"$f":"+Unidades!B36","v":"CTTAR"},1891166580.349417,1637621476.9573054,1742005147.7532668,1549075775.1733978,1895413503.1678596,1544331367.4684672,1939358847.7871413,986376125.94330359,316723938.3162244,615188397.27997077,1181704000.1876237,1459282762.1872401,{"$f":"+SUM(TablaCVP_pre[[#This Row],[Enero]:[Diciembre]])","v":16758247922.57122}]
[null,{"$f":"+Unidades!B37","v":"Diego de Almagro"},0,0,0,26019286.370686632,0,0,0,0,0,0,0,0,{"$f":"+SUM(TablaCVP_pre[[#This Row],[Enero]:[Diciembre]])","v":26019286.370686632}]
[null,{"$f":"+Unidades!B38","v":"El Salvador"},0,0,0,22923368.373446114,0,0,0,0,0,0,0,0,{"$f":"+SUM(TablaCVP_pre[[#This Row],[Enero]:[Diciembre]])","v":22923368.373446114}]
[null,{"$f":"+Unidades!B39","v":"Emelda U1"},0,656971.50501840014,0,28927697.817403995,0,214303.19839999994,180652.88257799999,0,161300.27887559999,0,0,197406.66924585003,{"$f":"+SUM(TablaCVP_pre[[#This Row],[Enero]:[Diciembre]])","v":30338332.351521846}]
[null,{"$f":"+Unidades!B40","v":"Emelda U2"},3761094.5865238803,0,76748253.445086896,9278645.1627511699,0,210163.75732159999,209003.23359089997,0,197039.31403785601,0,2593486.9351148158,172756.80184655002,{"$f":"+SUM(TablaCVP_pre[[#This Row],[Enero]:[Diciembre]])","v":93170443.236273661}]
[null,{"$f":"+Unidades!B41","v":"Energía Pacífico"},0,28890575.66046517,99125576.422215492,92769747.469863608,53270022.264238738,6867639.4810339483,18296013.505322721,32337897.589821097,15469903.033409221,9986943.7661526948,1420507.3222289819,333901560.03286737,{"$f":"+SUM(TablaCVP_pre[[#This Row],[Enero]:[Diciembre]])","v":692336386.54761899}]
[null,{"$f":"+Unidades!B42","v":"Escuadrón"},82721436.5738208,92048478.360459402,119437935.00587384,134272369.42493927,142978594.93075469,34002957.93207065,30764083.151908327,38361005.125595361,1470258.6960082124,38240.085284276494,150253.24158788897,0,{"$f":"+SUM(TablaCVP_pre[[#This Row],[Enero]:[Diciembre]])","v":676245612.52830255}]
[null,{"$f":"+Unidades!B43","v":"Esperanza TG"},0,0,0,0,10691163.133084111,18450398.970344394,0,0,0,0,0,0,{"$f":"+SUM(TablaCVP_pre[[#This Row],[Enero]:[Diciembre]])","v":29141562.103428505}]
[null,{"$f":"+Unidades!B44","v":"Guacolda 1"},2215349759.9015679,2041638867.5876515,1649871561.6805704,2161372748.0212674,2345618902.9936385,1337588468.6013367,2061534216.5637465,1806833506.4083581,1930580322.5640063,1853091727.7859504,1789775031.0738103,2002503007.0346467,{"$f":"+SUM(TablaCVP_pre[[#This Row],[Enero]:[Diciembre]])","v":23195758120.216549}]
[null,{"$f":"+Unidades!B45","v":"Guacolda 2"},1575840088.0672281,1702877732.5766685,1814176917.247705,1983714106.8191168,1182263653.2906408,1955852909.5565488,1885779540.5274456,1742694624.5395811,1804406462.939064,1712108861.1024268,1156739955.1178815,1909601047.9059632,{"$f":"+SUM(TablaCVP_pre[[#This Row],[Enero]:[Diciembre]])","v":20426055899.690269}]
[null,{"$f":"+Unidades!B46","v":"Guacolda 3"},2192404816.1277995,1456335282.5130212,1733220349.8806729,1849488755.9448326,2247925381.0047841,2213705657.9149847,1809928206.2637534,1758015830.282583,1957948916.774276,670380921.84230196,774564933.00699008,1764578866.1680787,{"$f":"+SUM(TablaCVP_pre[[#This Row],[Enero]:[Diciembre]])","v":20428497917.724079}]
[null,{"$f":"+Unidades!B47","v":"Guacolda 4"},2225240554.7686582,2160096841.1444178,1792030673.2095058,1490437191.5896552,2239267485.2217631,2380442659.0814009,2107370929.0051491,1506667566.7578385,1910301204.0185032,1687412323.0100329,1197982010.7037711,1197422722.1459298,{"$f":"+SUM(TablaCVP_pre[[#This Row],[Enero]:[Diciembre]])","v":21894672160.656624}]
[null,{"$f":"+Unidades!B48","v":"Guacolda 5"},2276593196.2477183,2204997722.8957734,1818381772.860734,1477180973.7896709,2343148296.9845352,2313765860.2650485,1876364826.0321019,1709962305.1909232,1406614815.6597381,1096589094.1648328,1705661717.0307529,1563206733.0237212,{"$f":"+SUM(TablaCVP_pre[[#This Row],[Enero]:[Diciembre]])","v":21792467314.14555}]
[null,{"$f":"+Unidades!B49","v":"Horcones"},0,0,273163.26802102244,1998580.1593524038,0,118095.66624667901,0,0,0,0,0,6015484.5366168963,{"$f":"+SUM(TablaCVP_pre[[#This Row],[Enero]:[Diciembre]])","v":8405323.6302370019}]
[null,{"$f":"+Unidades!B50","v":"Huasco TG"},0,0,0,0,0,0,0,380722.66868184111,3126552.9799885005,8308713.5968225952,0,1497025.070984419,{"$f":"+SUM(TablaCVP_pre[[#This Row],[Enero]:[Diciembre]])","v":13313014.316477356}]
[null,{"$f":"+Unidades!B51","v":"IEM"},0,0,0,0,2914285239.2414126,4862191690.4407673,4556708457.4164104,830495384.40323865,2140117588.931344,2279978804.8732715,4058734545.25284,4712073923.0091553,{"$f":"+SUM(TablaCVP_pre[[#This Row],[Enero]:[Diciembre]])","v":26354585633.568443}]
[null,{"$f":"+Unidades!B52","v":"Laguna Verde TG"},0,0,0,0,0,0,0,0,0,0,0,0,{"$f":"+SUM(TablaCVP_pre[[#This Row],[Enero]:[Diciembre]])","v":0}]
[null,{"$f":"+Unidades!B53","v":"Laguna Verde TV"},0,0,0,0,0,0,0,0,0,0,0,0,{"$f":"+SUM(TablaCVP_pre[[#This Row],[Enero]:[Diciembre]])","v":0}]
[null,{"$f":"+Unidades!B54","v":"Laja"},115798433.77951068,82880640.397618487,108825497.60952307,114804280.37367168,107206905.31497312,72836063.366603285,16058561.282403359,31144591.699319191,0,0,98188.541130565791,0,{"$f":"+SUM(TablaCVP_pre[[#This Row],[Enero]:[Diciembre]])","v":649653162.36475337}]
[null,{"$f":"+Unidades!B55","v":"Lautaro-Comasa"},630226486.19103599,458296697.8684631,522642117.51158792,553561411.54543829,643628324.18421435,392635615.79047632,285956837.32479942,404963538.99877024,356291789.18415493,208568023.37416273,162725533.9118484,376520102.50947446,{"$f":"+SUM(TablaCVP_pre[[#This Row],[Enero]:[Diciembre]])","v":4996016478.3944263}]
[null,{"$f":"+Unidades!B56","v":"Lautaro-Comasa 2"},41276088.10208369,311510932.89227664,251680071.14748129,256742312.94544974,314341482.19729185,293974261.12892878,256795556.96151561,354458151.39247841,193125723.43824685,166244132.47302583,8484932.9001741279,0,{"$f":"+SUM(TablaCVP_pre[[#This Row],[Enero]:[Diciembre]])","v":2448633645.5789528}]
[null,{"$f":"+Unidades!B57","v":"Licantén"},58137942.657656364,33379708.080590606,92864.183018065218,54399410.971758738,45751568.146304153,9157572.8142611086,7392980.2953896699,5379363.4364238065,1601774.2027839143,2155058.4275265094,2374417.4112984566,2211491.8325418313,{"$f":"+SUM(TablaCVP_pre[[#This Row],[Enero]:[Diciembre]])","v":222034152.45955324}]
[null,{"$f":"+Unidades!B58","v":"Los Guindos"},0,0,0,0,18791003.778159924,0,0,0,0,0,0,0,{"$f":"+SUM(TablaCVP_pre[[#This Row],[Enero]:[Diciembre]])","v":18791003.778159924}]
[null,{"$f":"+Unidades!B59","v":"Los Pinos"},253925016.89985868,149723697.33383971,39094737.737386808,644810016.49901164,155248733.51685408,5332319.1340313787,0,0,0,0,4717674.3508764813,0,{"$f":"+SUM(TablaCVP_pre[[#This Row],[Enero]:[Diciembre]])","v":1252852195.4718587}]
[null,{"$f":"+Unidades!B60","v":"Los Vientos"},88665998.577554822,126275155.22668453,3211924894.6255345,2094558120.1968665,3463645295.9738584,135924191.90728596,887282620.85052538,802190974.80402362,71844223.477847412,0,47308189.114128187,0,{"$f":"+SUM(TablaCVP_pre[[#This Row],[Enero]:[Diciembre]])","v":10929619664.754309}]
[null,{"$f":"+Unidades!B61","v":"Masisa (Cabrero)"},56212615.338494733,80231112.706197247,160111093.47272867,176179353.94811943,159283561.91413921,146377167.33471569,108668967.77225412,90501059.947275311,28774084.315944444,5462719.1366708148,5191068.6478182934,0,{"$f":"+SUM(TablaCVP_pre[[#This Row],[Enero]:[Diciembre]])","v":1016992804.5343579}]
[null,{"$f":"+Unidades!B62","v":"Nehuenco"},371860190.28569084,336186715.67882156,358510164.06418943,473320378.13261664,1320006632.5580194,343021555.51361549,15018699.702924296,744774635.63293672,1444249488.1362178,5220443611.0629663,2415966952.9589138,281834916.4036808,{"$f":"+SUM(TablaCVP_pre[[#This Row],[Enero]:[Diciembre]])","v":13325193940.130592}]
[null,{"$f":"+Unidades!B63","v":"Nehuenco II"},643204630.87754512,364623579.23893195,1089724169.0855641,606196705.03050017,6031054365.0709276,2031710732.1554916,4097770599.4057097,7041201486.0659094,6129830750.0015211,5840672341.0546665,907699397.50169778,6455889792.9425631,{"$f":"+SUM(TablaCVP_pre[[#This Row],[Enero]:[Diciembre]])","v":41239578548.431038}]
[null,{"$f":"+Unidades!B64","v":"Nehuenco TG 9B"},0,0,566.99003159999995,27334803.056211066,0,0,0,21944022.661843702,22688873.6115174,0,0,24551741.931351982,{"$f":"+SUM(TablaCVP_pre[[#This Row],[Enero]:[Diciembre]])","v":96520008.25095576}]
[null,{"$f":"+Unidades!B65","v":"NTO1"},2172362906.6656003,1514494231.9521453,1645529764.1989791,2122142276.7980385,2025740010.9162343,1505833383.4281151,1891383421.72366,1889547903.5081935,1435945948.8421357,950878203.47598958,1047583232.5037503,609920219.80686545,{"$f":"+SUM(TablaCVP_pre[[#This Row],[Enero]:[Diciembre]])","v":18811361503.81971}]
[null,{"$f":"+Unidades!B66","v":"NTO2"},2206769717.0419154,590297338.66943121,1252787498.0090852,2008509323.3469393,1993155517.3396792,1829808915.1688757,1776378422.9031568,1493756036.6102691,1693997100.4800057,1652351047.9367979,1597657203.0532804,929020072.73146129,{"$f":"+SUM(TablaCVP_pre[[#This Row],[Enero]:[Diciembre]])","v":19024488193.290897}]
[null,{"$f":"+Unidades!B67","v":"Nueva Aldea I"},61471657.250573337,68011016.163299292,41878367.298847876,65363952.030910842,56151013.673037037,27696702.040632386,362432.46996301494,18286067.300605312,24884593.962838411,19050781.567662571,21241678.766145244,27248791.300836556,{"$f":"+SUM(TablaCVP_pre[[#This Row],[Enero]:[Diciembre]])","v":431647053.82535189}]
[null,{"$f":"+Unidades!B68","v":"Nueva Aldea III"},0,0,0,0,0,0,0,0,0,0,0,0,{"$f":"+SUM(TablaCVP_pre[[#This Row],[Enero]:[Diciembre]])","v":0}]
[null,{"$f":"+Unidades!B69","v":"Nueva Renca"},6976025050.9710169,4968517352.8694267,3578793021.4544873,8093422473.7936916,5939682984.8948145,5623233136.0163298,5159984160.9558344,1333613.1928232245,3295810819.1070313,4795809151.185565,3862135028.4144621,3841875163.0669231,{"$f":"+SUM(TablaCVP_pre[[#This Row],[Enero]:[Diciembre]])","v":56136621955.922401}]
[null,{"$f":"+Unidades!B70","v":"Nueva Ventanas"},0,2966743690.3109107,4555713430.7712612,4282511809.5412173,5025214506.1148281,4852313422.0943775,3015014762.4638515,4567471759.9369488,3551491904.7470422,2543700008.818655,2910967203.7323742,3629029102.6778402,{"$f":"+SUM(TablaCVP_pre[[#This Row],[Enero]:[Diciembre]])","v":41900171601.209312}]
[null,{"$f":"+Unidades!B71","v":"Petropower"},20919779.845223568,12791408.293261414,19885551.824618187,22564481.496638902,20647537.554272506,20820061.084625091,22223353.056878377,19297231.485971283,12041369.619021986,14127359.486276357,7645595.7960105324,23809285.25351138,{"$f":"+SUM(TablaCVP_pre[[#This Row],[Enero]:[Diciembre]])","v":216773014.79630956}]
[null,{"$f":"+Unidades!B72","v":"Quintero A"},991139341.57511437,927463847.52296472,809884478.51812911,1458803081.9224062,1223429194.8841009,0,5136837.8626140906,74619424.573834509,0,128378325.87627731,12621617.067726284,0,{"$f":"+SUM(TablaCVP_pre[[#This Row],[Enero]:[Diciembre]])","v":5631476149.8031664}]
[null,{"$f":"+Unidades!B73","v":"Quintero B"},913202242.77430809,815912819.88550985,737326008.78052807,1568653185.5385449,1143894113.7054121,0,6068753.9891056679,75748316.973316282,110045276.61352696,140721409.6163272,14230621.33099233,0,{"$f":"+SUM(TablaCVP_pre[[#This Row],[Enero]:[Diciembre]])","v":5525802749.207571}]
[null,{"$f":"+Unidades!B74","v":"Renca U1"},0,0,0,0,0,0,0,0,0,0,0,0,{"$f":"+SUM(TablaCVP_pre[[#This Row],[Enero]:[Diciembre]])","v":0}]
[null,{"$f":"+Unidades!B75","v":"Renca U2"},0,0,0,0,0,0,0,0,0,0,0,0,{"$f":"+SUM(TablaCVP_pre[[#This Row],[Enero]:[Diciembre]])","v":0}]
[null,{"$f":"+Unidades!B76","v":"San Isidro"},383370494.1512183,6013335680.8942642,4913012345.2942142,8241558571.0623884,8130073470.9979496,3042839849.1707506,1439064630.7624211,4086756136.6559725,220137709.3236019,2819159526.4060087,262006559.47318742,161940065.19766235,{"$f":"+SUM(TablaCVP_pre[[#This Row],[Enero]:[Diciembre]])","v":39713255039.389633}]
[null,{"$f":"+Unidades!B77","v":"San Isidro II"},7698513982.2711248,6694953171.9656897,7140585578.5425234,6928802131.5705051,9044842778.5251236,7019994493.368577,2637889373.9610224,7170220583.0724421,837699770.31808639,787231327.39188552,4145941287.1180377,5266123127.837678,{"$f":"+SUM(TablaCVP_pre[[#This Row],[Enero]:[Diciembre]])","v":65372797605.942688}]
[null,{"$f":"+Unidades!B78","v":"San Lorenzo de D. de Almagro U1"},0,0,0,0,0,0,0,0,0,0,0,0,{"$f":"+SUM(TablaCVP_pre[[#This Row],[Enero]:[Diciembre]])","v":0}]
[null,{"$f":"+Unidades!B79","v":"San Lorenzo de D. de Almagro U2"},0,0,0,0,0,0,0,0,0,0,0,0,{"$f":"+SUM(TablaCVP_pre[[#This Row],[Enero]:[Diciembre]])","v":0}]
[null,{"$f":"+Unidades!B80","v":"Santa Lidia"},0,0,0,0,238645238.9253343,0,0,0,0,0,0,0,{"$f":"+SUM(TablaCVP_pre[[#This Row],[Enero]:[Diciembre]])","v":238645238.9253343}]
[null,{"$f":"+Unidades!B81","v":"Santa María"},5365210824.5136118,5512732881.9629345,5604994679.0152273,4944525363.6310863,6522886519.9154778,5853242296.0356894,4730118536.7826662,0,0,0,2493784081.1000562,6516195353.5339231,{"$f":"+SUM(TablaCVP_pre[[#This Row],[Enero]:[Diciembre]])","v":47543690536.490677}]
[null,{"$f":"+Unidades!B82","v":"Taltal 1"},0,0,45090650.292464711,77188683.2540548,0,0,0,0,2768518.4391441331,28499260.048376337,5612122.8673208524,0,{"$f":"+SUM(TablaCVP_pre[[#This Row],[Enero]:[Diciembre]])","v":159159234.90136084}]
[null,{"$f":"+Unidades!B83","v":"Taltal 2"},0,0,359461264.33577728,183036729.14810571,0,0,0,0,0,6405337.2187416032,1206204.9356861538,0,{"$f":"+SUM(TablaCVP_pre[[#This Row],[Enero]:[Diciembre]])","v":550109535.63831079}]
[null,{"$f":"+Unidades!B84","v":"TG_Coronel"},0,0,91094677.712439641,0,0,20609585.028465528,0,0,0,5654405.3274324005,0,0,{"$f":"+SUM(TablaCVP_pre[[#This Row],[Enero]:[Diciembre]])","v":117358668.06833756}]
[null,{"$f":"+Unidades!B85","v":"TG1"},0,0,0,0,0,0,0,0,0,0,0,0,{"$f":"+SUM(TablaCVP_pre[[#This Row],[Enero]:[Diciembre]])","v":0}]
[null,{"$f":"+Unidades!B86","v":"TG2"},0,0,0,0,0,0,0,0,0,0,0,0,{"$f":"+SUM(TablaCVP_pre[[#This Row],[Enero]:[Diciembre]])","v":0}]
[null,{"$f":"+Unidades!B87","v":"TG3"},31216619.659398898,20770627.047274806,15516078.288332799,29850161.272354193,24471488.873187907,0,16864849.737276804,14111545.449484581,48970707.537110209,33442158.312462911,8446248.9872767776,12951285.884520557,{"$f":"+SUM(TablaCVP_pre[[#This Row],[Enero]:[Diciembre]])","v":256611771.04868045}]
[null,{"$f":"+Unidades!B88","v":"TGTAR"},0,0,0,13089449.179850409,0,0,0,0,0,0,0,32031.397579642504,{"$f":"+SUM(TablaCVP_pre[[#This Row],[Enero]:[Diciembre]])","v":13121480.577430051}]
[null,{"$f":"+Unidades!B89","v":"U12"},0,192173600.54632556,148542550.78108016,0,0,0,0,0,0,0,0,0,{"$f":"+SUM(TablaCVP_pre[[#This Row],[Enero]:[Diciembre]])","v":340716151.32740569}]
[null,{"$f":"+Unidades!B90","v":"U13"},0,0,0,0,0,0,0,0,0,0,0,0,{"$f":"+SUM(TablaCVP_pre[[#This Row],[Enero]:[Diciembre]])","v":0}]
[null,{"$f":"+Unidades!B91","v":"U14"},512536326.96091551,79143671.619340301,415337115.6009956,0,50305.926596301782,53618463.347516268,0,389735635.6348049,53088339.705970153,145784016.95095187,0,0,{"$f":"+SUM(TablaCVP_pre[[#This Row],[Enero]:[Diciembre]])","v":1649293875.7470906}]
[null,{"$f":"+Unidades!B92","v":"U15"},1117422624.5243895,83478837.030661389,404461344.9033885,1315026436.0572145,762028670.31980383,0,0,322417005.33742934,0,68170857.39057143,0,63445216.00162109,{"$f":"+SUM(TablaCVP_pre[[#This Row],[Enero]:[Diciembre]])","v":4136450991.5650797}]
[null,{"$f":"+Unidades!B93","v":"U16"},1267157368.9098086,1532092045.1171963,2790822871.4371362,2971574624.3830729,2560673967.8357921,1846996328.6215687,816979867.39403987,3094824692.4137115,3302668350.6263742,1227811315.9704313,0,0,{"$f":"+SUM(TablaCVP_pre[[#This Row],[Enero]:[Diciembre]])","v":21411601432.709133}]
[null,{"$f":"+Unidades!B94","v":"Valdivia"},139615193.3753531,140256618.81070328,106338080.3441118,182321086.9272052,90206718.558791459,51592020.906023681,89986358.021389931,58255443.244497783,13059043.54673871,0,0,1140219.7088540648,{"$f":"+SUM(TablaCVP_pre[[#This Row],[Enero]:[Diciembre]])","v":872770783.44366908}]
[null,{"$f":"+Unidades!B95","v":"Ventanas 1"},1224520704.5394304,1258768912.7817674,1906007566.1522331,2266783248.0791698,0,0,0,0,2251574.8532658252,55393046.563902192,0,0,{"$f":"+SUM(TablaCVP_pre[[#This Row],[Enero]:[Diciembre]])","v":6713725052.9697685}]
[null,{"$f":"+Unidades!B96","v":"Ventanas 2"},3283712543.1856914,2915210129.9343762,512763967.39988822,0,1861397191.6268783,3593890156.6347742,3548799884.2138405,3065215114.2637825,3043730794.6528144,2870629591.124392,2515061042.5724611,2648698774.3241968,{"$f":"+SUM(TablaCVP_pre[[#This Row],[Enero]:[Diciembre]])","v":29859109189.933094}]
[null,{"$f":"+Unidades!B97","v":"Viñales"},366351768.00513887,332208514.09070593,341728157.23113453,371586561.8816939,388958251.23977995,378877321.6406163,356868349.64838839,309528942.09069896,229280356.15494704,279909910.79759157,203270332.71258661,333617134.64049059,{"$f":"+SUM(TablaCVP_pre[[#This Row],[Enero]:[Diciembre]])","v":3892185600.1337724}]
[null,{"$f":"+Unidades!B98","v":"Yungay 1"},0,0,0,0,0,0,0,0,0,85426.674805689006,0,120027.13120654308,{"$f":"+SUM(TablaCVP_pre[[#This Row],[Enero]:[Diciembre]])","v":205453.80601223209}]
[null,{"$f":"+Unidades!B99","v":"Yungay 2"},0,0,0,0,0,0,0,0,0,7713744.1482809735,0,9217343.3522163834,{"$f":"+SUM(TablaCVP_pre[[#This Row],[Enero]:[Diciembre]])","v":16931087.500497356}]
[null,{"$f":"+Unidades!B100","v":"Yungay 3"},0,0,0,0,0,0,0,0,0,4774816.3862848226,0,23119557.050182972,{"$f":"+SUM(TablaCVP_pre[[#This Row],[Enero]:[Diciembre]])","v":27894373.436467797}]
[null,{"$f":"+Unidades!B101","v":"Yungay 4 ca"},0,0,0,0,0,0,0,0,0,2865395.3230278264,0,6520949.3754294449,{"$f":"+SUM(TablaCVP_pre[[#This Row],[Enero]:[Diciembre]])","v":9386344.6984572709}]
[null,{"$f":"+Unidades!B102","v":"Los Guindos 2"},0,0,0,0,0,0,0,0,0,14848840.349027552,0,0,{"$f":"+SUM(TablaCVP_pre[[#This Row],[Enero]:[Diciembre]])","v":14848840.349027552}]

{"sheet":"CMgP-pre","index":8,"n_rows":101,"n_cols":15,"rows_kept":101,"cut":false,"hidden":false,"merged":[]}
[]
[null,"Costos Marginales Promedio (numeradores)"]
[]
[null,"Nombre unidad TCV","Enero","Febrero","Marzo","Abril","Mayo","Junio","Julio","Agosto","Septiembre","Octubre","Noviembre","Diciembre","Total"]
[null,{"$f":"+TablaCVP_pre[[#This Row],[Nombre unidad TCV]]","v":"ANG1"},2755911959.2758875,5526590736.2866182,5588731297.5949335,2103674.9115506215,293606858.96860737,104527478.54354846,112664873.39642446,35469981.949375793,1119601291.89765,2166807325.5045261,3257026026.0881629,2956827916.7841635,{"$f":"+SUM(TablaCMgP_pre[[#This Row],[Enero]:[Diciembre]])","v":23919869421.20145}]
[null,{"$f":"+TablaCVP_pre[[#This Row],[Nombre unidad TCV]]","v":"ANG2"},6290162278.9318581,5273532048.7885799,5937248452.4487753,4406154527.1867771,6952933859.6376648,6275403736.299036,5464121683.467042,7011511897.1982813,5602638483.483304,4941959535.4552832,4626907656.0708447,4585549509.9731236,{"$f":"+SUM(TablaCMgP_pre[[#This Row],[Enero]:[Diciembre]])","v":67368123668.940567}]
[null,{"$f":"+TablaCVP_pre[[#This Row],[Nombre unidad TCV]]","v":"Antilhue TG U1"},591391820.39771163,2040978796.4028647,762284613.42227793,32457731.186394785,45910338.444015689,13446198.295199368,4399800.4875182398,0,0,45330302.068612546,0,40655412.218888722,{"$f":"+SUM(TablaCMgP_pre[[#This Row],[Enero]:[Diciembre]])","v":3576855012.9234834}]
[null,{"$f":"+TablaCVP_pre[[#This Row],[Nombre unidad TCV]]","v":"Antilhue TG U2"},38477358.326303437,1488810556.9603233,348033418.30055749,378415475.49739689,0,0,0,0,0,141688927.94046918,0,16880155.418846071,{"$f":"+SUM(TablaCMgP_pre[[#This Row],[Enero]:[Diciembre]])","v":2412305892.4438968}]
[null,{"$f":"+TablaCVP_pre[[#This Row],[Nombre unidad TCV]]","v":"Arauco"},242920911.28356355,170957908.85864127,77319670.665967152,227345161.91737941,189014517.9650428,94046610.03613542,75442251.068842337,75142172.420407861,109952019.34658788,118703441.6221386,150572955.06206074,122465827.50679095,{"$f":"+SUM(TablaCMgP_pre[[#This Row],[Enero]:[Diciembre]])","v":1653883447.7535579}]
[null,{"$f":"+TablaCVP_pre[[#This Row],[Nombre unidad TCV]]","v":"Bocamina"},1147795783.1126351,2381817291.7021227,3371480541.5372686,3539701211.0284886,3064414636.3767219,1088379984.4280243,1581544037.0848758,1630431785.9313169,1556049215.5277448,1506898468.8737259,2116617266.3056004,370685130.8574419,{"$f":"+SUM(TablaCMgP_pre[[#This Row],[Enero]:[Diciembre]])","v":23355815352.765965}]
[null,{"$f":"+TablaCVP_pre[[#This Row],[Nombre unidad TCV]]","v":"Bocamina II"},5636764866.363987,7585667147.6987247,8355367375.2232618,8960412766.0991611,8660707374.8491173,2146649862.8395867,7349909898.4481878,8113047271.3685694,5582520674.8876505,4433976061.8948135,757035264.82083619,1776127860.1349618,{"$f":"+SUM(TablaCMgP_pre[[#This Row],[Enero]:[Diciembre]])","v":69358186424.62886}]
[null,{"$f":"+TablaCVP_pre[[#This Row],[Nombre unidad TCV]]","v":"Campiche"},5556628664.3225622,6000303517.5191975,7013511455.1444502,8079129238.3388538,8165580246.9349871,5496457681.7437735,4012064565.4025803,5767107108.5748863,2047339261.1491654,2304333011.205482,2219037319.2631817,3554488433.5446844,{"$f":"+SUM(TablaCMgP_pre[[#This Row],[Enero]:[Diciembre]])","v":60215980503.143806}]
[null,{"$f":"+TablaCVP_pre[[#This Row],[Nombre unidad TCV]]","v":"Candelaria 1"},0,0,985164573.76770902,419932764.12523007,691549629.93063343,117812515.0723563,171607941.84339511,26976419.998906113,27232791.563942369,220478.01827176957,17659692.395412639,0,{"$f":"+SUM(TablaCMgP_pre[[#This Row],[Enero]:[Diciembre]])","v":2458156806.715857}]
[null,{"$f":"+TablaCVP_pre[[#This Row],[Nombre unidad TCV]]","v":"Candelaria 2"},0,0,498735854.91752416,515822871.69073427,562666974.59948838,121164286.79605046,112892217.05943814,24386892.323055737,24862632.381383218,0,26208306.621544935,0,{"$f":"+SUM(TablaCMgP_pre[[#This Row],[Enero]:[Diciembre]])","v":1886740036.3892195}]
[null,{"$f":"+TablaCVP_pre[[#This Row],[Nombre unidad TCV]]","v":"Cardones"},0,0,0,0,0,510.2953695540001,0,0,0,0,0,0,{"$f":"+SUM(TablaCMgP_pre[[#This Row],[Enero]:[Diciembre]])","v":510.2953695540001}]
[null,{"$f":"+TablaCVP_pre[[#This Row],[Nombre unidad TCV]]","v":"CC KELAR"},1737940789.4491167,6184561386.1018906,7155450768.7430611,5926946890.3061018,3263599282.7324953,5784894071.2150936,5794461914.044488,5678727980.4476032,3343175179.0597653,1019094449.4287161,3795310316.7568498,2399901763.4823618,{"$f":"+SUM(TablaCMgP_pre[[#This Row],[Enero]:[Diciembre]])","v":52084064791.767548}]
[null,{"$f":"+TablaCVP_pre[[#This Row],[Nombre unidad TCV]]","v":"CC1"},1379327020.7252004,690156076.51629758,252178316.45168871,630665203.74058306,532181235.85892069,1822900884.8480406,1379797737.9071724,412540507.02498353,429756073.9658916,428907660.53614455,764590899.36913657,405899636.93727505,{"$f":"+SUM(TablaCMgP_pre[[#This Row],[Enero]:[Diciembre]])","v":9128901253.8813343}]
[null,{"$f":"+TablaCVP_pre[[#This Row],[Nombre unidad TCV]]","v":"CC2"},899512722.39608777,185950897.54623568,307310722.13446754,647353712.08782315,337917386.40033585,575167071.13407397,986419374.29949462,0,239303307.42955339,439495395.59065843,141901842.02806938,4012656.6869513523,{"$f":"+SUM(TablaCMgP_pre[[#This Row],[Enero]:[Diciembre]])","v":4764345087.7337523}]
[null,{"$f":"+TablaCVP_pre[[#This Row],[Nombre unidad TCV]]","v":"CCH1"},4619354629.9551105,3862273187.2464585,3424545597.7219286,3395338047.1592526,4633973884.7389221,4429146479.6190176,3586022650.4230666,2299599616.4263411,4340355628.9495525,4109116508.3057876,3719733903.29984,4048918014.9729013,{"$f":"+SUM(TablaCMgP_pre[[#This Row],[Enero]:[Diciembre]])","v":46468378148.818176}]
[null,{"$f":"+TablaCVP_pre[[#This Row],[Nombre unidad TCV]]","v":"CCH2"},4624243286.5435057,3862233344.65101,3441586119.0698977,3722480284.9087958,4506311900.8147974,4228943164.6670723,2413549914.2301736,3643744639.3611274,4346405698.0974941,4102493387.616631,3714842273.5834103,4052322810.5620189,{"$f":"+SUM(TablaCMgP_pre[[#This Row],[Enero]:[Diciembre]])","v":46659156824.105934}]
[null,{"$f":"+TablaCVP_pre[[#This Row],[Nombre unidad TCV]]","v":"CD Iquique"},0,0,0,0,0,0,0,0,0,0,0,0,{"$f":"+SUM(TablaCMgP_pre[[#This Row],[Enero]:[Diciembre]])","v":0}]
[null,{"$f":"+TablaCVP_pre[[#This Row],[Nombre unidad TCV]]","v":"Celco"},174961580.02091309,181972636.22455707,157848915.90860206,153835079.8222914,237424458.7290093,110653131.41583543,128433514.97238994,127930040.16875626,104677917.32421328,108196200.71428791,153789459.99899173,134795600.62840316,{"$f":"+SUM(TablaCMgP_pre[[#This Row],[Enero]:[Diciembre]])","v":1774518535.9282508}]
[null,{"$f":"+TablaCVP_pre[[#This Row],[Nombre unidad TCV]]","v":"Cholguán"},214161297.51448467,154527162.7047613,364196675.61942369,391464455.56885779,246968828.65936852,191306760.53013498,0,0,0,0,40502595.647829011,65344818.832271881,{"$f":"+SUM(TablaCMgP_pre[[#This Row],[Enero]:[Diciembre]])","v":1668472595.0771317}]
[null,{"$f":"+TablaCVP_pre[[#This Row],[Nombre unidad TCV]]","v":"CMPC Cordillera"},0,0,0,0,0,0,0,0,0,36052.417341096021,4703908.1014867751,15107092.041464647,{"$f":"+SUM(TablaCMgP_pre[[#This Row],[Enero]:[Diciembre]])","v":19847052.56029252}]
[null,{"$f":"+TablaCVP_pre[[#This Row],[Nombre unidad TCV]]","v":"CMPC Laja"},592612071.31542647,584147072.58225346,566086678.59981358,751041870.27648222,678400914.59630382,533473538.62551349,409275492.39933872,485700235.13466889,412453474.30125767,347810597.1275273,145631522.94516495,293440006.15992767,{"$f":"+SUM(TablaCMgP_pre[[#This Row],[Enero]:[Diciembre]])","v":5800073474.0636778}]
[null,{"$f":"+TablaCVP_pre[[#This Row],[Nombre unidad TCV]]","v":"CMPC Pacífico"},129064310.51164961,111871606.67825362,65189438.458451718,507093739.53161311,878343260.01429129,436688998.62686396,430848533.13079852,370001810.57723391,269350988.16342783,397967459.75952041,320471999.0010488,281193251.06857795,{"$f":"+SUM(TablaCMgP_pre[[#This Row],[Enero]:[Diciembre]])","v":4198085395.5217304}]
[null,{"$f":"+TablaCVP_pre[[#This Row],[Nombre unidad TCV]]","v":"CMPC Santa Fe"},0,0,0,0,0,0,0,0,0,0,0,0,{"$f":"+SUM(TablaCMgP_pre[[#This Row],[Enero]:[Diciembre]])","v":0}]
[null,{"$f":"+TablaCVP_pre[[#This Row],[Nombre unidad TCV]]","v":"CMPC TISSUE"},84910860.353166297,152541740.41403151,69549045.83595036,115298014.65925379,115118342.71360441,76040971.186363712,72907756.635103464,73817015.507654116,55610720.02425427,47090681.673911735,22183372.677389994,24651482.464937486,{"$f":"+SUM(TablaCMgP_pre[[#This Row],[Enero]:[Diciembre]])","v":909720004.14562106}]
[null,{"$f":"+TablaCVP_pre[[#This Row],[Nombre unidad TCV]]","v":"Colmito"},36257986.357799947,49785626.204946265,1393483840.6899259,1564338584.8047712,1699871652.3392444,348132907.4931618,784535164.46538043,900969661.77382672,116188078.01716985,20939317.547588419,8181334.8475094065,0,{"$f":"+SUM(TablaCMgP_pre[[#This Row],[Enero]:[Diciembre]])","v":6922684154.5413256}]
[null,{"$f":"+TablaCVP_pre[[#This Row],[Nombre unidad TCV]]","v":"CTA"},3254379608.4529982,1074325990.7118907,459239787.62547529,1185983901.6936147,3096906660.6902466,1383165574.1708431,0,976912649.41776848,2728522836.7038236,2605851696.851593,1978690509.5158403,2496999345.8455157,{"$f":"+SUM(TablaCMgP_pre[[#This Row],[Enero]:[Diciembre]])","v":21240978561.679607}]
[null,{"$f":"+TablaCVP_pre[[#This Row],[Nombre unidad TCV]]","v":"CTH"},2992637290.0262942,1870836149.2314935,2683889260.2380991,3174569690.7477784,3335659395.1297688,1268641741.549655,1073024346.1553544,3641608306.3774457,1617800864.2759886,1466037814.1103528,2100762244.9348948,1428632171.4286058,{"$f":"+SUM(TablaCMgP_pre[[#This Row],[Enero]:[Diciembre]])","v":26654099274.205727}]
[null,{"$f":"+TablaCVP_pre[[#This Row],[Nombre unidad TCV]]","v":"CTM1"},140650133.62457499,590410378.95299947,726861858.09064138,1059927270.5793619,1646684231.2282324,0,248783137.90197873,1884313443.770473,841709922.8707453,1213843780.8980916,469700352.81647676,0,{"$f":"+SUM(TablaCMgP_pre[[#This Row],[Enero]:[Diciembre]])","v":8822884510.7335758}]
[null,{"$f":"+TablaCVP_pre[[#This Row],[Nombre unidad TCV]]","v":"CTM2"},768239160.10865724,1542538158.7213399,931599807.22263873,35484161.879850015,48327674.918851644,354355863.26428109,543099737.43759882,1925243112.8617117,406483453.11286658,144458.28078841019,749479041.26285434,129192255.08165924,{"$f":"+SUM(TablaCMgP_pre[[#This Row],[Enero]:[Diciembre]])","v":7434186884.1530981}]
[null,{"$f":"+TablaCVP_pre[[#This Row],[Nombre unidad TCV]]","v":"CTM3"},0,2388668159.57549,1598912200.7944775,2756114810.874517,1925169183.155026,3563276516.5201569,2836773894.5419111,2222091817.9439383,1323527866.6273553,1113455909.9902227,2643188716.8608642,4015165557.0955825,{"$f":"+SUM(TablaCMgP_pre[[#This Row],[Enero]:[Diciembre]])","v":26386344633.979538}]
[null,{"$f":"+TablaCVP_pre[[#This Row],[Nombre unidad TCV]]","v":"CTTAR"},2328223728.8606272,1851424589.533458,2330756025.1746764,1818116793.6475992,2489009394.0279489,1881990618.6907496,2441414202.4864368,1446853010.4377377,410741137.26991129,647173253.95786011,1333536960.702548,1542914402.6505158,{"$f":"+SUM(TablaCMgP_pre[[#This Row],[Enero]:[Diciembre]])","v":20522154117.440071}]
[null,{"$f":"+TablaCVP_pre[[#This Row],[Nombre unidad TCV]]","v":"Diego de Almagro"},0,0,0,27250598.066331211,0,0,0,0,0,0,0,0,{"$f":"+SUM(TablaCMgP_pre[[#This Row],[Enero]:[Diciembre]])","v":27250598.066331211}]
[null,{"$f":"+TablaCVP_pre[[#This Row],[Nombre unidad TCV]]","v":"El Salvador"},0,0,0,22923368.373446114,0,0,0,0,0,0,0,0,{"$f":"+SUM(TablaCMgP_pre[[#This Row],[Enero]:[Diciembre]])","v":22923368.373446114}]
[null,{"$f":"+TablaCVP_pre[[#This Row],[Nombre unidad TCV]]","v":"Emelda U1"},0,656971.50501840014,0,28927697.817403995,0,214303.19839999994,180652.88257799999,0,161300.27887559999,0,0,197406.66924585003,{"$f":"+SUM(TablaCMgP_pre[[#This Row],[Enero]:[Diciembre]])","v":30338332.351521846}]
[null,{"$f":"+TablaCVP_pre[[#This Row],[Nombre unidad TCV]]","v":"Emelda U2"},3761094.5865238803,0,76748253.445086896,9278645.1627511699,0,210163.75732159999,209003.23359089997,0,197039.31403785601,0,2593486.9351148158,172756.80184655002,{"$f":"+SUM(TablaCMgP_pre[[#This Row],[Enero]:[Diciembre]])","v":93170443.236273661}]
[null,{"$f":"+TablaCVP_pre[[#This Row],[Nombre unidad TCV]]","v":"Energía Pacífico"},318949840.4703604,403389640.13463002,491532842.97449732,425428151.86391217,501801001.17643541,387827935.99275756,374119756.14097589,350875766.57608205,302176475.83950776,291590201.56354529,213710398.20276761,405046560.86509848,{"$f":"+SUM(TablaCMgP_pre[[#This Row],[Enero]:[Diciembre]])","v":4466448571.8005695}]
[null,{"$f":"+TablaCVP_pre[[#This Row],[Nombre unidad TCV]]","v":"Escuadrón"},119429398.52180037,145297425.49364313,213760876.5861119,210665268.14119342,239102242.783517,45077803.916060708,58397214.086959116,60031690.102735698,5161375.8011433333,38240.085284276494,150253.24158788897,0,{"$f":"+SUM(TablaCMgP_pre[[#This Row],[Enero]:[Diciembre]])","v":1097111788.7600369}]
[null,{"$f":"+TablaCVP_pre[[#This Row],[Nombre unidad TCV]]","v":"Esperanza TG"},0,0,0,0,10691163.133084111,18450398.970344394,0,0,0,0,0,0,{"$f":"+SUM(TablaCMgP_pre[[#This Row],[Enero]:[Diciembre]])","v":29141562.103428505}]
[null,{"$f":"+TablaCVP_pre[[#This Row],[Nombre unidad TCV]]","v":"Guacolda 1"},2554418883.8320513,2371882449.175128,2115150955.4224391,2518030045.9659152,3036498999.3086343,1635717713.0980415,3053487443.1006684,2986652894.5812397,2722782739.2051654,2405083464.8225274,2188401205.2828717,2352908756.7851272,{"$f":"+SUM(TablaCMgP_pre[[#This Row],[Enero]:[Diciembre]])","v":29941015550.579807}]
[null,{"$f":"+TablaCVP_pre[[#This Row],[Nombre unidad TCV]]","v":"Guacolda 2"},1818294208.6025088,1988169921.8877583,2246892418.7080832,2309364374.569016,1503140998.7615724,2595222168.2276111,2849495526.3535347,3023466213.0004506,2647000051.3678694,2309414918.9326324,1473994856.3978624,2324159810.4407544,{"$f":"+SUM(TablaCMgP_pre[[#This Row],[Enero]:[Diciembre]])","v":27088615467.249653}]
[null,{"$f":"+TablaCVP_pre[[#This Row],[Nombre unidad TCV]]","v":"Guacolda 3"},2748730199.3355894,1862145817.8929894,2379373273.5811272,2371340238.4066429,3233333610.736145,3348366895.2803173,3131266568.2671862,3198323877.030962,2693660910.9919395,970300311.5244422,920460264.43687105,2041170171.6148305,{"$f":"+SUM(TablaCMgP_pre[[#This Row],[Enero]:[Diciembre]])","v":28898472139.099041}]
[null,{"$f":"+TablaCVP_pre[[#This Row],[Nombre unidad TCV]]","v":"Guacolda 4"},2603102899.0374627,2565781827.5032349,2266488633.6170611,1634686995.8601003,2906180645.7423224,3061371348.1947966,3081930806.7514663,2535458530.1640019,2689905876.7350721,2176395587.7008772,1394366027.0261145,1286889304.9815836,{"$f":"+SUM(TablaCMgP_pre[[#This Row],[Enero]:[Diciembre]])","v":28202558483.314095}]
[null,{"$f":"+TablaCVP_pre[[#This Row],[Nombre unidad TCV]]","v":"Guacolda 5"},2840858730.9042158,2870065897.0847454,2431290245.7121973,1868252020.8840499,3250974239.9995503,3321624135.6032281,3142568202.6489038,3355721488.3147068,2243441694.9943485,1533753933.4659064,2333806660.603899,2077136283.5484326,{"$f":"+SUM(TablaCMgP_pre[[#This Row],[Enero]:[Diciembre]])","v":31269493533.764183}]
[null,{"$f":"+TablaCVP_pre[[#This Row],[Nombre unidad TCV]]","v":"Horcones"},0,0,273163.26802102244,1998580.1593524038,0,118095.66624667901,0,0,0,0,0,6015484.5366168963,{"$f":"+SUM(TablaCMgP_pre[[#This Row],[Enero]:[Diciembre]])","v":8405323.6302370019}]
[null,{"$f":"+TablaCVP_pre[[#This Row],[Nombre unidad TCV]]","v":"Huasco TG"},0,0,0,0,0,0,0,380722.66868184111,3126552.9799885005,8308713.5968225952,0,1497025.070984419,{"$f":"+SUM(TablaCMgP_pre[[#This Row],[Enero]:[Diciembre]])","v":13313014.316477356}]
[null,{"$f":"+TablaCVP_pre[[#This Row],[Nombre unidad TCV]]","v":"IEM"},0,0,0,0,3933396273.6943617,6835277970.2505617,6632544154.2222986,1273558156.2559407,3088017326.2325125,2759414818.1707954,5096522799.758481,5704710527.7025166,{"$f":"+SUM(TablaCMgP_pre[[#This Row],[Enero]:[Diciembre]])","v":35323442026.287468}]
[null,{"$f":"+TablaCVP_pre[[#This Row],[Nombre unidad TCV]]","v":"Laguna Verde TG"},0,0,0,0,0,0,0,0,0,0,0,0,{"$f":"+SUM(TablaCMgP_pre[[#This Row],[Enero]:[Diciembre]])","v":0}]
[null,{"$f":"+TablaCVP_pre[[#This Row],[Nombre unidad TCV]]","v":"Laguna Verde TV"},0,0,0,0,0,0,0,0,0,0,0,0,{"$f":"+SUM(TablaCMgP_pre[[#This Row],[Enero]:[Diciembre]])","v":0}]
[null,{"$f":"+TablaCVP_pre[[#This Row],[Nombre unidad TCV]]","v":"Laja"},160157649.46612844,136268203.6510241,167896804.36805829,166071168.99581146,160955928.84172103,98950301.669503272,49169547.290338285,67737201.081393868,28189012.806280557,29405984.50393061,6091000.2782698004,23523251.557628594,{"$f":"+SUM(TablaCMgP_pre[[#This Row],[Enero]:[Diciembre]])","v":1094416054.5100882}]
[null,{"$f":"+TablaCVP_pre[[#This Row],[Nombre unidad TCV]]","v":"Lautaro-Comasa"},873889057.92070556,594439462.6051327,794128995.98597896,753694867.09702039,857500213.92210853,480615158.90544271,340774014.49256486,471898547.83365774,462799609.901124,385014886.00334215,265334020.84830439,464052558.98094994,{"$f":"+SUM(TablaCMgP_pre[[#This Row],[Enero]:[Diciembre]])","v":6744141394.496335}]
[null,{"$f":"+TablaCVP_pre[[#This Row],[Nombre unidad TCV]]","v":"Lautaro-Comasa 2"},104132187.30706237,576846511.50505078,521433017.32030207,505345941.84185821,618354027.93654823,437407109.964203,355149710.71961683,492273444.93488157,243236729.86601958,209754519.5500159,28799988.055359486,0,{"$f":"+SUM(TablaCMgP_pre[[#This Row],[Enero]:[Diciembre]])","v":4092733189.0009184}]
[null,{"$f":"+TablaCVP_pre[[#This Row],[Nombre unidad TCV]]","v":"Licantén"},91502118.987213284,55147958.756472059,7243265.9890638739,103513000.90548037,115168301.77639192,58695005.816904992,73742712.985767126,72490313.462381452,47518360.48817002,45771258.088624857,46844234.948465206,45132668.872788474,{"$f":"+SUM(TablaCMgP_pre[[#This Row],[Enero]:[Diciembre]])","v":762769201.07772362}]
[null,{"$f":"+TablaCVP_pre[[#This Row],[Nombre unidad TCV]]","v":"Los Guindos"},0,0,0,0,18791003.778159924,0,0,0,0,0,0,0,{"$f":"+SUM(TablaCMgP_pre[[#This Row],[Enero]:[Diciembre]])","v":18791003.778159924}]
[null,{"$f":"+TablaCVP_pre[[#This Row],[Nombre unidad TCV]]","v":"Los Pinos"},261484628.00314561,154933623.15950191,41505786.410212614,667920546.10956049,159825373.56165984,5332319.1340313787,0,0,0,0,4717674.3508764813,0,{"$f":"+SUM(TablaCMgP_pre[[#This Row],[Enero]:[Diciembre]])","v":1295719950.7289884}]
[null,{"$f":"+TablaCVP_pre[[#This Row],[Nombre unidad TCV]]","v":"Los Vientos"},88665998.577554822,126275155.22668453,3257817463.9693475,2094558120.1968665,3463982075.420774,135924191.90728596,887282620.85052538,802200511.99702311,71844223.477847412,0,47308189.114128187,0,{"$f":"+SUM(TablaCMgP_pre[[#This Row],[Enero]:[Diciembre]])","v":10975858550.738037}]
[null,{"$f":"+TablaCVP_pre[[#This Row],[Nombre unidad TCV]]","v":"Masisa (Cabrero)"},121883060.82163683,115387383.19699985,257341663.80699125,294758411.84293383,288816778.01351154,205183687.14081219,151071664.25738636,126858364.50859489,117984542.25559548,58162595.059118472,105061233.37404422,112746875.95373306,{"$f":"+SUM(TablaCMgP_pre[[#This Row],[Enero]:[Diciembre]])","v":1955256260.2313578}]
[null,{"$f":"+TablaCVP_pre[[#This Row],[Nombre unidad TCV]]","v":"Nehuenco"},8096334436.9299555,7251914165.018693,8716952260.5045776,8567226911.9996204,9926244148.0956383,3225469801.3205318,3316395317.1600204,837519247.05913901,1635454014.9096351,6018700003.7197819,5146554456.9305668,288110648.80195045,{"$f":"+SUM(TablaCMgP_pre[[#This Row],[Enero]:[Diciembre]])","v":63026875412.450096}]
[null,{"$f":"+TablaCVP_pre[[#This Row],[Nombre unidad TCV]]","v":"Nehuenco II"},10954648544.418011,9429866238.054163,10243528414.285923,10748412627.677179,10868351608.747482,6958006398.5880737,8979993403.9930134,9981525242.787735,7149211956.6247644,6500863394.8098297,1543026437.9152169,7171225050.5198507,{"$f":"+SUM(TablaCMgP_pre[[#This Row],[Enero]:[Diciembre]])","v":100528659318.42125}]
[null,{"$f":"+TablaCVP_pre[[#This Row],[Nombre unidad TCV]]","v":"Nehuenco TG 9B"},0,0,10117.744488,59005559.874245957,0,0,0,23495985.39222911,22688873.6115174,0,0,24551741.931351982,{"$f":"+SUM(TablaCMgP_pre[[#This Row],[Enero]:[Diciembre]])","v":129752278.55383244}]
[null,{"$f":"+TablaCVP_pre[[#This Row],[Nombre unidad TCV]]","v":"NTO1"},2462881542.4223504,1692546327.6139407,1986692456.802125,2619680717.8000937,2787066616.3260727,2111458883.7532961,2784601877.4313684,2966661830.1383758,1877830318.6648474,1190103525.6685979,1219000108.8734725,630748741.41660786,{"$f":"+SUM(TablaCMgP_pre[[#This Row],[Enero]:[Diciembre]])","v":24329272946.911148}]
[null,{"$f":"+TablaCVP_pre[[#This Row],[Nombre unidad TCV]]","v":"NTO2"},2543787691.7170048,616454113.25974536,1548876010.4748297,2535316943.1494684,2797148484.9942274,2718899386.3217812,2672991630.1355925,2689514661.8016887,2305040885.1215444,2190945196.7135062,1898498104.7141883,1089145674.4272096,{"$f":"+SUM(TablaCMgP_pre[[#This Row],[Enero]:[Diciembre]])","v":25606618782.830784}]
[null,{"$f":"+TablaCVP_pre[[#This Row],[Nombre unidad TCV]]","v":"Nueva Aldea I"},181802749.7006326,210668125.13091332,120129473.39750168,187241938.56878236,159251604.46409684,60148245.228646778,68769148.491249487,61204617.819207489,67908984.36037533,49613319.099541306,54670370.593302153,76416311.67059648,{"$f":"+SUM(TablaCMgP_pre[[#This Row],[Enero]:[Diciembre]])","v":1297824888.5248461}]
[null,{"$f":"+TablaCVP_pre[[#This Row],[Nombre unidad TCV]]","v":"Nueva Aldea III"},145295719.04824725,235765727.76119462,944392569.04633605,1019978974.4567436,1025367224.5767026,745004470.3863287,684197017.87332082,742893877.75007761,574196466.97394717,470963342.22139311,578230279.35741413,543796466.32630265,{"$f":"+SUM(TablaCMgP_pre[[#This Row],[Enero]:[Diciembre]])","v":7710082135.7780085}]
[null,{"$f":"+TablaCVP_pre[[#This Row],[Nombre unidad TCV]]","v":"Nueva Renca"},9476153065.4437485,6170916637.5230379,4707568613.9894619,11617098922.949478,5943503208.5835743,5623233136.0163298,5445737549.6370916,1333613.1928232245,3655579914.2608995,5084010027.1591969,3899037149.0523276,3897730888.8876524,{"$f":"+SUM(TablaCMgP_pre[[#This Row],[Enero]:[Diciembre]])","v":65521902726.695618}]
[null,{"$f":"+TablaCVP_pre[[#This Row],[Nombre unidad TCV]]","v":"Nueva Ventanas"},0,3986479398.6750321,6790561824.9777374,5794847165.4860268,7621889559.9299517,5535335584.5922852,4330042216.382452,6361874788.7489052,4338392402.0986023,2731581934.718801,3309464613.3207426,3921122775.7738748,{"$f":"+SUM(TablaCMgP_pre[[#This Row],[Enero]:[Diciembre]])","v":54721592264.704407}]
[null,{"$f":"+TablaCVP_pre[[#This Row],[Nombre unidad TCV]]","v":"Petropower"},328759304.90107071,202698367.76658794,382938601.50648838,384959507.99328184,353766853.55745316,273520444.43059015,277121880.60824531,249741471.08256051,124380340.4722591,147207123.43215537,73672356.213170215,213305694.1850068,{"$f":"+SUM(TablaCMgP_pre[[#This Row],[Enero]:[Diciembre]])","v":3012071946.148869}]
[null,{"$f":"+TablaCVP_pre[[#This Row],[Nombre unidad TCV]]","v":"Quintero A"},1060504938.8729491,988020335.66149092,1711537861.2345378,1808485525.5323679,1472135014.0867186,0,496632933.21385777,77618652.585692063,110709882.7297985,129528798.36640278,12630924.638696965,0,{"$f":"+SUM(TablaCMgP_pre[[#This Row],[Enero]:[Diciembre]])","v":7867804866.9225121}]
[null,{"$f":"+TablaCVP_pre[[#This Row],[Nombre unidad TCV]]","v":"Quintero B"},979021105.7372179,875798344.52155292,1642867151.7510457,1914227299.1531947,1393671153.4207673,0,361009955.45966315,77250659.624342367,115706745.18914905,141998895.57193691,14255558.613078631,0,{"$f":"+SUM(TablaCMgP_pre[[#This Row],[Enero]:[Diciembre]])","v":7515806869.0419483}]
[null,{"$f":"+TablaCVP_pre[[#This Row],[Nombre unidad TCV]]","v":"Renca U1"},0,0,0,0,0,0,0,0,0,0,0,0,{"$f":"+SUM(TablaCMgP_pre[[#This Row],[Enero]:[Diciembre]])","v":0}]
[null,{"$f":"+TablaCVP_pre[[#This Row],[Nombre unidad TCV]]","v":"Renca U2"},0,0,0,0,0,0,0,0,0,0,0,0,{"$f":"+SUM(TablaCMgP_pre[[#This Row],[Enero]:[Diciembre]])","v":0}]
[null,{"$f":"+TablaCVP_pre[[#This Row],[Nombre unidad TCV]]","v":"San Isidro"},449192729.46118593,7644480424.8954439,8671235477.5980415,10787381274.773815,10098361098.795403,3533705612.4541683,3744187115.5320425,4405659455.0939407,2267064675.9344444,2963664026.407289,262006559.47318742,161940065.19766235,{"$f":"+SUM(TablaCMgP_pre[[#This Row],[Enero]:[Diciembre]])","v":54988878515.616623}]
[null,{"$f":"+TablaCVP_pre[[#This Row],[Nombre unidad TCV]]","v":"San Isidro II"},10529844644.378466,8846151352.3615685,10454412166.29549,9007363742.0877857,10989744235.073862,7939806806.5524254,8302159721.5042782,8852522980.8630085,3339302465.6625891,794700897.55892098,4249230038.1700025,5318414212.0862751,{"$f":"+SUM(TablaCMgP_pre[[#This Row],[Enero]:[Diciembre]])","v":88623653262.594666}]
[null,{"$f":"+TablaCVP_pre[[#This Row],[Nombre unidad TCV]]","v":"San Lorenzo de D. de Almagro U1"},0,0,0,0,0,0,0,0,0,0,0,0,{"$f":"+SUM(TablaCMgP_pre[[#This Row],[Enero]:[Diciembre]])","v":0}]
[null,{"$f":"+TablaCVP_pre[[#This Row],[Nombre unidad TCV]]","v":"San Lorenzo de D. de Almagro U2"},0,0,0,0,0,0,0,0,0,0,0,0,{"$f":"+SUM(TablaCMgP_pre[[#This Row],[Enero]:[Diciembre]])","v":0}]
[null,{"$f":"+TablaCVP_pre[[#This Row],[Nombre unidad TCV]]","v":"Santa Lidia"},0,0,0,0,238645238.9253343,0,0,0,0,0,0,0,{"$f":"+SUM(TablaCMgP_pre[[#This Row],[Enero]:[Diciembre]])","v":238645238.9253343}]
[null,{"$f":"+TablaCVP_pre[[#This Row],[Nombre unidad TCV]]","v":"Santa María"},8102294788.1574535,8559682571.8659487,9674850460.0337563,8181019471.3463497,10804980148.453398,7766813364.5510492,6003904152.9328957,0,0,0,2518069775.3930597,6618912519.3284979,{"$f":"+SUM(TablaCMgP_pre[[#This Row],[Enero]:[Diciembre]])","v":68230527252.062408}]
[null,{"$f":"+TablaCVP_pre[[#This Row],[Nombre unidad TCV]]","v":"Taltal 1"},0,0,45090650.292464711,89396409.087663502,0,0,0,0,2768518.4391441331,28499917.686324954,8150765.9787404705,0,{"$f":"+SUM(TablaCMgP_pre[[#This Row],[Enero]:[Diciembre]])","v":173906261.48433778}]
[null,{"$f":"+TablaCVP_pre[[#This Row],[Nombre unidad TCV]]","v":"Taltal 2"},0,0,374434178.02894485,195911835.71452194,0,0,0,0,0,6626035.7986424128,1206204.9356861538,0,{"$f":"+SUM(TablaCMgP_pre[[#This Row],[Enero]:[Diciembre]])","v":578178254.47779536}]
[null,{"$f":"+TablaCVP_pre[[#This Row],[Nombre unidad TCV]]","v":"TG_Coronel"},0,0,98294708.433653489,0,0,20609585.028465528,0,0,0,5654405.3274324005,0,0,{"$f":"+SUM(TablaCMgP_pre[[#This Row],[Enero]:[Diciembre]])","v":124558698.78955141}]
[null,{"$f":"+TablaCVP_pre[[#This Row],[Nombre unidad TCV]]","v":"TG1"},0,0,0,0,0,0,0,0,0,0,0,0,{"$f":"+SUM(TablaCMgP_pre[[#This Row],[Enero]:[Diciembre]])","v":0}]
[null,{"$f":"+TablaCVP_pre[[#This Row],[Nombre unidad TCV]]","v":"TG2"},0,0,0,0,0,0,0,0,0,0,0,0,{"$f":"+SUM(TablaCMgP_pre[[#This Row],[Enero]:[Diciembre]])","v":0}]
[null,{"$f":"+TablaCVP_pre[[#This Row],[Nombre unidad TCV]]","v":"TG3"},35769089.676546924,40151488.020613678,18472391.12884919,31849846.381096389,26458675.598210186,0,146838528.81272781,54462497.231681719,51515458.594857395,35153562.832659401,76612315.856723115,226180707.47733623,{"$f":"+SUM(TablaCMgP_pre[[#This Row],[Enero]:[Diciembre]])","v":743464561.61130214}]
[null,{"$f":"+TablaCVP_pre[[#This Row],[Nombre unidad TCV]]","v":"TGTAR"},0,0,0,13089449.179850409,0,0,0,0,0,0,0,32031.397579642504,{"$f":"+SUM(TablaCMgP_pre[[#This Row],[Enero]:[Diciembre]])","v":13121480.577430051}]
[null,{"$f":"+TablaCVP_pre[[#This Row],[Nombre unidad TCV]]","v":"U12"},0,202260085.51349598,154240612.69300756,0,0,0,0,0,0,0,0,0,{"$f":"+SUM(TablaCMgP_pre[[#This Row],[Enero]:[Diciembre]])","v":356500698.20650351}]
[null,{"$f":"+TablaCVP_pre[[#This Row],[Nombre unidad TCV]]","v":"U13"},0,0,0,0,0,0,0,0,0,0,0,0,{"$f":"+SUM(TablaCMgP_pre[[#This Row],[Enero]:[Diciembre]])","v":0}]
[null,{"$f":"+TablaCVP_pre[[#This Row],[Nombre unidad TCV]]","v":"U14"},535407499.45266885,83247938.691110075,433511127.53334701,0,50305.926596301782,53618463.347516268,0,400836717.07262272,53088339.705970153,145784016.95095187,0,0,{"$f":"+SUM(TablaCMgP_pre[[#This Row],[Enero]:[Diciembre]])","v":1705544408.680783}]
[null,{"$f":"+TablaCVP_pre[[#This Row],[Nombre unidad TCV]]","v":"U15"},1214080754.0343311,90355441.237796977,421006542.38666373,1421806970.9404514,833404112.92548823,0,0,357009803.3633616,0,68170857.39057143,0,63445216.00162109,{"$f":"+SUM(TablaCMgP_pre[[#This Row],[Enero]:[Diciembre]])","v":4469279698.2802858}]
[null,{"$f":"+TablaCVP_pre[[#This Row],[Nombre unidad TCV]]","v":"U16"},1370942912.2970624,2554571467.6784959,3813752228.6865702,5075344833.6485491,3352814009.5619688,2999771604.9663219,5519963048.8046188,5924071089.9937744,3897305071.764287,1482989803.0609741,0,0,{"$f":"+SUM(TablaCMgP_pre[[#This Row],[Enero]:[Diciembre]])","v":35991526070.462624}]
[null,{"$f":"+TablaCVP_pre[[#This Row],[Nombre unidad TCV]]","v":"Valdivia"},667334429.59917498,1505301129.693583,849287945.12825346,1345346305.7545793,577626534.14024282,493637861.76297313,443062086.18493754,389714738.29059696,207344911.44430193,0,121015938.90817662,251005758.87862211,{"$f":"+SUM(TablaCMgP_pre[[#This Row],[Enero]:[Diciembre]])","v":6850677639.7854404}]
[null,{"$f":"+TablaCVP_pre[[#This Row],[Nombre unidad TCV]]","v":"Ventanas 1"},1475780526.2183578,1442317279.0727317,2513807917.7821755,2706843653.589992,0,0,0,0,2251574.8532658252,55420874.902080826,0,0,{"$f":"+SUM(TablaCMgP_pre[[#This Row],[Enero]:[Diciembre]])","v":8196421826.4186039}]
[null,{"$f":"+TablaCVP_pre[[#This Row],[Nombre unidad TCV]]","v":"Ventanas 2"},4023348200.8010445,3538946499.3632312,513181965.17572302,0,2380030063.6278081,3683299222.9911075,4071929766.2179875,3710900150.2863846,3212370599.9361305,2895476923.1821313,2521941982.8421731,2650407841.7683501,{"$f":"+SUM(TablaCMgP_pre[[#This Row],[Enero]:[Diciembre]])","v":33201833216.192074}]
[null,{"$f":"+TablaCVP_pre[[#This Row],[Nombre unidad TCV]]","v":"Viñales"},812788827.34275615,782058266.02985203,917084318.47465467,1051098108.971885,1046048973.4737177,785825962.01934111,714385505.99268425,644688791.42627096,399633102.63277966,458354801.45216107,274609701.25144011,477241497.68436426,{"$f":"+SUM(TablaCMgP_pre[[#This Row],[Enero]:[Diciembre]])","v":8363817856.7519083}]
[null,{"$f":"+TablaCVP_pre[[#This Row],[Nombre unidad TCV]]","v":"Yungay 1"},0,0,0,0,0,0,0,0,0,85426.674805689006,0,120027.13120654308,{"$f":"+SUM(TablaCMgP_pre[[#This Row],[Enero]:[Diciembre]])","v":205453.80601223209}]
[null,{"$f":"+TablaCVP_pre[[#This Row],[Nombre unidad TCV]]","v":"Yungay 2"},0,0,0,0,0,0,0,0,0,7713744.1482809735,0,9217343.3522163834,{"$f":"+SUM(TablaCMgP_pre[[#This Row],[Enero]:[Diciembre]])","v":16931087.500497356}]
[null,{"$f":"+TablaCVP_pre[[#This Row],[Nombre unidad TCV]]","v":"Yungay 3"},0,0,0,0,0,0,0,0,0,4774816.3862848226,0,23119557.050182972,{"$f":"+SUM(TablaCMgP_pre[[#This Row],[Enero]:[Diciembre]])","v":27894373.436467797}]
[null,{"$f":"+TablaCVP_pre[[#This Row],[Nombre unidad TCV]]","v":"Yungay 4 ca"},0,0,0,0,0,0,0,0,0,2865395.3230278264,0,6520949.3754294449,{"$f":"+SUM(TablaCMgP_pre[[#This Row],[Enero]:[Diciembre]])","v":9386344.6984572709}]
[null,{"$f":"+TablaCVP_pre[[#This Row],[Nombre unidad TCV]]","v":"Los Guindos 2"},0,0,0,0,0,0,0,0,0,14848840.349027552,0,0,{"$f":"+SUM(TablaCMgP_pre[[#This Row],[Enero]:[Diciembre]])","v":14848840.349027552}]

{"sheet":"NTH1","index":9,"n_rows":101,"n_cols":15,"rows_kept":101,"cut":false,"hidden":false,"merged":[]}
[]
[null,"NTH1 (numero de horas con Gx)"]
[]
[null,"Nombre unidad TCV","Enero","Febrero","Marzo","Abril","Mayo","Junio","Julio","Agosto","Septiembre","Octubre","Noviembre","Diciembre","Total"]
[null,{"$f":"+TablaCVP_pre[[#This Row],[Nombre unidad TCV]]","v":"ANG1"},744,672,731,721,744,720,737,585,719,744,720,744,{"$f":"+SUM(TablaNTH1[[#This Row],[Enero]:[Diciembre]])","v":8581}]
[null,{"$f":"+TablaCVP_pre[[#This Row],[Nombre unidad TCV]]","v":"ANG2"},719,667,744,609,744,720,702,744,719,706,720,744,{"$f":"+SUM(TablaNTH1[[#This Row],[Enero]:[Diciembre]])","v":8538}]
[null,{"$f":"+TablaCVP_pre[[#This Row],[Nombre unidad TCV]]","v":"Antilhue TG U1"},89,268,173,12,7,4,1,0,0,11,0,10,{"$f":"+SUM(TablaNTH1[[#This Row],[Enero]:[Diciembre]])","v":575}]
[null,{"$f":"+TablaCVP_pre[[#This Row],[Nombre unidad TCV]]","v":"Antilhue TG U2"},13,262,52,67,0,0,0,0,0,30,0,5,{"$f":"+SUM(TablaNTH1[[#This Row],[Enero]:[Diciembre]])","v":429}]
[null,{"$f":"+TablaCVP_pre[[#This Row],[Nombre unidad TCV]]","v":"Arauco"},725,646,472,674,698,684,679,610,699,576,716,710,{"$f":"+SUM(TablaNTH1[[#This Row],[Enero]:[Diciembre]])","v":7889}]
[null,{"$f":"+TablaCVP_pre[[#This Row],[Nombre unidad TCV]]","v":"Bocamina"},223,662,744,721,646,490,713,744,696,580,720,116,{"$f":"+SUM(TablaNTH1[[#This Row],[Enero]:[Diciembre]])","v":7055}]
[null,{"$f":"+TablaCVP_pre[[#This Row],[Nombre unidad TCV]]","v":"Bocamina II"},430,672,744,721,661,720,740,744,709,724,146,481,{"$f":"+SUM(TablaNTH1[[#This Row],[Enero]:[Diciembre]])","v":7492}]
[null,{"$f":"+TablaCVP_pre[[#This Row],[Nombre unidad TCV]]","v":"Campiche"},584,672,744,721,744,697,593,671,407,519,474,739,{"$f":"+SUM(TablaNTH1[[#This Row],[Enero]:[Diciembre]])","v":7565}]
[null,{"$f":"+TablaCVP_pre[[#This Row],[Nombre unidad TCV]]","v":"Candelaria 1"},0,0,184,88,105,20,43,5,6,1,6,0,{"$f":"+SUM(TablaNTH1[[#This Row],[Enero]:[Diciembre]])","v":458}]
[null,{"$f":"+TablaCVP_pre[[#This Row],[Nombre unidad TCV]]","v":"Candelaria 2"},0,0,109,97,84,20,26,5,5,0,9,0,{"$f":"+SUM(TablaNTH1[[#This Row],[Enero]:[Diciembre]])","v":355}]
[null,{"$f":"+TablaCVP_pre[[#This Row],[Nombre unidad TCV]]","v":"Cardones"},0,0,0,0,0,1,0,0,0,0,0,0,{"$f":"+SUM(TablaNTH1[[#This Row],[Enero]:[Diciembre]])","v":1}]
[null,{"$f":"+TablaCVP_pre[[#This Row],[Nombre unidad TCV]]","v":"CC KELAR"},204,522,551,549,368,365,444,359,311,159,486,391,{"$f":"+SUM(TablaNTH1[[#This Row],[Enero]:[Diciembre]])","v":4709}]
[null,{"$f":"+TablaCVP_pre[[#This Row],[Nombre unidad TCV]]","v":"CC1"},266,148,55,121,102,349,327,65,86,84,211,126,{"$f":"+SUM(TablaNTH1[[#This Row],[Enero]:[Diciembre]])","v":1940}]
[null,{"$f":"+TablaCVP_pre[[#This Row],[Nombre unidad TCV]]","v":"CC2"},163,47,70,58,30,75,252,0,50,24,50,3,{"$f":"+SUM(TablaNTH1[[#This Row],[Enero]:[Diciembre]])","v":822}]
[null,{"$f":"+TablaCVP_pre[[#This Row],[Nombre unidad TCV]]","v":"CCH1"},744,672,744,565,744,720,744,310,719,744,720,744,{"$f":"+SUM(TablaNTH1[[#This Row],[Enero]:[Diciembre]])","v":8170}]
[null,{"$f":"+TablaCVP_pre[[#This Row],[Nombre unidad TCV]]","v":"CCH2"},744,672,744,721,707,650,418,592,719,744,720,744,{"$f":"+SUM(TablaNTH1[[#This Row],[Enero]:[Diciembre]])","v":8175}]
[null,{"$f":"+TablaCVP_pre[[#This Row],[Nombre unidad TCV]]","v":"CD Iquique"},0,0,0,0,0,0,0,0,0,0,0,0,{"$f":"+SUM(TablaNTH1[[#This Row],[Enero]:[Diciembre]])","v":0}]
[null,{"$f":"+TablaCVP_pre[[#This Row],[Nombre unidad TCV]]","v":"Celco"},717,672,630,522,742,713,742,742,692,744,613,728,{"$f":"+SUM(TablaNTH1[[#This Row],[Enero]:[Diciembre]])","v":8257}]
[null,{"$f":"+TablaCVP_pre[[#This Row],[Nombre unidad TCV]]","v":"Cholguán"},555,431,660,721,737,651,0,0,0,0,332,642,{"$f":"+SUM(TablaNTH1[[#This Row],[Enero]:[Diciembre]])","v":4729}]
[null,{"$f":"+TablaCVP_pre[[#This Row],[Nombre unidad TCV]]","v":"CMPC Cordillera"},0,0,0,0,0,0,0,0,0,5,19,69,{"$f":"+SUM(TablaNTH1[[#This Row],[Enero]:[Diciembre]])","v":93}]
[null,{"$f":"+TablaCVP_pre[[#This Row],[Nombre unidad TCV]]","v":"CMPC Laja"},716,644,664,696,732,718,691,702,711,669,358,671,{"$f":"+SUM(TablaNTH1[[#This Row],[Enero]:[Diciembre]])","v":7972}]
[null,{"$f":"+TablaCVP_pre[[#This Row],[Nombre unidad TCV]]","v":"CMPC Pacífico"},719,647,377,717,744,663,725,729,698,739,691,744,{"$f":"+SUM(TablaNTH1[[#This Row],[Enero]:[Diciembre]])","v":8193}]
[null,{"$f":"+TablaCVP_pre[[#This Row],[Nombre unidad TCV]]","v":"CMPC Santa Fe"},0,0,0,0,0,0,0,0,0,0,0,0,{"$f":"+SUM(TablaNTH1[[#This Row],[Enero]:[Diciembre]])","v":0}]
[null,{"$f":"+TablaCVP_pre[[#This Row],[Nombre unidad TCV]]","v":"CMPC TISSUE"},551,601,470,650,697,681,728,707,661,595,403,480,{"$f":"+SUM(TablaNTH1[[#This Row],[Enero]:[Diciembre]])","v":7224}]
[null,{"$f":"+TablaCVP_pre[[#This Row],[Nombre unidad TCV]]","v":"Colmito"},10,17,322,315,360,79,174,206,34,10,5,0,{"$f":"+SUM(TablaNTH1[[#This Row],[Enero]:[Diciembre]])","v":1532}]
[null,{"$f":"+TablaCVP_pre[[#This Row],[Nombre unidad TCV]]","v":"CTA"},744,466,209,278,706,342,0,246,670,744,664,744,{"$f":"+SUM(TablaNTH1[[#This Row],[Enero]:[Diciembre]])","v":5813}]
[null,{"$f":"+TablaCVP_pre[[#This Row],[Nombre unidad TCV]]","v":"CTH"},744,452,725,721,744,425,269,731,436,411,646,457,{"$f":"+SUM(TablaNTH1[[#This Row],[Enero]:[Diciembre]])","v":6761}]
[null,{"$f":"+TablaCVP_pre[[#This Row],[Nombre unidad TCV]]","v":"CTM1"},51,231,278,321,457,0,79,545,283,463,243,0,{"$f":"+SUM(TablaNTH1[[#This Row],[Enero]:[Diciembre]])","v":2951}]
[null,{"$f":"+TablaCVP_pre[[#This Row],[Nombre unidad TCV]]","v":"CTM2"},257,440,339,16,25,102,183,457,160,2,297,57,{"$f":"+SUM(TablaNTH1[[#This Row],[Enero]:[Diciembre]])","v":2335}]
[null,{"$f":"+TablaCVP_pre[[#This Row],[Nombre unidad TCV]]","v":"CTM3"},0,419,355,489,405,667,513,461,309,311,604,734,{"$f":"+SUM(TablaNTH1[[#This Row],[Enero]:[Diciembre]])","v":5267}]
[null,{"$f":"+TablaCVP_pre[[#This Row],[Nombre unidad TCV]]","v":"CTTAR"},569,577,562,443,531,548,676,524,165,344,475,616,{"$f":"+SUM(TablaNTH1[[#This Row],[Enero]:[Diciembre]])","v":6030}]
[null,{"$f":"+TablaCVP_pre[[#This Row],[Nombre unidad TCV]]","v":"Diego de Almagro"},0,0,0,17,0,0,0,0,0,0,0,1,{"$f":"+SUM(TablaNTH1[[#This Row],[Enero]:[Diciembre]])","v":18}]
[null,{"$f":"+TablaCVP_pre[[#This Row],[Nombre unidad TCV]]","v":"El Salvador"},0,0,0,17,0,0,0,0,0,0,0,0,{"$f":"+SUM(TablaNTH1[[#This Row],[Enero]:[Diciembre]])","v":17}]
[null,{"$f":"+TablaCVP_pre[[#This Row],[Nombre unidad TCV]]","v":"Emelda U1"},0,1,0,19,0,2,1,0,1,0,0,1,{"$f":"+SUM(TablaNTH1[[#This Row],[Enero]:[Diciembre]])","v":25}]
[null,{"$f":"+TablaCVP_pre[[#This Row],[Nombre unidad TCV]]","v":"Emelda U2"},4,0,21,8,0,1,1,0,1,0,1,1,{"$f":"+SUM(TablaNTH1[[#This Row],[Enero]:[Diciembre]])","v":38}]
[null,{"$f":"+TablaCVP_pre[[#This Row],[Nombre unidad TCV]]","v":"Energía Pacífico"},458,637,744,616,659,694,744,614,704,717,545,677,{"$f":"+SUM(TablaNTH1[[#This Row],[Enero]:[Diciembre]])","v":7809}]
[null,{"$f":"+TablaCVP_pre[[#This Row],[Nombre unidad TCV]]","v":"Escuadrón"},732,642,743,702,617,454,743,681,62,1,2,0,{"$f":"+SUM(TablaNTH1[[#This Row],[Enero]:[Diciembre]])","v":5379}]
[null,{"$f":"+TablaCVP_pre[[#This Row],[Nombre unidad TCV]]","v":"Esperanza TG"},0,0,0,0,7,14,0,0,0,0,0,0,{"$f":"+SUM(TablaNTH1[[#This Row],[Enero]:[Diciembre]])","v":21}]
[null,{"$f":"+TablaCVP_pre[[#This Row],[Nombre unidad TCV]]","v":"Guacolda 1"},739,646,677,721,744,426,726,712,719,744,720,744,{"$f":"+SUM(TablaNTH1[[#This Row],[Enero]:[Diciembre]])","v":8318}]
[null,{"$f":"+TablaCVP_pre[[#This Row],[Nombre unidad TCV]]","v":"Guacolda 2"},581,594,744,720,444,666,707,744,719,743,482,742,{"$f":"+SUM(TablaNTH1[[#This Row],[Enero]:[Diciembre]])","v":7886}]
[null,{"$f":"+TablaCVP_pre[[#This Row],[Nombre unidad TCV]]","v":"Guacolda 3"},723,475,744,616,744,720,710,744,719,304,695,740,{"$f":"+SUM(TablaNTH1[[#This Row],[Enero]:[Diciembre]])","v":7934}]
[null,{"$f":"+TablaCVP_pre[[#This Row],[Nombre unidad TCV]]","v":"Guacolda 4"},744,672,725,555,733,720,744,560,717,744,567,545,{"$f":"+SUM(TablaNTH1[[#This Row],[Enero]:[Diciembre]])","v":8026}]
[null,{"$f":"+TablaCVP_pre[[#This Row],[Nombre unidad TCV]]","v":"Guacolda 5"},733,672,744,514,744,720,727,744,575,524,720,612,{"$f":"+SUM(TablaNTH1[[#This Row],[Enero]:[Diciembre]])","v":8029}]
[null,{"$f":"+TablaCVP_pre[[#This Row],[Nombre unidad TCV]]","v":"Horcones"},0,0,1,4,0,1,0,0,0,0,0,9,{"$f":"+SUM(TablaNTH1[[#This Row],[Enero]:[Diciembre]])","v":15}]
[null,{"$f":"+TablaCVP_pre[[#This Row],[Nombre unidad TCV]]","v":"Huasco TG"},0,0,0,0,0,0,0,1,2,6,0,3,{"$f":"+SUM(TablaNTH1[[#This Row],[Enero]:[Diciembre]])","v":12}]
[null,{"$f":"+TablaCVP_pre[[#This Row],[Nombre unidad TCV]]","v":"IEM"},0,0,0,0,385,698,726,198,413,427,674,732,{"$f":"+SUM(TablaNTH1[[#This Row],[Enero]:[Diciembre]])","v":4253}]
[null,{"$f":"+TablaCVP_pre[[#This Row],[Nombre unidad TCV]]","v":"Laguna Verde TG"},0,0,0,0,0,0,0,0,0,0,0,0,{"$f":"+SUM(TablaNTH1[[#This Row],[Enero]:[Diciembre]])","v":0}]
[null,{"$f":"+TablaCVP_pre[[#This Row],[Nombre unidad TCV]]","v":"Laguna Verde TV"},0,0,0,0,0,0,0,0,0,0,0,0,{"$f":"+SUM(TablaNTH1[[#This Row],[Enero]:[Diciembre]])","v":0}]
[null,{"$f":"+TablaCVP_pre[[#This Row],[Nombre unidad TCV]]","v":"Laja"},744,618,744,688,744,717,714,701,676,715,195,563,{"$f":"+SUM(TablaNTH1[[#This Row],[Enero]:[Diciembre]])","v":7819}]
[null,{"$f":"+TablaCVP_pre[[#This Row],[Nombre unidad TCV]]","v":"Lautaro-Comasa"},707,574,705,632,714,621,522,585,719,700,465,707,{"$f":"+SUM(TablaNTH1[[#This Row],[Enero]:[Diciembre]])","v":7651}]
[null,{"$f":"+TablaCVP_pre[[#This Row],[Nombre unidad TCV]]","v":"Lautaro-Comasa 2"},81,643,602,601,641,574,556,740,463,403,72,0,{"$f":"+SUM(TablaNTH1[[#This Row],[Enero]:[Diciembre]])","v":5376}]
[null,{"$f":"+TablaCVP_pre[[#This Row],[Nombre unidad TCV]]","v":"Licantén"},728,421,75,837,966,951,1321,1116,723,675,720,732,{"$f":"+SUM(TablaNTH1[[#This Row],[Enero]:[Diciembre]])","v":9265}]
[null,{"$f":"+TablaCVP_pre[[#This Row],[Nombre unidad TCV]]","v":"Los Guindos"},0,0,0,0,3,0,0,0,0,0,0,0,{"$f":"+SUM(TablaNTH1[[#This Row],[Enero]:[Diciembre]])","v":3}]
[null,{"$f":"+TablaCVP_pre[[#This Row],[Nombre unidad TCV]]","v":"Los Pinos"},40,27,6,97,26,2,0,0,0,0,2,0,{"$f":"+SUM(TablaNTH1[[#This Row],[Enero]:[Diciembre]])","v":200}]
[null,{"$f":"+TablaCVP_pre[[#This Row],[Nombre unidad TCV]]","v":"Los Vientos"},8,19,358,265,347,21,115,97,13,0,9,0,{"$f":"+SUM(TablaNTH1[[#This Row],[Enero]:[Diciembre]])","v":1252}]
[null,{"$f":"+TablaCVP_pre[[#This Row],[Nombre unidad TCV]]","v":"Masisa (Cabrero)"},399,341,693,720,730,675,617,504,681,424,685,744,{"$f":"+SUM(TablaNTH1[[#This Row],[Enero]:[Diciembre]])","v":7213}]
[null,{"$f":"+TablaCVP_pre[[#This Row],[Nombre unidad TCV]]","v":"Nehuenco"},714,672,744,682,743,312,342,105,185,745,646,57,{"$f":"+SUM(TablaNTH1[[#This Row],[Enero]:[Diciembre]])","v":5947}]
[null,{"$f":"+TablaCVP_pre[[#This Row],[Nombre unidad TCV]]","v":"Nehuenco II"},744,663,697,667,706,546,743,744,719,711,199,744,{"$f":"+SUM(TablaNTH1[[#This Row],[Enero]:[Diciembre]])","v":7883}]
[null,{"$f":"+TablaCVP_pre[[#This Row],[Nombre unidad TCV]]","v":"Nehuenco TG 9B"},0,0,1,10,0,0,0,8,8,0,0,9,{"$f":"+SUM(TablaNTH1[[#This Row],[Enero]:[Diciembre]])","v":36}]
[null,{"$f":"+TablaCVP_pre[[#This Row],[Nombre unidad TCV]]","v":"NTO1"},744,578,744,721,675,569,744,742,608,497,720,695,{"$f":"+SUM(TablaNTH1[[#This Row],[Enero]:[Diciembre]])","v":8037}]
[null,{"$f":"+TablaCVP_pre[[#This Row],[Nombre unidad TCV]]","v":"NTO2"},744,240,630,711,695,714,744,744,708,744,701,744,{"$f":"+SUM(TablaNTH1[[#This Row],[Enero]:[Diciembre]])","v":8119}]
[null,{"$f":"+TablaCVP_pre[[#This Row],[Nombre unidad TCV]]","v":"Nueva Aldea I"},705,642,661,713,685,646,621,650,691,625,450,728,{"$f":"+SUM(TablaNTH1[[#This Row],[Enero]:[Diciembre]])","v":7817}]
[null,{"$f":"+TablaCVP_pre[[#This Row],[Nombre unidad TCV]]","v":"Nueva Aldea III"},245,261,714,721,744,711,744,744,719,744,705,690,{"$f":"+SUM(TablaNTH1[[#This Row],[Enero]:[Diciembre]])","v":7742}]
[null,{"$f":"+TablaCVP_pre[[#This Row],[Nombre unidad TCV]]","v":"Nueva Renca"},1070,752,568,1151,575,575,580,1,470,750,605,531,{"$f":"+SUM(TablaNTH1[[#This Row],[Enero]:[Diciembre]])","v":7628}]
[null,{"$f":"+TablaCVP_pre[[#This Row],[Nombre unidad TCV]]","v":"Nueva Ventanas"},0,487,744,584,744,720,553,744,632,722,631,724,{"$f":"+SUM(TablaNTH1[[#This Row],[Enero]:[Diciembre]])","v":7285}]
[null,{"$f":"+TablaCVP_pre[[#This Row],[Nombre unidad TCV]]","v":"Petropower"},743,458,744,721,744,720,744,744,553,444,258,744,{"$f":"+SUM(TablaNTH1[[#This Row],[Enero]:[Diciembre]])","v":7617}]
[null,{"$f":"+TablaCVP_pre[[#This Row],[Nombre unidad TCV]]","v":"Quintero A"},147,151,312,268,226,0,127,19,27,28,3,0,{"$f":"+SUM(TablaNTH1[[#This Row],[Enero]:[Diciembre]])","v":1308}]
[null,{"$f":"+TablaCVP_pre[[#This Row],[Nombre unidad TCV]]","v":"Quintero B"},138,138,300,294,211,0,94,17,28,31,3,0,{"$f":"+SUM(TablaNTH1[[#This Row],[Enero]:[Diciembre]])","v":1254}]
[null,{"$f":"+TablaCVP_pre[[#This Row],[Nombre unidad TCV]]","v":"Renca U1"},0,0,0,0,0,0,0,0,0,0,0,0,{"$f":"+SUM(TablaNTH1[[#This Row],[Enero]:[Diciembre]])","v":0}]
[null,{"$f":"+TablaCVP_pre[[#This Row],[Nombre unidad TCV]]","v":"Renca U2"},0,0,0,0,0,0,0,0,0,0,0,0,{"$f":"+SUM(TablaNTH1[[#This Row],[Enero]:[Diciembre]])","v":0}]
[null,{"$f":"+TablaCVP_pre[[#This Row],[Nombre unidad TCV]]","v":"San Isidro"},48,658,673,721,702,337,391,381,274,328,20,22,{"$f":"+SUM(TablaNTH1[[#This Row],[Enero]:[Diciembre]])","v":4555}]
[null,{"$f":"+TablaCVP_pre[[#This Row],[Nombre unidad TCV]]","v":"San Isidro II"},739,671,744,630,743,699,743,744,335,137,562,675,{"$f":"+SUM(TablaNTH1[[#This Row],[Enero]:[Diciembre]])","v":7422}]
[null,{"$f":"+TablaCVP_pre[[#This Row],[Nombre unidad TCV]]","v":"San Lorenzo de D. de Almagro U1"},0,0,0,0,0,0,0,0,0,0,0,0,{"$f":"+SUM(TablaNTH1[[#This Row],[Enero]:[Diciembre]])","v":0}]
[null,{"$f":"+TablaCVP_pre[[#This Row],[Nombre unidad TCV]]","v":"San Lorenzo de D. de Almagro U2"},0,0,0,0,0,0,0,0,0,0,0,0,{"$f":"+SUM(TablaNTH1[[#This Row],[Enero]:[Diciembre]])","v":0}]
[null,{"$f":"+TablaCVP_pre[[#This Row],[Nombre unidad TCV]]","v":"Santa Lidia"},0,0,0,0,23,0,0,0,0,0,0,0,{"$f":"+SUM(TablaNTH1[[#This Row],[Enero]:[Diciembre]])","v":23}]
[null,{"$f":"+TablaCVP_pre[[#This Row],[Nombre unidad TCV]]","v":"Santa María"},644,672,744,573,744,713,607,0,0,0,266,744,{"$f":"+SUM(TablaNTH1[[#This Row],[Enero]:[Diciembre]])","v":5707}]
[null,{"$f":"+TablaCVP_pre[[#This Row],[Nombre unidad TCV]]","v":"Taltal 1"},0,0,12,20,0,0,0,0,3,10,3,0,{"$f":"+SUM(TablaNTH1[[#This Row],[Enero]:[Diciembre]])","v":48}]
[null,{"$f":"+TablaCVP_pre[[#This Row],[Nombre unidad TCV]]","v":"Taltal 2"},0,0,88,39,0,0,0,0,0,7,2,0,{"$f":"+SUM(TablaNTH1[[#This Row],[Enero]:[Diciembre]])","v":136}]
[null,{"$f":"+TablaCVP_pre[[#This Row],[Nombre unidad TCV]]","v":"TG_Coronel"},0,0,41,0,0,6,0,0,0,3,0,0,{"$f":"+SUM(TablaNTH1[[#This Row],[Enero]:[Diciembre]])","v":50}]
[null,{"$f":"+TablaCVP_pre[[#This Row],[Nombre unidad TCV]]","v":"TG1"},0,0,0,0,0,0,0,0,0,0,0,0,{"$f":"+SUM(TablaNTH1[[#This Row],[Enero]:[Diciembre]])","v":0}]
[null,{"$f":"+TablaCVP_pre[[#This Row],[Nombre unidad TCV]]","v":"TG2"},0,0,0,0,0,0,0,0,0,0,0,0,{"$f":"+SUM(TablaNTH1[[#This Row],[Enero]:[Diciembre]])","v":0}]
[null,{"$f":"+TablaCVP_pre[[#This Row],[Nombre unidad TCV]]","v":"TG3"},27,33,17,47,26,0,216,67,51,24,104,322,{"$f":"+SUM(TablaNTH1[[#This Row],[Enero]:[Diciembre]])","v":934}]
[null,{"$f":"+TablaCVP_pre[[#This Row],[Nombre unidad TCV]]","v":"TGTAR"},0,0,0,5,0,0,0,0,0,0,0,2,{"$f":"+SUM(TablaNTH1[[#This Row],[Enero]:[Diciembre]])","v":7}]
[null,{"$f":"+TablaCVP_pre[[#This Row],[Nombre unidad TCV]]","v":"U12"},0,136,81,0,0,0,0,0,0,0,0,0,{"$f":"+SUM(TablaNTH1[[#This Row],[Enero]:[Diciembre]])","v":217}]
[null,{"$f":"+TablaCVP_pre[[#This Row],[Nombre unidad TCV]]","v":"U13"},0,0,0,0,0,0,0,0,0,0,0,0,{"$f":"+SUM(TablaNTH1[[#This Row],[Enero]:[Diciembre]])","v":0}]
[null,{"$f":"+TablaCVP_pre[[#This Row],[Nombre unidad TCV]]","v":"U14"},220,34,170,0,1,22,0,122,15,53,0,0,{"$f":"+SUM(TablaNTH1[[#This Row],[Enero]:[Diciembre]])","v":637}]
[null,{"$f":"+TablaCVP_pre[[#This Row],[Nombre unidad TCV]]","v":"U15"},462,34,178,460,230,0,0,98,0,23,0,22,{"$f":"+SUM(TablaNTH1[[#This Row],[Enero]:[Diciembre]])","v":1507}]
[null,{"$f":"+TablaCVP_pre[[#This Row],[Nombre unidad TCV]]","v":"U16"},195,308,551,630,429,346,624,628,569,227,0,0,{"$f":"+SUM(TablaNTH1[[#This Row],[Enero]:[Diciembre]])","v":4507}]
[null,{"$f":"+TablaCVP_pre[[#This Row],[Nombre unidad TCV]]","v":"Valdivia"},1466,1321,1474,1441,1488,1197,1434,1162,777,0,458,745,{"$f":"+SUM(TablaNTH1[[#This Row],[Enero]:[Diciembre]])","v":12963}]
[null,{"$f":"+TablaCVP_pre[[#This Row],[Nombre unidad TCV]]","v":"Ventanas 1"},606,585,658,619,0,0,0,0,60,53,0,0,{"$f":"+SUM(TablaNTH1[[#This Row],[Enero]:[Diciembre]])","v":2581}]
[null,{"$f":"+TablaCVP_pre[[#This Row],[Nombre unidad TCV]]","v":"Ventanas 2"},744,666,129,0,369,700,744,617,719,744,698,744,{"$f":"+SUM(TablaNTH1[[#This Row],[Enero]:[Diciembre]])","v":6874}]
[null,{"$f":"+TablaCVP_pre[[#This Row],[Nombre unidad TCV]]","v":"Viñales"},723,665,744,707,742,720,720,742,719,744,438,691,{"$f":"+SUM(TablaNTH1[[#This Row],[Enero]:[Diciembre]])","v":8355}]
[null,{"$f":"+TablaCVP_pre[[#This Row],[Nombre unidad TCV]]","v":"Yungay 1"},0,0,0,0,0,0,0,0,0,4,0,5,{"$f":"+SUM(TablaNTH1[[#This Row],[Enero]:[Diciembre]])","v":9}]
[null,{"$f":"+TablaCVP_pre[[#This Row],[Nombre unidad TCV]]","v":"Yungay 2"},0,0,0,0,0,0,0,0,0,4,0,6,{"$f":"+SUM(TablaNTH1[[#This Row],[Enero]:[Diciembre]])","v":10}]
[null,{"$f":"+TablaCVP_pre[[#This Row],[Nombre unidad TCV]]","v":"Yungay 3"},0,0,0,0,0,0,0,0,0,2,0,16,{"$f":"+SUM(TablaNTH1[[#This Row],[Enero]:[Diciembre]])","v":18}]
[null,{"$f":"+TablaCVP_pre[[#This Row],[Nombre unidad TCV]]","v":"Yungay 4 ca"},0,0,0,0,0,0,0,0,0,3,0,3,{"$f":"+SUM(TablaNTH1[[#This Row],[Enero]:[Diciembre]])","v":6}]
[null,{"$f":"+TablaCVP_pre[[#This Row],[Nombre unidad TCV]]","v":"Los Guindos 2"},0,0,0,0,0,0,0,0,0,2,0,0,{"$f":"+SUM(TablaNTH1[[#This Row],[Enero]:[Diciembre]])","v":2}]

{"sheet":"GxN_NTH1","index":10,"n_rows":101,"n_cols":15,"rows_kept":101,"cut":false,"hidden":false,"merged":[]}
[]
[null,"Generación Neta NTH1 (denominadores  CVP)"]
[]
[null,"Nombre unidad TCV","Enero","Febrero","Marzo","Abril","Mayo","Junio","Julio","Agosto","Septiembre","Octubre","Noviembre","Diciembre","Total"]
[null,{"$f":"+TablaCVP_pre[[#This Row],[Nombre unidad TCV]]","v":"ANG1"},173437031.25499991,153934493.35500011,164896679.38099977,156104066.40300018,179685047.14699998,185537613.69200012,174234036.80599999,150463556.56500018,191476130.04100016,188322451.36800006,177517675.08500004,172730550.25699997,{"$f":"+SUM(TablaGxN_NTH1[[#This Row],[Enero]:[Diciembre]])","v":2068339331.3550003}]
[null,{"$f":"+TablaCVP_pre[[#This Row],[Nombre unidad TCV]]","v":"ANG2"},171135884.62499997,147121093.2910001,175965532.79199988,135727709.42399994,193637663.87800008,189895520.66100001,169551027.66800019,195882643.0679999,193223428.85399997,182782957.7390002,184646392.14199972,181128577.64499989,{"$f":"+SUM(TablaGxN_NTH1[[#This Row],[Enero]:[Diciembre]])","v":2120698431.7870002}]
[null,{"$f":"+TablaCVP_pre[[#This Row],[Nombre unidad TCV]]","v":"Antilhue TG U1"},5456810.0240000002,18023905.434999995,6259665.2969999993,242346.304,362444.47399999993,122526.702,33390.699999999997,0,0,364165.39299999992,0,347375.6449999999,{"$f":"+SUM(TablaGxN_NTH1[[#This Row],[Enero]:[Diciembre]])","v":31212629.973999992}]
[null,{"$f":"+TablaCVP_pre[[#This Row],[Nombre unidad TCV]]","v":"Antilhue TG U2"},363039.76200000005,13041289.846999997,2991985.1329999999,3017333.7209999994,0,0,0,0,0,1151736.5330000003,0,145260.63399999999,{"$f":"+SUM(TablaGxN_NTH1[[#This Row],[Enero]:[Diciembre]])","v":20710645.629999995}]
[null,{"$f":"+TablaCVP_pre[[#This Row],[Nombre unidad TCV]]","v":"Arauco"},5568495.7920000032,3967983.5209999997,1991382.8600000017,4668914.4399999948,4194229.9990000026,2710112.2439999986,2329766.6259999997,2087465.9999999986,3562305.3210000014,4635699.5599999987,5314672.0770000024,4272228.4870000007,{"$f":"+SUM(TablaGxN_NTH1[[#This Row],[Enero]:[Diciembre]])","v":45303256.927000001}]
[null,{"$f":"+TablaCVP_pre[[#This Row],[Nombre unidad TCV]]","v":"Bocamina"},18802261.982999999,45692637.807999961,72230898.265999928,79065720.168999955,67970065.39000003,31086892.916999988,44729609.689999998,45996109.059999995,44174713.114999995,42126786.90700005,49171268.084999964,8213446.3439999977,{"$f":"+SUM(TablaGxN_NTH1[[#This Row],[Enero]:[Diciembre]])","v":549260409.73399985}]
[null,{"$f":"+TablaCVP_pre[[#This Row],[Nombre unidad TCV]]","v":"Bocamina II"},118676098.55000006,175355233.07200006,216900852.23500004,227544992.87399969,205138175.63799986,225629000.88199979,225790505.26100007,231016754.56700015,194407461.92399988,158169481.08799994,36365756.313000001,108740077.26199986,{"$f":"+SUM(TablaGxN_NTH1[[#This Row],[Enero]:[Diciembre]])","v":2123734389.6659994}]
[null,{"$f":"+TablaCVP_pre[[#This Row],[Nombre unidad TCV]]","v":"Campiche"},123211709.57599984,141072648.69900003,175143131.02399984,173470654.199,177067371.86200002,148014460.30599988,123123454.25199996,156943316.41300005,69585278.176000029,68712189.326999992,78305970.416000009,131863046.08399995,{"$f":"+SUM(TablaGxN_NTH1[[#This Row],[Enero]:[Diciembre]])","v":1566513230.3339994}]
[null,{"$f":"+TablaCVP_pre[[#This Row],[Nombre unidad TCV]]","v":"Candelaria 1"},0,0,19158776.692602862,9570950.7459999975,11406449.574320409,1588664.4580000001,4435987.9250000007,504104.26500000001,516503.57,4310.7640000000001,591810.40800000005,0,{"$f":"+SUM(TablaGxN_NTH1[[#This Row],[Enero]:[Diciembre]])","v":47777558.402923271}]
[null,{"$f":"+TablaCVP_pre[[#This Row],[Nombre unidad TCV]]","v":"Candelaria 2"},0,0,11326166.507299829,9996231.352,9029096.7980000023,1706301.287,2909921.7039999999,455127.44200000004,470051.79700000002,0,738924.20299999998,0,{"$f":"+SUM(TablaGxN_NTH1[[#This Row],[Enero]:[Diciembre]])","v":36631821.09029983}]
[null,{"$f":"+TablaCVP_pre[[#This Row],[Nombre unidad TCV]]","v":"Cardones"},0,0,0,0,0,4.1630000000000003,0,0,0,0,0,0,{"$f":"+SUM(TablaGxN_NTH1[[#This Row],[Enero]:[Diciembre]])","v":4.1630000000000003}]
[null,{"$f":"+TablaCVP_pre[[#This Row],[Nombre unidad TCV]]","v":"CC KELAR"},26552336.713,141122531.979,201503732.42199984,155264108.32199997,68291822.379000008,180704724.22200003,202025149.18099988,159224488.84999999,115434645.63800009,29249138.765000004,161239507.20199996,99489290.300000042,{"$f":"+SUM(TablaGxN_NTH1[[#This Row],[Enero]:[Diciembre]])","v":1540101475.9729996}]
[null,{"$f":"+TablaCVP_pre[[#This Row],[Nombre unidad TCV]]","v":"CC1"},24262336.00300001,12692062.113,4283784.9979999997,10741988.52077876,11706184.982000003,46222103.023317926,49469933.599000044,6776102.1979999999,8683720.5000000037,6292591.671000001,24509412.474000011,16234864.483000001,{"$f":"+SUM(TablaGxN_NTH1[[#This Row],[Enero]:[Diciembre]])","v":221875084.56509677}]
[null,{"$f":"+TablaCVP_pre[[#This Row],[Nombre unidad TCV]]","v":"CC2"},14809697.29247294,3429068.5779999993,4729737.8629999999,5438053.5054484475,2167211.5076358374,8312831.0109552881,34984197.872999974,0,5143922.8359999992,2064041.150780166,4199455.2419999996,35130.678,{"$f":"+SUM(TablaGxN_NTH1[[#This Row],[Enero]:[Diciembre]])","v":85313347.537292644}]
[null,{"$f":"+TablaCVP_pre[[#This Row],[Nombre unidad TCV]]","v":"CCH1"},120121347.47600003,101955913.86000007,94628087.164999902,91534653.536000118,122005181.38999997,132295626.65399985,111680298.82500003,64429234.54300002,149105112.68199995,145588393.09600011,139598294.41200012,155719120.34400025,{"$f":"+SUM(TablaGxN_NTH1[[#This Row],[Enero]:[Diciembre]])","v":1428661263.9830005}]
[null,{"$f":"+TablaCVP_pre[[#This Row],[Nombre unidad TCV]]","v":"CCH2"},119921205.37899999,101796987.60299999,94469282.509999931,100765245.52800006,117857659.62599997,125944228.39199999,79189709.73800002,101856055.20099998,149429114.28700003,145390024.1080001,139366194.23900008,155592145.02999988,{"$f":"+SUM(TablaGxN_NTH1[[#This Row],[Enero]:[Diciembre]])","v":1431577851.6410003}]
[null,{"$f":"+TablaCVP_pre[[#This Row],[Nombre unidad TCV]]","v":"CD Iquique"},0,0,0,0,0,0,0,0,0,0,0,0,{"$f":"+SUM(TablaGxN_NTH1[[#This Row],[Enero]:[Diciembre]])","v":0}]
[null,{"$f":"+TablaCVP_pre[[#This Row],[Nombre unidad TCV]]","v":"Celco"},4666173.4500000058,4663103.5629999964,4253088.7840000009,2874788.7539999997,5091150.592000003,3141473.4250000031,3885334.0500000059,3660762.8110000016,3850816.2569999998,4358575.691999997,4131941.9270000001,4940767.504999998,{"$f":"+SUM(TablaGxN_NTH1[[#This Row],[Enero]:[Diciembre]])","v":49517976.81000001}]
[null,{"$f":"+TablaCVP_pre[[#This Row],[Nombre unidad TCV]]","v":"Cholguán"},4519197.3210000033,3165819.7340000002,7452043.9360000007,7719103.3929999992,4746987.3730000006,4645309.7989999987,0,0,0,0,1225434.6840000004,2244474.5489999992,{"$f":"+SUM(TablaGxN_NTH1[[#This Row],[Enero]:[Diciembre]])","v":35718370.789000005}]
[null,{"$f":"+TablaCVP_pre[[#This Row],[Nombre unidad TCV]]","v":"CMPC Cordillera"},0,0,0,0,0,0,0,0,0,73624.315000000002,332741.17199999996,918079.73699999996,{"$f":"+SUM(TablaGxN_NTH1[[#This Row],[Enero]:[Diciembre]])","v":1324445.2239999999}]
[null,{"$f":"+TablaCVP_pre[[#This Row],[Nombre unidad TCV]]","v":"CMPC Laja"},14434236.492000012,14098181.042999994,14130131.391999986,16135885.461000012,14663763.021000009,14943427.356999991,12290237.264000012,13470786.07,13814555.521000016,12999077.012000008,5842989.1940000029,11228751.364000002,{"$f":"+SUM(TablaGxN_NTH1[[#This Row],[Enero]:[Diciembre]])","v":158052021.19100004}]
[null,{"$f":"+TablaCVP_pre[[#This Row],[Nombre unidad TCV]]","v":"CMPC Pacífico"},3085176.9459999995,2690277.4759999998,1424488.372,9837267.986999996,18790287.796,12321145.409999989,12924030.019999992,10234626.138,9074719.0679999981,15159693.86199999,11940727.808,10547106.965000004,{"$f":"+SUM(TablaGxN_NTH1[[#This Row],[Enero]:[Diciembre]])","v":118029547.84799996}]
[null,{"$f":"+TablaCVP_pre[[#This Row],[Nombre unidad TCV]]","v":"CMPC Santa Fe"},0,0,0,0,0,0,0,0,0,0,0,0,{"$f":"+SUM(TablaGxN_NTH1[[#This Row],[Enero]:[Diciembre]])","v":0}]
[null,{"$f":"+TablaCVP_pre[[#This Row],[Nombre unidad TCV]]","v":"CMPC TISSUE"},1730594.4920000006,3056398.0439999993,1569363.1900000006,2049700.9000000004,2100174.4339999957,1928018.1699999988,1963131.1559999979,1834243.5479999993,1689370.4380000001,1570430.7620000006,749959.98600000027,810578.35600000026,{"$f":"+SUM(TablaGxN_NTH1[[#This Row],[Enero]:[Diciembre]])","v":21051963.475999996}]
[null,{"$f":"+TablaCVP_pre[[#This Row],[Nombre unidad TCV]]","v":"Colmito"},302261.18400000001,412820.53199999995,12711477.887000006,12217151.498999992,14911875.395999996,3060036.2079999996,6256391.4970000023,7064898.424999998,892606.95700000005,139028.47399999999,53667.481,0,{"$f":"+SUM(TablaGxN_NTH1[[#This Row],[Enero]:[Diciembre]])","v":58022215.539999992}]
[null,{"$f":"+TablaCVP_pre[[#This Row],[Nombre unidad TCV]]","v":"CTA"},84345127.61499992,27386857.811999973,11645709.037999993,30136457.400999997,80724881.611000076,39887065.724999994,0,28418567.506000001,91790762.861999959,93143405.431000009,72493900.109000072,94482216.9390001,{"$f":"+SUM(TablaGxN_NTH1[[#This Row],[Enero]:[Diciembre]])","v":654454952.04900002}]
[null,{"$f":"+TablaCVP_pre[[#This Row],[Nombre unidad TCV]]","v":"CTH"},77108703.706000015,49457422.508000024,74865119.466999918,86607409.797999978,88527268.945000082,36687681.110999957,28215540.901000004,101678518.23400003,53022884.699999981,49105356.386999965,77659119.331000015,54133018.059000015,{"$f":"+SUM(TablaGxN_NTH1[[#This Row],[Enero]:[Diciembre]])","v":777068043.14699996}]
[null,{"$f":"+TablaCVP_pre[[#This Row],[Nombre unidad TCV]]","v":"CTM1"},3536523.5750000007,14735330.896000005,18185464.512999997,25975694.848000005,38031475.387000039,0,6212751.0700000003,44959801.323000021,25959017.294,36743455.289000027,14183731.15699999,0,{"$f":"+SUM(TablaGxN_NTH1[[#This Row],[Enero]:[Diciembre]])","v":228523245.35200006}]
[null,{"$f":"+TablaCVP_pre[[#This Row],[Nombre unidad TCV]]","v":"CTM2"},18908938.556000002,39775033.460999995,25745410.392999969,842430.15599999984,1198218.5499999998,9740605.9499999974,15288672.546000004,47769580.811000012,13661146.840999998,3306.4249999999997,23142499.63900001,3891127.5769999982,{"$f":"+SUM(TablaGxN_NTH1[[#This Row],[Enero]:[Diciembre]])","v":199966970.90499997}]
[null,{"$f":"+TablaCVP_pre[[#This Row],[Nombre unidad TCV]]","v":"CTM3"},0,55916983.15700002,44330896.509000011,72833049.491999999,48964763.348999977,100550864.33499998,92122020.396000043,59971188.405000009,42227269.343000002,33724764.188000016,87288361.868999988,153726057.07700014,{"$f":"+SUM(TablaGxN_NTH1[[#This Row],[Enero]:[Diciembre]])","v":791656218.12000012}]
[null,{"$f":"+TablaCVP_pre[[#This Row],[Nombre unidad TCV]]","v":"CTTAR"},61818742.530999988,51051997.661999971,69599715.959999904,55069445.024000019,68288285.026999995,55765834.629000023,76149177.091999948,40231167.835999988,12858267.396999994,24504486.553999998,44713036.295000024,54035597.733000003,{"$f":"+SUM(TablaGxN_NTH1[[#This Row],[Enero]:[Diciembre]])","v":614085753.73999989}]
[null,{"$f":"+TablaCVP_pre[[#This Row],[Nombre unidad TCV]]","v":"Diego de Almagro"},0,0,0,147744.91200000001,0,0,0,0,0,0,0,11693.101000000001,{"$f":"+SUM(TablaGxN_NTH1[[#This Row],[Enero]:[Diciembre]])","v":159438.01300000001}]
[null,{"$f":"+TablaCVP_pre[[#This Row],[Nombre unidad TCV]]","v":"El Salvador"},0,0,0,112731.21899999998,0,0,0,0,0,0,0,0,{"$f":"+SUM(TablaGxN_NTH1[[#This Row],[Enero]:[Diciembre]])","v":112731.21899999998}]
[null,{"$f":"+TablaCVP_pre[[#This Row],[Nombre unidad TCV]]","v":"Emelda U1"},0,4771.5,0,188479.50000000003,0,1474.9999999999998,1375.5,0,1149,0,0,1318.5,{"$f":"+SUM(TablaGxN_NTH1[[#This Row],[Enero]:[Diciembre]])","v":198569.00000000003}]
[null,{"$f":"+TablaCVP_pre[[#This Row],[Nombre unidad TCV]]","v":"Emelda U2"},25229.87,0,506052.25000000006,57220.621999999996,0,1351.75,1520.25,0,1340.88,0,16463.12,1102.25,{"$f":"+SUM(TablaGxN_NTH1[[#This Row],[Enero]:[Diciembre]])","v":610280.99200000009}]
[null,{"$f":"+TablaCVP_pre[[#This Row],[Nombre unidad TCV]]","v":"Energía Pacífico"},6659366.6289999969,9329552.4990000054,11182747.890999991,9004895.1849999949,9786244.8170000035,10015991.611000003,10572521.041000007,9060143.5829999913,9412753.9059999976,10501824.892000001,7981327.6359999944,9877422.7479999885,{"$f":"+SUM(TablaGxN_NTH1[[#This Row],[Enero]:[Diciembre]])","v":113384792.43799999}]
[null,{"$f":"+TablaCVP_pre[[#This Row],[Nombre unidad TCV]]","v":"Escuadrón"},2706208.1750000003,3235363.8389999997,4706305.470999998,4189872.3879999951,4965123.776999996,1247286.7700000009,1749852.7850000015,1651135.6090000004,146122.77599999998,1092.1510000000001,3859.99,0,{"$f":"+SUM(TablaGxN_NTH1[[#This Row],[Enero]:[Diciembre]])","v":24602223.730999991}]
[null,{"$f":"+TablaCVP_pre[[#This Row],[Nombre unidad TCV]]","v":"Esperanza TG"},0,0,0,0,58822.505999999994,102252.197,0,0,0,0,0,0,{"$f":"+SUM(TablaGxN_NTH1[[#This Row],[Enero]:[Diciembre]])","v":161074.70299999998}]
[null,{"$f":"+TablaCVP_pre[[#This Row],[Nombre unidad TCV]]","v":"Guacolda 1"},66923032.704686292,65986782.758812144,64709403.564139917,73298920.531718031,83279735.578935787,52804416.091841079,97259168.220852301,88442942.091840848,94368296.308584571,89874476.364748895,83496953.643727019,91955743.860080466,{"$f":"+SUM(TablaGxN_NTH1[[#This Row],[Enero]:[Diciembre]])","v":952399871.71996737}]
[null,{"$f":"+TablaCVP_pre[[#This Row],[Nombre unidad TCV]]","v":"Guacolda 2"},46983501.566539019,54582886.05686453,64469245.055635512,65042568.556516662,44162516.364031069,75910009.965174109,90573463.167368978,87559025.411815718,92155176.818493903,86113590.859091848,55126278.026881807,91650479.155075103,{"$f":"+SUM(TablaGxN_NTH1[[#This Row],[Enero]:[Diciembre]])","v":854328741.0034883}]
[null,{"$f":"+TablaCVP_pre[[#This Row],[Nombre unidad TCV]]","v":"Guacolda 3"},72374404.47166726,50964128.990840912,75463011.989183888,68562726.137191087,92983156.916725591,101160147.80627868,100302010.31713071,98034455.776751667,91511659.514604002,38925413.234879218,71212476.25049378,80727734.645057291,{"$f":"+SUM(TablaGxN_NTH1[[#This Row],[Enero]:[Diciembre]])","v":942221326.05080402}]
[null,{"$f":"+TablaCVP_pre[[#This Row],[Nombre unidad TCV]]","v":"Guacolda 4"},67755947.437994331,70454264.824150175,69356684.326556832,48059209.138972886,81346482.384906575,92740049.074192971,97612863.176754773,73908481.068017274,93380455.398276865,78181843.623824552,51642274.575280026,53288034.264859907,{"$f":"+SUM(TablaGxN_NTH1[[#This Row],[Enero]:[Diciembre]])","v":877726589.29378736}]
[null,{"$f":"+TablaCVP_pre[[#This Row],[Nombre unidad TCV]]","v":"Guacolda 5"},75904243.496880248,81793933.254322648,77342991.103868544,57048104.848210901,90078106.573774427,100537304.21097144,100043302.9968935,100955504.50057444,77617101.54104048,63942112.723455355,91682862.161617324,83068750.875927389,{"$f":"+SUM(TablaGxN_NTH1[[#This Row],[Enero]:[Diciembre]])","v":1000014318.2875366}]
[null,{"$f":"+TablaCVP_pre[[#This Row],[Nombre unidad TCV]]","v":"Horcones"},0,0,1520.414,10547.111000000001,0,672.13,0,0,0,0,0,32799.097000000002,{"$f":"+SUM(TablaGxN_NTH1[[#This Row],[Enero]:[Diciembre]])","v":45538.752}]
[null,{"$f":"+TablaCVP_pre[[#This Row],[Nombre unidad TCV]]","v":"Huasco TG"},0,0,0,0,0,0,0,2340.4589999999998,19485.138000000003,48277.417000000001,0,8376.4520000000011,{"$f":"+SUM(TablaGxN_NTH1[[#This Row],[Enero]:[Diciembre]])","v":78479.466}]
[null,{"$f":"+TablaCVP_pre[[#This Row],[Nombre unidad TCV]]","v":"IEM"},0,0,0,0,104622058.52899997,204629727.61399981,213320512.53500009,37476169.90699999,108071261.57399996,108327426.66400011,196013222.59100011,223261861.98418343,{"$f":"+SUM(TablaGxN_NTH1[[#This Row],[Enero]:[Diciembre]])","v":1195722241.3981833}]
[null,{"$f":"+TablaCVP_pre[[#This Row],[Nombre unidad TCV]]","v":"Laguna Verde TG"},0,0,0,0,0,0,0,0,0,0,0,0,{"$f":"+SUM(TablaGxN_NTH1[[#This Row],[Enero]:[Diciembre]])","v":0}]
[null,{"$f":"+TablaCVP_pre[[#This Row],[Nombre unidad TCV]]","v":"Laguna Verde TV"},0,0,0,0,0,0,0,0,0,0,0,0,{"$f":"+SUM(TablaGxN_NTH1[[#This Row],[Enero]:[Diciembre]])","v":0}]
[null,{"$f":"+TablaCVP_pre[[#This Row],[Nombre unidad TCV]]","v":"Laja"},3714938.8730000015,3141655.5609999998,3953662.518000002,3517041.6249999991,3411180.7200000011,2693453.9320000014,1425710.4559999998,1791531.8549999988,943832.94300000055,1118266.8950000009,258887.34199999995,886098.74699999939,{"$f":"+SUM(TablaGxN_NTH1[[#This Row],[Enero]:[Diciembre]])","v":26856261.467000004}]
[null,{"$f":"+TablaCVP_pre[[#This Row],[Nombre unidad TCV]]","v":"Lautaro-Comasa"},18119359.082000002,14477482.009,18011808.335999995,16034122.995999994,17996732.179000005,13188700.849000005,9994579.8950000051,12884074.32799999,15072456.953999972,13528992.792000011,9614110.5780000053,16102768.728999998,{"$f":"+SUM(TablaGxN_NTH1[[#This Row],[Enero]:[Diciembre]])","v":175025188.72700003}]
[null,{"$f":"+TablaCVP_pre[[#This Row],[Nombre unidad TCV]]","v":"Lautaro-Comasa 2"},1587112.3729999997,13487180.515000015,12391258.313999988,10619517.098000014,12923729.316,12041638.466999989,10288586.226000002,13439667.269999994,7890531.2420000015,6904654.2779999999,1206446.2049999994,0,{"$f":"+SUM(TablaGxN_NTH1[[#This Row],[Enero]:[Diciembre]])","v":102780321.30399999}]
[null,{"$f":"+TablaCVP_pre[[#This Row],[Nombre unidad TCV]]","v":"Licantén"},1972847.037,1170129.5529999998,151760.59300000002,2111024.6379999989,2258841.871999999,1502463.3759999999,2025379.1639999985,1873806.2060000021,1473612.4010000015,1575552.6779999996,1622506.368999999,1506074.443,{"$f":"+SUM(TablaGxN_NTH1[[#This Row],[Enero]:[Diciembre]])","v":19243998.329999998}]
[null,{"$f":"+TablaCVP_pre[[#This Row],[Nombre unidad TCV]]","v":"Los Guindos"},0,0,0,0,73198.011000000013,0,0,0,0,0,0,0,{"$f":"+SUM(TablaGxN_NTH1[[#This Row],[Enero]:[Diciembre]])","v":73198.011000000013}]
[null,{"$f":"+TablaCVP_pre[[#This Row],[Nombre unidad TCV]]","v":"Los Pinos"},2953217.7460000003,1707587.4460000002,435256.93800000002,6661488.8090000022,1547416.3670000001,60902.858999999997,0,0,0,0,48799.777000000002,0,{"$f":"+SUM(TablaGxN_NTH1[[#This Row],[Enero]:[Diciembre]])","v":13414669.942000004}]
[null,{"$f":"+TablaCVP_pre[[#This Row],[Nombre unidad TCV]]","v":"Los Vientos"},757384.03599999996,884696.96900000016,25107597.276999984,13134688.653999999,23410147.806999996,960979.7570000001,6177463.7209999999,5338754.6549999975,342415.76899999997,0,258751.81599999996,0,{"$f":"+SUM(TablaGxN_NTH1[[#This Row],[Enero]:[Diciembre]])","v":76372880.460999966}]
[null,{"$f":"+TablaCVP_pre[[#This Row],[Nombre unidad TCV]]","v":"Masisa (Cabrero)"},3191179.9850000027,2718041.7429999989,6006596.5179999983,6115049.0810000021,6052559.302000002,5515259.7979999958,4324001.5770000014,3354941.5870000012,3839983.7059999974,2360462.1630000006,3826670.020999996,4164392.5499999924,{"$f":"+SUM(TablaGxN_NTH1[[#This Row],[Enero]:[Diciembre]])","v":51469138.030999996}]
[null,{"$f":"+TablaCVP_pre[[#This Row],[Nombre unidad TCV]]","v":"Nehuenco"},188974251.19299963,176368833.29799986,210715357.69999999,181579461.65899998,214133378.96899992,89416891.440999985,98852872.370999977,19433204.447999991,53389942.932999998,213095019.64900017,190834785.60900003,9551889.1420000009,{"$f":"+SUM(TablaGxN_NTH1[[#This Row],[Enero]:[Diciembre]])","v":1646345888.4119995}]
[null,{"$f":"+TablaCVP_pre[[#This Row],[Nombre unidad TCV]]","v":"Nehuenco II"},257887984.69600031,228224978.65000004,247373199.60000005,226262701.75299972,233118967.3650001,189240287.38199994,264398117.28900015,271900535.81500012,232124052.62899995,221178568.49599978,59120636.288999997,266878658.53,{"$f":"+SUM(TablaGxN_NTH1[[#This Row],[Enero]:[Diciembre]])","v":2697708688.494}]
[null,{"$f":"+TablaCVP_pre[[#This Row],[Nombre unidad TCV]]","v":"Nehuenco TG 9B"},0,0,298.8,705492.19900000002,0,0,0,471944.41899999999,581054.84,0,0,614826.50600000005,{"$f":"+SUM(TablaGxN_NTH1[[#This Row],[Enero]:[Diciembre]])","v":2373616.764}]
[null,{"$f":"+TablaCVP_pre[[#This Row],[Nombre unidad TCV]]","v":"NTO1"},70248992.933914453,43015743.858772501,56489672.720159881,80238882.678983986,79536836.723739669,66088545.885103874,88174548.215981469,87378030.986264646,65187059.47817073,45709828.744780213,69648738.414245516,66263168.549339853,{"$f":"+SUM(TablaGxN_NTH1[[#This Row],[Enero]:[Diciembre]])","v":817980049.18945682}]
[null,{"$f":"+TablaCVP_pre[[#This Row],[Nombre unidad TCV]]","v":"NTO2"},69614690.70921196,17463385.842841793,48993109.333325073,77843259.730808049,80232014.526871145,83009007.54772158,85674206.505944788,85870364.134819686,80595721.780953273,78252802.701642931,72746759.268366769,74377948.839194253,{"$f":"+SUM(TablaGxN_NTH1[[#This Row],[Enero]:[Diciembre]])","v":854673270.92170143}]
[null,{"$f":"+TablaCVP_pre[[#This Row],[Nombre unidad TCV]]","v":"Nueva Aldea I"},3818506.1560000065,4203994.7809999986,2959900.9519999977,3887732.8389999969,3342386.0869999966,1671355.6229999987,2016794.8300000005,1746222.4459999991,2396582.4439999983,2011904.6159999985,2104395.8239999977,2913090.8489999948,{"$f":"+SUM(TablaGxN_NTH1[[#This Row],[Enero]:[Diciembre]])","v":33072867.446999989}]
[null,{"$f":"+TablaCVP_pre[[#This Row],[Nombre unidad TCV]]","v":"Nueva Aldea III"},3926035.0859999997,6892648.5819999995,22357771.065999996,21245259.820999991,22067924.223000005,20848245.473000009,20345057.975999992,20592772.778000008,19711882.71500003,18297467.287999991,21877837.479999982,20814028.964000009,{"$f":"+SUM(TablaGxN_NTH1[[#This Row],[Enero]:[Diciembre]])","v":218976931.45200002}]
[null,{"$f":"+TablaCVP_pre[[#This Row],[Nombre unidad TCV]]","v":"Nueva Renca"},214280673.21100023,146686511.79600006,115931536.77600004,239085331.78100029,178323947.192,167407633.32400015,163821527.85099986,39799.794000000002,112534533.88599993,153391869.79799977,105688520.92400005,130837086.47800006,{"$f":"+SUM(TablaGxN_NTH1[[#This Row],[Enero]:[Diciembre]])","v":1728028972.8110006}]
[null,{"$f":"+TablaCVP_pre[[#This Row],[Nombre unidad TCV]]","v":"Nueva Ventanas"},0,97590683.267999992,171127469.42200002,135650264.49600005,172160751.16399986,149890671.98000011,130792930.85200003,175119415.87499997,145583243.61599979,87009614.530000031,117191054.63299993,146937821.43799993,{"$f":"+SUM(TablaGxN_NTH1[[#This Row],[Enero]:[Diciembre]])","v":1529053921.2739997}]
[null,{"$f":"+TablaCVP_pre[[#This Row],[Nombre unidad TCV]]","v":"Petropower"},7895106.2447488783,4999889.2823176291,8999518.1091428548,8404563.749533141,7672683.9327419754,7700733.1947567435,8378479.0216876138,6953678.8351226086,4308551.5732018128,5028230.7148919078,2456010.0182753066,7912649.0098703876,{"$f":"+SUM(TablaGxN_NTH1[[#This Row],[Enero]:[Diciembre]])","v":80710093.68629086}]
[null,{"$f":"+TablaCVP_pre[[#This Row],[Nombre unidad TCV]]","v":"Quintero A"},15328905.213131618,14271871.092626281,33792246.716009334,27184325.760494094,22959093.63401147,0,14879637.517853411,1287506.9844029483,2896425.1669999994,2310254.0188823515,228907.40781514838,0,{"$f":"+SUM(TablaGxN_NTH1[[#This Row],[Enero]:[Diciembre]])","v":135139173.51222667}]
[null,{"$f":"+TablaCVP_pre[[#This Row],[Nombre unidad TCV]]","v":"Quintero B"},14075444.247868378,12546094.751373721,32850324.28699068,29055474.662505869,21279753.982988566,0,10877496.462146595,1327806.3615970518,2328366.023,2614986.5221176483,297962.03018485161,0,{"$f":"+SUM(TablaGxN_NTH1[[#This Row],[Enero]:[Diciembre]])","v":127253709.33077335}]
[null,{"$f":"+TablaCVP_pre[[#This Row],[Nombre unidad TCV]]","v":"Renca U1"},0,0,0,0,0,0,0,0,0,0,0,0,{"$f":"+SUM(TablaGxN_NTH1[[#This Row],[Enero]:[Diciembre]])","v":0}]
[null,{"$f":"+TablaCVP_pre[[#This Row],[Nombre unidad TCV]]","v":"Renca U2"},0,0,0,0,0,0,0,0,0,0,0,0,{"$f":"+SUM(TablaGxN_NTH1[[#This Row],[Enero]:[Diciembre]])","v":0}]
[null,{"$f":"+TablaCVP_pre[[#This Row],[Nombre unidad TCV]]","v":"San Isidro"},9636645.3010000028,173942384.65599999,199855144.94499993,220488034.00200003,205673222.206,92357639.104999974,107945058.65300001,107244737.96599996,68120104.066000029,80195965.23300007,3897015.56,4802730.294999999,{"$f":"+SUM(TablaGxN_NTH1[[#This Row],[Enero]:[Diciembre]])","v":1274158681.9880002}]
[null,{"$f":"+TablaCVP_pre[[#This Row],[Nombre unidad TCV]]","v":"San Isidro II"},248437568.98399991,214836349.604,253278961.81799981,190686544.41100007,230606652.7550002,212753211.75900009,246625719.61899999,232434623.03199986,102377459.45599999,26267186.990999989,124378853.00600003,179291002.89400014,{"$f":"+SUM(TablaGxN_NTH1[[#This Row],[Enero]:[Diciembre]])","v":2261974134.329}]
[null,{"$f":"+TablaCVP_pre[[#This Row],[Nombre unidad TCV]]","v":"San Lorenzo de D. de Almagro U1"},0,0,0,0,0,0,0,0,0,0,0,0,{"$f":"+SUM(TablaGxN_NTH1[[#This Row],[Enero]:[Diciembre]])","v":0}]
[null,{"$f":"+TablaCVP_pre[[#This Row],[Nombre unidad TCV]]","v":"San Lorenzo de D. de Almagro U2"},0,0,0,0,0,0,0,0,0,0,0,0,{"$f":"+SUM(TablaGxN_NTH1[[#This Row],[Enero]:[Diciembre]])","v":0}]
[null,{"$f":"+TablaCVP_pre[[#This Row],[Nombre unidad TCV]]","v":"Santa Lidia"},0,0,0,0,1782926.3840000001,0,0,0,0,0,0,0,{"$f":"+SUM(TablaGxN_NTH1[[#This Row],[Enero]:[Diciembre]])","v":1782926.3840000001}]
[null,{"$f":"+TablaCVP_pre[[#This Row],[Nombre unidad TCV]]","v":"Santa María"},195429469.54100004,207123757.58900011,233871986.8510001,176604532.70099995,234279946.05800018,216472688.13799974,179683245.05699986,0,0,0,81577258.030999973,231680985.66600016,{"$f":"+SUM(TablaGxN_NTH1[[#This Row],[Enero]:[Diciembre]])","v":1756723869.632}]
[null,{"$f":"+TablaCVP_pre[[#This Row],[Nombre unidad TCV]]","v":"Taltal 1"},0,0,637316.13100000005,1308601.862,0,0,0,0,47324.920999999995,483909.18800000002,153515.28999999998,0,{"$f":"+SUM(TablaGxN_NTH1[[#This Row],[Enero]:[Diciembre]])","v":2630667.392}]
[null,{"$f":"+TablaCVP_pre[[#This Row],[Nombre unidad TCV]]","v":"Taltal 2"},0,0,5133195.5039999988,2394076.0330000008,0,0,0,0,0,161060.97899999999,88508.467999999993,0,{"$f":"+SUM(TablaGxN_NTH1[[#This Row],[Enero]:[Diciembre]])","v":7776840.9840000002}]
[null,{"$f":"+TablaCVP_pre[[#This Row],[Nombre unidad TCV]]","v":"TG_Coronel"},0,0,933329.06000000017,0,0,171417.26100000003,0,0,0,40511.013999999996,0,0,{"$f":"+SUM(TablaGxN_NTH1[[#This Row],[Enero]:[Diciembre]])","v":1145257.3350000002}]
[null,{"$f":"+TablaCVP_pre[[#This Row],[Nombre unidad TCV]]","v":"TG1"},0,0,0,0,0,0,0,0,0,0,0,0,{"$f":"+SUM(TablaGxN_NTH1[[#This Row],[Enero]:[Diciembre]])","v":0}]
[null,{"$f":"+TablaCVP_pre[[#This Row],[Nombre unidad TCV]]","v":"TG2"},0,0,0,0,0,0,0,0,0,0,0,0,{"$f":"+SUM(TablaGxN_NTH1[[#This Row],[Enero]:[Diciembre]])","v":0}]
[null,{"$f":"+TablaCVP_pre[[#This Row],[Nombre unidad TCV]]","v":"TG3"},496655.82293028338,597384.1211074912,313430.03248384036,499912.54992275569,435869.50938831171,0,5268600.7775555225,1486864.9498145385,857954.52286527224,578677.3081432851,2794767.091008408,8201722.5595894055,{"$f":"+SUM(TablaGxN_NTH1[[#This Row],[Enero]:[Diciembre]])","v":21531839.244809113}]
[null,{"$f":"+TablaCVP_pre[[#This Row],[Nombre unidad TCV]]","v":"TGTAR"},0,0,0,50217.835999999996,0,0,0,0,0,0,0,66.353999999999999,{"$f":"+SUM(TablaGxN_NTH1[[#This Row],[Enero]:[Diciembre]])","v":50284.189999999995}]
[null,{"$f":"+TablaCVP_pre[[#This Row],[Nombre unidad TCV]]","v":"U12"},0,4203353.4243515739,3234497.4867289378,0,0,0,0,0,0,0,0,0,{"$f":"+SUM(TablaGxN_NTH1[[#This Row],[Enero]:[Diciembre]])","v":7437850.9110805113}]
[null,{"$f":"+TablaCVP_pre[[#This Row],[Nombre unidad TCV]]","v":"U13"},0,0,0,0,0,0,0,0,0,0,0,0,{"$f":"+SUM(TablaGxN_NTH1[[#This Row],[Enero]:[Diciembre]])","v":0}]
[null,{"$f":"+TablaCVP_pre[[#This Row],[Nombre unidad TCV]]","v":"U14"},12005532.354597609,1883063.8140418632,10006927.601319408,0,755.3732944363087,1125696.3254758869,0,8412486.9610126764,1155829.4280476763,3041169.2562043914,0,0,{"$f":"+SUM(TablaGxN_NTH1[[#This Row],[Enero]:[Diciembre]])","v":37631461.11399395}]
[null,{"$f":"+TablaCVP_pre[[#This Row],[Nombre unidad TCV]]","v":"U15"},28113018.221181355,2147033.0597397191,10270637.556147652,32724302.783337176,18877269.304552708,0,0,7599803.7599019203,0,1516351.3142037934,0,1378271.3735648033,{"$f":"+SUM(TablaGxN_NTH1[[#This Row],[Enero]:[Diciembre]])","v":102626687.37262915}]
[null,{"$f":"+TablaCVP_pre[[#This Row],[Nombre unidad TCV]]","v":"U16"},34053421.096230924,73048896.831010222,109736859.68522185,149764142.95113459,86421079.458616138,84513138.047267705,182050795.89397693,161929116.54487371,124764556.31584314,43020552.715785086,0,0,{"$f":"+SUM(TablaGxN_NTH1[[#This Row],[Enero]:[Diciembre]])","v":1049302559.5399601}]
[null,{"$f":"+TablaCVP_pre[[#This Row],[Nombre unidad TCV]]","v":"Valdivia"},13429786.243000003,16619552.042999996,12768085.676999988,24236046.602000006,12240651.459999999,13875789.365000002,13535185.324000007,11316175.589,7414566.2189999968,0,4474937.1329999994,9175552.277999999,{"$f":"+SUM(TablaGxN_NTH1[[#This Row],[Enero]:[Diciembre]])","v":139086327.933}]
[null,{"$f":"+TablaCVP_pre[[#This Row],[Nombre unidad TCV]]","v":"Ventanas 1"},35369122.562999994,31604565.570000015,52939202.422000006,53274348.028000027,0,0,0,0,2941991.6440000003,3885431.7430000007,0,0,{"$f":"+SUM(TablaGxN_NTH1[[#This Row],[Enero]:[Diciembre]])","v":180014661.97000003}]
[null,{"$f":"+TablaCVP_pre[[#This Row],[Nombre unidad TCV]]","v":"Ventanas 2"},89873960.055999979,82978794.794999987,14356445.213000001,0,48837491.154000007,95875238.840999946,119932627.78800011,81705390.514000028,81448001.165999934,79189522.453999966,65994310.589999996,67826899.262000024,{"$f":"+SUM(TablaGxN_NTH1[[#This Row],[Enero]:[Diciembre]])","v":828018681.83299994}]
[null,{"$f":"+TablaCVP_pre[[#This Row],[Nombre unidad TCV]]","v":"Viñales"},21769948.362999991,20161426.838,23035090.825999994,21623462.630000003,22589274.416999985,22318998.300999992,21883814.662000023,18219524.384999987,14268436.862999996,17879039.899000004,12030040.875999996,20173619.374000013,{"$f":"+SUM(TablaGxN_NTH1[[#This Row],[Enero]:[Diciembre]])","v":235952677.43399996}]
[null,{"$f":"+TablaCVP_pre[[#This Row],[Nombre unidad TCV]]","v":"Yungay 1"},0,0,0,0,0,0,0,0,0,46862.544999999998,0,73040.062000000005,{"$f":"+SUM(TablaGxN_NTH1[[#This Row],[Enero]:[Diciembre]])","v":119902.607}]
[null,{"$f":"+TablaCVP_pre[[#This Row],[Nombre unidad TCV]]","v":"Yungay 2"},0,0,0,0,0,0,0,0,0,57065.760999999991,0,65876.579999999987,{"$f":"+SUM(TablaGxN_NTH1[[#This Row],[Enero]:[Diciembre]])","v":122942.34099999999}]
[null,{"$f":"+TablaCVP_pre[[#This Row],[Nombre unidad TCV]]","v":"Yungay 3"},0,0,0,0,0,0,0,0,0,32806.036999999997,0,150909.603,{"$f":"+SUM(TablaGxN_NTH1[[#This Row],[Enero]:[Diciembre]])","v":183715.64}]
[null,{"$f":"+TablaCVP_pre[[#This Row],[Nombre unidad TCV]]","v":"Yungay 4 ca"},0,0,0,0,0,0,0,0,0,15711.336000000001,0,35003.734000000004,{"$f":"+SUM(TablaGxN_NTH1[[#This Row],[Enero]:[Diciembre]])","v":50715.070000000007}]
[null,{"$f":"+TablaCVP_pre[[#This Row],[Nombre unidad TCV]]","v":"Los Guindos 2"},0,0,0,0,0,0,0,0,0,102215.613,0,0,{"$f":"+SUM(TablaGxN_NTH1[[#This Row],[Enero]:[Diciembre]])","v":102215.613}]

{"sheet":"GxN_NTH2","index":11,"n_rows":101,"n_cols":15,"rows_kept":101,"cut":false,"hidden":false,"merged":[]}
[]
[null,"Generación Neta NTH2 (denominadores CMgP)"]
[]
[null,"Nombre unidad TCV","Enero","Febrero","Marzo","Abril","Mayo","Junio","Julio","Agosto","Septiembre","Octubre","Noviembre","Diciembre","Total"]
[null,{"$f":"+TablaCVP_pre[[#This Row],[Nombre unidad TCV]]","v":"ANG1"},72453091.210499957,153934493.35499987,163908160.55248356,62129.697816666674,8298309.6560833324,2950190.7449166672,3502766.0644833338,996691.49674999993,38921277.907666653,73252723.587616712,125497377.75743333,119132711.11434993,{"$f":"+SUM(TablaGxN_NTH2[[#This Row],[Enero]:[Diciembre]])","v":762909923.1451}]
[null,{"$f":"+TablaCVP_pre[[#This Row],[Nombre unidad TCV]]","v":"ANG2"},171135884.62499988,146376333.64488339,175965532.79200011,129352581.60451664,193213565.05636659,188465414.95113313,166876252.82044989,195306979.30710015,191190353.92051673,181793664.54783314,180609901.26929989,180611339.14726669,{"$f":"+SUM(TablaGxN_NTH2[[#This Row],[Enero]:[Diciembre]])","v":2100897803.6863663}]
[null,{"$f":"+TablaCVP_pre[[#This Row],[Nombre unidad TCV]]","v":"Antilhue TG U1"},5456810.0240000002,18023905.435000002,6259665.2969999993,242346.30399999997,362444.47399999999,122526.702,33390.699999999997,0,0,364165.39299999998,0,347375.64500000002,{"$f":"+SUM(TablaGxN_NTH2[[#This Row],[Enero]:[Diciembre]])","v":31212629.973999999}]
[null,{"$f":"+TablaCVP_pre[[#This Row],[Nombre unidad TCV]]","v":"Antilhue TG U2"},363039.76200000005,13041289.846999995,2991985.1330000008,3017333.7209999999,0,0,0,0,0,1151736.5330000001,0,145260.63399999999,{"$f":"+SUM(TablaGxN_NTH2[[#This Row],[Enero]:[Diciembre]])","v":20710645.629999995}]
[null,{"$f":"+TablaCVP_pre[[#This Row],[Nombre unidad TCV]]","v":"Arauco"},5568495.7919999948,3967983.5210000025,1991382.8600000015,4668914.4400000013,4194229.9990000022,2710112.2439999999,2329766.6259999974,2087465.9999999984,3562305.3209999981,4635699.5599999977,5314672.0770000033,4272228.4869999997,{"$f":"+SUM(TablaGxN_NTH2[[#This Row],[Enero]:[Diciembre]])","v":45303256.927000001}]
[null,{"$f":"+TablaCVP_pre[[#This Row],[Nombre unidad TCV]]","v":"Bocamina"},18457633.281416669,45476072.288233295,72230898.265999958,78012250.653900027,67383607.244650021,29571116.619866677,44471456.381133266,45809283.818099968,44148944.740683384,42126786.906999968,49171268.084999971,8213446.3440000024,{"$f":"+SUM(TablaGxN_NTH2[[#This Row],[Enero]:[Diciembre]])","v":545072764.62998319}]
[null,{"$f":"+TablaCVP_pre[[#This Row],[Nombre unidad TCV]]","v":"Bocamina II"},118676098.54999995,175355233.07200009,204648541.19213331,202154401.40508324,201356292.09301654,63323627.227233343,223840783.05951685,231016754.56699976,189012640.91576692,158169481.0879997,25592868.191600002,61624810.93278335,{"$f":"+SUM(TablaGxN_NTH2[[#This Row],[Enero]:[Diciembre]])","v":1854771532.2941332}]
[null,{"$f":"+TablaCVP_pre[[#This Row],[Nombre unidad TCV]]","v":"Campiche"},123211709.57599987,140645930.16016659,171106814.58978325,173104926.77173316,177067371.86199978,147965163.00520012,122379900.13425,156334927.49095014,67850382.939366639,67039331.01633323,77174361.041166678,128956469.66189994,{"$f":"+SUM(TablaGxN_NTH2[[#This Row],[Enero]:[Diciembre]])","v":1552837288.2488499}]
[null,{"$f":"+TablaCVP_pre[[#This Row],[Nombre unidad TCV]]","v":"Candelaria 1"},0,0,19158776.69260285,9570950.7459999975,11406449.574320411,1588664.4580000001,4435987.9250000017,504104.26500000001,516503.57,4310.7640000000001,591810.40800000005,0,{"$f":"+SUM(TablaGxN_NTH2[[#This Row],[Enero]:[Diciembre]])","v":47777558.402923264}]
[null,{"$f":"+TablaCVP_pre[[#This Row],[Nombre unidad TCV]]","v":"Candelaria 2"},0,0,11326166.507299824,9996231.3519999962,9029096.7979999986,1706301.2869999998,2909921.7039999999,455127.44200000004,470051.79700000002,0,738924.20299999998,0,{"$f":"+SUM(TablaGxN_NTH2[[#This Row],[Enero]:[Diciembre]])","v":36631821.090299815}]
[null,{"$f":"+TablaCVP_pre[[#This Row],[Nombre unidad TCV]]","v":"Cardones"},0,0,0,0,0,4.1630000000000003,0,0,0,0,0,0,{"$f":"+SUM(TablaGxN_NTH2[[#This Row],[Enero]:[Diciembre]])","v":4.1630000000000003}]
[null,{"$f":"+TablaCVP_pre[[#This Row],[Nombre unidad TCV]]","v":"CC KELAR"},26552336.713000007,141122531.97899994,201503732.42199993,155264108.32200003,68291822.379000023,180704724.22199997,202025149.18099993,159224488.85000005,115434645.63799998,29249138.765000004,161239507.20199999,99489290.299999923,{"$f":"+SUM(TablaGxN_NTH2[[#This Row],[Enero]:[Diciembre]])","v":1540101475.973}]
[null,{"$f":"+TablaCVP_pre[[#This Row],[Nombre unidad TCV]]","v":"CC1"},24262336.003000002,12692062.113000002,4283784.9980000006,10741988.52077876,11706184.981999999,46222103.023317926,49469933.598999999,6776102.1980000008,8683720.5,6292591.671000001,24509412.473999999,16234864.482999995,{"$f":"+SUM(TablaGxN_NTH2[[#This Row],[Enero]:[Diciembre]])","v":221875084.56509674}]
[null,{"$f":"+TablaCVP_pre[[#This Row],[Nombre unidad TCV]]","v":"CC2"},14809697.29247294,3429068.5779999997,4729737.8629999999,5438053.5054484466,2167211.5076358374,8312831.0109552871,34984197.872999981,0,5143922.8359999992,2064041.150780166,4199455.2420000006,35130.678,{"$f":"+SUM(TablaGxN_NTH2[[#This Row],[Enero]:[Diciembre]])","v":85313347.537292659}]
[null,{"$f":"+TablaCVP_pre[[#This Row],[Nombre unidad TCV]]","v":"CCH1"},120121347.47599989,101955913.85999992,94628087.164999843,91534653.535999924,122005181.38999997,132295626.65399995,111680298.82500002,64429234.54300005,149105112.68199986,145588393.09599987,139598294.41200012,155719120.34399986,{"$f":"+SUM(TablaGxN_NTH2[[#This Row],[Enero]:[Diciembre]])","v":1428661263.9829996}]
[null,{"$f":"+TablaCVP_pre[[#This Row],[Nombre unidad TCV]]","v":"CCH2"},119921205.37899993,101796987.60299999,94469282.509999946,100765245.52799976,117857659.626,125944228.39200005,79189709.73800002,101856055.20100005,149429114.28700015,145390024.10799977,139366194.23899996,155592145.02999991,{"$f":"+SUM(TablaGxN_NTH2[[#This Row],[Enero]:[Diciembre]])","v":1431577851.6409996}]
[null,{"$f":"+TablaCVP_pre[[#This Row],[Nombre unidad TCV]]","v":"CD Iquique"},0,0,0,0,0,0,0,0,0,0,0,0,{"$f":"+SUM(TablaGxN_NTH2[[#This Row],[Enero]:[Diciembre]])","v":0}]
[null,{"$f":"+TablaCVP_pre[[#This Row],[Nombre unidad TCV]]","v":"Celco"},4666173.450000002,4663103.5629999992,4253088.7839999944,2874788.7540000034,5091150.5919999983,3141473.4250000007,3885334.0500000007,3660762.8109999965,3850816.2569999956,4358575.6920000035,4131941.9269999992,4940767.5049999943,{"$f":"+SUM(TablaGxN_NTH2[[#This Row],[Enero]:[Diciembre]])","v":49517976.809999987}]
[null,{"$f":"+TablaCVP_pre[[#This Row],[Nombre unidad TCV]]","v":"Cholguán"},4519197.3209999967,3165819.734000003,7452043.9359999932,7719103.3929999899,4746987.3730000034,4645309.7990000024,0,0,0,0,1225434.6839999999,2244474.5489999992,{"$f":"+SUM(TablaGxN_NTH2[[#This Row],[Enero]:[Diciembre]])","v":35718370.78899999}]
[null,{"$f":"+TablaCVP_pre[[#This Row],[Nombre unidad TCV]]","v":"CMPC Cordillera"},0,0,0,0,0,0,0,0,0,1249.0262999999998,148900.5337,542599.64511666656,{"$f":"+SUM(TablaGxN_NTH2[[#This Row],[Enero]:[Diciembre]])","v":692749.20511666662}]
[null,{"$f":"+TablaCVP_pre[[#This Row],[Nombre unidad TCV]]","v":"CMPC Laja"},14434236.491999982,14098181.042999988,14130131.392000014,16135885.461000007,14663763.020999994,14943427.357000012,12290237.263999987,13470786.069999997,13814555.521,12999077.012000015,5842989.1939999983,11228751.364000013,{"$f":"+SUM(TablaGxN_NTH2[[#This Row],[Enero]:[Diciembre]])","v":158052021.19100001}]
[null,{"$f":"+TablaCVP_pre[[#This Row],[Nombre unidad TCV]]","v":"CMPC Pacífico"},3085176.9459999977,2690277.4760000017,1424488.3719999995,9837267.9870000016,18790287.795999993,12321145.410000004,12924030.019999985,10234626.137999997,9074719.068,15159693.86199999,11940727.808000008,10547106.964999994,{"$f":"+SUM(TablaGxN_NTH2[[#This Row],[Enero]:[Diciembre]])","v":118029547.84799998}]
[null,{"$f":"+TablaCVP_pre[[#This Row],[Nombre unidad TCV]]","v":"CMPC Santa Fe"},0,0,0,0,0,0,0,0,0,0,0,0,{"$f":"+SUM(TablaGxN_NTH2[[#This Row],[Enero]:[Diciembre]])","v":0}]
[null,{"$f":"+TablaCVP_pre[[#This Row],[Nombre unidad TCV]]","v":"CMPC TISSUE"},1730594.4920000031,3056398.0440000002,1569363.1899999997,2049700.9000000004,2100174.4340000013,1928018.170000003,1963131.156,1834243.5479999988,1689370.4379999996,1570430.7620000013,749959.98599999968,810578.35599999956,{"$f":"+SUM(TablaGxN_NTH2[[#This Row],[Enero]:[Diciembre]])","v":21051963.476000007}]
[null,{"$f":"+TablaCVP_pre[[#This Row],[Nombre unidad TCV]]","v":"Colmito"},302261.18400000001,412820.53200000001,12711477.886999991,12217151.498999991,14911875.396000002,3060036.2079999996,6256391.4969999967,7064898.4249999989,892606.95699999982,139028.47399999999,53667.480999999992,0,{"$f":"+SUM(TablaGxN_NTH2[[#This Row],[Enero]:[Diciembre]])","v":58022215.539999969}]
[null,{"$f":"+TablaCVP_pre[[#This Row],[Nombre unidad TCV]]","v":"CTA"},84345127.614999846,27386857.811999995,11645709.038000001,30136457.401000001,80724881.611000061,39887065.724999994,0,28418567.506000008,91790762.862000003,93143405.430999979,72493900.109000042,94482216.938999996,{"$f":"+SUM(TablaGxN_NTH2[[#This Row],[Enero]:[Diciembre]])","v":654454952.04899991}]
[null,{"$f":"+TablaCVP_pre[[#This Row],[Nombre unidad TCV]]","v":"CTH"},77108703.705999985,49457422.507999994,74865119.466999933,86607409.797999948,88527268.945000052,36687681.110999994,28215540.901000008,101678518.23399992,53022884.699999988,49105356.38699995,77659119.33100006,54133018.058999941,{"$f":"+SUM(TablaGxN_NTH2[[#This Row],[Enero]:[Diciembre]])","v":777068043.14699984}]
[null,{"$f":"+TablaCVP_pre[[#This Row],[Nombre unidad TCV]]","v":"CTM1"},3536523.5750000011,14735330.895999994,18185464.512999993,25975694.848000009,38031475.387000009,0,6212751.0699999975,44959801.323000029,25959017.293999996,36743455.288999997,14183731.156999998,0,{"$f":"+SUM(TablaGxN_NTH2[[#This Row],[Enero]:[Diciembre]])","v":228523245.35200003}]
[null,{"$f":"+TablaCVP_pre[[#This Row],[Nombre unidad TCV]]","v":"CTM2"},18908938.556000009,39775033.46100001,25745410.393000007,842430.15600000008,1198218.5500000003,9740605.950000003,15288672.545999995,47769580.811000027,13661146.841000002,3306.4250000000002,23142499.639000021,3891127.577,{"$f":"+SUM(TablaGxN_NTH2[[#This Row],[Enero]:[Diciembre]])","v":199966970.90500006}]
[null,{"$f":"+TablaCVP_pre[[#This Row],[Nombre unidad TCV]]","v":"CTM3"},0,55916983.156999998,44330896.509000003,72833049.491999999,48964763.348999992,100550864.33499998,92122020.396000043,59971188.405000031,42227269.34300001,33724764.187999994,87288361.869000018,153726057.07700005,{"$f":"+SUM(TablaGxN_NTH2[[#This Row],[Enero]:[Diciembre]])","v":791656218.12}]
[null,{"$f":"+TablaCVP_pre[[#This Row],[Nombre unidad TCV]]","v":"CTTAR"},61818742.531000003,51051997.661999978,69599715.960000023,55069445.024000011,68288285.027000055,55765834.629000001,76149177.091999978,40231167.836000018,12858267.396999998,24504486.553999986,44713036.295000024,54035597.732999898,{"$f":"+SUM(TablaGxN_NTH2[[#This Row],[Enero]:[Diciembre]])","v":614085753.74000001}]
[null,{"$f":"+TablaCVP_pre[[#This Row],[Nombre unidad TCV]]","v":"Diego de Almagro"},0,0,0,147744.91199999998,0,0,0,0,0,0,0,0,{"$f":"+SUM(TablaGxN_NTH2[[#This Row],[Enero]:[Diciembre]])","v":147744.91199999998}]
[null,{"$f":"+TablaCVP_pre[[#This Row],[Nombre unidad TCV]]","v":"El Salvador"},0,0,0,112731.219,0,0,0,0,0,0,0,0,{"$f":"+SUM(TablaGxN_NTH2[[#This Row],[Enero]:[Diciembre]])","v":112731.219}]
[null,{"$f":"+TablaCVP_pre[[#This Row],[Nombre unidad TCV]]","v":"Emelda U1"},0,4771.5,0,188479.5,0,1475,1375.5,0,1149,0,0,1318.5,{"$f":"+SUM(TablaGxN_NTH2[[#This Row],[Enero]:[Diciembre]])","v":198569}]
[null,{"$f":"+TablaCVP_pre[[#This Row],[Nombre unidad TCV]]","v":"Emelda U2"},25229.87,0,506052.25,57220.621999999996,0,1351.75,1520.25,0,1340.88,0,16463.12,1102.25,{"$f":"+SUM(TablaGxN_NTH2[[#This Row],[Enero]:[Diciembre]])","v":610280.99199999997}]
[null,{"$f":"+TablaCVP_pre[[#This Row],[Nombre unidad TCV]]","v":"Energía Pacífico"},6659366.6289999923,9329552.4989999942,11182747.891000001,9004895.1849999987,9786244.8170000073,10015991.611000003,10572521.041000007,9060143.5830000024,9412753.9059999939,10501824.891999999,7981327.6359999971,9877422.7480000015,{"$f":"+SUM(TablaGxN_NTH2[[#This Row],[Enero]:[Diciembre]])","v":113384792.43799998}]
[null,{"$f":"+TablaCVP_pre[[#This Row],[Nombre unidad TCV]]","v":"Escuadrón"},2706208.1749999975,3235363.8389999941,4706305.4710000036,4189872.3879999989,4965123.7770000016,1247286.7700000012,1749852.7849999985,1651135.6090000002,146122.77599999998,1092.1510000000001,3859.99,0,{"$f":"+SUM(TablaGxN_NTH2[[#This Row],[Enero]:[Diciembre]])","v":24602223.730999995}]
[null,{"$f":"+TablaCVP_pre[[#This Row],[Nombre unidad TCV]]","v":"Esperanza TG"},0,0,0,0,58822.505999999994,102252.197,0,0,0,0,0,0,{"$f":"+SUM(TablaGxN_NTH2[[#This Row],[Enero]:[Diciembre]])","v":161074.70299999998}]
[null,{"$f":"+TablaCVP_pre[[#This Row],[Nombre unidad TCV]]","v":"Guacolda 1"},66664431.42776303,65771902.031311154,60311191.728383549,71707583.249992937,82431939.984648988,50956131.172037445,96741658.2273902,87815418.076484948,93843856.49711512,89874476.364748955,83496953.643727094,91613955.097598851,{"$f":"+SUM(TablaGxN_NTH2[[#This Row],[Enero]:[Diciembre]])","v":941229497.50120211}]
[null,{"$f":"+TablaCVP_pre[[#This Row],[Nombre unidad TCV]]","v":"Guacolda 2"},46891441.163889974,54087990.038991377,64348544.894183688,64958982.48439201,41670760.364974082,75564155.108678356,90092537.697506234,86355859.506582722,90531968.868634284,85226801.958728701,54751172.113511786,90368303.237751275,{"$f":"+SUM(TablaGxN_NTH2[[#This Row],[Enero]:[Diciembre]])","v":844848517.43782449}]
[null,{"$f":"+TablaCVP_pre[[#This Row],[Nombre unidad TCV]]","v":"Guacolda 3"},72259817.918639973,50853300.343388706,69374871.148342788,67790963.715827495,89509073.334320888,100483409.89105652,99168721.33023344,94195011.449779466,90440867.55661875,33274848.434777293,31600395.240388643,76465027.247441977,{"$f":"+SUM(TablaGxN_NTH2[[#This Row],[Enero]:[Diciembre]])","v":875416307.610816}]
[null,{"$f":"+TablaCVP_pre[[#This Row],[Nombre unidad TCV]]","v":"Guacolda 4"},67632951.349492952,70369803.471709877,64786355.17744229,47299902.360279441,78670169.732070133,90616515.57922323,96927288.442903325,71975979.225833729,92329324.347436741,77967605.925460547,51558857.64904815,50435376.468860008,{"$f":"+SUM(TablaGxN_NTH2[[#This Row],[Enero]:[Diciembre]])","v":860570129.72976053}]
[null,{"$f":"+TablaCVP_pre[[#This Row],[Nombre unidad TCV]]","v":"Guacolda 5"},75527556.830012038,81449227.545888066,70618281.952022716,52175181.505704038,89084824.318442136,99522228.397458896,99783367.204914272,98155747.683444306,77396008.254461333,60709561.737234242,90770693.083749682,81960984.167105719,{"$f":"+SUM(TablaGxN_NTH2[[#This Row],[Enero]:[Diciembre]])","v":977153662.68043733}]
[null,{"$f":"+TablaCVP_pre[[#This Row],[Nombre unidad TCV]]","v":"Horcones"},0,0,1520.414,10547.111000000001,0,672.13,0,0,0,0,0,32799.097000000002,{"$f":"+SUM(TablaGxN_NTH2[[#This Row],[Enero]:[Diciembre]])","v":45538.752}]
[null,{"$f":"+TablaCVP_pre[[#This Row],[Nombre unidad TCV]]","v":"Huasco TG"},0,0,0,0,0,0,0,2340.4589999999998,19485.137999999999,48277.417000000001,0,8376.4520000000011,{"$f":"+SUM(TablaGxN_NTH2[[#This Row],[Enero]:[Diciembre]])","v":78479.466}]
[null,{"$f":"+TablaCVP_pre[[#This Row],[Nombre unidad TCV]]","v":"IEM"},0,0,0,0,104622058.52899991,204629727.61400002,213320512.53499985,37476169.906999998,108071261.57400005,108327426.66399986,196013222.59100002,223261861.98418346,{"$f":"+SUM(TablaGxN_NTH2[[#This Row],[Enero]:[Diciembre]])","v":1195722241.3981833}]
[null,{"$f":"+TablaCVP_pre[[#This Row],[Nombre unidad TCV]]","v":"Laguna Verde TG"},0,0,0,0,0,0,0,0,0,0,0,0,{"$f":"+SUM(TablaGxN_NTH2[[#This Row],[Enero]:[Diciembre]])","v":0}]
[null,{"$f":"+TablaCVP_pre[[#This Row],[Nombre unidad TCV]]","v":"Laguna Verde TV"},0,0,0,0,0,0,0,0,0,0,0,0,{"$f":"+SUM(TablaGxN_NTH2[[#This Row],[Enero]:[Diciembre]])","v":0}]
[null,{"$f":"+TablaCVP_pre[[#This Row],[Nombre unidad TCV]]","v":"Laja"},3714938.8730000001,3141655.5609999998,3953662.5179999997,3517041.6249999981,3411180.7199999974,2693453.932,1425710.4560000002,1791531.8550000004,943832.9430000002,1118266.8950000005,258887.34199999998,886098.74700000056,{"$f":"+SUM(TablaGxN_NTH2[[#This Row],[Enero]:[Diciembre]])","v":26856261.466999996}]
[null,{"$f":"+TablaCVP_pre[[#This Row],[Nombre unidad TCV]]","v":"Lautaro-Comasa"},18119359.082000017,14477482.009000003,18011808.33600001,16034122.996000012,17996732.178999998,13188700.848999992,9994579.8949999958,12884074.327999992,15072456.954000007,13528992.792000016,9614110.5780000053,16102768.729000002,{"$f":"+SUM(TablaGxN_NTH2[[#This Row],[Enero]:[Diciembre]])","v":175025188.72700006}]
[null,{"$f":"+TablaCVP_pre[[#This Row],[Nombre unidad TCV]]","v":"Lautaro-Comasa 2"},1587112.372999999,13487180.51500001,12391258.314000007,10619517.097999994,12923729.315999996,12041638.467000004,10288586.225999996,13439667.270000003,7890531.2420000043,6904654.2780000018,1206446.2050000001,0,{"$f":"+SUM(TablaGxN_NTH2[[#This Row],[Enero]:[Diciembre]])","v":102780321.30400002}]
[null,{"$f":"+TablaCVP_pre[[#This Row],[Nombre unidad TCV]]","v":"Licantén"},1972847.0370000019,1170129.5529999996,151760.59299999999,2111024.6379999993,2258841.8719999986,1502463.3760000011,2025379.1639999996,1873806.2059999998,1473612.4010000003,1575552.6779999987,1622506.3689999999,1506074.4429999997,{"$f":"+SUM(TablaGxN_NTH2[[#This Row],[Enero]:[Diciembre]])","v":19243998.329999998}]
[null,{"$f":"+TablaCVP_pre[[#This Row],[Nombre unidad TCV]]","v":"Los Guindos"},0,0,0,0,73198.010999999999,0,0,0,0,0,0,0,{"$f":"+SUM(TablaGxN_NTH2[[#This Row],[Enero]:[Diciembre]])","v":73198.010999999999}]
[null,{"$f":"+TablaCVP_pre[[#This Row],[Nombre unidad TCV]]","v":"Los Pinos"},2953217.7459999998,1707587.4460000005,435256.93800000002,6661488.8090000004,1547416.3669999999,60902.858999999997,0,0,0,0,48799.777000000002,0,{"$f":"+SUM(TablaGxN_NTH2[[#This Row],[Enero]:[Diciembre]])","v":13414669.942}]
[null,{"$f":"+TablaCVP_pre[[#This Row],[Nombre unidad TCV]]","v":"Los Vientos"},757384.03599999996,884696.96900000004,25107597.276999991,13134688.653999994,23410147.807000007,960979.7570000001,6177463.7210000036,5338754.6550000012,342415.76900000003,0,258751.81599999999,0,{"$f":"+SUM(TablaGxN_NTH2[[#This Row],[Enero]:[Diciembre]])","v":76372880.460999981}]
[null,{"$f":"+TablaCVP_pre[[#This Row],[Nombre unidad TCV]]","v":"Masisa (Cabrero)"},3191179.9850000031,2718041.7429999998,6006596.5179999946,6115049.0810000002,6052559.3019999973,5515259.7980000004,4324001.5769999977,3354941.5870000003,3839983.7059999993,2360462.1630000016,3826670.0210000006,4164392.5499999984,{"$f":"+SUM(TablaGxN_NTH2[[#This Row],[Enero]:[Diciembre]])","v":51469138.030999988}]
[null,{"$f":"+TablaCVP_pre[[#This Row],[Nombre unidad TCV]]","v":"Nehuenco"},188974251.19300002,176368833.29799989,210715357.70000017,181579461.65899986,214133378.96900001,89416891.441000015,98852872.371000022,19433204.447999999,53389942.933000013,213095019.64899999,190834785.60899991,9551889.1419999991,{"$f":"+SUM(TablaGxN_NTH2[[#This Row],[Enero]:[Diciembre]])","v":1646345888.4119997}]
[null,{"$f":"+TablaCVP_pre[[#This Row],[Nombre unidad TCV]]","v":"Nehuenco II"},257887984.69600016,228224978.65000015,247373199.60000002,226262701.75300005,233118967.36500013,189240287.38199997,264398117.28899994,271900535.81499964,232124052.62899995,221178568.4959999,59120636.289000005,266878658.53,{"$f":"+SUM(TablaGxN_NTH2[[#This Row],[Enero]:[Diciembre]])","v":2697708688.494}]
[null,{"$f":"+TablaCVP_pre[[#This Row],[Nombre unidad TCV]]","v":"Nehuenco TG 9B"},0,0,298.8,705492.19900000002,0,0,0,471944.41899999999,581054.83999999985,0,0,614826.50600000005,{"$f":"+SUM(TablaGxN_NTH2[[#This Row],[Enero]:[Diciembre]])","v":2373616.764}]
[null,{"$f":"+TablaCVP_pre[[#This Row],[Nombre unidad TCV]]","v":"NTO1"},65375683.387317054,42898102.212449543,54799054.050787129,78222531.191431239,78990236.782656044,65446622.11157082,87889070.926564649,83492045.416676685,64668381.056917697,43603456.802540608,46113803.583383389,24034916.679209195,{"$f":"+SUM(TablaGxN_NTH2[[#This Row],[Enero]:[Diciembre]])","v":735533904.20150423}]
[null,{"$f":"+TablaCVP_pre[[#This Row],[Nombre unidad TCV]]","v":"NTO2"},68018784.286246523,17463385.842841774,44737567.588734038,75956841.794568196,79857523.62718761,82479067.329855591,84885378.601889104,75699313.836836338,80050571.999440804,77831567.175362602,71761857.837795228,39890670.840824373,{"$f":"+SUM(TablaGxN_NTH2[[#This Row],[Enero]:[Diciembre]])","v":798632530.76158226}]
[null,{"$f":"+TablaCVP_pre[[#This Row],[Nombre unidad TCV]]","v":"Nueva Aldea I"},3818506.1559999986,4203994.7809999967,2959900.9519999977,3887732.8389999988,3342386.0870000008,1671355.6230000011,2016794.8300000012,1746222.4460000002,2396582.4440000011,2011904.6159999992,2104395.824000001,2913090.8490000013,{"$f":"+SUM(TablaGxN_NTH2[[#This Row],[Enero]:[Diciembre]])","v":33072867.446999997}]
[null,{"$f":"+TablaCVP_pre[[#This Row],[Nombre unidad TCV]]","v":"Nueva Aldea III"},3760566.7229999993,6136584.4723333325,22231374.802499998,21245259.821000017,22067924.22299999,20750999.609999992,20345057.975999985,20588659.403716646,19711882.715000011,18297467.287999988,21871722.582999993,20758466.682250042,{"$f":"+SUM(TablaGxN_NTH2[[#This Row],[Enero]:[Diciembre]])","v":217765966.29980001}]
[null,{"$f":"+TablaCVP_pre[[#This Row],[Nombre unidad TCV]]","v":"Nueva Renca"},214280673.21099991,146686511.79599994,115931536.77599999,239085331.78100032,178323947.19199994,167407633.32399994,163821527.85100004,39799.794000000002,112534533.88599998,153391869.79799998,105688520.92399999,130837086.47799988,{"$f":"+SUM(TablaGxN_NTH2[[#This Row],[Enero]:[Diciembre]])","v":1728028972.8109999}]
[null,{"$f":"+TablaCVP_pre[[#This Row],[Nombre unidad TCV]]","v":"Nueva Ventanas"},0,91926829.505350024,165235414.50056642,130996688.49121672,164654428.83618343,149426687.34869984,128048762.94058327,173935356.59329998,145180882.82843336,85562584.04761669,115628639.06229992,145667657.35434991,{"$f":"+SUM(TablaGxN_NTH2[[#This Row],[Enero]:[Diciembre]])","v":1496263931.5085995}]
[null,{"$f":"+TablaCVP_pre[[#This Row],[Nombre unidad TCV]]","v":"Petropower"},7895106.2447488708,4999889.2823176319,8999518.1091428585,8404563.7495331336,7672683.9327419717,7700733.1947567286,8378479.021687625,6953678.8351226142,4308551.5732018147,5028230.7148919106,2456010.0182753066,7912649.0098703811,{"$f":"+SUM(TablaGxN_NTH2[[#This Row],[Enero]:[Diciembre]])","v":80710093.686290845}]
[null,{"$f":"+TablaCVP_pre[[#This Row],[Nombre unidad TCV]]","v":"Quintero A"},15328905.213131623,14271871.092626277,33792246.716009326,27184325.76049412,22959093.634011447,0,14879637.517853413,1287506.9844029485,2896425.1669999999,2310254.0188823519,228907.40781514841,0,{"$f":"+SUM(TablaGxN_NTH2[[#This Row],[Enero]:[Diciembre]])","v":135139173.51222667}]
[null,{"$f":"+TablaCVP_pre[[#This Row],[Nombre unidad TCV]]","v":"Quintero B"},14075444.247868381,12546094.751373716,32850324.286990672,29055474.66250588,21279753.98298854,0,10877496.462146595,1327806.3615970518,2328366.0229999996,2614986.5221176483,297962.03018485161,0,{"$f":"+SUM(TablaGxN_NTH2[[#This Row],[Enero]:[Diciembre]])","v":127253709.33077332}]
[null,{"$f":"+TablaCVP_pre[[#This Row],[Nombre unidad TCV]]","v":"Renca U1"},0,0,0,0,0,0,0,0,0,0,0,0,{"$f":"+SUM(TablaGxN_NTH2[[#This Row],[Enero]:[Diciembre]])","v":0}]
[null,{"$f":"+TablaCVP_pre[[#This Row],[Nombre unidad TCV]]","v":"Renca U2"},0,0,0,0,0,0,0,0,0,0,0,0,{"$f":"+SUM(TablaGxN_NTH2[[#This Row],[Enero]:[Diciembre]])","v":0}]
[null,{"$f":"+TablaCVP_pre[[#This Row],[Nombre unidad TCV]]","v":"San Isidro"},9636645.3010000009,173942384.65599999,199855144.94499984,220488034.00200009,205673222.206,92357639.104999989,107945058.65300006,107244737.96600001,68120104.066,80195965.23299998,3897015.5599999996,4802730.2950000009,{"$f":"+SUM(TablaGxN_NTH2[[#This Row],[Enero]:[Diciembre]])","v":1274158681.9880002}]
[null,{"$f":"+TablaCVP_pre[[#This Row],[Nombre unidad TCV]]","v":"San Isidro II"},248437568.98399985,214836349.60399997,253278961.81799975,190686544.41099989,230606652.75499991,212753211.759,246625719.61900008,232434623.03200009,102377459.456,26267186.991000004,124378853.00599994,179291002.89400011,{"$f":"+SUM(TablaGxN_NTH2[[#This Row],[Enero]:[Diciembre]])","v":2261974134.3289995}]
[null,{"$f":"+TablaCVP_pre[[#This Row],[Nombre unidad TCV]]","v":"San Lorenzo de D. de Almagro U1"},0,0,0,0,0,0,0,0,0,0,0,0,{"$f":"+SUM(TablaGxN_NTH2[[#This Row],[Enero]:[Diciembre]])","v":0}]
[null,{"$f":"+TablaCVP_pre[[#This Row],[Nombre unidad TCV]]","v":"San Lorenzo de D. de Almagro U2"},0,0,0,0,0,0,0,0,0,0,0,0,{"$f":"+SUM(TablaGxN_NTH2[[#This Row],[Enero]:[Diciembre]])","v":0}]
[null,{"$f":"+TablaCVP_pre[[#This Row],[Nombre unidad TCV]]","v":"Santa Lidia"},0,0,0,0,1782926.3840000003,0,0,0,0,0,0,0,{"$f":"+SUM(TablaGxN_NTH2[[#This Row],[Enero]:[Diciembre]])","v":1782926.3840000003}]
[null,{"$f":"+TablaCVP_pre[[#This Row],[Nombre unidad TCV]]","v":"Santa María"},195429469.54099995,207123757.58900008,233871986.85099986,176604532.70099968,234279946.05799985,216472688.13799995,179683245.05699995,0,0,0,81577258.030999973,231680985.66599995,{"$f":"+SUM(TablaGxN_NTH2[[#This Row],[Enero]:[Diciembre]])","v":1756723869.631999}]
[null,{"$f":"+TablaCVP_pre[[#This Row],[Nombre unidad TCV]]","v":"Taltal 1"},0,0,637316.13099999994,984227.74033333338,0,0,0,0,47324.920999999995,467973.57215000002,153515.29,0,{"$f":"+SUM(TablaGxN_NTH2[[#This Row],[Enero]:[Diciembre]])","v":2290357.6544833332}]
[null,{"$f":"+TablaCVP_pre[[#This Row],[Nombre unidad TCV]]","v":"Taltal 2"},0,0,5097752.1509999996,2394076.0329999998,0,0,0,0,0,106005.46861666668,21887.175333333333,0,{"$f":"+SUM(TablaGxN_NTH2[[#This Row],[Enero]:[Diciembre]])","v":7619720.8279499989}]
[null,{"$f":"+TablaCVP_pre[[#This Row],[Nombre unidad TCV]]","v":"TG_Coronel"},0,0,933329.05999999982,0,0,171417.261,0,0,0,40511.014000000003,0,0,{"$f":"+SUM(TablaGxN_NTH2[[#This Row],[Enero]:[Diciembre]])","v":1145257.3349999997}]
[null,{"$f":"+TablaCVP_pre[[#This Row],[Nombre unidad TCV]]","v":"TG1"},0,0,0,0,0,0,0,0,0,0,0,0,{"$f":"+SUM(TablaGxN_NTH2[[#This Row],[Enero]:[Diciembre]])","v":0}]
[null,{"$f":"+TablaCVP_pre[[#This Row],[Nombre unidad TCV]]","v":"TG2"},0,0,0,0,0,0,0,0,0,0,0,0,{"$f":"+SUM(TablaGxN_NTH2[[#This Row],[Enero]:[Diciembre]])","v":0}]
[null,{"$f":"+TablaCVP_pre[[#This Row],[Nombre unidad TCV]]","v":"TG3"},496655.82293028338,597384.1211074912,313430.03248384036,499912.54992275592,435869.50938831182,0,5268600.7775555225,1486864.9498145389,857954.52286527236,578677.30814328522,2794767.0910084089,8201722.5595894074,{"$f":"+SUM(TablaGxN_NTH2[[#This Row],[Enero]:[Diciembre]])","v":21531839.244809121}]
[null,{"$f":"+TablaCVP_pre[[#This Row],[Nombre unidad TCV]]","v":"TGTAR"},0,0,0,50217.835999999996,0,0,0,0,0,0,0,66.353999999999999,{"$f":"+SUM(TablaGxN_NTH2[[#This Row],[Enero]:[Diciembre]])","v":50284.189999999995}]
[null,{"$f":"+TablaCVP_pre[[#This Row],[Nombre unidad TCV]]","v":"U12"},0,4203353.4243515749,3234497.4867289378,0,0,0,0,0,0,0,0,0,{"$f":"+SUM(TablaGxN_NTH2[[#This Row],[Enero]:[Diciembre]])","v":7437850.9110805131}]
[null,{"$f":"+TablaCVP_pre[[#This Row],[Nombre unidad TCV]]","v":"U13"},0,0,0,0,0,0,0,0,0,0,0,0,{"$f":"+SUM(TablaGxN_NTH2[[#This Row],[Enero]:[Diciembre]])","v":0}]
[null,{"$f":"+TablaCVP_pre[[#This Row],[Nombre unidad TCV]]","v":"U14"},12005532.354597615,1883063.8140418639,10006927.601319404,0,755.3732944363087,1125696.3254758867,0,8412486.9610126819,1155829.4280476763,3041169.2562043918,0,0,{"$f":"+SUM(TablaGxN_NTH2[[#This Row],[Enero]:[Diciembre]])","v":37631461.113993958}]
[null,{"$f":"+TablaCVP_pre[[#This Row],[Nombre unidad TCV]]","v":"U15"},28113018.221181348,2147033.0597397196,10270637.556147648,32724302.783337172,18877269.304552726,0,0,7599803.7599019138,0,1516351.3142037934,0,1378271.3735648033,{"$f":"+SUM(TablaGxN_NTH2[[#This Row],[Enero]:[Diciembre]])","v":102626687.37262914}]
[null,{"$f":"+TablaCVP_pre[[#This Row],[Nombre unidad TCV]]","v":"U16"},34053421.096230932,73048896.831010252,109736859.68522176,149764142.95113456,86421079.458616123,84513138.047267735,182050795.89397711,161929116.5448736,124764556.31584316,43020552.715785079,0,0,{"$f":"+SUM(TablaGxN_NTH2[[#This Row],[Enero]:[Diciembre]])","v":1049302559.5399604}]
[null,{"$f":"+TablaCVP_pre[[#This Row],[Nombre unidad TCV]]","v":"Valdivia"},13429786.242999988,16619552.043000001,12768085.676999997,24236046.602000006,12240651.459999997,13861243.328333337,13535185.324000001,11285485.982099997,6949890.7130000005,0,4203457.8998333309,9174648.9720000084,{"$f":"+SUM(TablaGxN_NTH2[[#This Row],[Enero]:[Diciembre]])","v":138304034.24426666}]
[null,{"$f":"+TablaCVP_pre[[#This Row],[Nombre unidad TCV]]","v":"Ventanas 1"},29772754.081366681,31603822.886800002,52752152.07653334,53274348.028000042,0,0,0,0,53615.867566666675,1290223.9596666666,0,0,{"$f":"+SUM(TablaGxN_NTH2[[#This Row],[Enero]:[Diciembre]])","v":168746916.89993343}]
[null,{"$f":"+TablaCVP_pre[[#This Row],[Nombre unidad TCV]]","v":"Ventanas 2"},89873960.056000024,82978794.794999987,14356445.213000001,0,48837491.153999992,95875238.841000021,119932627.78800008,81705390.514000073,81448001.166000083,79189522.454000011,65994310.589999899,67826899.261999995,{"$f":"+SUM(TablaGxN_NTH2[[#This Row],[Enero]:[Diciembre]])","v":828018681.83300018}]
[null,{"$f":"+TablaCVP_pre[[#This Row],[Nombre unidad TCV]]","v":"Viñales"},21766586.696549986,20150229.702000014,23035090.826000012,21584979.791250005,22589274.417000022,22318998.300999995,21819907.70685,18189705.470850002,14255547.70616667,17879039.899000019,11966077.945833333,20068910.728666674,{"$f":"+SUM(TablaGxN_NTH2[[#This Row],[Enero]:[Diciembre]])","v":235624349.19116673}]
[null,{"$f":"+TablaCVP_pre[[#This Row],[Nombre unidad TCV]]","v":"Yungay 1"},0,0,0,0,0,0,0,0,0,575.77459999999985,0,779.82839999999999,{"$f":"+SUM(TablaGxN_NTH2[[#This Row],[Enero]:[Diciembre]])","v":1355.6029999999998}]
[null,{"$f":"+TablaCVP_pre[[#This Row],[Nombre unidad TCV]]","v":"Yungay 2"},0,0,0,0,0,0,0,0,0,57065.760999999999,0,65876.58,{"$f":"+SUM(TablaGxN_NTH2[[#This Row],[Enero]:[Diciembre]])","v":122942.341}]
[null,{"$f":"+TablaCVP_pre[[#This Row],[Nombre unidad TCV]]","v":"Yungay 3"},0,0,0,0,0,0,0,0,0,32806.036999999997,0,150909.603,{"$f":"+SUM(TablaGxN_NTH2[[#This Row],[Enero]:[Diciembre]])","v":183715.64}]
[null,{"$f":"+TablaCVP_pre[[#This Row],[Nombre unidad TCV]]","v":"Yungay 4 ca"},0,0,0,0,0,0,0,0,0,15711.336000000001,0,35003.734000000004,{"$f":"+SUM(TablaGxN_NTH2[[#This Row],[Enero]:[Diciembre]])","v":50715.070000000007}]
[null,{"$f":"+TablaCVP_pre[[#This Row],[Nombre unidad TCV]]","v":"Los Guindos 2"},0,0,0,0,0,0,0,0,0,102215.613,0,0,{"$f":"+SUM(TablaGxN_NTH2[[#This Row],[Enero]:[Diciembre]])","v":102215.613}]

{"sheet":"GxN_NTH3","index":12,"n_rows":101,"n_cols":15,"rows_kept":101,"cut":false,"hidden":false,"merged":[]}
[]
[null,"Generación Neta NTH3"]
[]
[null,"Nombre unidad TCV","Enero","Febrero","Marzo","Abril","Mayo","Junio","Julio","Agosto","Septiembre","Octubre","Noviembre","Diciembre","Total"]
[null,{"$f":"+TablaCVP_pre[[#This Row],[Nombre unidad TCV]]","v":"ANG1"},22947485.944000002,18541495.377000004,22707553.209999993,16617912.347999999,9341133.3509999961,8135602.4159999974,19227940.614999998,4319168.3549999995,4847387.3229999989,13967583.109000005,7819414.4510000013,1957492.9169999999,{"$f":"+SUM(TablaGxN_NTH3[[#This Row],[Enero]:[Diciembre]])","v":150430169.41600001}]
[null,{"$f":"+TablaCVP_pre[[#This Row],[Nombre unidad TCV]]","v":"ANG2"},16752008.262999997,19533886.763000008,21207008.939999998,15744085.203999992,7353840.6370000001,4210741.0149999997,15291962.691000005,5172841.7030000016,2941863.0109999999,11310376.936999997,7957436.9840000011,1673723.0519999999,{"$f":"+SUM(TablaGxN_NTH3[[#This Row],[Enero]:[Diciembre]])","v":129149775.19999999}]
[null,{"$f":"+TablaCVP_pre[[#This Row],[Nombre unidad TCV]]","v":"Antilhue TG U1"},886586.85499999986,2980913.358,4990302.1530000009,242346.30399999997,273491.09700000001,122526.702,33390.699999999997,0,0,127699.04900000001,0,347375.64500000002,{"$f":"+SUM(TablaGxN_NTH3[[#This Row],[Enero]:[Diciembre]])","v":10004631.862999998}]
[null,{"$f":"+TablaCVP_pre[[#This Row],[Nombre unidad TCV]]","v":"Antilhue TG U2"},188302.73699999999,3464778.5299999993,1081499.746,2156443.4249999998,0,0,0,0,0,238415.97100000002,0,145260.63399999999,{"$f":"+SUM(TablaGxN_NTH3[[#This Row],[Enero]:[Diciembre]])","v":7274701.0429999987}]
[null,{"$f":"+TablaCVP_pre[[#This Row],[Nombre unidad TCV]]","v":"Arauco"},0,0,0,0,0,0,0,0,0,0,0,0,{"$f":"+SUM(TablaGxN_NTH3[[#This Row],[Enero]:[Diciembre]])","v":0}]
[null,{"$f":"+TablaCVP_pre[[#This Row],[Nombre unidad TCV]]","v":"Bocamina"},6566325.5259999968,21914892.058999997,16603483.653999999,182843.53999999998,1296742.3039999998,2729313.3339999998,8013388.6929999962,1333375.628,14832837.024999997,19721992.965000007,38251494.577000022,8213446.3440000024,{"$f":"+SUM(TablaGxN_NTH3[[#This Row],[Enero]:[Diciembre]])","v":139660135.64900002}]
[null,{"$f":"+TablaCVP_pre[[#This Row],[Nombre unidad TCV]]","v":"Bocamina II"},57559407.065999955,44671414.584999986,29049295.683999989,0,263555.46500000003,2407252.5419999994,8699645.7259999998,309420.07,15709016.218,50036324.13099999,9620921.3889999986,93685788.138000026,{"$f":"+SUM(TablaGxN_NTH3[[#This Row],[Enero]:[Diciembre]])","v":312012041.01399994}]
[null,{"$f":"+TablaCVP_pre[[#This Row],[Nombre unidad TCV]]","v":"Campiche"},9642022.1069999989,11238059.366000002,4259943.9369999999,3901608.7820000001,1311786.0969999998,10831651.82,8774353.9220000003,2490676.4780000001,3538261.8880000007,35940627.861999981,15437607.155000009,24700617.289999984,{"$f":"+SUM(TablaGxN_NTH3[[#This Row],[Enero]:[Diciembre]])","v":132067216.70399997}]
[null,{"$f":"+TablaCVP_pre[[#This Row],[Nombre unidad TCV]]","v":"Candelaria 1"},0,0,54595.092602854398,0,54206.436005935502,992418.77700000012,0,81548.736000000004,516503.57,4310.7640000000001,0,0,{"$f":"+SUM(TablaGxN_NTH3[[#This Row],[Enero]:[Diciembre]])","v":1703583.37560879}]
[null,{"$f":"+TablaCVP_pre[[#This Row],[Nombre unidad TCV]]","v":"Candelaria 2"},0,0,84492.307299828899,0,0,1074055.6949999998,0,65792.990999999995,470051.79700000002,0,100021.75599999999,0,{"$f":"+SUM(TablaGxN_NTH3[[#This Row],[Enero]:[Diciembre]])","v":1794414.5462998287}]
[null,{"$f":"+TablaCVP_pre[[#This Row],[Nombre unidad TCV]]","v":"Cardones"},0,0,0,0,0,4.1630000000000003,0,0,0,0,0,0,{"$f":"+SUM(TablaGxN_NTH3[[#This Row],[Enero]:[Diciembre]])","v":4.1630000000000003}]
[null,{"$f":"+TablaCVP_pre[[#This Row],[Nombre unidad TCV]]","v":"CC KELAR"},20905162.940000005,59455621.180000015,29141985.409999993,45136154.498999998,37860405.100000009,17899682.530000001,1584404.8389999997,9666596.2360000014,6495160.0430000005,9490969.9110000003,959484.10299999989,0,{"$f":"+SUM(TablaGxN_NTH3[[#This Row],[Enero]:[Diciembre]])","v":238595626.79100001}]
[null,{"$f":"+TablaCVP_pre[[#This Row],[Nombre unidad TCV]]","v":"CC1"},17673777.044,9705464.7019999996,2487937.8390000002,7693013.9477787595,2711115.3559999997,11136266.422317935,0,3733539.1529999995,7227050.0970000019,5014306.6520000007,3293705.2839999995,40934.54,{"$f":"+SUM(TablaGxN_NTH3[[#This Row],[Enero]:[Diciembre]])","v":70717111.037096694}]
[null,{"$f":"+TablaCVP_pre[[#This Row],[Nombre unidad TCV]]","v":"CC2"},11061770.346472939,2902416.5779999997,4512784.8659999995,3466879.1363828727,2160176.1020909273,3120848.931946591,0,0,3875100.7430000002,2064041.150780166,523274.14600000001,35130.678,{"$f":"+SUM(TablaGxN_NTH3[[#This Row],[Enero]:[Diciembre]])","v":33722422.678673506}]
[null,{"$f":"+TablaCVP_pre[[#This Row],[Nombre unidad TCV]]","v":"CCH1"},36266122.590000011,34522507.539999999,48828259.920000017,33732944.986999989,38764289.892999992,15119107.403999995,19069370.519999988,5649066.7840000018,18011481.989000004,21014740.574000001,23864201.573000003,17782331.728,{"$f":"+SUM(TablaGxN_NTH3[[#This Row],[Enero]:[Diciembre]])","v":312624425.50199997}]
[null,{"$f":"+TablaCVP_pre[[#This Row],[Nombre unidad TCV]]","v":"CCH2"},37711974.59799999,35419926.356999993,55888394.061000004,41278358.637000024,39457811.337000027,14230655.285,16217221.743000001,7480355.5499999989,16940766.184000008,20370306.379000016,23104094.565999988,19152890.622999996,{"$f":"+SUM(TablaGxN_NTH3[[#This Row],[Enero]:[Diciembre]])","v":327252755.32000005}]
[null,{"$f":"+TablaCVP_pre[[#This Row],[Nombre unidad TCV]]","v":"CD Iquique"},0,0,0,0,0,0,0,0,0,0,0,0,{"$f":"+SUM(TablaGxN_NTH3[[#This Row],[Enero]:[Diciembre]])","v":0}]
[null,{"$f":"+TablaCVP_pre[[#This Row],[Nombre unidad TCV]]","v":"Celco"},37221.101999999999,49031.931000000004,0,0,15013.724999999999,0,43890.438000000002,13660.103000000001,0,0,573021.30200000003,125003.198,{"$f":"+SUM(TablaGxN_NTH3[[#This Row],[Enero]:[Diciembre]])","v":856841.799}]
[null,{"$f":"+TablaCVP_pre[[#This Row],[Nombre unidad TCV]]","v":"Cholguán"},0,0,0,0,0,0,0,0,0,0,0,0,{"$f":"+SUM(TablaGxN_NTH3[[#This Row],[Enero]:[Diciembre]])","v":0}]
[null,{"$f":"+TablaCVP_pre[[#This Row],[Nombre unidad TCV]]","v":"CMPC Cordillera"},0,0,0,0,0,0,0,0,0,12490.263000000001,0,0,{"$f":"+SUM(TablaGxN_NTH3[[#This Row],[Enero]:[Diciembre]])","v":12490.263000000001}]
[null,{"$f":"+TablaCVP_pre[[#This Row],[Nombre unidad TCV]]","v":"CMPC Laja"},0,0,0,0,0,0,0,415513.00600000005,25481.538,172325.86799999999,0,0,{"$f":"+SUM(TablaGxN_NTH3[[#This Row],[Enero]:[Diciembre]])","v":613320.41200000001}]
[null,{"$f":"+TablaCVP_pre[[#This Row],[Nombre unidad TCV]]","v":"CMPC Pacífico"},0,0,0,52142.115999999995,96899.212,0,0,301200.717,308548.73499999999,141229.049,28952.018,0,{"$f":"+SUM(TablaGxN_NTH3[[#This Row],[Enero]:[Diciembre]])","v":928971.84700000007}]
[null,{"$f":"+TablaCVP_pre[[#This Row],[Nombre unidad TCV]]","v":"CMPC Santa Fe"},0,0,0,0,0,0,0,0,0,0,0,0,{"$f":"+SUM(TablaGxN_NTH3[[#This Row],[Enero]:[Diciembre]])","v":0}]
[null,{"$f":"+TablaCVP_pre[[#This Row],[Nombre unidad TCV]]","v":"CMPC TISSUE"},0,0,0,0,0,0,0,0,0,0,0,0,{"$f":"+SUM(TablaGxN_NTH3[[#This Row],[Enero]:[Diciembre]])","v":0}]
[null,{"$f":"+TablaCVP_pre[[#This Row],[Nombre unidad TCV]]","v":"Colmito"},260350.617,412820.53200000001,12250608.139999993,12217151.498999991,14578433.745000001,3060036.2079999996,6256391.4969999967,2493109.3909999994,620428.34100000001,139028.47399999999,53667.480999999992,0,{"$f":"+SUM(TablaGxN_NTH3[[#This Row],[Enero]:[Diciembre]])","v":52342025.924999975}]
[null,{"$f":"+TablaCVP_pre[[#This Row],[Nombre unidad TCV]]","v":"CTA"},23316177.182999976,23381850.760999992,9212298.5830000043,6148079.6719999965,17774143.463,3803222.6529999995,0,105466.29399999999,5394240.8150000032,11610603.430999998,20437836.331000008,12305805.838999998,{"$f":"+SUM(TablaGxN_NTH3[[#This Row],[Enero]:[Diciembre]])","v":133489725.02499996}]
[null,{"$f":"+TablaCVP_pre[[#This Row],[Nombre unidad TCV]]","v":"CTH"},27941760.417999998,14722958.882000001,27764073.931000002,19444215.993000012,17527183.066000007,10624075.411999997,2640098.3300000005,2308167.4969999995,3493128.6440000008,4243588.3369999994,14589388.075999992,7478230.6370000001,{"$f":"+SUM(TablaGxN_NTH3[[#This Row],[Enero]:[Diciembre]])","v":152776869.22299999}]
[null,{"$f":"+TablaCVP_pre[[#This Row],[Nombre unidad TCV]]","v":"CTM1"},2288670.321,12309899.878999993,15621303.501000004,15655022.776000004,23142445.303000014,0,2148474.1819999996,31248580.303000018,9960812.0740000084,18860818.912000008,13541031.589999998,0,{"$f":"+SUM(TablaGxN_NTH3[[#This Row],[Enero]:[Diciembre]])","v":144777058.84100005}]
[null,{"$f":"+TablaCVP_pre[[#This Row],[Nombre unidad TCV]]","v":"CTM2"},9857579.6669999957,14180632.439999999,14108432.687000001,407207.48,866630.37400000007,2426498.6570000001,6849531.7800000049,14198236.665999999,7619780.3890000023,3306.4250000000002,15012638.911999997,3449645.0890000002,{"$f":"+SUM(TablaGxN_NTH3[[#This Row],[Enero]:[Diciembre]])","v":88980120.566}]
[null,{"$f":"+TablaCVP_pre[[#This Row],[Nombre unidad TCV]]","v":"CTM3"},0,18447656.235999998,13437599.818,11780670.308333334,7949130.5160000017,20569347.509000007,690118.62400000007,4705690.9460000005,12713818.125999989,17402417.479000006,49658196.07599999,7509313.7470000004,{"$f":"+SUM(TablaGxN_NTH3[[#This Row],[Enero]:[Diciembre]])","v":164863959.38533333}]
[null,{"$f":"+TablaCVP_pre[[#This Row],[Nombre unidad TCV]]","v":"CTTAR"},5463311.3939999994,12827413.117000001,8136889.7849999974,8644694.7549999971,4370555.5979999984,10592294.243999995,14268048.538000001,1426168.7240000004,2323886.8160000001,15994980.654000008,20531279.138,28095053.182000015,{"$f":"+SUM(TablaGxN_NTH3[[#This Row],[Enero]:[Diciembre]])","v":132674575.94500001}]
[null,{"$f":"+TablaCVP_pre[[#This Row],[Nombre unidad TCV]]","v":"Diego de Almagro"},0,0,0,90981.696999999986,0,0,0,0,0,0,0,11693.101000000001,{"$f":"+SUM(TablaGxN_NTH3[[#This Row],[Enero]:[Diciembre]])","v":102674.79799999998}]
[null,{"$f":"+TablaCVP_pre[[#This Row],[Nombre unidad TCV]]","v":"El Salvador"},0,0,0,59127.482000000004,0,0,0,0,0,0,0,0,{"$f":"+SUM(TablaGxN_NTH3[[#This Row],[Enero]:[Diciembre]])","v":59127.482000000004}]
[null,{"$f":"+TablaCVP_pre[[#This Row],[Nombre unidad TCV]]","v":"Emelda U1"},0,4771.5,0,188479.5,0,1475,1375.5,0,1149,0,0,1318.5,{"$f":"+SUM(TablaGxN_NTH3[[#This Row],[Enero]:[Diciembre]])","v":198569}]
[null,{"$f":"+TablaCVP_pre[[#This Row],[Nombre unidad TCV]]","v":"Emelda U2"},25229.87,0,506052.25,57220.621999999996,0,1351.75,1520.25,0,1340.88,0,16463.12,1102.25,{"$f":"+SUM(TablaGxN_NTH3[[#This Row],[Enero]:[Diciembre]])","v":610280.99199999997}]
[null,{"$f":"+TablaCVP_pre[[#This Row],[Nombre unidad TCV]]","v":"Energía Pacífico"},0,33321.328000000001,380971.29499999998,89935.320999999996,77068.953999999998,19438.762999999999,0,118460.264,285368.77599999995,116878.64599999999,32082.342000000001,7391451.4449999994,{"$f":"+SUM(TablaGxN_NTH3[[#This Row],[Enero]:[Diciembre]])","v":8544977.1339999996}]
[null,{"$f":"+TablaCVP_pre[[#This Row],[Nombre unidad TCV]]","v":"Escuadrón"},10084.215999999999,31936.71,46675.404000000002,41339.591,149844.56300000002,27283.047000000002,44692.644999999997,51395.810000000005,8772.73,1092.1510000000001,3859.99,0,{"$f":"+SUM(TablaGxN_NTH3[[#This Row],[Enero]:[Diciembre]])","v":416976.85700000008}]
[null,{"$f":"+TablaCVP_pre[[#This Row],[Nombre unidad TCV]]","v":"Esperanza TG"},0,0,0,0,58822.505999999994,102252.197,0,0,0,0,0,0,{"$f":"+SUM(TablaGxN_NTH3[[#This Row],[Enero]:[Diciembre]])","v":161074.70299999998}]
[null,{"$f":"+TablaCVP_pre[[#This Row],[Nombre unidad TCV]]","v":"Guacolda 1"},18902893.148394778,11680081.828548362,15662708.055850482,15016486.858657869,11789138.133332403,2667163.7543339566,269963.27878993517,3652633.1103938101,831750.11006700876,5439711.3107372411,5469205.8991269618,2311975.5701545547,{"$f":"+SUM(TablaGxN_NTH3[[#This Row],[Enero]:[Diciembre]])","v":93693711.058387354}]
[null,{"$f":"+TablaCVP_pre[[#This Row],[Nombre unidad TCV]]","v":"Guacolda 2"},14842935.738369333,12193016.124948487,16791061.959742434,15421645.960567979,7270237.7753115259,5022388.5903179077,325651.02273657342,4292125.08171516,1839092.8463146477,7944398.5510506583,5135570.824119729,3129947.6708460515,{"$f":"+SUM(TablaGxN_NTH3[[#This Row],[Enero]:[Diciembre]])","v":94208072.146040499}]
[null,{"$f":"+TablaCVP_pre[[#This Row],[Nombre unidad TCV]]","v":"Guacolda 3"},15556822.76277086,8029597.569989915,12362083.741445398,8911888.0518560838,7689914.2433749903,731188.96560619376,0,3364968.4781388766,6221492.2416772963,1938672.5471567011,13582388.86267538,13669234.216397392,{"$f":"+SUM(TablaGxN_NTH3[[#This Row],[Enero]:[Diciembre]])","v":92058251.681089088}]
[null,{"$f":"+TablaCVP_pre[[#This Row],[Nombre unidad TCV]]","v":"Guacolda 4"},14288392.132524835,9506318.9807761759,13464401.506647574,12078994.256797815,9662135.5880783424,3567638.0109462594,926606.47279878287,3508231.0782936444,2005092.5304387505,9212551.2959631886,10750458.597327851,8406926.3654705919,{"$f":"+SUM(TablaGxN_NTH3[[#This Row],[Enero]:[Diciembre]])","v":97377746.816063792}]
[null,{"$f":"+TablaCVP_pre[[#This Row],[Nombre unidad TCV]]","v":"Guacolda 5"},12249991.196711902,5735516.6631749813,10525578.884590548,8084637.3374935575,8183526.2238060255,591703.93128216325,122300.7241140351,2092226.4098510563,207073.73195539491,2299344.9383796803,2259047.3002186837,592374.00277002878,{"$f":"+SUM(TablaGxN_NTH3[[#This Row],[Enero]:[Diciembre]])","v":52943321.344348066}]
[null,{"$f":"+TablaCVP_pre[[#This Row],[Nombre unidad TCV]]","v":"Horcones"},0,0,1520.414,10547.111000000001,0,672.13,0,0,0,0,0,32799.097000000002,{"$f":"+SUM(TablaGxN_NTH3[[#This Row],[Enero]:[Diciembre]])","v":45538.752}]
[null,{"$f":"+TablaCVP_pre[[#This Row],[Nombre unidad TCV]]","v":"Huasco TG"},0,0,0,0,0,0,0,2340.4589999999998,19485.137999999999,48277.417000000001,0,8376.4520000000011,{"$f":"+SUM(TablaGxN_NTH3[[#This Row],[Enero]:[Diciembre]])","v":78479.466}]
[null,{"$f":"+TablaCVP_pre[[#This Row],[Nombre unidad TCV]]","v":"IEM"},0,0,0,0,8817418.9969999976,11327672.498999998,4061172.8,983581.83500000008,0,20084311.282000009,23012900.816000003,8574515.4170704149,{"$f":"+SUM(TablaGxN_NTH3[[#This Row],[Enero]:[Diciembre]])","v":76861573.646070421}]
[null,{"$f":"+TablaCVP_pre[[#This Row],[Nombre unidad TCV]]","v":"Laguna Verde TG"},0,0,0,0,0,0,0,0,0,0,0,0,{"$f":"+SUM(TablaGxN_NTH3[[#This Row],[Enero]:[Diciembre]])","v":0}]
[null,{"$f":"+TablaCVP_pre[[#This Row],[Nombre unidad TCV]]","v":"Laguna Verde TV"},0,0,0,0,0,0,0,0,0,0,0,0,{"$f":"+SUM(TablaGxN_NTH3[[#This Row],[Enero]:[Diciembre]])","v":0}]
[null,{"$f":"+TablaCVP_pre[[#This Row],[Nombre unidad TCV]]","v":"Laja"},13439.788,21444.866999999998,0,9301.2389999999996,20509.004000000001,44046.579000000005,20934.875,30996.535,0,0,2377.9290000000001,0,{"$f":"+SUM(TablaGxN_NTH3[[#This Row],[Enero]:[Diciembre]])","v":163050.81600000002}]
[null,{"$f":"+TablaCVP_pre[[#This Row],[Nombre unidad TCV]]","v":"Lautaro-Comasa"},180382.671,125220.109,206655.72799999997,268392.98199999996,228142.85900000003,153829.91600000003,89879.116000000009,249007.12900000002,43835.251000000004,197580.21900000001,0,0,{"$f":"+SUM(TablaGxN_NTH3[[#This Row],[Enero]:[Diciembre]])","v":1742925.98}]
[null,{"$f":"+TablaCVP_pre[[#This Row],[Nombre unidad TCV]]","v":"Lautaro-Comasa 2"},0,0,0,0,0,0,558069.79499999993,118875.77899999999,0,0,0,0,{"$f":"+SUM(TablaGxN_NTH3[[#This Row],[Enero]:[Diciembre]])","v":676945.57399999991}]
[null,{"$f":"+TablaCVP_pre[[#This Row],[Nombre unidad TCV]]","v":"Licantén"},0,0,0,0,3501.5320740740744,100.82026923076926,0,0,1329.7973728809516,0,0,0,{"$f":"+SUM(TablaGxN_NTH3[[#This Row],[Enero]:[Diciembre]])","v":4932.1497161857951}]
[null,{"$f":"+TablaCVP_pre[[#This Row],[Nombre unidad TCV]]","v":"Los Guindos"},0,0,0,0,73198.010999999999,0,0,0,0,0,0,0,{"$f":"+SUM(TablaGxN_NTH3[[#This Row],[Enero]:[Diciembre]])","v":73198.010999999999}]
[null,{"$f":"+TablaCVP_pre[[#This Row],[Nombre unidad TCV]]","v":"Los Pinos"},567121.24200000009,784067.55300000007,277199.57400000002,3599535.6830000007,1073891.483,60902.858999999997,0,0,0,0,48799.777000000002,0,{"$f":"+SUM(TablaGxN_NTH3[[#This Row],[Enero]:[Diciembre]])","v":6411518.171000001}]
[null,{"$f":"+TablaCVP_pre[[#This Row],[Nombre unidad TCV]]","v":"Los Vientos"},757384.03599999996,884696.96900000004,24591339.956999991,13134688.653999994,23294160.89100001,960979.7570000001,6177463.7210000036,2010913.3469999991,342415.76900000003,0,258751.81599999999,0,{"$f":"+SUM(TablaGxN_NTH3[[#This Row],[Enero]:[Diciembre]])","v":72412794.916999996}]
[null,{"$f":"+TablaCVP_pre[[#This Row],[Nombre unidad TCV]]","v":"Masisa (Cabrero)"},7277.5659999999998,7470.6409999999996,0,0,28198.238999999998,114036.85500000001,171635.31000000003,92638.409999999989,97799.455999999991,44878.620999999999,79995.915000000023,0,{"$f":"+SUM(TablaGxN_NTH3[[#This Row],[Enero]:[Diciembre]])","v":643931.01300000004}]
[null,{"$f":"+TablaCVP_pre[[#This Row],[Nombre unidad TCV]]","v":"Nehuenco"},0,0,0,0,319543.34000000003,2708730.037,0,3212898.2549999999,8314943.5719999997,63471453.558999978,25187101.808999997,4394816.3809999991,{"$f":"+SUM(TablaGxN_NTH3[[#This Row],[Enero]:[Diciembre]])","v":107609486.95299998}]
[null,{"$f":"+TablaCVP_pre[[#This Row],[Nombre unidad TCV]]","v":"Nehuenco II"},1149065.547,0,82750.399999999994,0,25373149.335000008,11073247.191000003,11894921.820999997,0,17216687.738999996,66498700.22299999,1170643.237,16982102.995000001,{"$f":"+SUM(TablaGxN_NTH3[[#This Row],[Enero]:[Diciembre]])","v":151441268.48800001}]
[null,{"$f":"+TablaCVP_pre[[#This Row],[Nombre unidad TCV]]","v":"Nehuenco TG 9B"},0,0,0,0,0,0,0,208267.83600000001,581054.83999999985,0,0,614826.50600000005,{"$f":"+SUM(TablaGxN_NTH3[[#This Row],[Enero]:[Diciembre]])","v":1404149.182}]
[null,{"$f":"+TablaCVP_pre[[#This Row],[Nombre unidad TCV]]","v":"NTO1"},19311364.671186946,22533240.887842875,29691135.95416316,5757899.0154565405,2081077.494752802,183189.25474577257,2109501.0336750275,1292945.4475677533,5724362.6695716744,10225858.261591269,15793410.367601838,14126265.014286153,{"$f":"+SUM(TablaGxN_NTH3[[#This Row],[Enero]:[Diciembre]])","v":128830250.07244182}]
[null,{"$f":"+TablaCVP_pre[[#This Row],[Nombre unidad TCV]]","v":"NTO2"},15194803.333329264,9455953.6960644703,24141492.968502045,5056770.3678049073,377577.70355512068,567103.15292032633,1932320.4343790703,0,2430317.001962021,9075040.742950514,10147230.659021499,11296914.62919103,{"$f":"+SUM(TablaGxN_NTH3[[#This Row],[Enero]:[Diciembre]])","v":89675524.689680263}]
[null,{"$f":"+TablaCVP_pre[[#This Row],[Nombre unidad TCV]]","v":"Nueva Aldea I"},0,0,0,0,0,0,0,0,0,0,0,0,{"$f":"+SUM(TablaGxN_NTH3[[#This Row],[Enero]:[Diciembre]])","v":0}]
[null,{"$f":"+TablaCVP_pre[[#This Row],[Nombre unidad TCV]]","v":"Nueva Aldea III"},0,0,0,0,0,0,0,0,0,0,0,0,{"$f":"+SUM(TablaGxN_NTH3[[#This Row],[Enero]:[Diciembre]])","v":0}]
[null,{"$f":"+TablaCVP_pre[[#This Row],[Nombre unidad TCV]]","v":"Nueva Renca"},12691485.774213824,26722686.755129457,10220656.200999998,6057053.3831560742,4573162.3900000006,19193817.662999995,23511173.783,0,19861166.005283169,85188048.725916237,93911359.677000016,49605986.637624137,{"$f":"+SUM(TablaGxN_NTH3[[#This Row],[Enero]:[Diciembre]])","v":351536596.99532294}]
[null,{"$f":"+TablaCVP_pre[[#This Row],[Nombre unidad TCV]]","v":"Nueva Ventanas"},0,10195736.629999999,5481112.2580000013,3752586.2849999992,1148880.9080000001,11049818.620000005,2561726.7410000004,1675384.7239999999,4252820.1749999998,46571230.512000024,20525294.750999991,13246635.520000003,{"$f":"+SUM(TablaGxN_NTH3[[#This Row],[Enero]:[Diciembre]])","v":120461227.12400001}]
[null,{"$f":"+TablaCVP_pre[[#This Row],[Nombre unidad TCV]]","v":"Petropower"},0,0,0,0,0,0,0,0,0,0,0,0,{"$f":"+SUM(TablaGxN_NTH3[[#This Row],[Enero]:[Diciembre]])","v":0}]
[null,{"$f":"+TablaCVP_pre[[#This Row],[Nombre unidad TCV]]","v":"Quintero A"},2656672.8827181584,4906780.1619084589,5486247.7016440257,9449070.391531406,5083375.7489428483,0,104163.204,588786.65281487396,0,1482345.338451274,110015.81554624083,0,{"$f":"+SUM(TablaGxN_NTH3[[#This Row],[Enero]:[Diciembre]])","v":29867457.897557285}]
[null,{"$f":"+TablaCVP_pre[[#This Row],[Nombre unidad TCV]]","v":"Quintero B"},2475919.617088832,4161228.632663684,4618941.4323559739,11209448.156729994,4368192.7899060417,0,123060.31,554996.6261851259,2168295.2899999996,1792112.0085487259,72939.040555555548,0,{"$f":"+SUM(TablaGxN_NTH3[[#This Row],[Enero]:[Diciembre]])","v":31545133.904033933}]
[null,{"$f":"+TablaCVP_pre[[#This Row],[Nombre unidad TCV]]","v":"Renca U1"},0,0,0,0,0,0,0,0,0,0,0,0,{"$f":"+SUM(TablaGxN_NTH3[[#This Row],[Enero]:[Diciembre]])","v":0}]
[null,{"$f":"+TablaCVP_pre[[#This Row],[Nombre unidad TCV]]","v":"Renca U2"},0,0,0,0,0,0,0,0,0,0,0,0,{"$f":"+SUM(TablaGxN_NTH3[[#This Row],[Enero]:[Diciembre]])","v":0}]
[null,{"$f":"+TablaCVP_pre[[#This Row],[Nombre unidad TCV]]","v":"San Isidro"},4881980.5209999997,45013205.868777789,38575485.543999992,31987206.420000002,36628935.69707825,25562265.096146222,9891358.5441437922,29255508.784000002,3552173.6809999999,42438437.238323905,3897015.5599999996,4802730.2950000009,{"$f":"+SUM(TablaGxN_NTH3[[#This Row],[Enero]:[Diciembre]])","v":276486303.24946994}]
[null,{"$f":"+TablaCVP_pre[[#This Row],[Nombre unidad TCV]]","v":"San Isidro II"},6339637.4380000001,13789026.265509805,10653232.061000001,14569249.326000001,49101513.085264899,55545276.545968145,17804514.248999998,27678408.423999995,6331588.6060000015,20266238.355,65227741.159000002,54087234.217000008,{"$f":"+SUM(TablaGxN_NTH3[[#This Row],[Enero]:[Diciembre]])","v":341393659.7317428}]
[null,{"$f":"+TablaCVP_pre[[#This Row],[Nombre unidad TCV]]","v":"San Lorenzo de D. de Almagro U1"},0,0,0,0,0,0,0,0,0,0,0,0,{"$f":"+SUM(TablaGxN_NTH3[[#This Row],[Enero]:[Diciembre]])","v":0}]
[null,{"$f":"+TablaCVP_pre[[#This Row],[Nombre unidad TCV]]","v":"San Lorenzo de D. de Almagro U2"},0,0,0,0,0,0,0,0,0,0,0,0,{"$f":"+SUM(TablaGxN_NTH3[[#This Row],[Enero]:[Diciembre]])","v":0}]
[null,{"$f":"+TablaCVP_pre[[#This Row],[Nombre unidad TCV]]","v":"Santa Lidia"},0,0,0,0,1782926.3840000003,0,0,0,0,0,0,0,{"$f":"+SUM(TablaGxN_NTH3[[#This Row],[Enero]:[Diciembre]])","v":1782926.3840000003}]
[null,{"$f":"+TablaCVP_pre[[#This Row],[Nombre unidad TCV]]","v":"Santa María"},923145.25799999991,2115217.2179999999,0,0,251711.924,4991863.504999999,15850910.635999996,0,0,0,69113198.878000021,142898114.53799987,{"$f":"+SUM(TablaGxN_NTH3[[#This Row],[Enero]:[Diciembre]])","v":236144161.9569999}]
[null,{"$f":"+TablaCVP_pre[[#This Row],[Nombre unidad TCV]]","v":"Taltal 1"},0,0,637316.13099999994,1002874.985,0,0,0,0,47324.920999999995,454935.34100000001,29828.118999999999,0,{"$f":"+SUM(TablaGxN_NTH3[[#This Row],[Enero]:[Diciembre]])","v":2172279.497}]
[null,{"$f":"+TablaCVP_pre[[#This Row],[Nombre unidad TCV]]","v":"Taltal 2"},0,0,5087612.8719999995,2071419.8399999999,0,0,0,0,0,115545.88800000001,88508.467999999993,0,{"$f":"+SUM(TablaGxN_NTH3[[#This Row],[Enero]:[Diciembre]])","v":7363087.068}]
[null,{"$f":"+TablaCVP_pre[[#This Row],[Nombre unidad TCV]]","v":"TG_Coronel"},0,0,933329.05999999982,0,0,171417.261,0,0,0,40511.014000000003,0,0,{"$f":"+SUM(TablaGxN_NTH3[[#This Row],[Enero]:[Diciembre]])","v":1145257.3349999997}]
[null,{"$f":"+TablaCVP_pre[[#This Row],[Nombre unidad TCV]]","v":"TG1"},0,0,0,0,0,0,0,0,0,0,0,0,{"$f":"+SUM(TablaGxN_NTH3[[#This Row],[Enero]:[Diciembre]])","v":0}]
[null,{"$f":"+TablaCVP_pre[[#This Row],[Nombre unidad TCV]]","v":"TG2"},0,0,0,0,0,0,0,0,0,0,0,0,{"$f":"+SUM(TablaGxN_NTH3[[#This Row],[Enero]:[Diciembre]])","v":0}]
[null,{"$f":"+TablaCVP_pre[[#This Row],[Nombre unidad TCV]]","v":"TG3"},47656.161150289467,53570.621909863483,70823.26571520431,277354.50348494237,226421.89982817706,0,24962.502844852348,135834.52586931572,389814.07937331224,254557.53930171599,49217.321322160453,290525.63837595657,{"$f":"+SUM(TablaGxN_NTH3[[#This Row],[Enero]:[Diciembre]])","v":1820738.0591757901}]
[null,{"$f":"+TablaCVP_pre[[#This Row],[Nombre unidad TCV]]","v":"TGTAR"},0,0,0,50217.835999999996,0,0,0,0,0,0,0,66.353999999999999,{"$f":"+SUM(TablaGxN_NTH3[[#This Row],[Enero]:[Diciembre]])","v":50284.189999999995}]
[null,{"$f":"+TablaCVP_pre[[#This Row],[Nombre unidad TCV]]","v":"U12"},0,2779982.942806494,2142792.5578373093,0,0,0,0,0,0,0,0,0,{"$f":"+SUM(TablaGxN_NTH3[[#This Row],[Enero]:[Diciembre]])","v":4922775.5006438028}]
[null,{"$f":"+TablaCVP_pre[[#This Row],[Nombre unidad TCV]]","v":"U13"},0,0,0,0,0,0,0,0,0,0,0,0,{"$f":"+SUM(TablaGxN_NTH3[[#This Row],[Enero]:[Diciembre]])","v":0}]
[null,{"$f":"+TablaCVP_pre[[#This Row],[Nombre unidad TCV]]","v":"U14"},10046054.004293304,1396896.5957111237,7910906.7270337213,0,755.3732944363087,1125696.3254758867,0,6505728.21874029,1155829.4280476763,3041169.2562043918,0,0,{"$f":"+SUM(TablaGxN_NTH3[[#This Row],[Enero]:[Diciembre]])","v":31183035.928800829}]
[null,{"$f":"+TablaCVP_pre[[#This Row],[Nombre unidad TCV]]","v":"U15"},18228202.213243604,1401698.5050807144,8336627.7741684606,22288671.824356467,10561623.747637961,0,0,3376688.5932244873,0,1516351.3142037934,0,1378271.3735648033,{"$f":"+SUM(TablaGxN_NTH3[[#This Row],[Enero]:[Diciembre]])","v":67088135.345480286}]
[null,{"$f":"+TablaCVP_pre[[#This Row],[Nombre unidad TCV]]","v":"U16"},17348909.516880311,5013606.7538410127,17503836.273390122,8011370.7492186138,10279383.650323309,10465208.72811345,4523203.5637040511,17827719.743923455,37028425.239603505,12653468.004824791,0,0,{"$f":"+SUM(TablaGxN_NTH3[[#This Row],[Enero]:[Diciembre]])","v":140655132.22382262}]
[null,{"$f":"+TablaCVP_pre[[#This Row],[Nombre unidad TCV]]","v":"Valdivia"},1804.2326052631588,14129.509774883656,0,3199.8243539823006,0,0,0,0,0,0,0,0,{"$f":"+SUM(TablaGxN_NTH3[[#This Row],[Enero]:[Diciembre]])","v":19133.566734129116}]
[null,{"$f":"+TablaCVP_pre[[#This Row],[Nombre unidad TCV]]","v":"Ventanas 1"},23966093.912,21528631.498999987,31126458.491000015,28828342.999999981,0,0,0,0,2941991.6439999994,3647116.2649999997,0,0,{"$f":"+SUM(TablaGxN_NTH3[[#This Row],[Enero]:[Diciembre]])","v":112038634.81099997}]
[null,{"$f":"+TablaCVP_pre[[#This Row],[Nombre unidad TCV]]","v":"Ventanas 2"},42046684.470000006,31106057.136999998,11765323.988999996,0,12293883.502000002,50209270.396000028,23836228.715999983,30633370.311000004,61369734.898000054,63672558.928000003,58289026.104999885,65623357.593999982,{"$f":"+SUM(TablaGxN_NTH3[[#This Row],[Enero]:[Diciembre]])","v":450845496.046}]
[null,{"$f":"+TablaCVP_pre[[#This Row],[Nombre unidad TCV]]","v":"Viñales"},0,0,0,0,0,0,0,0,0,65238.381000000001,38372.231,27909.773000000001,{"$f":"+SUM(TablaGxN_NTH3[[#This Row],[Enero]:[Diciembre]])","v":131520.38500000001}]
[null,{"$f":"+TablaCVP_pre[[#This Row],[Nombre unidad TCV]]","v":"Yungay 1"},0,0,0,0,0,0,0,0,0,46862.544999999998,0,73040.062000000005,{"$f":"+SUM(TablaGxN_NTH3[[#This Row],[Enero]:[Diciembre]])","v":119902.607}]
[null,{"$f":"+TablaCVP_pre[[#This Row],[Nombre unidad TCV]]","v":"Yungay 2"},0,0,0,0,0,0,0,0,0,57065.760999999999,0,65876.58,{"$f":"+SUM(TablaGxN_NTH3[[#This Row],[Enero]:[Diciembre]])","v":122942.341}]
[null,{"$f":"+TablaCVP_pre[[#This Row],[Nombre unidad TCV]]","v":"Yungay 3"},0,0,0,0,0,0,0,0,0,32806.036999999997,0,150909.603,{"$f":"+SUM(TablaGxN_NTH3[[#This Row],[Enero]:[Diciembre]])","v":183715.64}]
[null,{"$f":"+TablaCVP_pre[[#This Row],[Nombre unidad TCV]]","v":"Yungay 4 ca"},0,0,0,0,0,0,0,0,0,15711.336000000001,0,35003.734000000004,{"$f":"+SUM(TablaGxN_NTH3[[#This Row],[Enero]:[Diciembre]])","v":50715.070000000007}]
[null,{"$f":"+TablaCVP_pre[[#This Row],[Nombre unidad TCV]]","v":"Los Guindos 2"},0,0,0,0,0,0,0,0,0,102215.613,0,0,{"$f":"+SUM(TablaGxN_NTH3[[#This Row],[Enero]:[Diciembre]])","v":102215.613}]

{"sheet":"VUI-pre","index":13,"n_rows":101,"n_cols":8,"rows_kept":101,"cut":false,"hidden":false,"merged":[]}
[]
[null,"Valor Unitario del Impuesto Anual"]
[]
[null,"Nombre unidad TCV","Impuesto por central CLP","Autoproductor","Potencia Autoproductores KWh","GxN_NTH1","NTH1","VUI"]
[null,{"$f":"+'Impuestos SII'!O6","v":"ANG1"},{"$f":"+VLOOKUP(Tabla16[[#This Row],[Nombre unidad TCV]],'Impuestos SII'!O:R,4,0)","v":7130520711.3500004},{"$f":"+VLOOKUP(B5,Unidades!B6:E100,4,0)","v":"No"},null,{"$f":"+VLOOKUP(B5,TablaGxN_NTH1[],14,0)","v":2068339331.3550003},{"$f":"+ROUND(VLOOKUP(B5,TablaNTH1[],14,0),0)","v":8581},{"$f":"+IF(F5=0,0,IF(D5=\"Sí\",1/(E5*G5),1/F5)*C5)","v":3.4474617405639574}]
[null,{"$f":"+'Impuestos SII'!O7","v":"ANG2"},{"$f":"+VLOOKUP(Tabla16[[#This Row],[Nombre unidad TCV]],'Impuestos SII'!O:R,4,0)","v":7311026706.8599997},{"$f":"+VLOOKUP(B6,Unidades!B7:E101,4,0)","v":"No"},null,{"$f":"+VLOOKUP(B6,TablaGxN_NTH1[],14,0)","v":2120698431.7870002},{"$f":"+ROUND(VLOOKUP(B6,TablaNTH1[],14,0),0)","v":8538},{"$f":"+IF(F6=0,0,IF(D6=\"Sí\",1/(E6*G6),1/F6)*C6)","v":3.4474617405641146}]
[null,{"$f":"+'Impuestos SII'!O8","v":"Antilhue TG U1"},{"$f":"+VLOOKUP(Tabla16[[#This Row],[Nombre unidad TCV]],'Impuestos SII'!O:R,4,0)","v":121233798.01000001},{"$f":"+VLOOKUP(B7,Unidades!B8:E102,4,0)","v":"No"},null,{"$f":"+VLOOKUP(B7,TablaGxN_NTH1[],14,0)","v":31212629.973999992},{"$f":"+ROUND(VLOOKUP(B7,TablaNTH1[],14,0),0)","v":575},3.8841263331858711]
[null,{"$f":"+'Impuestos SII'!O9","v":"Antilhue TG U2"},{"$f":"+VLOOKUP(Tabla16[[#This Row],[Nombre unidad TCV]],'Impuestos SII'!O:R,4,0)","v":117409333.55},{"$f":"+VLOOKUP(B8,Unidades!B9:E103,4,0)","v":"No"},null,{"$f":"+VLOOKUP(B8,TablaGxN_NTH1[],14,0)","v":20710645.629999995},{"$f":"+ROUND(VLOOKUP(B8,TablaNTH1[],14,0),0)","v":429},5.6690330010730827]
[null,{"$f":"+'Impuestos SII'!O10","v":"Arauco"},{"$f":"+VLOOKUP(Tabla16[[#This Row],[Nombre unidad TCV]],'Impuestos SII'!O:R,4,0)","v":1965836674.77},{"$f":"+VLOOKUP(B9,Unidades!B10:E104,4,0)","v":"Sí"},127000,{"$f":"+VLOOKUP(B9,TablaGxN_NTH1[],14,0)","v":45303256.927000001},{"$f":"+ROUND(VLOOKUP(B9,TablaNTH1[],14,0),0)","v":7889},1.9621027931546267]
[null,{"$f":"+'Impuestos SII'!O11","v":"Bocamina"},{"$f":"+VLOOKUP(Tabla16[[#This Row],[Nombre unidad TCV]],'Impuestos SII'!O:R,4,0)","v":2541576691.3899999},{"$f":"+VLOOKUP(B10,Unidades!B11:E105,4,0)","v":"No"},null,{"$f":"+VLOOKUP(B10,TablaGxN_NTH1[],14,0)","v":549260409.73399985},{"$f":"+ROUND(VLOOKUP(B10,TablaNTH1[],14,0),0)","v":7055},4.6272708652364996]
[null,{"$f":"+'Impuestos SII'!O12","v":"Bocamina II"},{"$f":"+VLOOKUP(Tabla16[[#This Row],[Nombre unidad TCV]],'Impuestos SII'!O:R,4,0)","v":10534143146.35},{"$f":"+VLOOKUP(B11,Unidades!B12:E106,4,0)","v":"No"},null,{"$f":"+VLOOKUP(B11,TablaGxN_NTH1[],14,0)","v":2123734389.6659994},{"$f":"+ROUND(VLOOKUP(B11,TablaNTH1[],14,0),0)","v":7492},4.9601980349372736]
[null,{"$f":"+'Impuestos SII'!O13","v":"Campiche"},{"$f":"+VLOOKUP(Tabla16[[#This Row],[Nombre unidad TCV]],'Impuestos SII'!O:R,4,0)","v":6370837756.0100002},{"$f":"+VLOOKUP(B12,Unidades!B13:E107,4,0)","v":"No"},null,{"$f":"+VLOOKUP(B12,TablaGxN_NTH1[],14,0)","v":1566513230.3339994},{"$f":"+ROUND(VLOOKUP(B12,TablaNTH1[],14,0),0)","v":7565},4.0668904881522518]
[null,{"$f":"+'Impuestos SII'!O14","v":"Candelaria 1"},{"$f":"+VLOOKUP(Tabla16[[#This Row],[Nombre unidad TCV]],'Impuestos SII'!O:R,4,0)","v":149792122.5},{"$f":"+VLOOKUP(B13,Unidades!B14:E108,4,0)","v":"No"},null,{"$f":"+VLOOKUP(B13,TablaGxN_NTH1[],14,0)","v":47777558.402923271},{"$f":"+ROUND(VLOOKUP(B13,TablaNTH1[],14,0),0)","v":458},3.1351983547747588]
[null,{"$f":"+'Impuestos SII'!O15","v":"Candelaria 2"},{"$f":"+VLOOKUP(Tabla16[[#This Row],[Nombre unidad TCV]],'Impuestos SII'!O:R,4,0)","v":108844199.73},{"$f":"+VLOOKUP(B14,Unidades!B15:E109,4,0)","v":"No"},null,{"$f":"+VLOOKUP(B14,TablaGxN_NTH1[],14,0)","v":36631821.09029983},{"$f":"+ROUND(VLOOKUP(B14,TablaNTH1[],14,0),0)","v":355},2.9713019033831798]
[null,{"$f":"+'Impuestos SII'!O16","v":"Cardones"},{"$f":"+VLOOKUP(Tabla16[[#This Row],[Nombre unidad TCV]],'Impuestos SII'!O:R,4,0)","v":152768.98000000001},{"$f":"+VLOOKUP(B15,Unidades!B16:E110,4,0)","v":"No"},null,{"$f":"+VLOOKUP(B15,TablaGxN_NTH1[],14,0)","v":4.1630000000000003},{"$f":"+ROUND(VLOOKUP(B15,TablaNTH1[],14,0),0)","v":1},36696.848426615426]
[null,{"$f":"+'Impuestos SII'!O17","v":"CC KELAR"},{"$f":"+VLOOKUP(Tabla16[[#This Row],[Nombre unidad TCV]],'Impuestos SII'!O:R,4,0)","v":2812750319.8099999},{"$f":"+VLOOKUP(B16,Unidades!B17:E111,4,0)","v":"No"},null,{"$f":"+VLOOKUP(B16,TablaGxN_NTH1[],14,0)","v":1540101475.9729996},{"$f":"+ROUND(VLOOKUP(B16,TablaNTH1[],14,0),0)","v":4709},1.8263409026557622]
[null,{"$f":"+'Impuestos SII'!O18","v":"CC1"},{"$f":"+VLOOKUP(Tabla16[[#This Row],[Nombre unidad TCV]],'Impuestos SII'!O:R,4,0)","v":549818333.03999996},{"$f":"+VLOOKUP(B17,Unidades!B18:E112,4,0)","v":"No"},null,{"$f":"+VLOOKUP(B17,TablaGxN_NTH1[],14,0)","v":221875084.56509677},{"$f":"+ROUND(VLOOKUP(B17,TablaNTH1[],14,0),0)","v":1940},2.4780535142903197]
[null,{"$f":"+'Impuestos SII'!O19","v":"CC2"},{"$f":"+VLOOKUP(Tabla16[[#This Row],[Nombre unidad TCV]],'Impuestos SII'!O:R,4,0)","v":213473066.24000001},{"$f":"+VLOOKUP(B18,Unidades!B19:E113,4,0)","v":"No"},null,{"$f":"+VLOOKUP(B18,TablaGxN_NTH1[],14,0)","v":85313347.537292644},{"$f":"+ROUND(VLOOKUP(B18,TablaNTH1[],14,0),0)","v":822},2.5022235371397832]
[null,{"$f":"+'Impuestos SII'!O20","v":"CCH1"},{"$f":"+VLOOKUP(Tabla16[[#This Row],[Nombre unidad TCV]],'Impuestos SII'!O:R,4,0)","v":5736884738.8900003},{"$f":"+VLOOKUP(B19,Unidades!B20:E114,4,0)","v":"No"},null,{"$f":"+VLOOKUP(B19,TablaGxN_NTH1[],14,0)","v":1428661263.9830005},{"$f":"+ROUND(VLOOKUP(B19,TablaNTH1[],14,0),0)","v":8170},4.0155667991557324]
[null,{"$f":"+'Impuestos SII'!O21","v":"CCH2"},{"$f":"+VLOOKUP(Tabla16[[#This Row],[Nombre unidad TCV]],'Impuestos SII'!O:R,4,0)","v":5748596491.46},{"$f":"+VLOOKUP(B20,Unidades!B21:E115,4,0)","v":"No"},null,{"$f":"+VLOOKUP(B20,TablaGxN_NTH1[],14,0)","v":1431577851.6410003},{"$f":"+ROUND(VLOOKUP(B20,TablaNTH1[],14,0),0)","v":8175},4.0155667991583233]
[null,{"$f":"+'Impuestos SII'!O22","v":"CD Iquique"},{"$f":"+VLOOKUP(Tabla16[[#This Row],[Nombre unidad TCV]],'Impuestos SII'!O:R,4,0)","v":0},{"$f":"+VLOOKUP(B21,Unidades!B22:E116,4,0)","v":"No"},null,{"$f":"+VLOOKUP(B21,TablaGxN_NTH1[],14,0)","v":0},{"$f":"+ROUND(VLOOKUP(B21,TablaNTH1[],14,0),0)","v":0},0]
[null,{"$f":"+'Impuestos SII'!O23","v":"Celco"},{"$f":"+VLOOKUP(Tabla16[[#This Row],[Nombre unidad TCV]],'Impuestos SII'!O:R,4,0)","v":551581745.45000005},{"$f":"+VLOOKUP(B22,Unidades!B23:E117,4,0)","v":"Sí"},40000,{"$f":"+VLOOKUP(B22,TablaGxN_NTH1[],14,0)","v":49517976.81000001},{"$f":"+ROUND(VLOOKUP(B22,TablaNTH1[],14,0),0)","v":8257},1.6700428286605307]
[null,{"$f":"+'Impuestos SII'!O24","v":"Cholguán"},{"$f":"+VLOOKUP(Tabla16[[#This Row],[Nombre unidad TCV]],'Impuestos SII'!O:R,4,0)","v":161189898.22},{"$f":"+VLOOKUP(B23,Unidades!B24:E118,4,0)","v":"Sí"},29000,{"$f":"+VLOOKUP(B23,TablaGxN_NTH1[],14,0)","v":35718370.789000005},{"$f":"+ROUND(VLOOKUP(B23,TablaNTH1[],14,0),0)","v":4729},1.1753589241729316]
[null,{"$f":"+'Impuestos SII'!O25","v":"CMPC Cordillera"},{"$f":"+VLOOKUP(Tabla16[[#This Row],[Nombre unidad TCV]],'Impuestos SII'!O:R,4,0)","v":875895948.19000006},{"$f":"+VLOOKUP(B24,Unidades!B25:E119,4,0)","v":"Sí"},53000,{"$f":"+VLOOKUP(B24,TablaGxN_NTH1[],14,0)","v":1324445.2239999999},{"$f":"+ROUND(VLOOKUP(B24,TablaNTH1[],14,0),0)","v":93},{"$f":"+IF(F24=0,0,IF(D24=\"Sí\",1/(E24*G24),1/F24)*C24)","v":177.70256607628323}]
[null,{"$f":"+'Impuestos SII'!O26","v":"CMPC Laja"},{"$f":"+VLOOKUP(Tabla16[[#This Row],[Nombre unidad TCV]],'Impuestos SII'!O:R,4,0)","v":100316563.75},{"$f":"+VLOOKUP(B25,Unidades!B26:E120,4,0)","v":"Sí"},107000,{"$f":"+VLOOKUP(B25,TablaGxN_NTH1[],14,0)","v":158052021.19100004},{"$f":"+ROUND(VLOOKUP(B25,TablaNTH1[],14,0),0)","v":7972},0.1176038608845914]
[null,{"$f":"+'Impuestos SII'!O27","v":"CMPC Pacífico"},{"$f":"+VLOOKUP(Tabla16[[#This Row],[Nombre unidad TCV]],'Impuestos SII'!O:R,4,0)","v":469412594.23000002},{"$f":"+VLOOKUP(B26,Unidades!B27:E121,4,0)","v":"Sí"},97000,{"$f":"+VLOOKUP(B26,TablaGxN_NTH1[],14,0)","v":118029547.84799996},{"$f":"+ROUND(VLOOKUP(B26,TablaNTH1[],14,0),0)","v":8193},0.59066338278465025]
[null,{"$f":"+'Impuestos SII'!O28","v":"CMPC Santa Fe"},{"$f":"+VLOOKUP(Tabla16[[#This Row],[Nombre unidad TCV]],'Impuestos SII'!O:R,4,0)","v":269498963.47000003},{"$f":"+VLOOKUP(B27,Unidades!B28:E122,4,0)","v":"Sí"},123000,{"$f":"+VLOOKUP(B27,TablaGxN_NTH1[],14,0)","v":0},{"$f":"+ROUND(VLOOKUP(B27,TablaNTH1[],14,0),0)","v":0},0]
[null,{"$f":"+'Impuestos SII'!O29","v":"CMPC TISSUE"},{"$f":"+VLOOKUP(Tabla16[[#This Row],[Nombre unidad TCV]],'Impuestos SII'!O:R,4,0)","v":356233691.88},{"$f":"+VLOOKUP(B28,Unidades!B29:E123,4,0)","v":"Sí"},22000,{"$f":"+VLOOKUP(B28,TablaGxN_NTH1[],14,0)","v":21051963.475999996},{"$f":"+ROUND(VLOOKUP(B28,TablaNTH1[],14,0),0)","v":7224},2.2414784800664451]
[null,{"$f":"+'Impuestos SII'!O30","v":"Colmito"},{"$f":"+VLOOKUP(Tabla16[[#This Row],[Nombre unidad TCV]],'Impuestos SII'!O:R,4,0)","v":214764309.18000001},{"$f":"+VLOOKUP(B29,Unidades!B30:E124,4,0)","v":"No"},null,{"$f":"+VLOOKUP(B29,TablaGxN_NTH1[],14,0)","v":58022215.539999992},{"$f":"+ROUND(VLOOKUP(B29,TablaNTH1[],14,0),0)","v":1532},3.7014151766049581]
[null,{"$f":"+'Impuestos SII'!O31","v":"CTA"},{"$f":"+VLOOKUP(Tabla16[[#This Row],[Nombre unidad TCV]],'Impuestos SII'!O:R,4,0)","v":3090384806.54},{"$f":"+VLOOKUP(B30,Unidades!B31:E125,4,0)","v":"No"},null,{"$f":"+VLOOKUP(B30,TablaGxN_NTH1[],14,0)","v":654454952.04900002},{"$f":"+ROUND(VLOOKUP(B30,TablaNTH1[],14,0),0)","v":5813},4.7220741425585828]
[null,{"$f":"+'Impuestos SII'!O32","v":"CTH"},{"$f":"+VLOOKUP(Tabla16[[#This Row],[Nombre unidad TCV]],'Impuestos SII'!O:R,4,0)","v":4090706785.3800001},{"$f":"+VLOOKUP(B31,Unidades!B32:E126,4,0)","v":"No"},null,{"$f":"+VLOOKUP(B31,TablaGxN_NTH1[],14,0)","v":777068043.14699996},{"$f":"+ROUND(VLOOKUP(B31,TablaNTH1[],14,0),0)","v":6761},5.2642838956718627]
[null,{"$f":"+'Impuestos SII'!O33","v":"CTM1"},{"$f":"+VLOOKUP(Tabla16[[#This Row],[Nombre unidad TCV]],'Impuestos SII'!O:R,4,0)","v":839287289.27999997},{"$f":"+VLOOKUP(B32,Unidades!B33:E127,4,0)","v":"No"},null,{"$f":"+VLOOKUP(B32,TablaGxN_NTH1[],14,0)","v":228523245.35200006},{"$f":"+ROUND(VLOOKUP(B32,TablaNTH1[],14,0),0)","v":2951},3.672656092325421]
[null,{"$f":"+'Impuestos SII'!O34","v":"CTM2"},{"$f":"+VLOOKUP(Tabla16[[#This Row],[Nombre unidad TCV]],'Impuestos SII'!O:R,4,0)","v":734409913.96000004},{"$f":"+VLOOKUP(B33,Unidades!B34:E128,4,0)","v":"No"},null,{"$f":"+VLOOKUP(B33,TablaGxN_NTH1[],14,0)","v":199966970.90499997},{"$f":"+ROUND(VLOOKUP(B33,TablaNTH1[],14,0),0)","v":2335},3.6726560923348814]
[null,{"$f":"+'Impuestos SII'!O35","v":"CTM3"},{"$f":"+VLOOKUP(Tabla16[[#This Row],[Nombre unidad TCV]],'Impuestos SII'!O:R,4,0)","v":1316739584.5999999},{"$f":"+VLOOKUP(B34,Unidades!B35:E129,4,0)","v":"No"},null,{"$f":"+VLOOKUP(B34,TablaGxN_NTH1[],14,0)","v":791656218.12000012},{"$f":"+ROUND(VLOOKUP(B34,TablaNTH1[],14,0),0)","v":5267},1.6632719537363716]
[null,{"$f":"+'Impuestos SII'!O36","v":"CTTAR"},{"$f":"+VLOOKUP(Tabla16[[#This Row],[Nombre unidad TCV]],'Impuestos SII'!O:R,4,0)","v":3254504972.25},{"$f":"+VLOOKUP(B35,Unidades!B36:E130,4,0)","v":"No"},null,{"$f":"+VLOOKUP(B35,TablaGxN_NTH1[],14,0)","v":614085753.73999989},{"$f":"+ROUND(VLOOKUP(B35,TablaNTH1[],14,0),0)","v":6030},5.2997565119023058]
[null,{"$f":"+'Impuestos SII'!O37","v":"Diego de Almagro"},{"$f":"+VLOOKUP(Tabla16[[#This Row],[Nombre unidad TCV]],'Impuestos SII'!O:R,4,0)","v":1309936.48},{"$f":"+VLOOKUP(B36,Unidades!B37:E131,4,0)","v":"No"},null,{"$f":"+VLOOKUP(B36,TablaGxN_NTH1[],14,0)","v":159438.01300000001},{"$f":"+ROUND(VLOOKUP(B36,TablaNTH1[],14,0),0)","v":18},8.2159608950972061]
[null,{"$f":"+'Impuestos SII'!O38","v":"El Salvador"},{"$f":"+VLOOKUP(Tabla16[[#This Row],[Nombre unidad TCV]],'Impuestos SII'!O:R,4,0)","v":1040925.05},{"$f":"+VLOOKUP(B37,Unidades!B38:E132,4,0)","v":"No"},null,{"$f":"+VLOOKUP(B37,TablaGxN_NTH1[],14,0)","v":112731.21899999998},{"$f":"+ROUND(VLOOKUP(B37,TablaNTH1[],14,0),0)","v":17},9.2336892941785749]
[null,{"$f":"+'Impuestos SII'!O39","v":"Emelda U1"},{"$f":"+VLOOKUP(Tabla16[[#This Row],[Nombre unidad TCV]],'Impuestos SII'!O:R,4,0)","v":1038070.75},{"$f":"+VLOOKUP(B38,Unidades!B39:E133,4,0)","v":"No"},null,{"$f":"+VLOOKUP(B38,TablaGxN_NTH1[],14,0)","v":198569.00000000003},{"$f":"+ROUND(VLOOKUP(B38,TablaNTH1[],14,0),0)","v":25},5.2277583610734801]
[null,{"$f":"+'Impuestos SII'!O40","v":"Emelda U2"},{"$f":"+VLOOKUP(Tabla16[[#This Row],[Nombre unidad TCV]],'Impuestos SII'!O:R,4,0)","v":2601187.9500000002},{"$f":"+VLOOKUP(B39,Unidades!B40:E134,4,0)","v":"No"},null,{"$f":"+VLOOKUP(B39,TablaGxN_NTH1[],14,0)","v":610280.99200000009},{"$f":"+ROUND(VLOOKUP(B39,TablaNTH1[],14,0),0)","v":38},4.2622791535345739]
[null,{"$f":"+'Impuestos SII'!O41","v":"Energía Pacífico"},{"$f":"+VLOOKUP(Tabla16[[#This Row],[Nombre unidad TCV]],'Impuestos SII'!O:R,4,0)","v":34547780.149999999},{"$f":"+VLOOKUP(B40,Unidades!B41:E135,4,0)","v":"Sí"},14305,{"$f":"+VLOOKUP(B40,TablaGxN_NTH1[],14,0)","v":113384792.43799999},{"$f":"+ROUND(VLOOKUP(B40,TablaNTH1[],14,0),0)","v":7809},0.3092693362487981]
[null,{"$f":"+'Impuestos SII'!O42","v":"Escuadrón"},{"$f":"+VLOOKUP(Tabla16[[#This Row],[Nombre unidad TCV]],'Impuestos SII'!O:R,4,0)","v":28068552.09},{"$f":"+VLOOKUP(B41,Unidades!B42:E136,4,0)","v":"No"},null,{"$f":"+VLOOKUP(B41,TablaGxN_NTH1[],14,0)","v":24602223.730999991},{"$f":"+ROUND(VLOOKUP(B41,TablaNTH1[],14,0),0)","v":5379},1.1408949205933878]
[null,{"$f":"+'Impuestos SII'!O43","v":"Esperanza TG"},{"$f":"+VLOOKUP(Tabla16[[#This Row],[Nombre unidad TCV]],'Impuestos SII'!O:R,4,0)","v":784702.59},{"$f":"+VLOOKUP(B42,Unidades!B43:E137,4,0)","v":"No"},null,{"$f":"+VLOOKUP(B42,TablaGxN_NTH1[],14,0)","v":161074.70299999998},{"$f":"+ROUND(VLOOKUP(B42,TablaNTH1[],14,0),0)","v":21},4.8716687064138187]
[null,{"$f":"+'Impuestos SII'!O44","v":"Guacolda 1"},{"$f":"+VLOOKUP(Tabla16[[#This Row],[Nombre unidad TCV]],'Impuestos SII'!O:R,4,0)","v":4943516689.1300001},{"$f":"+VLOOKUP(B43,Unidades!B44:E138,4,0)","v":"No"},null,{"$f":"+VLOOKUP(B43,TablaGxN_NTH1[],14,0)","v":952399871.71996737},{"$f":"+ROUND(VLOOKUP(B43,TablaNTH1[],14,0),0)","v":8318},5.1905894109397099]
[null,{"$f":"+'Impuestos SII'!O45","v":"Guacolda 2"},{"$f":"+VLOOKUP(Tabla16[[#This Row],[Nombre unidad TCV]],'Impuestos SII'!O:R,4,0)","v":4434469716.5100002},{"$f":"+VLOOKUP(B44,Unidades!B45:E139,4,0)","v":"No"},null,{"$f":"+VLOOKUP(B44,TablaGxN_NTH1[],14,0)","v":854328741.0034883},{"$f":"+ROUND(VLOOKUP(B44,TablaNTH1[],14,0),0)","v":7886},5.1905894109348401]
[null,{"$f":"+'Impuestos SII'!O46","v":"Guacolda 3"},{"$f":"+VLOOKUP(Tabla16[[#This Row],[Nombre unidad TCV]],'Impuestos SII'!O:R,4,0)","v":3876669198.1500001},{"$f":"+VLOOKUP(B45,Unidades!B46:E140,4,0)","v":"No"},null,{"$f":"+VLOOKUP(B45,TablaGxN_NTH1[],14,0)","v":942221326.05080402},{"$f":"+ROUND(VLOOKUP(B45,TablaNTH1[],14,0),0)","v":7934},4.1143933924723886]
[null,{"$f":"+'Impuestos SII'!O47","v":"Guacolda 4"},{"$f":"+VLOOKUP(Tabla16[[#This Row],[Nombre unidad TCV]],'Impuestos SII'!O:R,4,0)","v":4228110076.4299998},{"$f":"+VLOOKUP(B46,Unidades!B47:E141,4,0)","v":"No"},null,{"$f":"+VLOOKUP(B46,TablaGxN_NTH1[],14,0)","v":877726589.29378736},{"$f":"+ROUND(VLOOKUP(B46,TablaNTH1[],14,0),0)","v":8026},4.8171151791492468]
[null,{"$f":"+'Impuestos SII'!O48","v":"Guacolda 5"},{"$f":"+VLOOKUP(Tabla16[[#This Row],[Nombre unidad TCV]],'Impuestos SII'!O:R,4,0)","v":4288915239.98},{"$f":"+VLOOKUP(B47,Unidades!B48:E142,4,0)","v":"No"},null,{"$f":"+VLOOKUP(B47,TablaGxN_NTH1[],14,0)","v":1000014318.2875366},{"$f":"+ROUND(VLOOKUP(B47,TablaNTH1[],14,0),0)","v":8029},4.2888538309376463]
[null,{"$f":"+'Impuestos SII'!O49","v":"Horcones"},{"$f":"+VLOOKUP(Tabla16[[#This Row],[Nombre unidad TCV]],'Impuestos SII'!O:R,4,0)","v":679340.56},{"$f":"+VLOOKUP(B48,Unidades!B49:E143,4,0)","v":"No"},null,{"$f":"+VLOOKUP(B48,TablaGxN_NTH1[],14,0)","v":45538.752},{"$f":"+ROUND(VLOOKUP(B48,TablaNTH1[],14,0),0)","v":15},14.917856334754189]
[null,{"$f":"+'Impuestos SII'!O50","v":"Huasco TG"},{"$f":"+VLOOKUP(Tabla16[[#This Row],[Nombre unidad TCV]],'Impuestos SII'!O:R,4,0)","v":1241279.9099999999},{"$f":"+VLOOKUP(B49,Unidades!B50:E144,4,0)","v":"No"},null,{"$f":"+VLOOKUP(B49,TablaGxN_NTH1[],14,0)","v":78479.466},{"$f":"+ROUND(VLOOKUP(B49,TablaNTH1[],14,0),0)","v":12},15.816620235412914]
[null,{"$f":"+'Impuestos SII'!O51","v":"IEM"},{"$f":"+VLOOKUP(Tabla16[[#This Row],[Nombre unidad TCV]],'Impuestos SII'!O:R,4,0)","v":5501904707.7399998},{"$f":"+VLOOKUP(B50,Unidades!B51:E145,4,0)","v":"No"},null,{"$f":"+VLOOKUP(B50,TablaGxN_NTH1[],14,0)","v":1195722241.3981833},{"$f":"+ROUND(VLOOKUP(B50,TablaNTH1[],14,0),0)","v":4253},4.6013233820142929]
[null,{"$f":"+'Impuestos SII'!O52","v":"Laguna Verde TG"},{"$f":"+VLOOKUP(Tabla16[[#This Row],[Nombre unidad TCV]],'Impuestos SII'!O:R,4,0)","v":0},{"$f":"+VLOOKUP(B51,Unidades!B52:E146,4,0)","v":"No"},null,{"$f":"+VLOOKUP(B51,TablaGxN_NTH1[],14,0)","v":0},{"$f":"+ROUND(VLOOKUP(B51,TablaNTH1[],14,0),0)","v":0},0]
[null,{"$f":"+'Impuestos SII'!O53","v":"Laguna Verde TV"},{"$f":"+VLOOKUP(Tabla16[[#This Row],[Nombre unidad TCV]],'Impuestos SII'!O:R,4,0)","v":0},{"$f":"+VLOOKUP(B52,Unidades!B53:E147,4,0)","v":"No"},null,{"$f":"+VLOOKUP(B52,TablaGxN_NTH1[],14,0)","v":0},{"$f":"+ROUND(VLOOKUP(B52,TablaNTH1[],14,0),0)","v":0},0]
[null,{"$f":"+'Impuestos SII'!O54","v":"Laja"},{"$f":"+VLOOKUP(Tabla16[[#This Row],[Nombre unidad TCV]],'Impuestos SII'!O:R,4,0)","v":4194492.57},{"$f":"+VLOOKUP(B53,Unidades!B54:E148,4,0)","v":"Sí"},8866,{"$f":"+VLOOKUP(B53,TablaGxN_NTH1[],14,0)","v":26856261.467000004},{"$f":"+ROUND(VLOOKUP(B53,TablaNTH1[],14,0),0)","v":7819},{"$f":"+IF(F53=0,0,IF(D53=\"Sí\",1/(E53*G53),1/F53)*C53)","v":6.0506285091579806E-2}]
[null,{"$f":"+'Impuestos SII'!O55","v":"Lautaro-Comasa"},{"$f":"+VLOOKUP(Tabla16[[#This Row],[Nombre unidad TCV]],'Impuestos SII'!O:R,4,0)","v":84776652.709999993},{"$f":"+VLOOKUP(B54,Unidades!B55:E149,4,0)","v":"No"},null,{"$f":"+VLOOKUP(B54,TablaGxN_NTH1[],14,0)","v":175025188.72700003},{"$f":"+ROUND(VLOOKUP(B54,TablaNTH1[],14,0),0)","v":7651},0.48436829765247408]
[null,{"$f":"+'Impuestos SII'!O56","v":"Lautaro-Comasa 2"},{"$f":"+VLOOKUP(Tabla16[[#This Row],[Nombre unidad TCV]],'Impuestos SII'!O:R,4,0)","v":68877602.5},{"$f":"+VLOOKUP(B55,Unidades!B56:E150,4,0)","v":"No"},null,{"$f":"+VLOOKUP(B55,TablaGxN_NTH1[],14,0)","v":102780321.30399999},{"$f":"+ROUND(VLOOKUP(B55,TablaNTH1[],14,0),0)","v":5376},0.67014387215502347]
[null,{"$f":"+'Impuestos SII'!O57","v":"Licantén"},{"$f":"+VLOOKUP(Tabla16[[#This Row],[Nombre unidad TCV]],'Impuestos SII'!O:R,4,0)","v":121635461.98},{"$f":"+VLOOKUP(B56,Unidades!B57:E151,4,0)","v":"Sí"},29000,{"$f":"+VLOOKUP(B56,TablaGxN_NTH1[],14,0)","v":19243998.329999998},{"$f":"+ROUND(VLOOKUP(B56,TablaNTH1[],14,0),0)","v":9265},0.4527065596516367]
[null,{"$f":"+'Impuestos SII'!O58","v":"Los Guindos"},{"$f":"+VLOOKUP(Tabla16[[#This Row],[Nombre unidad TCV]],'Impuestos SII'!O:R,4,0)","v":0},{"$f":"+VLOOKUP(B57,Unidades!B58:E152,4,0)","v":"No"},null,{"$f":"+VLOOKUP(B57,TablaGxN_NTH1[],14,0)","v":73198.011000000013},{"$f":"+ROUND(VLOOKUP(B57,TablaNTH1[],14,0),0)","v":3},0]
[null,{"$f":"+'Impuestos SII'!O59","v":"Los Pinos"},{"$f":"+VLOOKUP(Tabla16[[#This Row],[Nombre unidad TCV]],'Impuestos SII'!O:R,4,0)","v":32001871.91},{"$f":"+VLOOKUP(B58,Unidades!B59:E153,4,0)","v":"No"},null,{"$f":"+VLOOKUP(B58,TablaGxN_NTH1[],14,0)","v":13414669.942000004},{"$f":"+ROUND(VLOOKUP(B58,TablaNTH1[],14,0),0)","v":200},2.3855877221254103]
[null,{"$f":"+'Impuestos SII'!O60","v":"Los Vientos"},{"$f":"+VLOOKUP(Tabla16[[#This Row],[Nombre unidad TCV]],'Impuestos SII'!O:R,4,0)","v":356490826.00999999},{"$f":"+VLOOKUP(B59,Unidades!B60:E154,4,0)","v":"No"},null,{"$f":"+VLOOKUP(B59,TablaGxN_NTH1[],14,0)","v":76372880.460999966},{"$f":"+ROUND(VLOOKUP(B59,TablaNTH1[],14,0),0)","v":1252},4.6677671950849495]
[null,{"$f":"+'Impuestos SII'!O61","v":"Masisa (Cabrero)"},{"$f":"+VLOOKUP(Tabla16[[#This Row],[Nombre unidad TCV]],'Impuestos SII'!O:R,4,0)","v":37180373.920000002},{"$f":"+VLOOKUP(B60,Unidades!B61:E155,4,0)","v":"Sí"},11000,{"$f":"+VLOOKUP(B60,TablaGxN_NTH1[],14,0)","v":51469138.030999996},{"$f":"+ROUND(VLOOKUP(B60,TablaNTH1[],14,0),0)","v":7213},0.46860307676795687]
[null,{"$f":"+'Impuestos SII'!O62","v":"Nehuenco"},{"$f":"+VLOOKUP(Tabla16[[#This Row],[Nombre unidad TCV]],'Impuestos SII'!O:R,4,0)","v":2858769874.4899998},{"$f":"+VLOOKUP(B61,Unidades!B62:E156,4,0)","v":"No"},null,{"$f":"+VLOOKUP(B61,TablaGxN_NTH1[],14,0)","v":1646345888.4119995},{"$f":"+ROUND(VLOOKUP(B61,TablaNTH1[],14,0),0)","v":5947},1.7364333306942301]
[null,{"$f":"+'Impuestos SII'!O63","v":"Nehuenco II"},{"$f":"+VLOOKUP(Tabla16[[#This Row],[Nombre unidad TCV]],'Impuestos SII'!O:R,4,0)","v":4990081110.3699999},{"$f":"+VLOOKUP(B62,Unidades!B63:E157,4,0)","v":"No"},null,{"$f":"+VLOOKUP(B62,TablaGxN_NTH1[],14,0)","v":2697708688.494},{"$f":"+ROUND(VLOOKUP(B62,TablaNTH1[],14,0),0)","v":7883},1.8497479478244629]
[null,{"$f":"+'Impuestos SII'!O64","v":"Nehuenco TG 9B"},{"$f":"+VLOOKUP(Tabla16[[#This Row],[Nombre unidad TCV]],'Impuestos SII'!O:R,4,0)","v":7566179.7699999996},{"$f":"+VLOOKUP(B63,Unidades!B64:E158,4,0)","v":"No"},null,{"$f":"+VLOOKUP(B63,TablaGxN_NTH1[],14,0)","v":2373616.764},{"$f":"+ROUND(VLOOKUP(B63,TablaNTH1[],14,0),0)","v":36},3.1876164192780361]
[null,{"$f":"+'Impuestos SII'!O65","v":"NTO1"},{"$f":"+VLOOKUP(Tabla16[[#This Row],[Nombre unidad TCV]],'Impuestos SII'!O:R,4,0)","v":3665085883.3400002},{"$f":"+VLOOKUP(B64,Unidades!B65:E159,4,0)","v":"No"},null,{"$f":"+VLOOKUP(B64,TablaGxN_NTH1[],14,0)","v":817980049.18945682},{"$f":"+ROUND(VLOOKUP(B64,TablaNTH1[],14,0),0)","v":8037},4.4806543716705125]
[null,{"$f":"+'Impuestos SII'!O66","v":"NTO2"},{"$f":"+VLOOKUP(Tabla16[[#This Row],[Nombre unidad TCV]],'Impuestos SII'!O:R,4,0)","v":3736848766.1500001},{"$f":"+VLOOKUP(B65,Unidades!B66:E160,4,0)","v":"No"},null,{"$f":"+VLOOKUP(B65,TablaGxN_NTH1[],14,0)","v":854673270.92170143},{"$f":"+ROUND(VLOOKUP(B65,TablaNTH1[],14,0),0)","v":8119},4.3722541622485602]
[null,{"$f":"+'Impuestos SII'!O67","v":"Nueva Aldea I"},{"$f":"+VLOOKUP(Tabla16[[#This Row],[Nombre unidad TCV]],'Impuestos SII'!O:R,4,0)","v":43952545.859999999},{"$f":"+VLOOKUP(B66,Unidades!B67:E161,4,0)","v":"Sí"},30000,{"$f":"+VLOOKUP(B66,TablaGxN_NTH1[],14,0)","v":33072867.446999989},{"$f":"+ROUND(VLOOKUP(B66,TablaNTH1[],14,0),0)","v":7817},0.18742290674171677]
[null,{"$f":"+'Impuestos SII'!O68","v":"Nueva Aldea III"},{"$f":"+VLOOKUP(Tabla16[[#This Row],[Nombre unidad TCV]],'Impuestos SII'!O:R,4,0)","v":291011767.76999998},{"$f":"+VLOOKUP(B67,Unidades!B68:E162,4,0)","v":"Sí"},136000,{"$f":"+VLOOKUP(B67,TablaGxN_NTH1[],14,0)","v":218976931.45200002},{"$f":"+ROUND(VLOOKUP(B67,TablaNTH1[],14,0),0)","v":7742},0.27638754973824969]
[null,{"$f":"+'Impuestos SII'!O69","v":"Nueva Renca"},{"$f":"+VLOOKUP(Tabla16[[#This Row],[Nombre unidad TCV]],'Impuestos SII'!O:R,4,0)","v":4113464489.6399999},{"$f":"+VLOOKUP(B68,Unidades!B69:E163,4,0)","v":"No"},null,{"$f":"+VLOOKUP(B68,TablaGxN_NTH1[],14,0)","v":1728028972.8110006},{"$f":"+ROUND(VLOOKUP(B68,TablaNTH1[],14,0),0)","v":7628},2.3804372231957367]
[null,{"$f":"+'Impuestos SII'!O70","v":"Nueva Ventanas"},{"$f":"+VLOOKUP(Tabla16[[#This Row],[Nombre unidad TCV]],'Impuestos SII'!O:R,4,0)","v":6805550670.1899996},{"$f":"+VLOOKUP(B69,Unidades!B70:E164,4,0)","v":"No"},null,{"$f":"+VLOOKUP(B69,TablaGxN_NTH1[],14,0)","v":1529053921.2739997},{"$f":"+ROUND(VLOOKUP(B69,TablaNTH1[],14,0),0)","v":7285},4.4508245101779345]
[null,{"$f":"+'Impuestos SII'!O71","v":"Petropower"},{"$f":"+VLOOKUP(Tabla16[[#This Row],[Nombre unidad TCV]],'Impuestos SII'!O:R,4,0)","v":3038016793.3800001},{"$f":"+VLOOKUP(B70,Unidades!B71:E165,4,0)","v":"Sí"},62977,{"$f":"+VLOOKUP(B70,TablaGxN_NTH1[],14,0)","v":80710093.68629086},{"$f":"+ROUND(VLOOKUP(B70,TablaNTH1[],14,0),0)","v":7617},{"$f":"+IF(F70=0,0,IF(D70=\"Sí\",1/(E70*G70),1/F70)*C70)","v":6.3332152092660872}]
[null,{"$f":"+'Impuestos SII'!O72","v":"Quintero A"},{"$f":"+VLOOKUP(Tabla16[[#This Row],[Nombre unidad TCV]],'Impuestos SII'!O:R,4,0)","v":427470224.63999999},{"$f":"+VLOOKUP(B71,Unidades!B72:E166,4,0)","v":"No"},null,{"$f":"+VLOOKUP(B71,TablaGxN_NTH1[],14,0)","v":135139173.51222667},{"$f":"+ROUND(VLOOKUP(B71,TablaNTH1[],14,0),0)","v":1308},{"$f":"+IF(F71=0,0,IF(D71=\"Sí\",1/(E71*G71),1/F71)*C71)","v":3.1631851337415848}]
[null,{"$f":"+'Impuestos SII'!O73","v":"Quintero B"},{"$f":"+VLOOKUP(Tabla16[[#This Row],[Nombre unidad TCV]],'Impuestos SII'!O:R,4,0)","v":430713834.69},{"$f":"+VLOOKUP(B72,Unidades!B73:E167,4,0)","v":"No"},null,{"$f":"+VLOOKUP(B72,TablaGxN_NTH1[],14,0)","v":127253709.33077335},{"$f":"+ROUND(VLOOKUP(B72,TablaNTH1[],14,0),0)","v":1254},3.3846858921057938]
[null,{"$f":"+'Impuestos SII'!O74","v":"Renca U1"},{"$f":"+VLOOKUP(Tabla16[[#This Row],[Nombre unidad TCV]],'Impuestos SII'!O:R,4,0)","v":0},{"$f":"+VLOOKUP(B73,Unidades!B74:E168,4,0)","v":"No"},null,{"$f":"+VLOOKUP(B73,TablaGxN_NTH1[],14,0)","v":0},{"$f":"+ROUND(VLOOKUP(B73,TablaNTH1[],14,0),0)","v":0},0]
[null,{"$f":"+'Impuestos SII'!O75","v":"Renca U2"},{"$f":"+VLOOKUP(Tabla16[[#This Row],[Nombre unidad TCV]],'Impuestos SII'!O:R,4,0)","v":0},{"$f":"+VLOOKUP(B74,Unidades!B75:E169,4,0)","v":"No"},null,{"$f":"+VLOOKUP(B74,TablaGxN_NTH1[],14,0)","v":0},{"$f":"+ROUND(VLOOKUP(B74,TablaNTH1[],14,0),0)","v":0},0]
[null,{"$f":"+'Impuestos SII'!O76","v":"San Isidro"},{"$f":"+VLOOKUP(Tabla16[[#This Row],[Nombre unidad TCV]],'Impuestos SII'!O:R,4,0)","v":2118915059.9400001},{"$f":"+VLOOKUP(B75,Unidades!B76:E170,4,0)","v":"No"},null,{"$f":"+VLOOKUP(B75,TablaGxN_NTH1[],14,0)","v":1274158681.9880002},{"$f":"+ROUND(VLOOKUP(B75,TablaNTH1[],14,0),0)","v":4555},1.6629915016816998]
[null,{"$f":"+'Impuestos SII'!O77","v":"San Isidro II"},{"$f":"+VLOOKUP(Tabla16[[#This Row],[Nombre unidad TCV]],'Impuestos SII'!O:R,4,0)","v":4018812383.2199998},{"$f":"+VLOOKUP(B76,Unidades!B77:E171,4,0)","v":"No"},null,{"$f":"+VLOOKUP(B76,TablaGxN_NTH1[],14,0)","v":2261974134.329},{"$f":"+ROUND(VLOOKUP(B76,TablaNTH1[],14,0),0)","v":7422},1.776683615532215]
[null,{"$f":"+'Impuestos SII'!O78","v":"San Lorenzo de D. de Almagro U1"},{"$f":"+VLOOKUP(Tabla16[[#This Row],[Nombre unidad TCV]],'Impuestos SII'!O:R,4,0)","v":0},{"$f":"+VLOOKUP(B77,Unidades!B78:E172,4,0)","v":"No"},null,{"$f":"+VLOOKUP(B77,TablaGxN_NTH1[],14,0)","v":0},{"$f":"+ROUND(VLOOKUP(B77,TablaNTH1[],14,0),0)","v":0},0]
[null,{"$f":"+'Impuestos SII'!O79","v":"San Lorenzo de D. de Almagro U2"},{"$f":"+VLOOKUP(Tabla16[[#This Row],[Nombre unidad TCV]],'Impuestos SII'!O:R,4,0)","v":0},{"$f":"+VLOOKUP(B78,Unidades!B79:E173,4,0)","v":"No"},null,{"$f":"+VLOOKUP(B78,TablaGxN_NTH1[],14,0)","v":0},{"$f":"+ROUND(VLOOKUP(B78,TablaNTH1[],14,0),0)","v":0},0]
[null,{"$f":"+'Impuestos SII'!O80","v":"Santa Lidia"},{"$f":"+VLOOKUP(Tabla16[[#This Row],[Nombre unidad TCV]],'Impuestos SII'!O:R,4,0)","v":7973816.4800000004},{"$f":"+VLOOKUP(B79,Unidades!B80:E174,4,0)","v":"No"},null,{"$f":"+VLOOKUP(B79,TablaGxN_NTH1[],14,0)","v":1782926.3840000001},{"$f":"+ROUND(VLOOKUP(B79,TablaNTH1[],14,0),0)","v":23},4.4723195256725754]
[null,{"$f":"+'Impuestos SII'!O81","v":"Santa María"},{"$f":"+VLOOKUP(Tabla16[[#This Row],[Nombre unidad TCV]],'Impuestos SII'!O:R,4,0)","v":9547049410.3899994},{"$f":"+VLOOKUP(B80,Unidades!B81:E175,4,0)","v":"No"},null,{"$f":"+VLOOKUP(B80,TablaGxN_NTH1[],14,0)","v":1756723869.632},{"$f":"+ROUND(VLOOKUP(B80,TablaNTH1[],14,0),0)","v":5707},5.4345760169980064]
[null,{"$f":"+'Impuestos SII'!O82","v":"Taltal 1"},{"$f":"+VLOOKUP(Tabla16[[#This Row],[Nombre unidad TCV]],'Impuestos SII'!O:R,4,0)","v":28570414.809999999},{"$f":"+VLOOKUP(B81,Unidades!B82:E176,4,0)","v":"No"},null,{"$f":"+VLOOKUP(B81,TablaGxN_NTH1[],14,0)","v":2630667.392},{"$f":"+ROUND(VLOOKUP(B81,TablaNTH1[],14,0),0)","v":48},10.8605196144842]
[null,{"$f":"+'Impuestos SII'!O83","v":"Taltal 2"},{"$f":"+VLOOKUP(Tabla16[[#This Row],[Nombre unidad TCV]],'Impuestos SII'!O:R,4,0)","v":104917866.56},{"$f":"+VLOOKUP(B82,Unidades!B83:E177,4,0)","v":"No"},null,{"$f":"+VLOOKUP(B82,TablaGxN_NTH1[],14,0)","v":7776840.9840000002},{"$f":"+ROUND(VLOOKUP(B82,TablaNTH1[],14,0),0)","v":136},13.491064916443198]
[null,{"$f":"+'Impuestos SII'!O84","v":"TG_Coronel"},{"$f":"+VLOOKUP(Tabla16[[#This Row],[Nombre unidad TCV]],'Impuestos SII'!O:R,4,0)","v":45577700.43},{"$f":"+VLOOKUP(B83,Unidades!B84:E178,4,0)","v":"No"},null,{"$f":"+VLOOKUP(B83,TablaGxN_NTH1[],14,0)","v":1145257.3350000002},{"$f":"+ROUND(VLOOKUP(B83,TablaNTH1[],14,0),0)","v":50},39.796907679268422]
[null,{"$f":"+'Impuestos SII'!O85","v":"TG1"},{"$f":"+VLOOKUP(Tabla16[[#This Row],[Nombre unidad TCV]],'Impuestos SII'!O:R,4,0)","v":0},{"$f":"+VLOOKUP(B84,Unidades!B85:E179,4,0)","v":"No"},null,{"$f":"+VLOOKUP(B84,TablaGxN_NTH1[],14,0)","v":0},{"$f":"+ROUND(VLOOKUP(B84,TablaNTH1[],14,0),0)","v":0},0]
[null,{"$f":"+'Impuestos SII'!O86","v":"TG2"},{"$f":"+VLOOKUP(Tabla16[[#This Row],[Nombre unidad TCV]],'Impuestos SII'!O:R,4,0)","v":0},{"$f":"+VLOOKUP(B85,Unidades!B86:E180,4,0)","v":"No"},null,{"$f":"+VLOOKUP(B85,TablaGxN_NTH1[],14,0)","v":0},{"$f":"+ROUND(VLOOKUP(B85,TablaNTH1[],14,0),0)","v":0},0]
[null,{"$f":"+'Impuestos SII'!O87","v":"TG3"},{"$f":"+VLOOKUP(Tabla16[[#This Row],[Nombre unidad TCV]],'Impuestos SII'!O:R,4,0)","v":31548924.239999998},{"$f":"+VLOOKUP(B86,Unidades!B87:E181,4,0)","v":"No"},null,{"$f":"+VLOOKUP(B86,TablaGxN_NTH1[],14,0)","v":21531839.244809113},{"$f":"+ROUND(VLOOKUP(B86,TablaNTH1[],14,0),0)","v":934},1.4652219850473664]
[null,{"$f":"+'Impuestos SII'!O88","v":"TGTAR"},{"$f":"+VLOOKUP(Tabla16[[#This Row],[Nombre unidad TCV]],'Impuestos SII'!O:R,4,0)","v":883060.93},{"$f":"+VLOOKUP(B87,Unidades!B88:E182,4,0)","v":"No"},null,{"$f":"+VLOOKUP(B87,TablaGxN_NTH1[],14,0)","v":50284.189999999995},{"$f":"+ROUND(VLOOKUP(B87,TablaNTH1[],14,0),0)","v":7},17.561403097076838]
[null,{"$f":"+'Impuestos SII'!O89","v":"U12"},{"$f":"+VLOOKUP(Tabla16[[#This Row],[Nombre unidad TCV]],'Impuestos SII'!O:R,4,0)","v":64823302.950000003},{"$f":"+VLOOKUP(B88,Unidades!B89:E183,4,0)","v":"No"},null,{"$f":"+VLOOKUP(B88,TablaGxN_NTH1[],14,0)","v":7437850.9110805113},{"$f":"+ROUND(VLOOKUP(B88,TablaNTH1[],14,0),0)","v":217},8.7153270111168428]
[null,{"$f":"+'Impuestos SII'!O90","v":"U13"},{"$f":"+VLOOKUP(Tabla16[[#This Row],[Nombre unidad TCV]],'Impuestos SII'!O:R,4,0)","v":0},{"$f":"+VLOOKUP(B89,Unidades!B90:E184,4,0)","v":"No"},null,{"$f":"+VLOOKUP(B89,TablaGxN_NTH1[],14,0)","v":0},{"$f":"+ROUND(VLOOKUP(B89,TablaNTH1[],14,0),0)","v":0},0]
[null,{"$f":"+'Impuestos SII'!O91","v":"U14"},{"$f":"+VLOOKUP(Tabla16[[#This Row],[Nombre unidad TCV]],'Impuestos SII'!O:R,4,0)","v":189818210.11000001},{"$f":"+VLOOKUP(B90,Unidades!B91:E185,4,0)","v":"No"},null,{"$f":"+VLOOKUP(B90,TablaGxN_NTH1[],14,0)","v":37631461.11399395},{"$f":"+ROUND(VLOOKUP(B90,TablaNTH1[],14,0),0)","v":637},5.0441360630404173]
[null,{"$f":"+'Impuestos SII'!O92","v":"U15"},{"$f":"+VLOOKUP(Tabla16[[#This Row],[Nombre unidad TCV]],'Impuestos SII'!O:R,4,0)","v":517662974.80000001},{"$f":"+VLOOKUP(B91,Unidades!B92:E186,4,0)","v":"No"},null,{"$f":"+VLOOKUP(B91,TablaGxN_NTH1[],14,0)","v":102626687.37262915},{"$f":"+ROUND(VLOOKUP(B91,TablaNTH1[],14,0),0)","v":1507},5.0441360629755865]
[null,{"$f":"+'Impuestos SII'!O93","v":"U16"},{"$f":"+VLOOKUP(Tabla16[[#This Row],[Nombre unidad TCV]],'Impuestos SII'!O:R,4,0)","v":1657478275.9400001},{"$f":"+VLOOKUP(B92,Unidades!B93:E187,4,0)","v":"No"},null,{"$f":"+VLOOKUP(B92,TablaGxN_NTH1[],14,0)","v":1049302559.5399601},{"$f":"+ROUND(VLOOKUP(B92,TablaNTH1[],14,0),0)","v":4507},1.5795999551041591]
[null,{"$f":"+'Impuestos SII'!O94","v":"Valdivia"},{"$f":"+VLOOKUP(Tabla16[[#This Row],[Nombre unidad TCV]],'Impuestos SII'!O:R,4,0)","v":382639805.63999999},{"$f":"+VLOOKUP(B93,Unidades!B94:E188,4,0)","v":"Sí"},140000,{"$f":"+VLOOKUP(B93,TablaGxN_NTH1[],14,0)","v":139086327.933},{"$f":"+ROUND(VLOOKUP(B93,TablaNTH1[],14,0),0)","v":12963},0.21084173947829535]
[null,{"$f":"+'Impuestos SII'!O95","v":"Ventanas 1"},{"$f":"+VLOOKUP(Tabla16[[#This Row],[Nombre unidad TCV]],'Impuestos SII'!O:R,4,0)","v":928894506.15999997},{"$f":"+VLOOKUP(B94,Unidades!B95:E189,4,0)","v":"No"},null,{"$f":"+VLOOKUP(B94,TablaGxN_NTH1[],14,0)","v":180014661.97000003},{"$f":"+ROUND(VLOOKUP(B94,TablaNTH1[],14,0),0)","v":2581},5.1601047158858817]
[null,{"$f":"+'Impuestos SII'!O96","v":"Ventanas 2"},{"$f":"+VLOOKUP(Tabla16[[#This Row],[Nombre unidad TCV]],'Impuestos SII'!O:R,4,0)","v":3556662194.4899998},{"$f":"+VLOOKUP(B95,Unidades!B96:E190,4,0)","v":"No"},null,{"$f":"+VLOOKUP(B95,TablaGxN_NTH1[],14,0)","v":828018681.83299994},{"$f":"+ROUND(VLOOKUP(B95,TablaNTH1[],14,0),0)","v":6874},4.295388826996696]
[null,{"$f":"+'Impuestos SII'!O97","v":"Viñales"},{"$f":"+VLOOKUP(Tabla16[[#This Row],[Nombre unidad TCV]],'Impuestos SII'!O:R,4,0)","v":122629499.83},{"$f":"+VLOOKUP(B96,Unidades!B97:E191,4,0)","v":"Sí"},41000,{"$f":"+VLOOKUP(B96,TablaGxN_NTH1[],14,0)","v":235952677.43399996},{"$f":"+ROUND(VLOOKUP(B96,TablaNTH1[],14,0),0)","v":8355},0.35798484865204128]
[null,{"$f":"+'Impuestos SII'!O98","v":"Yungay 1"},{"$f":"+VLOOKUP(Tabla16[[#This Row],[Nombre unidad TCV]],'Impuestos SII'!O:R,4,0)","v":474393.26},{"$f":"+VLOOKUP(B97,Unidades!B98:E192,4,0)","v":"No"},null,{"$f":"+VLOOKUP(B97,TablaGxN_NTH1[],14,0)","v":119902.607},{"$f":"+ROUND(VLOOKUP(B97,TablaNTH1[],14,0),0)","v":9},3.9564882855299381]
[null,{"$f":"+'Impuestos SII'!O99","v":"Yungay 2"},{"$f":"+VLOOKUP(Tabla16[[#This Row],[Nombre unidad TCV]],'Impuestos SII'!O:R,4,0)","v":416548.94},{"$f":"+VLOOKUP(B98,Unidades!B99:E193,4,0)","v":"No"},null,{"$f":"+VLOOKUP(B98,TablaGxN_NTH1[],14,0)","v":122942.34099999999},{"$f":"+ROUND(VLOOKUP(B98,TablaNTH1[],14,0),0)","v":10},3.3881650260751095]
[null,{"$f":"+'Impuestos SII'!O100","v":"Yungay 3"},{"$f":"+VLOOKUP(Tabla16[[#This Row],[Nombre unidad TCV]],'Impuestos SII'!O:R,4,0)","v":684929.87},{"$f":"+VLOOKUP(B99,Unidades!B100:E194,4,0)","v":"No"},null,{"$f":"+VLOOKUP(B99,TablaGxN_NTH1[],14,0)","v":183715.64},{"$f":"+ROUND(VLOOKUP(B99,TablaNTH1[],14,0),0)","v":18},3.7282066458794687]
[null,{"$f":"+'Impuestos SII'!O101","v":"Yungay 4 ca"},{"$f":"+VLOOKUP(Tabla16[[#This Row],[Nombre unidad TCV]],'Impuestos SII'!O:R,4,0)","v":235151.76},{"$f":"+VLOOKUP(B100,Unidades!B101:E195,4,0)","v":"No"},null,{"$f":"+VLOOKUP(B100,TablaGxN_NTH1[],14,0)","v":50715.070000000007},{"$f":"+ROUND(VLOOKUP(B100,TablaNTH1[],14,0),0)","v":6},4.6367235616553417]
[null,{"$f":"+'Impuestos SII'!O102","v":"Los Guindos 2"},{"$f":"+VLOOKUP(Tabla16[[#This Row],[Nombre unidad TCV]],'Impuestos SII'!O:R,4,0)","v":0},{"$f":"+VLOOKUP(B101,Unidades!B102:E196,4,0)","v":"No"},null,{"$f":"+VLOOKUP(B101,TablaGxN_NTH1[],14,0)","v":102215.613},{"$f":"+ROUND(VLOOKUP(B101,TablaNTH1[],14,0),0)","v":2},0]

{"sheet":"Resultados","index":14,"n_rows":101,"n_cols":23,"rows_kept":101,"cut":false,"hidden":false,"merged":[]}
[]
[null,"Compensación por unidad",null,null,null,null,null,null,null,null,null,null,null,"Compensación por central",null,null,"Compensación por empresa"]
[]
[null,"Nombre empresa","Nombre central TCV","Nombre unidad TCV","Impuesto","CVP","CMgP","VUI","CTU","Compensación A","Compensación B","Compensación",null,"Nombre central TCV","Suma de Compensación",null,"Nombre Empresa","Suma de Compensación",null,"Empresa","Impuesto CLP","Compensación CLP","Porcentaje "]
[null,{"$f":"+Unidades!D6","v":"ANGAMOS"},{"$f":"+Unidades!C6","v":"Angamos"},{"$f":"+Unidades!B6","v":"ANG1"},{"$f":"+VLOOKUP(TablaResultados[[#This Row],[Nombre unidad TCV]],'Impuestos SII'!O:R,4,0)","v":7130520711.3500004},{"$f":"IF( VLOOKUP(TablaResultados[[#This Row],[Nombre unidad TCV]],TablaGxN_NTH1[],14,0)=0,0,VLOOKUP(TablaResultados[[#This Row],[Nombre unidad TCV]],TablaCVP_pre[],14,0)/VLOOKUP(TablaResultados[[#This Row],[Nombre unidad TCV]],TablaGxN_NTH1[],14,0))","v":9.0366012005426963},{"$f":"+IF( VLOOKUP(TablaResultados[[#This Row],[Nombre unidad TCV]],TablaGxN_NTH2[],14,0)=0,0,VLOOKUP(TablaResultados[[#This Row],[Nombre unidad TCV]],TablaCMgP_pre[],14,0)/VLOOKUP(TablaResultados[[#This Row],[Nombre unidad TCV]],TablaGxN_NTH2[],14,0))","v":31.353464800394349},{"$f":"+VLOOKUP(TablaResultados[[#This Row],[Nombre unidad TCV]],'VUI-pre'!$B$5:$H$150,7,0)","v":3.4474617405639574},{"$f":"+TablaResultados[[#This Row],[CVP]]+TablaResultados[[#This Row],[VUI]]","v":12.484062941106654},{"$f":"+MAX(TablaResultados[[#This Row],[CTU]]-TablaResultados[[#This Row],[CMgP]],0)*SUM(TablaGxN_NTH2[[#This Row],[Enero]:[Diciembre]])","v":0},{"$f":"+TablaResultados[[#This Row],[VUI]]*SUM(TablaGxN_NTH3[[#This Row],[Enero]:[Diciembre]])","v":518602253.68821436},{"$f":"+MAX(TablaResultados[[#This Row],[Compensación A]],TablaResultados[[#This Row],[Compensación B]])","v":518602253.68821436},null,"Andina",630348378.83780766,null,"AES_GENER",4557280358.7532053,null,{"$f":"+Q5","v":"AES_GENER"},{"$f":"+SUMIF(TablaResultados[Nombre empresa],T5,TablaResultados[Impuesto])","v":25068074268.909996},{"$f":"+SUMIF(TablaResultados[Nombre empresa],T5,TablaResultados[Compensación])","v":4557280358.7532053},{"$f":"+IFERROR(V5/U5,\"-\")","v":0.18179618864482341}]
[null,{"$f":"+Unidades!D7","v":"ANGAMOS"},{"$f":"+Unidades!C7","v":"Angamos"},{"$f":"+Unidades!B7","v":"ANG2"},{"$f":"+VLOOKUP(TablaResultados[[#This Row],[Nombre unidad TCV]],'Impuestos SII'!O:R,4,0)","v":7311026706.8599997},{"$f":"IF( VLOOKUP(TablaResultados[[#This Row],[Nombre unidad TCV]],TablaGxN_NTH1[],14,0)=0,0,VLOOKUP(TablaResultados[[#This Row],[Nombre unidad TCV]],TablaCVP_pre[],14,0)/VLOOKUP(TablaResultados[[#This Row],[Nombre unidad TCV]],TablaGxN_NTH1[],14,0))","v":24.347765354243784},{"$f":"+IF( VLOOKUP(TablaResultados[[#This Row],[Nombre unidad TCV]],TablaGxN_NTH2[],14,0)=0,0,VLOOKUP(TablaResultados[[#This Row],[Nombre unidad TCV]],TablaCMgP_pre[],14,0)/VLOOKUP(TablaResultados[[#This Row],[Nombre unidad TCV]],TablaGxN_NTH2[],14,0))","v":32.066349705698322},{"$f":"+VLOOKUP(TablaResultados[[#This Row],[Nombre unidad TCV]],'VUI-pre'!$B$5:$H$150,7,0)","v":3.4474617405641146},{"$f":"+TablaResultados[[#This Row],[CVP]]+TablaResultados[[#This Row],[VUI]]","v":27.795227094807899},{"$f":"+MAX(TablaResultados[[#This Row],[CTU]]-TablaResultados[[#This Row],[CMgP]],0)*SUM(TablaGxN_NTH2[[#This Row],[Enero]:[Diciembre]])","v":0},{"$f":"+TablaResultados[[#This Row],[VUI]]*SUM(TablaGxN_NTH3[[#This Row],[Enero]:[Diciembre]])","v":445238908.80445606},{"$f":"+MAX(TablaResultados[[#This Row],[Compensación A]],TablaResultados[[#This Row],[Compensación B]])","v":445238908.80445606},null,"Angamos",963841162.49267042,null,"ANDINA",630348378.83780766,null,"ANDINA",{"$f":"+SUMIF(TablaResultados[Nombre empresa],T6,TablaResultados[Impuesto])","v":3090384806.54},{"$f":"+SUMIF(TablaResultados[Nombre empresa],T6,TablaResultados[Compensación])","v":630348378.83780766},0.20397083803409802]
[null,{"$f":"+Unidades!D8","v":"COLBUN"},{"$f":"+Unidades!C8","v":"Antilhue TG"},{"$f":"+Unidades!B8","v":"Antilhue TG U1"},{"$f":"+VLOOKUP(TablaResultados[[#This Row],[Nombre unidad TCV]],'Impuestos SII'!O:R,4,0)","v":121233798.01000001},{"$f":"IF( VLOOKUP(TablaResultados[[#This Row],[Nombre unidad TCV]],TablaGxN_NTH1[],14,0)=0,0,VLOOKUP(TablaResultados[[#This Row],[Nombre unidad TCV]],TablaCVP_pre[],14,0)/VLOOKUP(TablaResultados[[#This Row],[Nombre unidad TCV]],TablaGxN_NTH1[],14,0))","v":108.13402876541737},{"$f":"+IF( VLOOKUP(TablaResultados[[#This Row],[Nombre unidad TCV]],TablaGxN_NTH2[],14,0)=0,0,VLOOKUP(TablaResultados[[#This Row],[Nombre unidad TCV]],TablaCMgP_pre[],14,0)/VLOOKUP(TablaResultados[[#This Row],[Nombre unidad TCV]],TablaGxN_NTH2[],14,0))","v":114.59639946723458},{"$f":"+VLOOKUP(TablaResultados[[#This Row],[Nombre unidad TCV]],'VUI-pre'!$B$5:$H$150,7,0)","v":3.8841263331858711},{"$f":"+TablaResultados[[#This Row],[CVP]]+TablaResultados[[#This Row],[VUI]]","v":112.01815509860324},{"$f":"+MAX(TablaResultados[[#This Row],[CTU]]-TablaResultados[[#This Row],[CMgP]],0)*SUM(TablaGxN_NTH2[[#This Row],[Enero]:[Diciembre]])","v":0},{"$f":"+TablaResultados[[#This Row],[VUI]]*SUM(TablaGxN_NTH3[[#This Row],[Enero]:[Diciembre]])","v":38859254.072908714},{"$f":"+MAX(TablaResultados[[#This Row],[Compensación A]],TablaResultados[[#This Row],[Compensación B]])","v":38859254.072908714},null,"Antilhue TG",80888532.243670642,null,"ANGAMOS",963841162.49267042,null,"ANGAMOS",{"$f":"+SUMIF(TablaResultados[Nombre empresa],T7,TablaResultados[Impuesto])","v":14441547418.209999},{"$f":"+SUMIF(TablaResultados[Nombre empresa],T7,TablaResultados[Compensación])","v":963841162.49267042},6.6740850864590834E-2]
[null,{"$f":"+Unidades!D9","v":"COLBUN"},{"$f":"+Unidades!C9","v":"Antilhue TG"},{"$f":"+Unidades!B9","v":"Antilhue TG U2"},{"$f":"+VLOOKUP(TablaResultados[[#This Row],[Nombre unidad TCV]],'Impuestos SII'!O:R,4,0)","v":117409333.55},{"$f":"IF( VLOOKUP(TablaResultados[[#This Row],[Nombre unidad TCV]],TablaGxN_NTH1[],14,0)=0,0,VLOOKUP(TablaResultados[[#This Row],[Nombre unidad TCV]],TablaCVP_pre[],14,0)/VLOOKUP(TablaResultados[[#This Row],[Nombre unidad TCV]],TablaGxN_NTH1[],14,0))","v":112.83693800832317},{"$f":"+IF( VLOOKUP(TablaResultados[[#This Row],[Nombre unidad TCV]],TablaGxN_NTH2[],14,0)=0,0,VLOOKUP(TablaResultados[[#This Row],[Nombre unidad TCV]],TablaCMgP_pre[],14,0)/VLOOKUP(TablaResultados[[#This Row],[Nombre unidad TCV]],TablaGxN_NTH2[],14,0))","v":116.47661475843124},{"$f":"+VLOOKUP(TablaResultados[[#This Row],[Nombre unidad TCV]],'VUI-pre'!$B$5:$H$150,7,0)","v":5.6690330010730827},{"$f":"+TablaResultados[[#This Row],[CVP]]+TablaResultados[[#This Row],[VUI]]","v":118.50597100939626},{"$f":"+MAX(TablaResultados[[#This Row],[CTU]]-TablaResultados[[#This Row],[CMgP]],0)*SUM(TablaGxN_NTH2[[#This Row],[Enero]:[Diciembre]])","v":42029278.170761928},{"$f":"+TablaResultados[[#This Row],[VUI]]*SUM(TablaGxN_NTH3[[#This Row],[Enero]:[Diciembre]])","v":41240520.285707764},{"$f":"+MAX(TablaResultados[[#This Row],[Compensación A]],TablaResultados[[#This Row],[Compensación B]])","v":42029278.170761928},null,"Arauco",0,null,"ARAUCO BIO",2163652.3378577703,null,"ARAUCO BIO",{"$f":"+SUMIF(TablaResultados[Nombre empresa],T8,TablaResultados[Impuesto])","v":3641156740.0799999},{"$f":"+SUMIF(TablaResultados[Nombre empresa],T8,TablaResultados[Compensación])","v":2163652.3378577703},5.9422114792296264E-4]
[null,{"$f":"+Unidades!D10","v":"ARAUCO BIO"},{"$f":"+Unidades!C10","v":"Arauco"},{"$f":"+Unidades!B10","v":"Arauco"},{"$f":"+VLOOKUP(TablaResultados[[#This Row],[Nombre unidad TCV]],'Impuestos SII'!O:R,4,0)","v":1965836674.77},{"$f":"IF( VLOOKUP(TablaResultados[[#This Row],[Nombre unidad TCV]],TablaGxN_NTH1[],14,0)=0,0,VLOOKUP(TablaResultados[[#This Row],[Nombre unidad TCV]],TablaCVP_pre[],14,0)/VLOOKUP(TablaResultados[[#This Row],[Nombre unidad TCV]],TablaGxN_NTH1[],14,0))","v":16.603949190515717},{"$f":"+IF( VLOOKUP(TablaResultados[[#This Row],[Nombre unidad TCV]],TablaGxN_NTH2[],14,0)=0,0,VLOOKUP(TablaResultados[[#This Row],[Nombre unidad TCV]],TablaCMgP_pre[],14,0)/VLOOKUP(TablaResultados[[#This Row],[Nombre unidad TCV]],TablaGxN_NTH2[],14,0))","v":36.506943649075048},{"$f":"+VLOOKUP(TablaResultados[[#This Row],[Nombre unidad TCV]],'VUI-pre'!$B$5:$H$150,7,0)","v":1.9621027931546267},{"$f":"+TablaResultados[[#This Row],[CVP]]+TablaResultados[[#This Row],[VUI]]","v":18.566051983670345},{"$f":"+MAX(TablaResultados[[#This Row],[CTU]]-TablaResultados[[#This Row],[CMgP]],0)*SUM(TablaGxN_NTH2[[#This Row],[Enero]:[Diciembre]])","v":0},{"$f":"+TablaResultados[[#This Row],[VUI]]*SUM(TablaGxN_NTH3[[#This Row],[Enero]:[Diciembre]])","v":0},{"$f":"+MAX(TablaResultados[[#This Row],[Compensación A]],TablaResultados[[#This Row],[Compensación B]])","v":0},null,"Atacama",259621825.2818895,null,"BE FORESTALES",104302067.41825306,null,"BE FORESTALES",{"$f":"+SUMIF(TablaResultados[Nombre empresa],T9,TablaResultados[Impuesto])","v":2071357761.52},{"$f":"+SUMIF(TablaResultados[Nombre empresa],T9,TablaResultados[Compensación])","v":104302067.41825306},5.0354443522935562E-2]
[null,{"$f":"+Unidades!D11","v":"ENEL_GENERACION"},{"$f":"+Unidades!C11","v":"Termoeléctrica Bocamina"},{"$f":"+Unidades!B11","v":"Bocamina"},{"$f":"+VLOOKUP(TablaResultados[[#This Row],[Nombre unidad TCV]],'Impuestos SII'!O:R,4,0)","v":2541576691.3899999},{"$f":"IF( VLOOKUP(TablaResultados[[#This Row],[Nombre unidad TCV]],TablaGxN_NTH1[],14,0)=0,0,VLOOKUP(TablaResultados[[#This Row],[Nombre unidad TCV]],TablaCVP_pre[],14,0)/VLOOKUP(TablaResultados[[#This Row],[Nombre unidad TCV]],TablaGxN_NTH1[],14,0))","v":33.929135163810159},{"$f":"+IF( VLOOKUP(TablaResultados[[#This Row],[Nombre unidad TCV]],TablaGxN_NTH2[],14,0)=0,0,VLOOKUP(TablaResultados[[#This Row],[Nombre unidad TCV]],TablaCMgP_pre[],14,0)/VLOOKUP(TablaResultados[[#This Row],[Nombre unidad TCV]],TablaGxN_NTH2[],14,0))","v":42.84898616906829},{"$f":"+VLOOKUP(TablaResultados[[#This Row],[Nombre unidad TCV]],'VUI-pre'!$B$5:$H$150,7,0)","v":4.6272708652364996},{"$f":"+TablaResultados[[#This Row],[CVP]]+TablaResultados[[#This Row],[VUI]]","v":38.556406029046656},{"$f":"+MAX(TablaResultados[[#This Row],[CTU]]-TablaResultados[[#This Row],[CMgP]],0)*SUM(TablaGxN_NTH2[[#This Row],[Enero]:[Diciembre]])","v":0},{"$f":"+TablaResultados[[#This Row],[VUI]]*SUM(TablaGxN_NTH3[[#This Row],[Enero]:[Diciembre]])","v":646245276.72359526},{"$f":"+MAX(TablaResultados[[#This Row],[Compensación A]],TablaResultados[[#This Row],[Compensación B]])","v":646245276.72359526},null,"Candelaria",10672819.153309453,null,"CARDONES SA",152768.98000000004,null,"CARDONES SA",{"$f":"+SUMIF(TablaResultados[Nombre empresa],T10,TablaResultados[Impuesto])","v":152768.98000000001},{"$f":"+SUMIF(TablaResultados[Nombre empresa],T10,TablaResultados[Compensación])","v":152768.98000000004},1.0000000000000002]
[null,{"$f":"+Unidades!D12","v":"ENEL_GENERACION"},{"$f":"+Unidades!C12","v":"Termoeléctrica Bocamina"},{"$f":"+Unidades!B12","v":"Bocamina II"},{"$f":"+VLOOKUP(TablaResultados[[#This Row],[Nombre unidad TCV]],'Impuestos SII'!O:R,4,0)","v":10534143146.35},{"$f":"IF( VLOOKUP(TablaResultados[[#This Row],[Nombre unidad TCV]],TablaGxN_NTH1[],14,0)=0,0,VLOOKUP(TablaResultados[[#This Row],[Nombre unidad TCV]],TablaCVP_pre[],14,0)/VLOOKUP(TablaResultados[[#This Row],[Nombre unidad TCV]],TablaGxN_NTH1[],14,0))","v":24.380125461540235},{"$f":"+IF( VLOOKUP(TablaResultados[[#This Row],[Nombre unidad TCV]],TablaGxN_NTH2[],14,0)=0,0,VLOOKUP(TablaResultados[[#This Row],[Nombre unidad TCV]],TablaCMgP_pre[],14,0)/VLOOKUP(TablaResultados[[#This Row],[Nombre unidad TCV]],TablaGxN_NTH2[],14,0))","v":37.394463532034578},{"$f":"+VLOOKUP(TablaResultados[[#This Row],[Nombre unidad TCV]],'VUI-pre'!$B$5:$H$150,7,0)","v":4.9601980349372736},{"$f":"+TablaResultados[[#This Row],[CVP]]+TablaResultados[[#This Row],[VUI]]","v":29.340323496477509},{"$f":"+MAX(TablaResultados[[#This Row],[CTU]]-TablaResultados[[#This Row],[CMgP]],0)*SUM(TablaGxN_NTH2[[#This Row],[Enero]:[Diciembre]])","v":0},{"$f":"+TablaResultados[[#This Row],[VUI]]*SUM(TablaGxN_NTH3[[#This Row],[Enero]:[Diciembre]])","v":1547641512.7144105},{"$f":"+MAX(TablaResultados[[#This Row],[Compensación A]],TablaResultados[[#This Row],[Compensación B]])","v":1547641512.7144105},null,"Cardones",152768.98000000004,null,"COCHRANE",2569469562.8470402,null,"COCHRANE",{"$f":"+SUMIF(TablaResultados[Nombre empresa],T11,TablaResultados[Impuesto])","v":11485481230.35},{"$f":"+SUMIF(TablaResultados[Nombre empresa],T11,TablaResultados[Compensación])","v":2569469562.8470402},0.22371457593411956]
[null,{"$f":"+Unidades!D13","v":"AES_GENER"},{"$f":"+Unidades!C13","v":"Termoeléctrica Ventanas"},{"$f":"+Unidades!B13","v":"Campiche"},{"$f":"+VLOOKUP(TablaResultados[[#This Row],[Nombre unidad TCV]],'Impuestos SII'!O:R,4,0)","v":6370837756.0100002},{"$f":"IF( VLOOKUP(TablaResultados[[#This Row],[Nombre unidad TCV]],TablaGxN_NTH1[],14,0)=0,0,VLOOKUP(TablaResultados[[#This Row],[Nombre unidad TCV]],TablaCVP_pre[],14,0)/VLOOKUP(TablaResultados[[#This Row],[Nombre unidad TCV]],TablaGxN_NTH1[],14,0))","v":29.505510534077725},{"$f":"+IF( VLOOKUP(TablaResultados[[#This Row],[Nombre unidad TCV]],TablaGxN_NTH2[],14,0)=0,0,VLOOKUP(TablaResultados[[#This Row],[Nombre unidad TCV]],TablaCMgP_pre[],14,0)/VLOOKUP(TablaResultados[[#This Row],[Nombre unidad TCV]],TablaGxN_NTH2[],14,0))","v":38.778036152809008},{"$f":"+VLOOKUP(TablaResultados[[#This Row],[Nombre unidad TCV]],'VUI-pre'!$B$5:$H$150,7,0)","v":4.0668904881522518},{"$f":"+TablaResultados[[#This Row],[CVP]]+TablaResultados[[#This Row],[VUI]]","v":33.572401022229975},{"$f":"+MAX(TablaResultados[[#This Row],[CTU]]-TablaResultados[[#This Row],[CMgP]],0)*SUM(TablaGxN_NTH2[[#This Row],[Enero]:[Diciembre]])","v":0},{"$f":"+TablaResultados[[#This Row],[VUI]]*SUM(TablaGxN_NTH3[[#This Row],[Enero]:[Diciembre]])","v":537102907.4102397},{"$f":"+MAX(TablaResultados[[#This Row],[Compensación A]],TablaResultados[[#This Row],[Compensación B]])","v":537102907.4102397},null,"Celco",1430962.5017165379,null,"COLBUN",1861660753.9848719,null,"COLBUN",{"$f":"+SUMIF(TablaResultados[Nombre empresa],T12,TablaResultados[Impuesto])","v":17932747900.720001},{"$f":"+SUMIF(TablaResultados[Nombre empresa],T12,TablaResultados[Compensación])","v":1861660753.9848719},0.10381346820305917]
[null,{"$f":"+Unidades!D14","v":"COLBUN"},{"$f":"+Unidades!C14","v":"Candelaria"},{"$f":"+Unidades!B14","v":"Candelaria 1"},{"$f":"+VLOOKUP(TablaResultados[[#This Row],[Nombre unidad TCV]],'Impuestos SII'!O:R,4,0)","v":149792122.5},{"$f":"IF( VLOOKUP(TablaResultados[[#This Row],[Nombre unidad TCV]],TablaGxN_NTH1[],14,0)=0,0,VLOOKUP(TablaResultados[[#This Row],[Nombre unidad TCV]],TablaCVP_pre[],14,0)/VLOOKUP(TablaResultados[[#This Row],[Nombre unidad TCV]],TablaGxN_NTH1[],14,0))","v":4.9803960771565663},{"$f":"+IF( VLOOKUP(TablaResultados[[#This Row],[Nombre unidad TCV]],TablaGxN_NTH2[],14,0)=0,0,VLOOKUP(TablaResultados[[#This Row],[Nombre unidad TCV]],TablaCMgP_pre[],14,0)/VLOOKUP(TablaResultados[[#This Row],[Nombre unidad TCV]],TablaGxN_NTH2[],14,0))","v":51.450029865181534},{"$f":"+VLOOKUP(TablaResultados[[#This Row],[Nombre unidad TCV]],'VUI-pre'!$B$5:$H$150,7,0)","v":3.1351983547747588},{"$f":"+TablaResultados[[#This Row],[CVP]]+TablaResultados[[#This Row],[VUI]]","v":8.1155944319313242},{"$f":"+MAX(TablaResultados[[#This Row],[CTU]]-TablaResultados[[#This Row],[CMgP]],0)*SUM(TablaGxN_NTH2[[#This Row],[Enero]:[Diciembre]])","v":0},{"$f":"+TablaResultados[[#This Row],[VUI]]*SUM(TablaGxN_NTH3[[#This Row],[Enero]:[Diciembre]])","v":5341071.7964303084},{"$f":"+MAX(TablaResultados[[#This Row],[Compensación A]],TablaResultados[[#This Row],[Compensación B]])","v":5341071.7964303084},null,"Cholguan",0,null,"COLMITO",193739569.13304508,null,"COLMITO",{"$f":"+SUMIF(TablaResultados[Nombre empresa],T13,TablaResultados[Impuesto])","v":214764309.18000001},{"$f":"+SUMIF(TablaResultados[Nombre empresa],T13,TablaResultados[Compensación])","v":193739569.13304508},0.90210319336937173]
[null,{"$f":"+Unidades!D15","v":"COLBUN"},{"$f":"+Unidades!C15","v":"Candelaria"},{"$f":"+Unidades!B15","v":"Candelaria 2"},{"$f":"+VLOOKUP(TablaResultados[[#This Row],[Nombre unidad TCV]],'Impuestos SII'!O:R,4,0)","v":108844199.73},{"$f":"IF( VLOOKUP(TablaResultados[[#This Row],[Nombre unidad TCV]],TablaGxN_NTH1[],14,0)=0,0,VLOOKUP(TablaResultados[[#This Row],[Nombre unidad TCV]],TablaCVP_pre[],14,0)/VLOOKUP(TablaResultados[[#This Row],[Nombre unidad TCV]],TablaGxN_NTH1[],14,0))","v":7.7310874440663886},{"$f":"+IF( VLOOKUP(TablaResultados[[#This Row],[Nombre unidad TCV]],TablaGxN_NTH2[],14,0)=0,0,VLOOKUP(TablaResultados[[#This Row],[Nombre unidad TCV]],TablaCMgP_pre[],14,0)/VLOOKUP(TablaResultados[[#This Row],[Nombre unidad TCV]],TablaGxN_NTH2[],14,0))","v":51.505493863880886},{"$f":"+VLOOKUP(TablaResultados[[#This Row],[Nombre unidad TCV]],'VUI-pre'!$B$5:$H$150,7,0)","v":2.9713019033831798},{"$f":"+TablaResultados[[#This Row],[CVP]]+TablaResultados[[#This Row],[VUI]]","v":10.702389347449568},{"$f":"+MAX(TablaResultados[[#This Row],[CTU]]-TablaResultados[[#This Row],[CMgP]],0)*SUM(TablaGxN_NTH2[[#This Row],[Enero]:[Diciembre]])","v":0},{"$f":"+TablaResultados[[#This Row],[VUI]]*SUM(TablaGxN_NTH3[[#This Row],[Enero]:[Diciembre]])","v":5331747.3568791458},{"$f":"+MAX(TablaResultados[[#This Row],[Compensación A]],TablaResultados[[#This Row],[Compensación B]])","v":5331747.3568791458},null,"CMPC Cordillera",103681228.9161818,null,"COMASA",1297869.0180654349,null,"COMASA",{"$f":"+SUMIF(TablaResultados[Nombre empresa],T14,TablaResultados[Impuesto])","v":153654255.20999998},{"$f":"+SUMIF(TablaResultados[Nombre empresa],T14,TablaResultados[Compensación])","v":1297869.0180654349},8.4466845144745995E-3]
[null,{"$f":"+Unidades!D16","v":"CARDONES SA"},{"$f":"+Unidades!C16","v":"Cardones"},{"$f":"+Unidades!B16","v":"Cardones"},{"$f":"+VLOOKUP(TablaResultados[[#This Row],[Nombre unidad TCV]],'Impuestos SII'!O:R,4,0)","v":152768.98000000001},{"$f":"IF( VLOOKUP(TablaResultados[[#This Row],[Nombre unidad TCV]],TablaGxN_NTH1[],14,0)=0,0,VLOOKUP(TablaResultados[[#This Row],[Nombre unidad TCV]],TablaCVP_pre[],14,0)/VLOOKUP(TablaResultados[[#This Row],[Nombre unidad TCV]],TablaGxN_NTH1[],14,0))","v":122.57875800000002},{"$f":"+IF( VLOOKUP(TablaResultados[[#This Row],[Nombre unidad TCV]],TablaGxN_NTH2[],14,0)=0,0,VLOOKUP(TablaResultados[[#This Row],[Nombre unidad TCV]],TablaCMgP_pre[],14,0)/VLOOKUP(TablaResultados[[#This Row],[Nombre unidad TCV]],TablaGxN_NTH2[],14,0))","v":122.57875800000002},{"$f":"+VLOOKUP(TablaResultados[[#This Row],[Nombre unidad TCV]],'VUI-pre'!$B$5:$H$150,7,0)","v":36696.848426615426},{"$f":"+TablaResultados[[#This Row],[CVP]]+TablaResultados[[#This Row],[VUI]]","v":36819.42718461543},{"$f":"+MAX(TablaResultados[[#This Row],[CTU]]-TablaResultados[[#This Row],[CMgP]],0)*SUM(TablaGxN_NTH2[[#This Row],[Enero]:[Diciembre]])","v":152768.98000000004},{"$f":"+TablaResultados[[#This Row],[VUI]]*SUM(TablaGxN_NTH3[[#This Row],[Enero]:[Diciembre]])","v":152768.98000000004},{"$f":"+MAX(TablaResultados[[#This Row],[Compensación A]],TablaResultados[[#This Row],[Compensación B]])","v":152768.98000000004},null,"CMPC Laja",72128.848410528284,null,"EMELDA",3639258.6999999997,null,"EMELDA",{"$f":"+SUMIF(TablaResultados[Nombre empresa],T15,TablaResultados[Impuesto])","v":3639258.7},{"$f":"+SUMIF(TablaResultados[Nombre empresa],T15,TablaResultados[Compensación])","v":3639258.6999999997},0.99999999999999989]
[null,{"$f":"+Unidades!D17","v":"TAMAKAYA_ENERGIA"},{"$f":"+Unidades!C17","v":"Kelar"},{"$f":"+Unidades!B17","v":"CC KELAR"},{"$f":"+VLOOKUP(TablaResultados[[#This Row],[Nombre unidad TCV]],'Impuestos SII'!O:R,4,0)","v":2812750319.8099999},{"$f":"IF( VLOOKUP(TablaResultados[[#This Row],[Nombre unidad TCV]],TablaGxN_NTH1[],14,0)=0,0,VLOOKUP(TablaResultados[[#This Row],[Nombre unidad TCV]],TablaCVP_pre[],14,0)/VLOOKUP(TablaResultados[[#This Row],[Nombre unidad TCV]],TablaGxN_NTH1[],14,0))","v":10.708669834076092},{"$f":"+IF( VLOOKUP(TablaResultados[[#This Row],[Nombre unidad TCV]],TablaGxN_NTH2[],14,0)=0,0,VLOOKUP(TablaResultados[[#This Row],[Nombre unidad TCV]],TablaCMgP_pre[],14,0)/VLOOKUP(TablaResultados[[#This Row],[Nombre unidad TCV]],TablaGxN_NTH2[],14,0))","v":33.818592868279708},{"$f":"+VLOOKUP(TablaResultados[[#This Row],[Nombre unidad TCV]],'VUI-pre'!$B$5:$H$150,7,0)","v":1.8263409026557622},{"$f":"+TablaResultados[[#This Row],[CVP]]+TablaResultados[[#This Row],[VUI]]","v":12.535010736731854},{"$f":"+MAX(TablaResultados[[#This Row],[CTU]]-TablaResultados[[#This Row],[CMgP]],0)*SUM(TablaGxN_NTH2[[#This Row],[Enero]:[Diciembre]])","v":0},{"$f":"+TablaResultados[[#This Row],[VUI]]*SUM(TablaGxN_NTH3[[#This Row],[Enero]:[Diciembre]])","v":435756952.40319234},{"$f":"+MAX(TablaResultados[[#This Row],[Compensación A]],TablaResultados[[#This Row],[Compensación B]])","v":435756952.40319234},null,"CMPC Pacífico",548709.65366072464,null,"ENEL_GENERACION",4550137008.039691,null,"ENEL_GENERACION",{"$f":"+SUMIF(TablaResultados[Nombre empresa],T16,TablaResultados[Impuesto])","v":24226350270.450001},{"$f":"+SUMIF(TablaResultados[Nombre empresa],T16,TablaResultados[Compensación])","v":4550137008.039691},0.18781768434966051]
[null,{"$f":"+Unidades!D18","v":"ENEL_GENERACION"},{"$f":"+Unidades!C18","v":"Atacama"},{"$f":"+Unidades!B18","v":"CC1"},{"$f":"+VLOOKUP(TablaResultados[[#This Row],[Nombre unidad TCV]],'Impuestos SII'!O:R,4,0)","v":549818333.03999996},{"$f":"IF( VLOOKUP(TablaResultados[[#This Row],[Nombre unidad TCV]],TablaGxN_NTH1[],14,0)=0,0,VLOOKUP(TablaResultados[[#This Row],[Nombre unidad TCV]],TablaCVP_pre[],14,0)/VLOOKUP(TablaResultados[[#This Row],[Nombre unidad TCV]],TablaGxN_NTH1[],14,0))","v":27.254954912746829},{"$f":"+IF( VLOOKUP(TablaResultados[[#This Row],[Nombre unidad TCV]],TablaGxN_NTH2[],14,0)=0,0,VLOOKUP(TablaResultados[[#This Row],[Nombre unidad TCV]],TablaCMgP_pre[],14,0)/VLOOKUP(TablaResultados[[#This Row],[Nombre unidad TCV]],TablaGxN_NTH2[],14,0))","v":41.144327997779186},{"$f":"+VLOOKUP(TablaResultados[[#This Row],[Nombre unidad TCV]],'VUI-pre'!$B$5:$H$150,7,0)","v":2.4780535142903197},{"$f":"+TablaResultados[[#This Row],[CVP]]+TablaResultados[[#This Row],[VUI]]","v":29.733008427037149},{"$f":"+MAX(TablaResultados[[#This Row],[CTU]]-TablaResultados[[#This Row],[CMgP]],0)*SUM(TablaGxN_NTH2[[#This Row],[Enero]:[Diciembre]])","v":0},{"$f":"+TablaResultados[[#This Row],[VUI]]*SUM(TablaGxN_NTH3[[#This Row],[Enero]:[Diciembre]])","v":175240785.52593622},{"$f":"+MAX(TablaResultados[[#This Row],[Compensación A]],TablaResultados[[#This Row],[Compensación B]])","v":175240785.52593622},null,"Cochrane",2569469562.8470402,null,"ENERGIA PACIFICO",2642699.4064933369,null,"ENERGIA PACIFICO",{"$f":"+SUMIF(TablaResultados[Nombre empresa],T17,TablaResultados[Impuesto])","v":34547780.149999999},{"$f":"+SUMIF(TablaResultados[Nombre empresa],T17,TablaResultados[Compensación])","v":2642699.4064933369},7.6494043756769048E-2]
[null,{"$f":"+Unidades!D19","v":"ENEL_GENERACION"},{"$f":"+Unidades!C19","v":"Atacama"},{"$f":"+Unidades!B19","v":"CC2"},{"$f":"+VLOOKUP(TablaResultados[[#This Row],[Nombre unidad TCV]],'Impuestos SII'!O:R,4,0)","v":213473066.24000001},{"$f":"IF( VLOOKUP(TablaResultados[[#This Row],[Nombre unidad TCV]],TablaGxN_NTH1[],14,0)=0,0,VLOOKUP(TablaResultados[[#This Row],[Nombre unidad TCV]],TablaCVP_pre[],14,0)/VLOOKUP(TablaResultados[[#This Row],[Nombre unidad TCV]],TablaGxN_NTH1[],14,0))","v":41.449153085455514},{"$f":"+IF( VLOOKUP(TablaResultados[[#This Row],[Nombre unidad TCV]],TablaGxN_NTH2[],14,0)=0,0,VLOOKUP(TablaResultados[[#This Row],[Nombre unidad TCV]],TablaCMgP_pre[],14,0)/VLOOKUP(TablaResultados[[#This Row],[Nombre unidad TCV]],TablaGxN_NTH2[],14,0))","v":55.845248431391518},{"$f":"+VLOOKUP(TablaResultados[[#This Row],[Nombre unidad TCV]],'VUI-pre'!$B$5:$H$150,7,0)","v":2.5022235371397832},{"$f":"+TablaResultados[[#This Row],[CVP]]+TablaResultados[[#This Row],[VUI]]","v":43.951376622595298},{"$f":"+MAX(TablaResultados[[#This Row],[CTU]]-TablaResultados[[#This Row],[CMgP]],0)*SUM(TablaGxN_NTH2[[#This Row],[Enero]:[Diciembre]])","v":0},{"$f":"+TablaResultados[[#This Row],[VUI]]*SUM(TablaGxN_NTH3[[#This Row],[Enero]:[Diciembre]])","v":84381039.755953267},{"$f":"+MAX(TablaResultados[[#This Row],[Compensación A]],TablaResultados[[#This Row],[Compensación B]])","v":84381039.755953267},null,"Colmito",193739569.13304508,null,"ENGIE",2255966825.9260144,null,"ENGIE",{"$f":"+SUMIF(TablaResultados[Nombre empresa],T18,TablaResultados[Impuesto])","v":10853673183.619999},{"$f":"+SUMIF(TablaResultados[Nombre empresa],T18,TablaResultados[Compensación])","v":2255966825.9260144},0.20785284278972432]
[null,{"$f":"+Unidades!D20","v":"COCHRANE"},{"$f":"+Unidades!C20","v":"Cochrane"},{"$f":"+Unidades!B20","v":"CCH1"},{"$f":"+VLOOKUP(TablaResultados[[#This Row],[Nombre unidad TCV]],'Impuestos SII'!O:R,4,0)","v":5736884738.8900003},{"$f":"IF( VLOOKUP(TablaResultados[[#This Row],[Nombre unidad TCV]],TablaGxN_NTH1[],14,0)=0,0,VLOOKUP(TablaResultados[[#This Row],[Nombre unidad TCV]],TablaCVP_pre[],14,0)/VLOOKUP(TablaResultados[[#This Row],[Nombre unidad TCV]],TablaGxN_NTH1[],14,0))","v":26.684751111580873},{"$f":"+IF( VLOOKUP(TablaResultados[[#This Row],[Nombre unidad TCV]],TablaGxN_NTH2[],14,0)=0,0,VLOOKUP(TablaResultados[[#This Row],[Nombre unidad TCV]],TablaCMgP_pre[],14,0)/VLOOKUP(TablaResultados[[#This Row],[Nombre unidad TCV]],TablaGxN_NTH2[],14,0))","v":32.525819324916704},{"$f":"+VLOOKUP(TablaResultados[[#This Row],[Nombre unidad TCV]],'VUI-pre'!$B$5:$H$150,7,0)","v":4.0155667991557324},{"$f":"+TablaResultados[[#This Row],[CVP]]+TablaResultados[[#This Row],[VUI]]","v":30.700317910736604},{"$f":"+MAX(TablaResultados[[#This Row],[CTU]]-TablaResultados[[#This Row],[CMgP]],0)*SUM(TablaGxN_NTH2[[#This Row],[Enero]:[Diciembre]])","v":0},{"$f":"+TablaResultados[[#This Row],[VUI]]*SUM(TablaGxN_NTH3[[#This Row],[Enero]:[Diciembre]])","v":1255364263.6509657},{"$f":"+MAX(TablaResultados[[#This Row],[Compensación A]],TablaResultados[[#This Row],[Compensación B]])","v":1255364263.6509657},null,"Coronel",45577700.429999977,null,"ENLASA",0,null,"ENLASA",{"$f":"+SUMIF(TablaResultados[Nombre empresa],T19,TablaResultados[Impuesto])","v":0},{"$f":"+SUMIF(TablaResultados[Nombre empresa],T19,TablaResultados[Compensación])","v":0},"-"]
[null,{"$f":"+Unidades!D21","v":"COCHRANE"},{"$f":"+Unidades!C21","v":"Cochrane"},{"$f":"+Unidades!B21","v":"CCH2"},{"$f":"+VLOOKUP(TablaResultados[[#This Row],[Nombre unidad TCV]],'Impuestos SII'!O:R,4,0)","v":5748596491.46},{"$f":"IF( VLOOKUP(TablaResultados[[#This Row],[Nombre unidad TCV]],TablaGxN_NTH1[],14,0)=0,0,VLOOKUP(TablaResultados[[#This Row],[Nombre unidad TCV]],TablaCVP_pre[],14,0)/VLOOKUP(TablaResultados[[#This Row],[Nombre unidad TCV]],TablaGxN_NTH1[],14,0))","v":26.769363566631426},{"$f":"+IF( VLOOKUP(TablaResultados[[#This Row],[Nombre unidad TCV]],TablaGxN_NTH2[],14,0)=0,0,VLOOKUP(TablaResultados[[#This Row],[Nombre unidad TCV]],TablaCMgP_pre[],14,0)/VLOOKUP(TablaResultados[[#This Row],[Nombre unidad TCV]],TablaGxN_NTH2[],14,0))","v":32.592818316252334},{"$f":"+VLOOKUP(TablaResultados[[#This Row],[Nombre unidad TCV]],'VUI-pre'!$B$5:$H$150,7,0)","v":4.0155667991583233},{"$f":"+TablaResultados[[#This Row],[CVP]]+TablaResultados[[#This Row],[VUI]]","v":30.784930365789748},{"$f":"+MAX(TablaResultados[[#This Row],[CTU]]-TablaResultados[[#This Row],[CMgP]],0)*SUM(TablaGxN_NTH2[[#This Row],[Enero]:[Diciembre]])","v":0},{"$f":"+TablaResultados[[#This Row],[VUI]]*SUM(TablaGxN_NTH3[[#This Row],[Enero]:[Diciembre]])","v":1314105299.1960745},{"$f":"+MAX(TablaResultados[[#This Row],[Compensación A]],TablaResultados[[#This Row],[Compensación B]])","v":1314105299.1960745},null,"Diego de Almagro",843572.12528000469,null,"ENORCHILE",784702.59000000148,null,"ENORCHILE",{"$f":"+SUMIF(TablaResultados[Nombre empresa],T20,TablaResultados[Impuesto])","v":784702.59},{"$f":"+SUMIF(TablaResultados[Nombre empresa],T20,TablaResultados[Compensación])","v":784702.59000000148},1.000000000000002]
[null,{"$f":"+Unidades!D22","v":"ENGIE"},{"$f":"+Unidades!C22","v":"(en blanco)"},{"$f":"+Unidades!B22","v":"CD Iquique"},{"$f":"+VLOOKUP(TablaResultados[[#This Row],[Nombre unidad TCV]],'Impuestos SII'!O:R,4,0)","v":0},{"$f":"IF( VLOOKUP(TablaResultados[[#This Row],[Nombre unidad TCV]],TablaGxN_NTH1[],14,0)=0,0,VLOOKUP(TablaResultados[[#This Row],[Nombre unidad TCV]],TablaCVP_pre[],14,0)/VLOOKUP(TablaResultados[[#This Row],[Nombre unidad TCV]],TablaGxN_NTH1[],14,0))","v":0},{"$f":"+IF( VLOOKUP(TablaResultados[[#This Row],[Nombre unidad TCV]],TablaGxN_NTH2[],14,0)=0,0,VLOOKUP(TablaResultados[[#This Row],[Nombre unidad TCV]],TablaCMgP_pre[],14,0)/VLOOKUP(TablaResultados[[#This Row],[Nombre unidad TCV]],TablaGxN_NTH2[],14,0))","v":0},{"$f":"+VLOOKUP(TablaResultados[[#This Row],[Nombre unidad TCV]],'VUI-pre'!$B$5:$H$150,7,0)","v":0},{"$f":"+TablaResultados[[#This Row],[CVP]]+TablaResultados[[#This Row],[VUI]]","v":0},{"$f":"+MAX(TablaResultados[[#This Row],[CTU]]-TablaResultados[[#This Row],[CMgP]],0)*SUM(TablaGxN_NTH2[[#This Row],[Enero]:[Diciembre]])","v":0},{"$f":"+TablaResultados[[#This Row],[VUI]]*SUM(TablaGxN_NTH3[[#This Row],[Enero]:[Diciembre]])","v":0},{"$f":"+MAX(TablaResultados[[#This Row],[Compensación A]],TablaResultados[[#This Row],[Compensación B]])","v":0},null,"El Salvador",1040925.0500000052,null,"ERSA",0,null,"ERSA",{"$f":"+SUMIF(TablaResultados[Nombre empresa],T21,TablaResultados[Impuesto])","v":3038016793.3800001},{"$f":"+SUMIF(TablaResultados[Nombre empresa],T21,TablaResultados[Compensación])","v":0},0]
[null,{"$f":"+Unidades!D23","v":"ARAUCO BIO"},{"$f":"+Unidades!C23","v":"Celco"},{"$f":"+Unidades!B23","v":"Celco"},{"$f":"+VLOOKUP(TablaResultados[[#This Row],[Nombre unidad TCV]],'Impuestos SII'!O:R,4,0)","v":551581745.45000005},{"$f":"IF( VLOOKUP(TablaResultados[[#This Row],[Nombre unidad TCV]],TablaGxN_NTH1[],14,0)=0,0,VLOOKUP(TablaResultados[[#This Row],[Nombre unidad TCV]],TablaCVP_pre[],14,0)/VLOOKUP(TablaResultados[[#This Row],[Nombre unidad TCV]],TablaGxN_NTH1[],14,0))","v":19.216318460780403},{"$f":"+IF( VLOOKUP(TablaResultados[[#This Row],[Nombre unidad TCV]],TablaGxN_NTH2[],14,0)=0,0,VLOOKUP(TablaResultados[[#This Row],[Nombre unidad TCV]],TablaCMgP_pre[],14,0)/VLOOKUP(TablaResultados[[#This Row],[Nombre unidad TCV]],TablaGxN_NTH2[],14,0))","v":35.835844883910781},{"$f":"+VLOOKUP(TablaResultados[[#This Row],[Nombre unidad TCV]],'VUI-pre'!$B$5:$H$150,7,0)","v":1.6700428286605307},{"$f":"+TablaResultados[[#This Row],[CVP]]+TablaResultados[[#This Row],[VUI]]","v":20.886361289440934},{"$f":"+MAX(TablaResultados[[#This Row],[CTU]]-TablaResultados[[#This Row],[CMgP]],0)*SUM(TablaGxN_NTH2[[#This Row],[Enero]:[Diciembre]])","v":0},{"$f":"+TablaResultados[[#This Row],[VUI]]*SUM(TablaGxN_NTH3[[#This Row],[Enero]:[Diciembre]])","v":1430962.5017165379},{"$f":"+MAX(TablaResultados[[#This Row],[Compensación A]],TablaResultados[[#This Row],[Compensación B]])","v":1430962.5017165379},null,"Emelda",3639258.6999999997,null,"GMETROPOLITANA",1182790685.901212,null,"GMETROPOLITANA",{"$f":"+SUMIF(TablaResultados[Nombre empresa],T22,TablaResultados[Impuesto])","v":4477929132.1299992},{"$f":"+SUMIF(TablaResultados[Nombre empresa],T22,TablaResultados[Compensación])","v":1182790685.901212},0.26413787512054676]
[null,{"$f":"+Unidades!D24","v":"ARAUCO BIO"},{"$f":"+Unidades!C24","v":"Cholguan"},{"$f":"+Unidades!B24","v":"Cholguán"},{"$f":"+VLOOKUP(TablaResultados[[#This Row],[Nombre unidad TCV]],'Impuestos SII'!O:R,4,0)","v":161189898.22},{"$f":"IF( VLOOKUP(TablaResultados[[#This Row],[Nombre unidad TCV]],TablaGxN_NTH1[],14,0)=0,0,VLOOKUP(TablaResultados[[#This Row],[Nombre unidad TCV]],TablaCVP_pre[],14,0)/VLOOKUP(TablaResultados[[#This Row],[Nombre unidad TCV]],TablaGxN_NTH1[],14,0))","v":26.041257915682692},{"$f":"+IF( VLOOKUP(TablaResultados[[#This Row],[Nombre unidad TCV]],TablaGxN_NTH2[],14,0)=0,0,VLOOKUP(TablaResultados[[#This Row],[Nombre unidad TCV]],TablaCMgP_pre[],14,0)/VLOOKUP(TablaResultados[[#This Row],[Nombre unidad TCV]],TablaGxN_NTH2[],14,0))","v":46.711889658499288},{"$f":"+VLOOKUP(TablaResultados[[#This Row],[Nombre unidad TCV]],'VUI-pre'!$B$5:$H$150,7,0)","v":1.1753589241729316},{"$f":"+TablaResultados[[#This Row],[CVP]]+TablaResultados[[#This Row],[VUI]]","v":27.216616839855625},{"$f":"+MAX(TablaResultados[[#This Row],[CTU]]-TablaResultados[[#This Row],[CMgP]],0)*SUM(TablaGxN_NTH2[[#This Row],[Enero]:[Diciembre]])","v":0},{"$f":"+TablaResultados[[#This Row],[VUI]]*SUM(TablaGxN_NTH3[[#This Row],[Enero]:[Diciembre]])","v":0},{"$f":"+MAX(TablaResultados[[#This Row],[Compensación A]],TablaResultados[[#This Row],[Compensación B]])","v":0},null,"Energía Pacífico",2642699.4064933369,null,"GUACOLDA",2050230857.5056498,null,"GUACOLDA",{"$f":"+SUMIF(TablaResultados[Nombre empresa],T23,TablaResultados[Impuesto])","v":21771680920.199997},{"$f":"+SUMIF(TablaResultados[Nombre empresa],T23,TablaResultados[Compensación])","v":2050230857.5056498},9.4169617174731962E-2]
[null,{"$f":"+Unidades!D25","v":"BE FORESTALES"},{"$f":"+Unidades!C25","v":"CMPC Cordillera"},{"$f":"+Unidades!B25","v":"CMPC Cordillera"},{"$f":"+VLOOKUP(TablaResultados[[#This Row],[Nombre unidad TCV]],'Impuestos SII'!O:R,4,0)","v":875895948.19000006},{"$f":"IF( VLOOKUP(TablaResultados[[#This Row],[Nombre unidad TCV]],TablaGxN_NTH1[],14,0)=0,0,VLOOKUP(TablaResultados[[#This Row],[Nombre unidad TCV]],TablaCVP_pre[],14,0)/VLOOKUP(TablaResultados[[#This Row],[Nombre unidad TCV]],TablaGxN_NTH1[],14,0))","v":0.61345444613773648},{"$f":"+IF( VLOOKUP(TablaResultados[[#This Row],[Nombre unidad TCV]],TablaGxN_NTH2[],14,0)=0,0,VLOOKUP(TablaResultados[[#This Row],[Nombre unidad TCV]],TablaCMgP_pre[],14,0)/VLOOKUP(TablaResultados[[#This Row],[Nombre unidad TCV]],TablaGxN_NTH2[],14,0))","v":28.649693732885709},{"$f":"+VLOOKUP(TablaResultados[[#This Row],[Nombre unidad TCV]],'VUI-pre'!$B$5:$H$150,7,0)","v":177.70256607628323},{"$f":"+TablaResultados[[#This Row],[CVP]]+TablaResultados[[#This Row],[VUI]]","v":178.31602052242096},{"$f":"+MAX(TablaResultados[[#This Row],[CTU]]-TablaResultados[[#This Row],[CMgP]],0)*SUM(TablaGxN_NTH2[[#This Row],[Enero]:[Diciembre]])","v":103681228.9161818},{"$f":"+TablaResultados[[#This Row],[VUI]]*SUM(TablaGxN_NTH3[[#This Row],[Enero]:[Diciembre]])","v":2219551.7860676558},{"$f":"+MAX(TablaResultados[[#This Row],[Compensación A]],TablaResultados[[#This Row],[Compensación B]])","v":103681228.9161818},null,"Escuadron",475726.77815629554,null,"HORNITOS",804260812.28180504,null,"HORNITOS",{"$f":"+SUMIF(TablaResultados[Nombre empresa],T24,TablaResultados[Impuesto])","v":4090706785.3800001},{"$f":"+SUMIF(TablaResultados[Nombre empresa],T24,TablaResultados[Compensación])","v":804260812.28180504},0.19660681013760178]
[null,{"$f":"+Unidades!D26","v":"BE FORESTALES"},{"$f":"+Unidades!C26","v":"CMPC Laja"},{"$f":"+Unidades!B26","v":"CMPC Laja"},{"$f":"+VLOOKUP(TablaResultados[[#This Row],[Nombre unidad TCV]],'Impuestos SII'!O:R,4,0)","v":100316563.75},{"$f":"IF( VLOOKUP(TablaResultados[[#This Row],[Nombre unidad TCV]],TablaGxN_NTH1[],14,0)=0,0,VLOOKUP(TablaResultados[[#This Row],[Nombre unidad TCV]],TablaCVP_pre[],14,0)/VLOOKUP(TablaResultados[[#This Row],[Nombre unidad TCV]],TablaGxN_NTH1[],14,0))","v":13.295575909549642},{"$f":"+IF( VLOOKUP(TablaResultados[[#This Row],[Nombre unidad TCV]],TablaGxN_NTH2[],14,0)=0,0,VLOOKUP(TablaResultados[[#This Row],[Nombre unidad TCV]],TablaCMgP_pre[],14,0)/VLOOKUP(TablaResultados[[#This Row],[Nombre unidad TCV]],TablaGxN_NTH2[],14,0))","v":36.697243289628695},{"$f":"+VLOOKUP(TablaResultados[[#This Row],[Nombre unidad TCV]],'VUI-pre'!$B$5:$H$150,7,0)","v":0.1176038608845914},{"$f":"+TablaResultados[[#This Row],[CVP]]+TablaResultados[[#This Row],[VUI]]","v":13.413179770434233},{"$f":"+MAX(TablaResultados[[#This Row],[CTU]]-TablaResultados[[#This Row],[CMgP]],0)*SUM(TablaGxN_NTH2[[#This Row],[Enero]:[Diciembre]])","v":0},{"$f":"+TablaResultados[[#This Row],[VUI]]*SUM(TablaGxN_NTH3[[#This Row],[Enero]:[Diciembre]])","v":72128.848410528284},{"$f":"+MAX(TablaResultados[[#This Row],[Compensación A]],TablaResultados[[#This Row],[Compensación B]])","v":72128.848410528284},null,"Esperanza",784702.59000000148,null,"LOS_GUINDOS",0,null,"LOS_GUINDOS",{"$f":"+SUMIF(TablaResultados[Nombre empresa],T25,TablaResultados[Impuesto])","v":0},{"$f":"+SUMIF(TablaResultados[Nombre empresa],T25,TablaResultados[Compensación])","v":0},"-"]
[null,{"$f":"+Unidades!D27","v":"BE FORESTALES"},{"$f":"+Unidades!C27","v":"CMPC Pacífico"},{"$f":"+Unidades!B27","v":"CMPC Pacífico"},{"$f":"+VLOOKUP(TablaResultados[[#This Row],[Nombre unidad TCV]],'Impuestos SII'!O:R,4,0)","v":469412594.23000002},{"$f":"IF( VLOOKUP(TablaResultados[[#This Row],[Nombre unidad TCV]],TablaGxN_NTH1[],14,0)=0,0,VLOOKUP(TablaResultados[[#This Row],[Nombre unidad TCV]],TablaCVP_pre[],14,0)/VLOOKUP(TablaResultados[[#This Row],[Nombre unidad TCV]],TablaGxN_NTH1[],14,0))","v":10.669673800569788},{"$f":"+IF( VLOOKUP(TablaResultados[[#This Row],[Nombre unidad TCV]],TablaGxN_NTH2[],14,0)=0,0,VLOOKUP(TablaResultados[[#This Row],[Nombre unidad TCV]],TablaCMgP_pre[],14,0)/VLOOKUP(TablaResultados[[#This Row],[Nombre unidad TCV]],TablaGxN_NTH2[],14,0))","v":35.568088432636216},{"$f":"+VLOOKUP(TablaResultados[[#This Row],[Nombre unidad TCV]],'VUI-pre'!$B$5:$H$150,7,0)","v":0.59066338278465025},{"$f":"+TablaResultados[[#This Row],[CVP]]+TablaResultados[[#This Row],[VUI]]","v":11.260337183354437},{"$f":"+MAX(TablaResultados[[#This Row],[CTU]]-TablaResultados[[#This Row],[CMgP]],0)*SUM(TablaGxN_NTH2[[#This Row],[Enero]:[Diciembre]])","v":0},{"$f":"+TablaResultados[[#This Row],[VUI]]*SUM(TablaGxN_NTH3[[#This Row],[Enero]:[Diciembre]])","v":548709.65366072464},{"$f":"+MAX(TablaResultados[[#This Row],[Compensación A]],TablaResultados[[#This Row],[Compensación B]])","v":548709.65366072464},null,"Guacolda",2050230857.5056498,null,"NEOMAS",301748.05391810724,null,"NEOMAS",{"$f":"+SUMIF(TablaResultados[Nombre empresa],T26,TablaResultados[Impuesto])","v":37180373.920000002},{"$f":"+SUMIF(TablaResultados[Nombre empresa],T26,TablaResultados[Compensación])","v":301748.05391810724},8.1157885761818944E-3]
[null,{"$f":"+Unidades!D28","v":"BE FORESTALES"},{"$f":"+Unidades!C28","v":"Santa Fe"},{"$f":"+Unidades!B28","v":"CMPC Santa Fe"},{"$f":"+VLOOKUP(TablaResultados[[#This Row],[Nombre unidad TCV]],'Impuestos SII'!O:R,4,0)","v":269498963.47000003},{"$f":"IF( VLOOKUP(TablaResultados[[#This Row],[Nombre unidad TCV]],TablaGxN_NTH1[],14,0)=0,0,VLOOKUP(TablaResultados[[#This Row],[Nombre unidad TCV]],TablaCVP_pre[],14,0)/VLOOKUP(TablaResultados[[#This Row],[Nombre unidad TCV]],TablaGxN_NTH1[],14,0))","v":0},{"$f":"+IF( VLOOKUP(TablaResultados[[#This Row],[Nombre unidad TCV]],TablaGxN_NTH2[],14,0)=0,0,VLOOKUP(TablaResultados[[#This Row],[Nombre unidad TCV]],TablaCMgP_pre[],14,0)/VLOOKUP(TablaResultados[[#This Row],[Nombre unidad TCV]],TablaGxN_NTH2[],14,0))","v":0},{"$f":"+VLOOKUP(TablaResultados[[#This Row],[Nombre unidad TCV]],'VUI-pre'!$B$5:$H$150,7,0)","v":0},{"$f":"+TablaResultados[[#This Row],[CVP]]+TablaResultados[[#This Row],[VUI]]","v":0},{"$f":"+MAX(TablaResultados[[#This Row],[CTU]]-TablaResultados[[#This Row],[CMgP]],0)*SUM(TablaGxN_NTH2[[#This Row],[Enero]:[Diciembre]])","v":0},{"$f":"+TablaResultados[[#This Row],[VUI]]*SUM(TablaGxN_NTH3[[#This Row],[Enero]:[Diciembre]])","v":0},{"$f":"+MAX(TablaResultados[[#This Row],[Compensación A]],TablaResultados[[#This Row],[Compensación B]])","v":0},null,"Horcones TG",679340.56,null,"NUEVA ENERGIA",475726.77815629554,null,"NUEVA ENERGIA",{"$f":"+SUMIF(TablaResultados[Nombre empresa],T27,TablaResultados[Impuesto])","v":28068552.09},{"$f":"+SUMIF(TablaResultados[Nombre empresa],T27,TablaResultados[Compensación])","v":475726.77815629554},1.6948746648238512E-2]
[null,{"$f":"+Unidades!D29","v":"BE FORESTALES"},{"$f":"+Unidades!C29","v":"(en blanco)"},{"$f":"+Unidades!B29","v":"CMPC TISSUE"},{"$f":"+VLOOKUP(TablaResultados[[#This Row],[Nombre unidad TCV]],'Impuestos SII'!O:R,4,0)","v":356233691.88},{"$f":"IF( VLOOKUP(TablaResultados[[#This Row],[Nombre unidad TCV]],TablaGxN_NTH1[],14,0)=0,0,VLOOKUP(TablaResultados[[#This Row],[Nombre unidad TCV]],TablaCVP_pre[],14,0)/VLOOKUP(TablaResultados[[#This Row],[Nombre unidad TCV]],TablaGxN_NTH1[],14,0))","v":26.066560556953917},{"$f":"+IF( VLOOKUP(TablaResultados[[#This Row],[Nombre unidad TCV]],TablaGxN_NTH2[],14,0)=0,0,VLOOKUP(TablaResultados[[#This Row],[Nombre unidad TCV]],TablaCMgP_pre[],14,0)/VLOOKUP(TablaResultados[[#This Row],[Nombre unidad TCV]],TablaGxN_NTH2[],14,0))","v":43.213071558989469},{"$f":"+VLOOKUP(TablaResultados[[#This Row],[Nombre unidad TCV]],'VUI-pre'!$B$5:$H$150,7,0)","v":2.2414784800664451},{"$f":"+TablaResultados[[#This Row],[CVP]]+TablaResultados[[#This Row],[VUI]]","v":28.308039037020361},{"$f":"+MAX(TablaResultados[[#This Row],[CTU]]-TablaResultados[[#This Row],[CMgP]],0)*SUM(TablaGxN_NTH2[[#This Row],[Enero]:[Diciembre]])","v":0},{"$f":"+TablaResultados[[#This Row],[VUI]]*SUM(TablaGxN_NTH3[[#This Row],[Enero]:[Diciembre]])","v":0},{"$f":"+MAX(TablaResultados[[#This Row],[Compensación A]],TablaResultados[[#This Row],[Compensación B]])","v":0},null,"Hornitos",804260812.28180504,null,"ORAZUL_CHILE",1811023.8300000029,null,"ORAZUL_CHILE",{"$f":"+SUMIF(TablaResultados[Nombre empresa],T28,TablaResultados[Impuesto])","v":1811023.8299999998},{"$f":"+SUMIF(TablaResultados[Nombre empresa],T28,TablaResultados[Compensación])","v":1811023.8300000029},1.0000000000000018]
[null,{"$f":"+Unidades!D30","v":"COLMITO"},{"$f":"+Unidades!C30","v":"Colmito"},{"$f":"+Unidades!B30","v":"Colmito"},{"$f":"+VLOOKUP(TablaResultados[[#This Row],[Nombre unidad TCV]],'Impuestos SII'!O:R,4,0)","v":214764309.18000001},{"$f":"IF( VLOOKUP(TablaResultados[[#This Row],[Nombre unidad TCV]],TablaGxN_NTH1[],14,0)=0,0,VLOOKUP(TablaResultados[[#This Row],[Nombre unidad TCV]],TablaCVP_pre[],14,0)/VLOOKUP(TablaResultados[[#This Row],[Nombre unidad TCV]],TablaGxN_NTH1[],14,0))","v":117.85820739953621},{"$f":"+IF( VLOOKUP(TablaResultados[[#This Row],[Nombre unidad TCV]],TablaGxN_NTH2[],14,0)=0,0,VLOOKUP(TablaResultados[[#This Row],[Nombre unidad TCV]],TablaCMgP_pre[],14,0)/VLOOKUP(TablaResultados[[#This Row],[Nombre unidad TCV]],TablaGxN_NTH2[],14,0))","v":119.31092410231892},{"$f":"+VLOOKUP(TablaResultados[[#This Row],[Nombre unidad TCV]],'VUI-pre'!$B$5:$H$150,7,0)","v":3.7014151766049581},{"$f":"+TablaResultados[[#This Row],[CVP]]+TablaResultados[[#This Row],[VUI]]","v":121.55962257614117},{"$f":"+MAX(TablaResultados[[#This Row],[CTU]]-TablaResultados[[#This Row],[CMgP]],0)*SUM(TablaGxN_NTH2[[#This Row],[Enero]:[Diciembre]])","v":130474467.53258325},{"$f":"+TablaResultados[[#This Row],[VUI]]*SUM(TablaGxN_NTH3[[#This Row],[Enero]:[Diciembre]])","v":193739569.13304508},{"$f":"+MAX(TablaResultados[[#This Row],[Compensación A]],TablaResultados[[#This Row],[Compensación B]])","v":193739569.13304508},null,"Huasco TG",1241279.9100000008,null,"SGA",45577700.429999977,null,"SGA",{"$f":"+SUMIF(TablaResultados[Nombre empresa],T29,TablaResultados[Impuesto])","v":45577700.43},{"$f":"+SUMIF(TablaResultados[Nombre empresa],T29,TablaResultados[Compensación])","v":45577700.429999977},0.99999999999999956]
[null,{"$f":"+Unidades!D31","v":"ANDINA"},{"$f":"+Unidades!C31","v":"Andina"},{"$f":"+Unidades!B31","v":"CTA"},{"$f":"+VLOOKUP(TablaResultados[[#This Row],[Nombre unidad TCV]],'Impuestos SII'!O:R,4,0)","v":3090384806.54},{"$f":"IF( VLOOKUP(TablaResultados[[#This Row],[Nombre unidad TCV]],TablaGxN_NTH1[],14,0)=0,0,VLOOKUP(TablaResultados[[#This Row],[Nombre unidad TCV]],TablaCVP_pre[],14,0)/VLOOKUP(TablaResultados[[#This Row],[Nombre unidad TCV]],TablaGxN_NTH1[],14,0))","v":26.601487183584144},{"$f":"+IF( VLOOKUP(TablaResultados[[#This Row],[Nombre unidad TCV]],TablaGxN_NTH2[],14,0)=0,0,VLOOKUP(TablaResultados[[#This Row],[Nombre unidad TCV]],TablaCMgP_pre[],14,0)/VLOOKUP(TablaResultados[[#This Row],[Nombre unidad TCV]],TablaGxN_NTH2[],14,0))","v":32.455982638953685},{"$f":"+VLOOKUP(TablaResultados[[#This Row],[Nombre unidad TCV]],'VUI-pre'!$B$5:$H$150,7,0)","v":4.7220741425585828},{"$f":"+TablaResultados[[#This Row],[CVP]]+TablaResultados[[#This Row],[VUI]]","v":31.323561326142727},{"$f":"+MAX(TablaResultados[[#This Row],[CTU]]-TablaResultados[[#This Row],[CMgP]],0)*SUM(TablaGxN_NTH2[[#This Row],[Enero]:[Diciembre]])","v":0},{"$f":"+TablaResultados[[#This Row],[VUI]]*SUM(TablaGxN_NTH3[[#This Row],[Enero]:[Diciembre]])","v":630348378.83780766},{"$f":"+MAX(TablaResultados[[#This Row],[Compensación A]],TablaResultados[[#This Row],[Compensación B]])","v":630348378.83780766},null,"Kelar",435756952.40319234,null,"SWO",1040925.0500000052,null,"SWO",{"$f":"+SUMIF(TablaResultados[Nombre empresa],T30,TablaResultados[Impuesto])","v":1040925.05},{"$f":"+SUMIF(TablaResultados[Nombre empresa],T30,TablaResultados[Compensación])","v":1040925.0500000052},1.0000000000000049]
[null,{"$f":"+Unidades!D32","v":"HORNITOS"},{"$f":"+Unidades!C32","v":"Hornitos"},{"$f":"+Unidades!B32","v":"CTH"},{"$f":"+VLOOKUP(TablaResultados[[#This Row],[Nombre unidad TCV]],'Impuestos SII'!O:R,4,0)","v":4090706785.3800001},{"$f":"IF( VLOOKUP(TablaResultados[[#This Row],[Nombre unidad TCV]],TablaGxN_NTH1[],14,0)=0,0,VLOOKUP(TablaResultados[[#This Row],[Nombre unidad TCV]],TablaCVP_pre[],14,0)/VLOOKUP(TablaResultados[[#This Row],[Nombre unidad TCV]],TablaGxN_NTH1[],14,0))","v":27.879498265282113},{"$f":"+IF( VLOOKUP(TablaResultados[[#This Row],[Nombre unidad TCV]],TablaGxN_NTH2[],14,0)=0,0,VLOOKUP(TablaResultados[[#This Row],[Nombre unidad TCV]],TablaCMgP_pre[],14,0)/VLOOKUP(TablaResultados[[#This Row],[Nombre unidad TCV]],TablaGxN_NTH2[],14,0))","v":34.300856288287108},{"$f":"+VLOOKUP(TablaResultados[[#This Row],[Nombre unidad TCV]],'VUI-pre'!$B$5:$H$150,7,0)","v":5.2642838956718627},{"$f":"+TablaResultados[[#This Row],[CVP]]+TablaResultados[[#This Row],[VUI]]","v":33.143782160953975},{"$f":"+MAX(TablaResultados[[#This Row],[CTU]]-TablaResultados[[#This Row],[CMgP]],0)*SUM(TablaGxN_NTH2[[#This Row],[Enero]:[Diciembre]])","v":0},{"$f":"+TablaResultados[[#This Row],[VUI]]*SUM(TablaGxN_NTH3[[#This Row],[Enero]:[Diciembre]])","v":804260812.28180504},{"$f":"+MAX(TablaResultados[[#This Row],[Compensación A]],TablaResultados[[#This Row],[Compensación B]])","v":804260812.28180504},null,"Laguna Verde",0,null,"TAMAKAYA_ENERGIA",435756952.40319234,null,"TAMAKAYA_ENERGIA",{"$f":"+SUMIF(TablaResultados[Nombre empresa],T31,TablaResultados[Impuesto])","v":2812750319.8099999},{"$f":"+SUMIF(TablaResultados[Nombre empresa],T31,TablaResultados[Compensación])","v":435756952.40319234},0.15492201683675483]
[null,{"$f":"+Unidades!D33","v":"ENGIE"},{"$f":"+Unidades!C33","v":"Mejillones"},{"$f":"+Unidades!B33","v":"CTM1"},{"$f":"+VLOOKUP(TablaResultados[[#This Row],[Nombre unidad TCV]],'Impuestos SII'!O:R,4,0)","v":839287289.27999997},{"$f":"IF( VLOOKUP(TablaResultados[[#This Row],[Nombre unidad TCV]],TablaGxN_NTH1[],14,0)=0,0,VLOOKUP(TablaResultados[[#This Row],[Nombre unidad TCV]],TablaCVP_pre[],14,0)/VLOOKUP(TablaResultados[[#This Row],[Nombre unidad TCV]],TablaGxN_NTH1[],14,0))","v":36.421376156956626},{"$f":"+IF( VLOOKUP(TablaResultados[[#This Row],[Nombre unidad TCV]],TablaGxN_NTH2[],14,0)=0,0,VLOOKUP(TablaResultados[[#This Row],[Nombre unidad TCV]],TablaCMgP_pre[],14,0)/VLOOKUP(TablaResultados[[#This Row],[Nombre unidad TCV]],TablaGxN_NTH2[],14,0))","v":38.608258416527683},{"$f":"+VLOOKUP(TablaResultados[[#This Row],[Nombre unidad TCV]],'VUI-pre'!$B$5:$H$150,7,0)","v":3.672656092325421},{"$f":"+TablaResultados[[#This Row],[CVP]]+TablaResultados[[#This Row],[VUI]]","v":40.094032249282044},{"$f":"+MAX(TablaResultados[[#This Row],[CTU]]-TablaResultados[[#This Row],[CMgP]],0)*SUM(TablaGxN_NTH2[[#This Row],[Enero]:[Diciembre]])","v":339533858.1201064},{"$f":"+TablaResultados[[#This Row],[VUI]]*SUM(TablaGxN_NTH3[[#This Row],[Enero]:[Diciembre]])","v":531716347.18135476},{"$f":"+MAX(TablaResultados[[#This Row],[Compensación A]],TablaResultados[[#This Row],[Compensación B]])","v":531716347.18135476},null,"Laja",9865.599157310724,null,"Total general",22219673070.698944,null,"Total general",{"$f":"SUM(U5:U31)","v":149523079181.42996},{"$f":"SUM(V5:V31)","v":22219673070.698944},{"$f":"+V32/U32","v":0.14860363491938119}]
[null,{"$f":"+Unidades!D34","v":"ENGIE"},{"$f":"+Unidades!C34","v":"Mejillones"},{"$f":"+Unidades!B34","v":"CTM2"},{"$f":"+VLOOKUP(TablaResultados[[#This Row],[Nombre unidad TCV]],'Impuestos SII'!O:R,4,0)","v":734409913.96000004},{"$f":"IF( VLOOKUP(TablaResultados[[#This Row],[Nombre unidad TCV]],TablaGxN_NTH1[],14,0)=0,0,VLOOKUP(TablaResultados[[#This Row],[Nombre unidad TCV]],TablaCVP_pre[],14,0)/VLOOKUP(TablaResultados[[#This Row],[Nombre unidad TCV]],TablaGxN_NTH1[],14,0))","v":34.240080200568563},{"$f":"+IF( VLOOKUP(TablaResultados[[#This Row],[Nombre unidad TCV]],TablaGxN_NTH2[],14,0)=0,0,VLOOKUP(TablaResultados[[#This Row],[Nombre unidad TCV]],TablaCMgP_pre[],14,0)/VLOOKUP(TablaResultados[[#This Row],[Nombre unidad TCV]],TablaGxN_NTH2[],14,0))","v":37.177074046317969},{"$f":"+VLOOKUP(TablaResultados[[#This Row],[Nombre unidad TCV]],'VUI-pre'!$B$5:$H$150,7,0)","v":3.6726560923348814},{"$f":"+TablaResultados[[#This Row],[CVP]]+TablaResultados[[#This Row],[VUI]]","v":37.912736292903446},{"$f":"+MAX(TablaResultados[[#This Row],[CTU]]-TablaResultados[[#This Row],[CMgP]],0)*SUM(TablaGxN_NTH2[[#This Row],[Enero]:[Diciembre]])","v":147108151.05886504},{"$f":"+TablaResultados[[#This Row],[VUI]]*SUM(TablaGxN_NTH3[[#This Row],[Enero]:[Diciembre]])","v":326793381.89341217},{"$f":"+MAX(TablaResultados[[#This Row],[Compensación A]],TablaResultados[[#This Row],[Compensación B]])","v":326793381.89341217},null,"Lautaro",1297869.0180654349]
[null,{"$f":"+Unidades!D35","v":"ENGIE"},{"$f":"+Unidades!C35","v":"Mejillones"},{"$f":"+Unidades!B35","v":"CTM3"},{"$f":"+VLOOKUP(TablaResultados[[#This Row],[Nombre unidad TCV]],'Impuestos SII'!O:R,4,0)","v":1316739584.5999999},{"$f":"IF( VLOOKUP(TablaResultados[[#This Row],[Nombre unidad TCV]],TablaGxN_NTH1[],14,0)=0,0,VLOOKUP(TablaResultados[[#This Row],[Nombre unidad TCV]],TablaCVP_pre[],14,0)/VLOOKUP(TablaResultados[[#This Row],[Nombre unidad TCV]],TablaGxN_NTH1[],14,0))","v":18.471774139141893},{"$f":"+IF( VLOOKUP(TablaResultados[[#This Row],[Nombre unidad TCV]],TablaGxN_NTH2[],14,0)=0,0,VLOOKUP(TablaResultados[[#This Row],[Nombre unidad TCV]],TablaCMgP_pre[],14,0)/VLOOKUP(TablaResultados[[#This Row],[Nombre unidad TCV]],TablaGxN_NTH2[],14,0))","v":33.33055943985508},{"$f":"+VLOOKUP(TablaResultados[[#This Row],[Nombre unidad TCV]],'VUI-pre'!$B$5:$H$150,7,0)","v":1.6632719537363716},{"$f":"+TablaResultados[[#This Row],[CVP]]+TablaResultados[[#This Row],[VUI]]","v":20.135046092878262},{"$f":"+MAX(TablaResultados[[#This Row],[CTU]]-TablaResultados[[#This Row],[CMgP]],0)*SUM(TablaGxN_NTH2[[#This Row],[Enero]:[Diciembre]])","v":0},{"$f":"+TablaResultados[[#This Row],[VUI]]*SUM(TablaGxN_NTH3[[#This Row],[Enero]:[Diciembre]])","v":274213599.82755721},{"$f":"+MAX(TablaResultados[[#This Row],[Compensación A]],TablaResultados[[#This Row],[Compensación B]])","v":274213599.82755721},null,"Licanten",2232.8165297012679]
[null,{"$f":"+Unidades!D36","v":"ENEL_GENERACION"},{"$f":"+Unidades!C36","v":"Tarapacá"},{"$f":"+Unidades!B36","v":"CTTAR"},{"$f":"+VLOOKUP(TablaResultados[[#This Row],[Nombre unidad TCV]],'Impuestos SII'!O:R,4,0)","v":3254504972.25},{"$f":"IF( VLOOKUP(TablaResultados[[#This Row],[Nombre unidad TCV]],TablaGxN_NTH1[],14,0)=0,0,VLOOKUP(TablaResultados[[#This Row],[Nombre unidad TCV]],TablaCVP_pre[],14,0)/VLOOKUP(TablaResultados[[#This Row],[Nombre unidad TCV]],TablaGxN_NTH1[],14,0))","v":27.289751993931713},{"$f":"+IF( VLOOKUP(TablaResultados[[#This Row],[Nombre unidad TCV]],TablaGxN_NTH2[],14,0)=0,0,VLOOKUP(TablaResultados[[#This Row],[Nombre unidad TCV]],TablaCMgP_pre[],14,0)/VLOOKUP(TablaResultados[[#This Row],[Nombre unidad TCV]],TablaGxN_NTH2[],14,0))","v":33.41903633564673},{"$f":"+VLOOKUP(TablaResultados[[#This Row],[Nombre unidad TCV]],'VUI-pre'!$B$5:$H$150,7,0)","v":5.2997565119023058},{"$f":"+TablaResultados[[#This Row],[CVP]]+TablaResultados[[#This Row],[VUI]]","v":32.589508505834019},{"$f":"+MAX(TablaResultados[[#This Row],[CTU]]-TablaResultados[[#This Row],[CMgP]],0)*SUM(TablaGxN_NTH2[[#This Row],[Enero]:[Diciembre]])","v":0},{"$f":"+TablaResultados[[#This Row],[VUI]]*SUM(TablaGxN_NTH3[[#This Row],[Enero]:[Diciembre]])","v":703142947.82839084},{"$f":"+MAX(TablaResultados[[#This Row],[Compensación A]],TablaResultados[[#This Row],[Compensación B]])","v":703142947.82839084},null,"Los Guindos",0]
[null,{"$f":"+Unidades!D37","v":"ENEL_GENERACION"},{"$f":"+Unidades!C37","v":"Diego de Almagro"},{"$f":"+Unidades!B37","v":"Diego de Almagro"},{"$f":"+VLOOKUP(TablaResultados[[#This Row],[Nombre unidad TCV]],'Impuestos SII'!O:R,4,0)","v":1309936.48},{"$f":"IF( VLOOKUP(TablaResultados[[#This Row],[Nombre unidad TCV]],TablaGxN_NTH1[],14,0)=0,0,VLOOKUP(TablaResultados[[#This Row],[Nombre unidad TCV]],TablaCVP_pre[],14,0)/VLOOKUP(TablaResultados[[#This Row],[Nombre unidad TCV]],TablaGxN_NTH1[],14,0))","v":163.19374458515506},{"$f":"+IF( VLOOKUP(TablaResultados[[#This Row],[Nombre unidad TCV]],TablaGxN_NTH2[],14,0)=0,0,VLOOKUP(TablaResultados[[#This Row],[Nombre unidad TCV]],TablaCMgP_pre[],14,0)/VLOOKUP(TablaResultados[[#This Row],[Nombre unidad TCV]],TablaGxN_NTH2[],14,0))","v":184.44356355453522},{"$f":"+VLOOKUP(TablaResultados[[#This Row],[Nombre unidad TCV]],'VUI-pre'!$B$5:$H$150,7,0)","v":8.2159608950972061},{"$f":"+TablaResultados[[#This Row],[CVP]]+TablaResultados[[#This Row],[VUI]]","v":171.40970548025226},{"$f":"+MAX(TablaResultados[[#This Row],[CTU]]-TablaResultados[[#This Row],[CMgP]],0)*SUM(TablaGxN_NTH2[[#This Row],[Enero]:[Diciembre]])","v":0},{"$f":"+TablaResultados[[#This Row],[VUI]]*SUM(TablaGxN_NTH3[[#This Row],[Enero]:[Diciembre]])","v":843572.12528000469},{"$f":"+MAX(TablaResultados[[#This Row],[Compensación A]],TablaResultados[[#This Row],[Compensación B]])","v":843572.12528000469},null,"Los Pinos",15295239.028921569]
[null,{"$f":"+Unidades!D38","v":"SWO"},{"$f":"+Unidades!C38","v":"El Salvador"},{"$f":"+Unidades!B38","v":"El Salvador"},{"$f":"+VLOOKUP(TablaResultados[[#This Row],[Nombre unidad TCV]],'Impuestos SII'!O:R,4,0)","v":1040925.05},{"$f":"IF( VLOOKUP(TablaResultados[[#This Row],[Nombre unidad TCV]],TablaGxN_NTH1[],14,0)=0,0,VLOOKUP(TablaResultados[[#This Row],[Nombre unidad TCV]],TablaCVP_pre[],14,0)/VLOOKUP(TablaResultados[[#This Row],[Nombre unidad TCV]],TablaGxN_NTH1[],14,0))","v":203.34534281445247},{"$f":"+IF( VLOOKUP(TablaResultados[[#This Row],[Nombre unidad TCV]],TablaGxN_NTH2[],14,0)=0,0,VLOOKUP(TablaResultados[[#This Row],[Nombre unidad TCV]],TablaCMgP_pre[],14,0)/VLOOKUP(TablaResultados[[#This Row],[Nombre unidad TCV]],TablaGxN_NTH2[],14,0))","v":203.34534281445244},{"$f":"+VLOOKUP(TablaResultados[[#This Row],[Nombre unidad TCV]],'VUI-pre'!$B$5:$H$150,7,0)","v":9.2336892941785749},{"$f":"+TablaResultados[[#This Row],[CVP]]+TablaResultados[[#This Row],[VUI]]","v":212.57903210863105},{"$f":"+MAX(TablaResultados[[#This Row],[CTU]]-TablaResultados[[#This Row],[CMgP]],0)*SUM(TablaGxN_NTH2[[#This Row],[Enero]:[Diciembre]])","v":1040925.0500000052},{"$f":"+TablaResultados[[#This Row],[VUI]]*SUM(TablaGxN_NTH3[[#This Row],[Enero]:[Diciembre]])","v":545964.79753513646},{"$f":"+MAX(TablaResultados[[#This Row],[Compensación A]],TablaResultados[[#This Row],[Compensación B]])","v":1040925.0500000052},null,"Los Vientos",338006068.61798674]
[null,{"$f":"+Unidades!D39","v":"EMELDA"},{"$f":"+Unidades!C39","v":"Emelda"},{"$f":"+Unidades!B39","v":"Emelda U1"},{"$f":"+VLOOKUP(TablaResultados[[#This Row],[Nombre unidad TCV]],'Impuestos SII'!O:R,4,0)","v":1038070.75},{"$f":"IF( VLOOKUP(TablaResultados[[#This Row],[Nombre unidad TCV]],TablaGxN_NTH1[],14,0)=0,0,VLOOKUP(TablaResultados[[#This Row],[Nombre unidad TCV]],TablaCVP_pre[],14,0)/VLOOKUP(TablaResultados[[#This Row],[Nombre unidad TCV]],TablaGxN_NTH1[],14,0))","v":152.78483726826363},{"$f":"+IF( VLOOKUP(TablaResultados[[#This Row],[Nombre unidad TCV]],TablaGxN_NTH2[],14,0)=0,0,VLOOKUP(TablaResultados[[#This Row],[Nombre unidad TCV]],TablaCMgP_pre[],14,0)/VLOOKUP(TablaResultados[[#This Row],[Nombre unidad TCV]],TablaGxN_NTH2[],14,0))","v":152.78483726826366},{"$f":"+VLOOKUP(TablaResultados[[#This Row],[Nombre unidad TCV]],'VUI-pre'!$B$5:$H$150,7,0)","v":5.2277583610734801},{"$f":"+TablaResultados[[#This Row],[CVP]]+TablaResultados[[#This Row],[VUI]]","v":158.01259562933711},{"$f":"+MAX(TablaResultados[[#This Row],[CTU]]-TablaResultados[[#This Row],[CMgP]],0)*SUM(TablaGxN_NTH2[[#This Row],[Enero]:[Diciembre]])","v":1038070.749999995},{"$f":"+TablaResultados[[#This Row],[VUI]]*SUM(TablaGxN_NTH3[[#This Row],[Enero]:[Diciembre]])","v":1038070.7499999999},{"$f":"+MAX(TablaResultados[[#This Row],[Compensación A]],TablaResultados[[#This Row],[Compensación B]])","v":1038070.7499999999},null,"Masisa",301748.05391810724]
[null,{"$f":"+Unidades!D40","v":"EMELDA"},{"$f":"+Unidades!C40","v":"Emelda"},{"$f":"+Unidades!B40","v":"Emelda U2"},{"$f":"+VLOOKUP(TablaResultados[[#This Row],[Nombre unidad TCV]],'Impuestos SII'!O:R,4,0)","v":2601187.9500000002},{"$f":"IF( VLOOKUP(TablaResultados[[#This Row],[Nombre unidad TCV]],TablaGxN_NTH1[],14,0)=0,0,VLOOKUP(TablaResultados[[#This Row],[Nombre unidad TCV]],TablaCVP_pre[],14,0)/VLOOKUP(TablaResultados[[#This Row],[Nombre unidad TCV]],TablaGxN_NTH1[],14,0))","v":152.66810609804091},{"$f":"+IF( VLOOKUP(TablaResultados[[#This Row],[Nombre unidad TCV]],TablaGxN_NTH2[],14,0)=0,0,VLOOKUP(TablaResultados[[#This Row],[Nombre unidad TCV]],TablaCMgP_pre[],14,0)/VLOOKUP(TablaResultados[[#This Row],[Nombre unidad TCV]],TablaGxN_NTH2[],14,0))","v":152.66810609804094},{"$f":"+VLOOKUP(TablaResultados[[#This Row],[Nombre unidad TCV]],'VUI-pre'!$B$5:$H$150,7,0)","v":4.2622791535345739},{"$f":"+TablaResultados[[#This Row],[CVP]]+TablaResultados[[#This Row],[VUI]]","v":156.93038525157547},{"$f":"+MAX(TablaResultados[[#This Row],[CTU]]-TablaResultados[[#This Row],[CMgP]],0)*SUM(TablaGxN_NTH2[[#This Row],[Enero]:[Diciembre]])","v":2601187.9499999764},{"$f":"+TablaResultados[[#This Row],[VUI]]*SUM(TablaGxN_NTH3[[#This Row],[Enero]:[Diciembre]])","v":2601187.9499999997},{"$f":"+MAX(TablaResultados[[#This Row],[Compensación A]],TablaResultados[[#This Row],[Compensación B]])","v":2601187.9499999997},null,"Mejillones",1486388284.8984017]
[null,{"$f":"+Unidades!D41","v":"ENERGIA PACIFICO"},{"$f":"+Unidades!C41","v":"Energía Pacífico"},{"$f":"+Unidades!B41","v":"Energía Pacífico"},{"$f":"+VLOOKUP(TablaResultados[[#This Row],[Nombre unidad TCV]],'Impuestos SII'!O:R,4,0)","v":34547780.149999999},{"$f":"IF( VLOOKUP(TablaResultados[[#This Row],[Nombre unidad TCV]],TablaGxN_NTH1[],14,0)=0,0,VLOOKUP(TablaResultados[[#This Row],[Nombre unidad TCV]],TablaCVP_pre[],14,0)/VLOOKUP(TablaResultados[[#This Row],[Nombre unidad TCV]],TablaGxN_NTH1[],14,0))","v":6.1060779991831433},{"$f":"+IF( VLOOKUP(TablaResultados[[#This Row],[Nombre unidad TCV]],TablaGxN_NTH2[],14,0)=0,0,VLOOKUP(TablaResultados[[#This Row],[Nombre unidad TCV]],TablaCMgP_pre[],14,0)/VLOOKUP(TablaResultados[[#This Row],[Nombre unidad TCV]],TablaGxN_NTH2[],14,0))","v":39.391954386148136},{"$f":"+VLOOKUP(TablaResultados[[#This Row],[Nombre unidad TCV]],'VUI-pre'!$B$5:$H$150,7,0)","v":0.3092693362487981},{"$f":"+TablaResultados[[#This Row],[CVP]]+TablaResultados[[#This Row],[VUI]]","v":6.4153473354319415},{"$f":"+MAX(TablaResultados[[#This Row],[CTU]]-TablaResultados[[#This Row],[CMgP]],0)*SUM(TablaGxN_NTH2[[#This Row],[Enero]:[Diciembre]])","v":0},{"$f":"+TablaResultados[[#This Row],[VUI]]*SUM(TablaGxN_NTH3[[#This Row],[Enero]:[Diciembre]])","v":2642699.4064933369},{"$f":"+MAX(TablaResultados[[#This Row],[Compensación A]],TablaResultados[[#This Row],[Compensación B]])","v":2642699.4064933369},null,"Nehuenco",471460764.43336558]
[null,{"$f":"+Unidades!D42","v":"NUEVA ENERGIA"},{"$f":"+Unidades!C42","v":"Escuadron"},{"$f":"+Unidades!B42","v":"Escuadrón"},{"$f":"+VLOOKUP(TablaResultados[[#This Row],[Nombre unidad TCV]],'Impuestos SII'!O:R,4,0)","v":28068552.09},{"$f":"IF( VLOOKUP(TablaResultados[[#This Row],[Nombre unidad TCV]],TablaGxN_NTH1[],14,0)=0,0,VLOOKUP(TablaResultados[[#This Row],[Nombre unidad TCV]],TablaCVP_pre[],14,0)/VLOOKUP(TablaResultados[[#This Row],[Nombre unidad TCV]],TablaGxN_NTH1[],14,0))","v":27.487174327099563},{"$f":"+IF( VLOOKUP(TablaResultados[[#This Row],[Nombre unidad TCV]],TablaGxN_NTH2[],14,0)=0,0,VLOOKUP(TablaResultados[[#This Row],[Nombre unidad TCV]],TablaCMgP_pre[],14,0)/VLOOKUP(TablaResultados[[#This Row],[Nombre unidad TCV]],TablaGxN_NTH2[],14,0))","v":44.594009092666809},{"$f":"+VLOOKUP(TablaResultados[[#This Row],[Nombre unidad TCV]],'VUI-pre'!$B$5:$H$150,7,0)","v":1.1408949205933878},{"$f":"+TablaResultados[[#This Row],[CVP]]+TablaResultados[[#This Row],[VUI]]","v":28.628069247692952},{"$f":"+MAX(TablaResultados[[#This Row],[CTU]]-TablaResultados[[#This Row],[CMgP]],0)*SUM(TablaGxN_NTH2[[#This Row],[Enero]:[Diciembre]])","v":0},{"$f":"+TablaResultados[[#This Row],[VUI]]*SUM(TablaGxN_NTH3[[#This Row],[Enero]:[Diciembre]])","v":475726.77815629554},{"$f":"+MAX(TablaResultados[[#This Row],[Compensación A]],TablaResultados[[#This Row],[Compensación B]])","v":475726.77815629554},null,"Norgener",969328009.26676989]
[null,{"$f":"+Unidades!D43","v":"ENORCHILE"},{"$f":"+Unidades!C43","v":"Esperanza"},{"$f":"+Unidades!B43","v":"Esperanza TG"},{"$f":"+VLOOKUP(TablaResultados[[#This Row],[Nombre unidad TCV]],'Impuestos SII'!O:R,4,0)","v":784702.59},{"$f":"IF( VLOOKUP(TablaResultados[[#This Row],[Nombre unidad TCV]],TablaGxN_NTH1[],14,0)=0,0,VLOOKUP(TablaResultados[[#This Row],[Nombre unidad TCV]],TablaCVP_pre[],14,0)/VLOOKUP(TablaResultados[[#This Row],[Nombre unidad TCV]],TablaGxN_NTH1[],14,0))","v":180.91954578012482},{"$f":"+IF( VLOOKUP(TablaResultados[[#This Row],[Nombre unidad TCV]],TablaGxN_NTH2[],14,0)=0,0,VLOOKUP(TablaResultados[[#This Row],[Nombre unidad TCV]],TablaCMgP_pre[],14,0)/VLOOKUP(TablaResultados[[#This Row],[Nombre unidad TCV]],TablaGxN_NTH2[],14,0))","v":180.91954578012482},{"$f":"+VLOOKUP(TablaResultados[[#This Row],[Nombre unidad TCV]],'VUI-pre'!$B$5:$H$150,7,0)","v":4.8716687064138187},{"$f":"+TablaResultados[[#This Row],[CVP]]+TablaResultados[[#This Row],[VUI]]","v":185.79121448653865},{"$f":"+MAX(TablaResultados[[#This Row],[CTU]]-TablaResultados[[#This Row],[CMgP]],0)*SUM(TablaGxN_NTH2[[#This Row],[Enero]:[Diciembre]])","v":784702.59000000148},{"$f":"+TablaResultados[[#This Row],[VUI]]*SUM(TablaGxN_NTH3[[#This Row],[Enero]:[Diciembre]])","v":784702.59},{"$f":"+MAX(TablaResultados[[#This Row],[Compensación A]],TablaResultados[[#This Row],[Compensación B]])","v":784702.59000000148},null,"Nueva Aldea I",0]
[null,{"$f":"+Unidades!D44","v":"GUACOLDA"},{"$f":"+Unidades!C44","v":"Guacolda"},{"$f":"+Unidades!B44","v":"Guacolda 1"},{"$f":"+VLOOKUP(TablaResultados[[#This Row],[Nombre unidad TCV]],'Impuestos SII'!O:R,4,0)","v":4943516689.1300001},{"$f":"IF( VLOOKUP(TablaResultados[[#This Row],[Nombre unidad TCV]],TablaGxN_NTH1[],14,0)=0,0,VLOOKUP(TablaResultados[[#This Row],[Nombre unidad TCV]],TablaCVP_pre[],14,0)/VLOOKUP(TablaResultados[[#This Row],[Nombre unidad TCV]],TablaGxN_NTH1[],14,0))","v":24.355062205464851},{"$f":"+IF( VLOOKUP(TablaResultados[[#This Row],[Nombre unidad TCV]],TablaGxN_NTH2[],14,0)=0,0,VLOOKUP(TablaResultados[[#This Row],[Nombre unidad TCV]],TablaCMgP_pre[],14,0)/VLOOKUP(TablaResultados[[#This Row],[Nombre unidad TCV]],TablaGxN_NTH2[],14,0))","v":31.810536782015344},{"$f":"+VLOOKUP(TablaResultados[[#This Row],[Nombre unidad TCV]],'VUI-pre'!$B$5:$H$150,7,0)","v":5.1905894109397099},{"$f":"+TablaResultados[[#This Row],[CVP]]+TablaResultados[[#This Row],[VUI]]","v":29.545651616404562},{"$f":"+MAX(TablaResultados[[#This Row],[CTU]]-TablaResultados[[#This Row],[CMgP]],0)*SUM(TablaGxN_NTH2[[#This Row],[Enero]:[Diciembre]])","v":0},{"$f":"+TablaResultados[[#This Row],[VUI]]*SUM(TablaGxN_NTH3[[#This Row],[Enero]:[Diciembre]])","v":486325584.49131018},{"$f":"+MAX(TablaResultados[[#This Row],[Compensación A]],TablaResultados[[#This Row],[Compensación B]])","v":486325584.49131018},null,"Nueva Aldea III",0]
[null,{"$f":"+Unidades!D45","v":"GUACOLDA"},{"$f":"+Unidades!C45","v":"Guacolda"},{"$f":"+Unidades!B45","v":"Guacolda 2"},{"$f":"+VLOOKUP(TablaResultados[[#This Row],[Nombre unidad TCV]],'Impuestos SII'!O:R,4,0)","v":4434469716.5100002},{"$f":"IF( VLOOKUP(TablaResultados[[#This Row],[Nombre unidad TCV]],TablaGxN_NTH1[],14,0)=0,0,VLOOKUP(TablaResultados[[#This Row],[Nombre unidad TCV]],TablaCVP_pre[],14,0)/VLOOKUP(TablaResultados[[#This Row],[Nombre unidad TCV]],TablaGxN_NTH1[],14,0))","v":23.908894690465374},{"$f":"+IF( VLOOKUP(TablaResultados[[#This Row],[Nombre unidad TCV]],TablaGxN_NTH2[],14,0)=0,0,VLOOKUP(TablaResultados[[#This Row],[Nombre unidad TCV]],TablaCMgP_pre[],14,0)/VLOOKUP(TablaResultados[[#This Row],[Nombre unidad TCV]],TablaGxN_NTH2[],14,0))","v":32.06328105942756},{"$f":"+VLOOKUP(TablaResultados[[#This Row],[Nombre unidad TCV]],'VUI-pre'!$B$5:$H$150,7,0)","v":5.1905894109348401},{"$f":"+TablaResultados[[#This Row],[CVP]]+TablaResultados[[#This Row],[VUI]]","v":29.099484101400215},{"$f":"+MAX(TablaResultados[[#This Row],[CTU]]-TablaResultados[[#This Row],[CMgP]],0)*SUM(TablaGxN_NTH2[[#This Row],[Enero]:[Diciembre]])","v":0},{"$f":"+TablaResultados[[#This Row],[VUI]]*SUM(TablaGxN_NTH3[[#This Row],[Enero]:[Diciembre]])","v":488995421.70582324},{"$f":"+MAX(TablaResultados[[#This Row],[Compensación A]],TablaResultados[[#This Row],[Compensación B]])","v":488995421.70582324},null,"Nueva Renca",836810800.80322528]
[null,{"$f":"+Unidades!D46","v":"GUACOLDA"},{"$f":"+Unidades!C46","v":"Guacolda"},{"$f":"+Unidades!B46","v":"Guacolda 3"},{"$f":"+VLOOKUP(TablaResultados[[#This Row],[Nombre unidad TCV]],'Impuestos SII'!O:R,4,0)","v":3876669198.1500001},{"$f":"IF( VLOOKUP(TablaResultados[[#This Row],[Nombre unidad TCV]],TablaGxN_NTH1[],14,0)=0,0,VLOOKUP(TablaResultados[[#This Row],[Nombre unidad TCV]],TablaCVP_pre[],14,0)/VLOOKUP(TablaResultados[[#This Row],[Nombre unidad TCV]],TablaGxN_NTH1[],14,0))","v":21.681209449320601},{"$f":"+IF( VLOOKUP(TablaResultados[[#This Row],[Nombre unidad TCV]],TablaGxN_NTH2[],14,0)=0,0,VLOOKUP(TablaResultados[[#This Row],[Nombre unidad TCV]],TablaCMgP_pre[],14,0)/VLOOKUP(TablaResultados[[#This Row],[Nombre unidad TCV]],TablaGxN_NTH2[],14,0))","v":33.011119267321718},{"$f":"+VLOOKUP(TablaResultados[[#This Row],[Nombre unidad TCV]],'VUI-pre'!$B$5:$H$150,7,0)","v":4.1143933924723886},{"$f":"+TablaResultados[[#This Row],[CVP]]+TablaResultados[[#This Row],[VUI]]","v":25.795602841792991},{"$f":"+MAX(TablaResultados[[#This Row],[CTU]]-TablaResultados[[#This Row],[CMgP]],0)*SUM(TablaGxN_NTH2[[#This Row],[Enero]:[Diciembre]])","v":0},{"$f":"+TablaResultados[[#This Row],[VUI]]*SUM(TablaGxN_NTH3[[#This Row],[Enero]:[Diciembre]])","v":378763862.43923312},{"$f":"+MAX(TablaResultados[[#This Row],[Compensación A]],TablaResultados[[#This Row],[Compensación B]])","v":378763862.43923312},null,"Petropower",0]
[null,{"$f":"+Unidades!D47","v":"GUACOLDA"},{"$f":"+Unidades!C47","v":"Guacolda"},{"$f":"+Unidades!B47","v":"Guacolda 4"},{"$f":"+VLOOKUP(TablaResultados[[#This Row],[Nombre unidad TCV]],'Impuestos SII'!O:R,4,0)","v":4228110076.4299998},{"$f":"IF( VLOOKUP(TablaResultados[[#This Row],[Nombre unidad TCV]],TablaGxN_NTH1[],14,0)=0,0,VLOOKUP(TablaResultados[[#This Row],[Nombre unidad TCV]],TablaCVP_pre[],14,0)/VLOOKUP(TablaResultados[[#This Row],[Nombre unidad TCV]],TablaGxN_NTH1[],14,0))","v":24.944752076239279},{"$f":"+IF( VLOOKUP(TablaResultados[[#This Row],[Nombre unidad TCV]],TablaGxN_NTH2[],14,0)=0,0,VLOOKUP(TablaResultados[[#This Row],[Nombre unidad TCV]],TablaCMgP_pre[],14,0)/VLOOKUP(TablaResultados[[#This Row],[Nombre unidad TCV]],TablaGxN_NTH2[],14,0))","v":32.771946769951647},{"$f":"+VLOOKUP(TablaResultados[[#This Row],[Nombre unidad TCV]],'VUI-pre'!$B$5:$H$150,7,0)","v":4.8171151791492468},{"$f":"+TablaResultados[[#This Row],[CVP]]+TablaResultados[[#This Row],[VUI]]","v":29.761867255388527},{"$f":"+MAX(TablaResultados[[#This Row],[CTU]]-TablaResultados[[#This Row],[CMgP]],0)*SUM(TablaGxN_NTH2[[#This Row],[Enero]:[Diciembre]])","v":0},{"$f":"+TablaResultados[[#This Row],[VUI]]*SUM(TablaGxN_NTH3[[#This Row],[Enero]:[Diciembre]])","v":469079822.29901314},{"$f":"+MAX(TablaResultados[[#This Row],[Compensación A]],TablaResultados[[#This Row],[Compensación B]])","v":469079822.29901314},null,"Quintero",201246668.49377769]
[null,{"$f":"+Unidades!D48","v":"GUACOLDA"},{"$f":"+Unidades!C48","v":"Guacolda"},{"$f":"+Unidades!B48","v":"Guacolda 5"},{"$f":"+VLOOKUP(TablaResultados[[#This Row],[Nombre unidad TCV]],'Impuestos SII'!O:R,4,0)","v":4288915239.98},{"$f":"IF( VLOOKUP(TablaResultados[[#This Row],[Nombre unidad TCV]],TablaGxN_NTH1[],14,0)=0,0,VLOOKUP(TablaResultados[[#This Row],[Nombre unidad TCV]],TablaCVP_pre[],14,0)/VLOOKUP(TablaResultados[[#This Row],[Nombre unidad TCV]],TablaGxN_NTH1[],14,0))","v":21.792155287800096},{"$f":"+IF( VLOOKUP(TablaResultados[[#This Row],[Nombre unidad TCV]],TablaGxN_NTH2[],14,0)=0,0,VLOOKUP(TablaResultados[[#This Row],[Nombre unidad TCV]],TablaCMgP_pre[],14,0)/VLOOKUP(TablaResultados[[#This Row],[Nombre unidad TCV]],TablaGxN_NTH2[],14,0))","v":32.000589802824472},{"$f":"+VLOOKUP(TablaResultados[[#This Row],[Nombre unidad TCV]],'VUI-pre'!$B$5:$H$150,7,0)","v":4.2888538309376463},{"$f":"+TablaResultados[[#This Row],[CVP]]+TablaResultados[[#This Row],[VUI]]","v":26.081009118737743},{"$f":"+MAX(TablaResultados[[#This Row],[CTU]]-TablaResultados[[#This Row],[CMgP]],0)*SUM(TablaGxN_NTH2[[#This Row],[Enero]:[Diciembre]])","v":0},{"$f":"+TablaResultados[[#This Row],[VUI]]*SUM(TablaGxN_NTH3[[#This Row],[Enero]:[Diciembre]])","v":227066166.57027006},{"$f":"+MAX(TablaResultados[[#This Row],[Compensación A]],TablaResultados[[#This Row],[Compensación B]])","v":227066166.57027006},null,"Renca",0]
[null,{"$f":"+Unidades!D49","v":"ARAUCO BIO"},{"$f":"+Unidades!C49","v":"Horcones TG"},{"$f":"+Unidades!B49","v":"Horcones"},{"$f":"+VLOOKUP(TablaResultados[[#This Row],[Nombre unidad TCV]],'Impuestos SII'!O:R,4,0)","v":679340.56},{"$f":"IF( VLOOKUP(TablaResultados[[#This Row],[Nombre unidad TCV]],TablaGxN_NTH1[],14,0)=0,0,VLOOKUP(TablaResultados[[#This Row],[Nombre unidad TCV]],TablaCVP_pre[],14,0)/VLOOKUP(TablaResultados[[#This Row],[Nombre unidad TCV]],TablaGxN_NTH1[],14,0))","v":184.57518621144914},{"$f":"+IF( VLOOKUP(TablaResultados[[#This Row],[Nombre unidad TCV]],TablaGxN_NTH2[],14,0)=0,0,VLOOKUP(TablaResultados[[#This Row],[Nombre unidad TCV]],TablaCMgP_pre[],14,0)/VLOOKUP(TablaResultados[[#This Row],[Nombre unidad TCV]],TablaGxN_NTH2[],14,0))","v":184.57518621144914},{"$f":"+VLOOKUP(TablaResultados[[#This Row],[Nombre unidad TCV]],'VUI-pre'!$B$5:$H$150,7,0)","v":14.917856334754189},{"$f":"+TablaResultados[[#This Row],[CVP]]+TablaResultados[[#This Row],[VUI]]","v":199.49304254620333},{"$f":"+MAX(TablaResultados[[#This Row],[CTU]]-TablaResultados[[#This Row],[CMgP]],0)*SUM(TablaGxN_NTH2[[#This Row],[Enero]:[Diciembre]])","v":679340.56},{"$f":"+TablaResultados[[#This Row],[VUI]]*SUM(TablaGxN_NTH3[[#This Row],[Enero]:[Diciembre]])","v":679340.56},{"$f":"+MAX(TablaResultados[[#This Row],[Compensación A]],TablaResultados[[#This Row],[Compensación B]])","v":679340.56},null,"San Isidro",459794372.63525784]
[null,{"$f":"+Unidades!D50","v":"ENEL_GENERACION"},{"$f":"+Unidades!C50","v":"Huasco TG"},{"$f":"+Unidades!B50","v":"Huasco TG"},{"$f":"+VLOOKUP(TablaResultados[[#This Row],[Nombre unidad TCV]],'Impuestos SII'!O:R,4,0)","v":1241279.9099999999},{"$f":"IF( VLOOKUP(TablaResultados[[#This Row],[Nombre unidad TCV]],TablaGxN_NTH1[],14,0)=0,0,VLOOKUP(TablaResultados[[#This Row],[Nombre unidad TCV]],TablaCVP_pre[],14,0)/VLOOKUP(TablaResultados[[#This Row],[Nombre unidad TCV]],TablaGxN_NTH1[],14,0))","v":169.63691262218012},{"$f":"+IF( VLOOKUP(TablaResultados[[#This Row],[Nombre unidad TCV]],TablaGxN_NTH2[],14,0)=0,0,VLOOKUP(TablaResultados[[#This Row],[Nombre unidad TCV]],TablaCMgP_pre[],14,0)/VLOOKUP(TablaResultados[[#This Row],[Nombre unidad TCV]],TablaGxN_NTH2[],14,0))","v":169.63691262218012},{"$f":"+VLOOKUP(TablaResultados[[#This Row],[Nombre unidad TCV]],'VUI-pre'!$B$5:$H$150,7,0)","v":15.816620235412914},{"$f":"+TablaResultados[[#This Row],[CVP]]+TablaResultados[[#This Row],[VUI]]","v":185.45353285759305},{"$f":"+MAX(TablaResultados[[#This Row],[CTU]]-TablaResultados[[#This Row],[CMgP]],0)*SUM(TablaGxN_NTH2[[#This Row],[Enero]:[Diciembre]])","v":1241279.9100000008},{"$f":"+TablaResultados[[#This Row],[VUI]]*SUM(TablaGxN_NTH3[[#This Row],[Enero]:[Diciembre]])","v":1241279.9099999999},{"$f":"+MAX(TablaResultados[[#This Row],[Compensación A]],TablaResultados[[#This Row],[Compensación B]])","v":1241279.9100000008},null,"San Isidro 2",606548521.69196761]
[null,{"$f":"+Unidades!D51","v":"ENGIE"},{"$f":"+Unidades!C51","v":"Mejillones"},{"$f":"+Unidades!B51","v":"IEM"},{"$f":"+VLOOKUP(TablaResultados[[#This Row],[Nombre unidad TCV]],'Impuestos SII'!O:R,4,0)","v":5501904707.7399998},{"$f":"IF( VLOOKUP(TablaResultados[[#This Row],[Nombre unidad TCV]],TablaGxN_NTH1[],14,0)=0,0,VLOOKUP(TablaResultados[[#This Row],[Nombre unidad TCV]],TablaCVP_pre[],14,0)/VLOOKUP(TablaResultados[[#This Row],[Nombre unidad TCV]],TablaGxN_NTH1[],14,0))","v":22.04072544703314},{"$f":"+IF( VLOOKUP(TablaResultados[[#This Row],[Nombre unidad TCV]],TablaGxN_NTH2[],14,0)=0,0,VLOOKUP(TablaResultados[[#This Row],[Nombre unidad TCV]],TablaCMgP_pre[],14,0)/VLOOKUP(TablaResultados[[#This Row],[Nombre unidad TCV]],TablaGxN_NTH2[],14,0))","v":29.54151123339733},{"$f":"+VLOOKUP(TablaResultados[[#This Row],[Nombre unidad TCV]],'VUI-pre'!$B$5:$H$150,7,0)","v":4.6013233820142929},{"$f":"+TablaResultados[[#This Row],[CVP]]+TablaResultados[[#This Row],[VUI]]","v":26.642048829047432},{"$f":"+MAX(TablaResultados[[#This Row],[CTU]]-TablaResultados[[#This Row],[CMgP]],0)*SUM(TablaGxN_NTH2[[#This Row],[Enero]:[Diciembre]])","v":0},{"$f":"+TablaResultados[[#This Row],[VUI]]*SUM(TablaGxN_NTH3[[#This Row],[Enero]:[Diciembre]])","v":353664955.99607742},{"$f":"+MAX(TablaResultados[[#This Row],[Compensación A]],TablaResultados[[#This Row],[Compensación B]])","v":353664955.99607742},null,"San Lorenzo de D. de Almagro",0]
[null,{"$f":"+Unidades!D52","v":"AES_GENER"},{"$f":"+Unidades!C52","v":"Laguna Verde"},{"$f":"+Unidades!B52","v":"Laguna Verde TG"},{"$f":"+VLOOKUP(TablaResultados[[#This Row],[Nombre unidad TCV]],'Impuestos SII'!O:R,4,0)","v":0},{"$f":"IF( VLOOKUP(TablaResultados[[#This Row],[Nombre unidad TCV]],TablaGxN_NTH1[],14,0)=0,0,VLOOKUP(TablaResultados[[#This Row],[Nombre unidad TCV]],TablaCVP_pre[],14,0)/VLOOKUP(TablaResultados[[#This Row],[Nombre unidad TCV]],TablaGxN_NTH1[],14,0))","v":0},{"$f":"+IF( VLOOKUP(TablaResultados[[#This Row],[Nombre unidad TCV]],TablaGxN_NTH2[],14,0)=0,0,VLOOKUP(TablaResultados[[#This Row],[Nombre unidad TCV]],TablaCMgP_pre[],14,0)/VLOOKUP(TablaResultados[[#This Row],[Nombre unidad TCV]],TablaGxN_NTH2[],14,0))","v":0},{"$f":"+VLOOKUP(TablaResultados[[#This Row],[Nombre unidad TCV]],'VUI-pre'!$B$5:$H$150,7,0)","v":0},{"$f":"+TablaResultados[[#This Row],[CVP]]+TablaResultados[[#This Row],[VUI]]","v":0},{"$f":"+MAX(TablaResultados[[#This Row],[CTU]]-TablaResultados[[#This Row],[CMgP]],0)*SUM(TablaGxN_NTH2[[#This Row],[Enero]:[Diciembre]])","v":0},{"$f":"+TablaResultados[[#This Row],[VUI]]*SUM(TablaGxN_NTH3[[#This Row],[Enero]:[Diciembre]])","v":0},{"$f":"+MAX(TablaResultados[[#This Row],[Compensación A]],TablaResultados[[#This Row],[Compensación B]])","v":0},null,"Santa Fe",0]
[null,{"$f":"+Unidades!D53","v":"AES_GENER"},{"$f":"+Unidades!C53","v":"Laguna Verde"},{"$f":"+Unidades!B53","v":"Laguna Verde TV"},{"$f":"+VLOOKUP(TablaResultados[[#This Row],[Nombre unidad TCV]],'Impuestos SII'!O:R,4,0)","v":0},{"$f":"IF( VLOOKUP(TablaResultados[[#This Row],[Nombre unidad TCV]],TablaGxN_NTH1[],14,0)=0,0,VLOOKUP(TablaResultados[[#This Row],[Nombre unidad TCV]],TablaCVP_pre[],14,0)/VLOOKUP(TablaResultados[[#This Row],[Nombre unidad TCV]],TablaGxN_NTH1[],14,0))","v":0},{"$f":"+IF( VLOOKUP(TablaResultados[[#This Row],[Nombre unidad TCV]],TablaGxN_NTH2[],14,0)=0,0,VLOOKUP(TablaResultados[[#This Row],[Nombre unidad TCV]],TablaCMgP_pre[],14,0)/VLOOKUP(TablaResultados[[#This Row],[Nombre unidad TCV]],TablaGxN_NTH2[],14,0))","v":0},{"$f":"+VLOOKUP(TablaResultados[[#This Row],[Nombre unidad TCV]],'VUI-pre'!$B$5:$H$150,7,0)","v":0},{"$f":"+TablaResultados[[#This Row],[CVP]]+TablaResultados[[#This Row],[VUI]]","v":0},{"$f":"+MAX(TablaResultados[[#This Row],[CTU]]-TablaResultados[[#This Row],[CMgP]],0)*SUM(TablaGxN_NTH2[[#This Row],[Enero]:[Diciembre]])","v":0},{"$f":"+TablaResultados[[#This Row],[VUI]]*SUM(TablaGxN_NTH3[[#This Row],[Enero]:[Diciembre]])","v":0},{"$f":"+MAX(TablaResultados[[#This Row],[Compensación A]],TablaResultados[[#This Row],[Compensación B]])","v":0},null,"Santa Lidia",7973816.4800000759]
[null,{"$f":"+Unidades!D54","v":"AES_GENER"},{"$f":"+Unidades!C54","v":"Laja"},{"$f":"+Unidades!B54","v":"Laja"},{"$f":"+VLOOKUP(TablaResultados[[#This Row],[Nombre unidad TCV]],'Impuestos SII'!O:R,4,0)","v":4194492.57},{"$f":"IF( VLOOKUP(TablaResultados[[#This Row],[Nombre unidad TCV]],TablaGxN_NTH1[],14,0)=0,0,VLOOKUP(TablaResultados[[#This Row],[Nombre unidad TCV]],TablaCVP_pre[],14,0)/VLOOKUP(TablaResultados[[#This Row],[Nombre unidad TCV]],TablaGxN_NTH1[],14,0))","v":24.190007353146434},{"$f":"+IF( VLOOKUP(TablaResultados[[#This Row],[Nombre unidad TCV]],TablaGxN_NTH2[],14,0)=0,0,VLOOKUP(TablaResultados[[#This Row],[Nombre unidad TCV]],TablaCMgP_pre[],14,0)/VLOOKUP(TablaResultados[[#This Row],[Nombre unidad TCV]],TablaGxN_NTH2[],14,0))","v":40.750871295130452},{"$f":"+VLOOKUP(TablaResultados[[#This Row],[Nombre unidad TCV]],'VUI-pre'!$B$5:$H$150,7,0)","v":6.0506285091579806E-2},{"$f":"+TablaResultados[[#This Row],[CVP]]+TablaResultados[[#This Row],[VUI]]","v":24.250513638238015},{"$f":"+MAX(TablaResultados[[#This Row],[CTU]]-TablaResultados[[#This Row],[CMgP]],0)*SUM(TablaGxN_NTH2[[#This Row],[Enero]:[Diciembre]])","v":0},{"$f":"+TablaResultados[[#This Row],[VUI]]*SUM(TablaGxN_NTH3[[#This Row],[Enero]:[Diciembre]])","v":9865.599157310724},{"$f":"+MAX(TablaResultados[[#This Row],[Compensación A]],TablaResultados[[#This Row],[Compensación B]])","v":9865.599157310724},null,"Santa María",1283343399.1256046]
[null,{"$f":"+Unidades!D55","v":"COMASA"},{"$f":"+Unidades!C55","v":"Lautaro"},{"$f":"+Unidades!B55","v":"Lautaro-Comasa"},{"$f":"+VLOOKUP(TablaResultados[[#This Row],[Nombre unidad TCV]],'Impuestos SII'!O:R,4,0)","v":84776652.709999993},{"$f":"IF( VLOOKUP(TablaResultados[[#This Row],[Nombre unidad TCV]],TablaGxN_NTH1[],14,0)=0,0,VLOOKUP(TablaResultados[[#This Row],[Nombre unidad TCV]],TablaCVP_pre[],14,0)/VLOOKUP(TablaResultados[[#This Row],[Nombre unidad TCV]],TablaGxN_NTH1[],14,0))","v":28.54455701337417},{"$f":"+IF( VLOOKUP(TablaResultados[[#This Row],[Nombre unidad TCV]],TablaGxN_NTH2[],14,0)=0,0,VLOOKUP(TablaResultados[[#This Row],[Nombre unidad TCV]],TablaCMgP_pre[],14,0)/VLOOKUP(TablaResultados[[#This Row],[Nombre unidad TCV]],TablaGxN_NTH2[],14,0))","v":38.532404641572356},{"$f":"+VLOOKUP(TablaResultados[[#This Row],[Nombre unidad TCV]],'VUI-pre'!$B$5:$H$150,7,0)","v":0.48436829765247408},{"$f":"+TablaResultados[[#This Row],[CVP]]+TablaResultados[[#This Row],[VUI]]","v":29.028925311026644},{"$f":"+MAX(TablaResultados[[#This Row],[CTU]]-TablaResultados[[#This Row],[CMgP]],0)*SUM(TablaGxN_NTH2[[#This Row],[Enero]:[Diciembre]])","v":0},{"$f":"+TablaResultados[[#This Row],[VUI]]*SUM(TablaGxN_NTH3[[#This Row],[Enero]:[Diciembre]])","v":844218.08986687008},{"$f":"+MAX(TablaResultados[[#This Row],[Compensación A]],TablaResultados[[#This Row],[Compensación B]])","v":844218.08986687008},null,"Taltal",122927969.70512179]
[null,{"$f":"+Unidades!D56","v":"COMASA"},{"$f":"+Unidades!C56","v":"Lautaro"},{"$f":"+Unidades!B56","v":"Lautaro-Comasa 2"},{"$f":"+VLOOKUP(TablaResultados[[#This Row],[Nombre unidad TCV]],'Impuestos SII'!O:R,4,0)","v":68877602.5},{"$f":"IF( VLOOKUP(TablaResultados[[#This Row],[Nombre unidad TCV]],TablaGxN_NTH1[],14,0)=0,0,VLOOKUP(TablaResultados[[#This Row],[Nombre unidad TCV]],TablaCVP_pre[],14,0)/VLOOKUP(TablaResultados[[#This Row],[Nombre unidad TCV]],TablaGxN_NTH1[],14,0))","v":23.823953987616665},{"$f":"+IF( VLOOKUP(TablaResultados[[#This Row],[Nombre unidad TCV]],TablaGxN_NTH2[],14,0)=0,0,VLOOKUP(TablaResultados[[#This Row],[Nombre unidad TCV]],TablaCMgP_pre[],14,0)/VLOOKUP(TablaResultados[[#This Row],[Nombre unidad TCV]],TablaGxN_NTH2[],14,0))","v":39.820202321566754},{"$f":"+VLOOKUP(TablaResultados[[#This Row],[Nombre unidad TCV]],'VUI-pre'!$B$5:$H$150,7,0)","v":0.67014387215502347},{"$f":"+TablaResultados[[#This Row],[CVP]]+TablaResultados[[#This Row],[VUI]]","v":24.494097859771689},{"$f":"+MAX(TablaResultados[[#This Row],[CTU]]-TablaResultados[[#This Row],[CMgP]],0)*SUM(TablaGxN_NTH2[[#This Row],[Enero]:[Diciembre]])","v":0},{"$f":"+TablaResultados[[#This Row],[VUI]]*SUM(TablaGxN_NTH3[[#This Row],[Enero]:[Diciembre]])","v":453650.92819856491},{"$f":"+MAX(TablaResultados[[#This Row],[Compensación A]],TablaResultados[[#This Row],[Compensación B]])","v":453650.92819856491},null,"Tarapacá",704026008.75839078]
[null,{"$f":"+Unidades!D57","v":"ARAUCO BIO"},{"$f":"+Unidades!C57","v":"Licanten"},{"$f":"+Unidades!B57","v":"Licantén"},{"$f":"+VLOOKUP(TablaResultados[[#This Row],[Nombre unidad TCV]],'Impuestos SII'!O:R,4,0)","v":121635461.98},{"$f":"IF( VLOOKUP(TablaResultados[[#This Row],[Nombre unidad TCV]],TablaGxN_NTH1[],14,0)=0,0,VLOOKUP(TablaResultados[[#This Row],[Nombre unidad TCV]],TablaCVP_pre[],14,0)/VLOOKUP(TablaResultados[[#This Row],[Nombre unidad TCV]],TablaGxN_NTH1[],14,0))","v":11.537838896681782},{"$f":"+IF( VLOOKUP(TablaResultados[[#This Row],[Nombre unidad TCV]],TablaGxN_NTH2[],14,0)=0,0,VLOOKUP(TablaResultados[[#This Row],[Nombre unidad TCV]],TablaCMgP_pre[],14,0)/VLOOKUP(TablaResultados[[#This Row],[Nombre unidad TCV]],TablaGxN_NTH2[],14,0))","v":39.636731826598727},{"$f":"+VLOOKUP(TablaResultados[[#This Row],[Nombre unidad TCV]],'VUI-pre'!$B$5:$H$150,7,0)","v":0.4527065596516367},{"$f":"+TablaResultados[[#This Row],[CVP]]+TablaResultados[[#This Row],[VUI]]","v":11.990545456333418},{"$f":"+MAX(TablaResultados[[#This Row],[CTU]]-TablaResultados[[#This Row],[CMgP]],0)*SUM(TablaGxN_NTH2[[#This Row],[Enero]:[Diciembre]])","v":0},{"$f":"+TablaResultados[[#This Row],[VUI]]*SUM(TablaGxN_NTH3[[#This Row],[Enero]:[Diciembre]])","v":2232.8165297012679},{"$f":"+MAX(TablaResultados[[#This Row],[Compensación A]],TablaResultados[[#This Row],[Compensación B]])","v":2232.8165297012679},null,"Termoeléctrica Bocamina",2193886789.4380059]
[null,{"$f":"+Unidades!D58","v":"LOS_GUINDOS"},{"$f":"+Unidades!C58","v":"Los Guindos"},{"$f":"+Unidades!B58","v":"Los Guindos"},{"$f":"+VLOOKUP(TablaResultados[[#This Row],[Nombre unidad TCV]],'Impuestos SII'!O:R,4,0)","v":0},{"$f":"IF( VLOOKUP(TablaResultados[[#This Row],[Nombre unidad TCV]],TablaGxN_NTH1[],14,0)=0,0,VLOOKUP(TablaResultados[[#This Row],[Nombre unidad TCV]],TablaCVP_pre[],14,0)/VLOOKUP(TablaResultados[[#This Row],[Nombre unidad TCV]],TablaGxN_NTH1[],14,0))","v":256.71467737231166},{"$f":"+IF( VLOOKUP(TablaResultados[[#This Row],[Nombre unidad TCV]],TablaGxN_NTH2[],14,0)=0,0,VLOOKUP(TablaResultados[[#This Row],[Nombre unidad TCV]],TablaCMgP_pre[],14,0)/VLOOKUP(TablaResultados[[#This Row],[Nombre unidad TCV]],TablaGxN_NTH2[],14,0))","v":256.71467737231171},{"$f":"+VLOOKUP(TablaResultados[[#This Row],[Nombre unidad TCV]],'VUI-pre'!$B$5:$H$150,7,0)","v":0},{"$f":"+TablaResultados[[#This Row],[CVP]]+TablaResultados[[#This Row],[VUI]]","v":256.71467737231166},{"$f":"+MAX(TablaResultados[[#This Row],[CTU]]-TablaResultados[[#This Row],[CMgP]],0)*SUM(TablaGxN_NTH2[[#This Row],[Enero]:[Diciembre]])","v":0},{"$f":"+TablaResultados[[#This Row],[VUI]]*SUM(TablaGxN_NTH3[[#This Row],[Enero]:[Diciembre]])","v":0},{"$f":"+MAX(TablaResultados[[#This Row],[Compensación A]],TablaResultados[[#This Row],[Compensación B]])","v":0},null,"Termoeléctrica Ventanas",3587942483.8872786]
[null,{"$f":"+Unidades!D59","v":"COLBUN"},{"$f":"+Unidades!C59","v":"Los Pinos"},{"$f":"+Unidades!B59","v":"Los Pinos"},{"$f":"+VLOOKUP(TablaResultados[[#This Row],[Nombre unidad TCV]],'Impuestos SII'!O:R,4,0)","v":32001871.91},{"$f":"IF( VLOOKUP(TablaResultados[[#This Row],[Nombre unidad TCV]],TablaGxN_NTH1[],14,0)=0,0,VLOOKUP(TablaResultados[[#This Row],[Nombre unidad TCV]],TablaCVP_pre[],14,0)/VLOOKUP(TablaResultados[[#This Row],[Nombre unidad TCV]],TablaGxN_NTH1[],14,0))","v":93.394187176331684},{"$f":"+IF( VLOOKUP(TablaResultados[[#This Row],[Nombre unidad TCV]],TablaGxN_NTH2[],14,0)=0,0,VLOOKUP(TablaResultados[[#This Row],[Nombre unidad TCV]],TablaCMgP_pre[],14,0)/VLOOKUP(TablaResultados[[#This Row],[Nombre unidad TCV]],TablaGxN_NTH2[],14,0))","v":96.589774950199697},{"$f":"+VLOOKUP(TablaResultados[[#This Row],[Nombre unidad TCV]],'VUI-pre'!$B$5:$H$150,7,0)","v":2.3855877221254103},{"$f":"+TablaResultados[[#This Row],[CVP]]+TablaResultados[[#This Row],[VUI]]","v":95.779774898457092},{"$f":"+MAX(TablaResultados[[#This Row],[CTU]]-TablaResultados[[#This Row],[CMgP]],0)*SUM(TablaGxN_NTH2[[#This Row],[Enero]:[Diciembre]])","v":0},{"$f":"+TablaResultados[[#This Row],[VUI]]*SUM(TablaGxN_NTH3[[#This Row],[Enero]:[Diciembre]])","v":15295239.028921569},{"$f":"+MAX(TablaResultados[[#This Row],[Compensación A]],TablaResultados[[#This Row],[Compensación B]])","v":15295239.028921569},null,"Tocopilla",769578541.02761245]
[null,{"$f":"+Unidades!D60","v":"GMETROPOLITANA"},{"$f":"+Unidades!C60","v":"Los Vientos"},{"$f":"+Unidades!B60","v":"Los Vientos"},{"$f":"+VLOOKUP(TablaResultados[[#This Row],[Nombre unidad TCV]],'Impuestos SII'!O:R,4,0)","v":356490826.00999999},{"$f":"IF( VLOOKUP(TablaResultados[[#This Row],[Nombre unidad TCV]],TablaGxN_NTH1[],14,0)=0,0,VLOOKUP(TablaResultados[[#This Row],[Nombre unidad TCV]],TablaCVP_pre[],14,0)/VLOOKUP(TablaResultados[[#This Row],[Nombre unidad TCV]],TablaGxN_NTH1[],14,0))","v":143.10864797531829},{"$f":"+IF( VLOOKUP(TablaResultados[[#This Row],[Nombre unidad TCV]],TablaGxN_NTH2[],14,0)=0,0,VLOOKUP(TablaResultados[[#This Row],[Nombre unidad TCV]],TablaCMgP_pre[],14,0)/VLOOKUP(TablaResultados[[#This Row],[Nombre unidad TCV]],TablaGxN_NTH2[],14,0))","v":143.71408390630086},{"$f":"+VLOOKUP(TablaResultados[[#This Row],[Nombre unidad TCV]],'VUI-pre'!$B$5:$H$150,7,0)","v":4.6677671950849495},{"$f":"+TablaResultados[[#This Row],[CVP]]+TablaResultados[[#This Row],[VUI]]","v":147.77641517040325},{"$f":"+MAX(TablaResultados[[#This Row],[CTU]]-TablaResultados[[#This Row],[CMgP]],0)*SUM(TablaGxN_NTH2[[#This Row],[Enero]:[Diciembre]])","v":310251940.02627534},{"$f":"+TablaResultados[[#This Row],[VUI]]*SUM(TablaGxN_NTH3[[#This Row],[Enero]:[Diciembre]])","v":338006068.61798674},{"$f":"+MAX(TablaResultados[[#This Row],[Compensación A]],TablaResultados[[#This Row],[Compensación B]])","v":338006068.61798674},null,"Valdivia",4034.1544926478291]
[null,{"$f":"+Unidades!D61","v":"NEOMAS"},{"$f":"+Unidades!C61","v":"Masisa"},{"$f":"+Unidades!B61","v":"Masisa (Cabrero)"},{"$f":"+VLOOKUP(TablaResultados[[#This Row],[Nombre unidad TCV]],'Impuestos SII'!O:R,4,0)","v":37180373.920000002},{"$f":"IF( VLOOKUP(TablaResultados[[#This Row],[Nombre unidad TCV]],TablaGxN_NTH1[],14,0)=0,0,VLOOKUP(TablaResultados[[#This Row],[Nombre unidad TCV]],TablaCVP_pre[],14,0)/VLOOKUP(TablaResultados[[#This Row],[Nombre unidad TCV]],TablaGxN_NTH1[],14,0))","v":19.759274070644441},{"$f":"+IF( VLOOKUP(TablaResultados[[#This Row],[Nombre unidad TCV]],TablaGxN_NTH2[],14,0)=0,0,VLOOKUP(TablaResultados[[#This Row],[Nombre unidad TCV]],TablaCMgP_pre[],14,0)/VLOOKUP(TablaResultados[[#This Row],[Nombre unidad TCV]],TablaGxN_NTH2[],14,0))","v":37.988906265609153},{"$f":"+VLOOKUP(TablaResultados[[#This Row],[Nombre unidad TCV]],'VUI-pre'!$B$5:$H$150,7,0)","v":0.46860307676795687},{"$f":"+TablaResultados[[#This Row],[CVP]]+TablaResultados[[#This Row],[VUI]]","v":20.227877147412396},{"$f":"+MAX(TablaResultados[[#This Row],[CTU]]-TablaResultados[[#This Row],[CMgP]],0)*SUM(TablaGxN_NTH2[[#This Row],[Enero]:[Diciembre]])","v":0},{"$f":"+TablaResultados[[#This Row],[VUI]]*SUM(TablaGxN_NTH3[[#This Row],[Enero]:[Diciembre]])","v":301748.05391810724},{"$f":"+MAX(TablaResultados[[#This Row],[Compensación A]],TablaResultados[[#This Row],[Compensación B]])","v":301748.05391810724},null,"Viñales",47082.305118883203]
[null,{"$f":"+Unidades!D62","v":"COLBUN"},{"$f":"+Unidades!C62","v":"Nehuenco"},{"$f":"+Unidades!B62","v":"Nehuenco"},{"$f":"+VLOOKUP(TablaResultados[[#This Row],[Nombre unidad TCV]],'Impuestos SII'!O:R,4,0)","v":2858769874.4899998},{"$f":"IF( VLOOKUP(TablaResultados[[#This Row],[Nombre unidad TCV]],TablaGxN_NTH1[],14,0)=0,0,VLOOKUP(TablaResultados[[#This Row],[Nombre unidad TCV]],TablaCVP_pre[],14,0)/VLOOKUP(TablaResultados[[#This Row],[Nombre unidad TCV]],TablaGxN_NTH1[],14,0))","v":8.0937997500534653},{"$f":"+IF( VLOOKUP(TablaResultados[[#This Row],[Nombre unidad TCV]],TablaGxN_NTH2[],14,0)=0,0,VLOOKUP(TablaResultados[[#This Row],[Nombre unidad TCV]],TablaCMgP_pre[],14,0)/VLOOKUP(TablaResultados[[#This Row],[Nombre unidad TCV]],TablaGxN_NTH2[],14,0))","v":38.282888095431353},{"$f":"+VLOOKUP(TablaResultados[[#This Row],[Nombre unidad TCV]],'VUI-pre'!$B$5:$H$150,7,0)","v":1.7364333306942301},{"$f":"+TablaResultados[[#This Row],[CVP]]+TablaResultados[[#This Row],[VUI]]","v":9.8302330807476963},{"$f":"+MAX(TablaResultados[[#This Row],[CTU]]-TablaResultados[[#This Row],[CMgP]],0)*SUM(TablaGxN_NTH2[[#This Row],[Enero]:[Diciembre]])","v":0},{"$f":"+TablaResultados[[#This Row],[VUI]]*SUM(TablaGxN_NTH3[[#This Row],[Enero]:[Diciembre]])","v":186856699.84409505},{"$f":"+MAX(TablaResultados[[#This Row],[Compensación A]],TablaResultados[[#This Row],[Compensación B]])","v":186856699.84409505},null,"Yungay",1811023.8300000029]
[null,{"$f":"+Unidades!D63","v":"COLBUN"},{"$f":"+Unidades!C63","v":"Nehuenco"},{"$f":"+Unidades!B63","v":"Nehuenco II"},{"$f":"+VLOOKUP(TablaResultados[[#This Row],[Nombre unidad TCV]],'Impuestos SII'!O:R,4,0)","v":4990081110.3699999},{"$f":"IF( VLOOKUP(TablaResultados[[#This Row],[Nombre unidad TCV]],TablaGxN_NTH1[],14,0)=0,0,VLOOKUP(TablaResultados[[#This Row],[Nombre unidad TCV]],TablaCVP_pre[],14,0)/VLOOKUP(TablaResultados[[#This Row],[Nombre unidad TCV]],TablaGxN_NTH1[],14,0))","v":15.286890954654224},{"$f":"+IF( VLOOKUP(TablaResultados[[#This Row],[Nombre unidad TCV]],TablaGxN_NTH2[],14,0)=0,0,VLOOKUP(TablaResultados[[#This Row],[Nombre unidad TCV]],TablaCMgP_pre[],14,0)/VLOOKUP(TablaResultados[[#This Row],[Nombre unidad TCV]],TablaGxN_NTH2[],14,0))","v":37.264460668858035},{"$f":"+VLOOKUP(TablaResultados[[#This Row],[Nombre unidad TCV]],'VUI-pre'!$B$5:$H$150,7,0)","v":1.8497479478244629},{"$f":"+TablaResultados[[#This Row],[CVP]]+TablaResultados[[#This Row],[VUI]]","v":17.136638902478687},{"$f":"+MAX(TablaResultados[[#This Row],[CTU]]-TablaResultados[[#This Row],[CMgP]],0)*SUM(TablaGxN_NTH2[[#This Row],[Enero]:[Diciembre]])","v":0},{"$f":"+TablaResultados[[#This Row],[VUI]]*SUM(TablaGxN_NTH3[[#This Row],[Enero]:[Diciembre]])","v":280128175.6016115},{"$f":"+MAX(TablaResultados[[#This Row],[Compensación A]],TablaResultados[[#This Row],[Compensación B]])","v":280128175.6016115},null,"Total general",22219673070.698948]
[null,{"$f":"+Unidades!D64","v":"COLBUN"},{"$f":"+Unidades!C64","v":"Nehuenco"},{"$f":"+Unidades!B64","v":"Nehuenco TG 9B"},{"$f":"+VLOOKUP(TablaResultados[[#This Row],[Nombre unidad TCV]],'Impuestos SII'!O:R,4,0)","v":7566179.7699999996},{"$f":"IF( VLOOKUP(TablaResultados[[#This Row],[Nombre unidad TCV]],TablaGxN_NTH1[],14,0)=0,0,VLOOKUP(TablaResultados[[#This Row],[Nombre unidad TCV]],TablaCVP_pre[],14,0)/VLOOKUP(TablaResultados[[#This Row],[Nombre unidad TCV]],TablaGxN_NTH1[],14,0))","v":40.663686621550909},{"$f":"+IF( VLOOKUP(TablaResultados[[#This Row],[Nombre unidad TCV]],TablaGxN_NTH2[],14,0)=0,0,VLOOKUP(TablaResultados[[#This Row],[Nombre unidad TCV]],TablaCMgP_pre[],14,0)/VLOOKUP(TablaResultados[[#This Row],[Nombre unidad TCV]],TablaGxN_NTH2[],14,0))","v":54.664375699459981},{"$f":"+VLOOKUP(TablaResultados[[#This Row],[Nombre unidad TCV]],'VUI-pre'!$B$5:$H$150,7,0)","v":3.1876164192780361},{"$f":"+TablaResultados[[#This Row],[CVP]]+TablaResultados[[#This Row],[VUI]]","v":43.851303040828945},{"$f":"+MAX(TablaResultados[[#This Row],[CTU]]-TablaResultados[[#This Row],[CMgP]],0)*SUM(TablaGxN_NTH2[[#This Row],[Enero]:[Diciembre]])","v":0},{"$f":"+TablaResultados[[#This Row],[VUI]]*SUM(TablaGxN_NTH3[[#This Row],[Enero]:[Diciembre]])","v":4475888.9876590231},{"$f":"+MAX(TablaResultados[[#This Row],[Compensación A]],TablaResultados[[#This Row],[Compensación B]])","v":4475888.9876590231}]
[null,{"$f":"+Unidades!D65","v":"AES_GENER"},{"$f":"+Unidades!C65","v":"Norgener"},{"$f":"+Unidades!B65","v":"NTO1"},{"$f":"+VLOOKUP(TablaResultados[[#This Row],[Nombre unidad TCV]],'Impuestos SII'!O:R,4,0)","v":3665085883.3400002},{"$f":"IF( VLOOKUP(TablaResultados[[#This Row],[Nombre unidad TCV]],TablaGxN_NTH1[],14,0)=0,0,VLOOKUP(TablaResultados[[#This Row],[Nombre unidad TCV]],TablaCVP_pre[],14,0)/VLOOKUP(TablaResultados[[#This Row],[Nombre unidad TCV]],TablaGxN_NTH1[],14,0))","v":22.997335353667907},{"$f":"+IF( VLOOKUP(TablaResultados[[#This Row],[Nombre unidad TCV]],TablaGxN_NTH2[],14,0)=0,0,VLOOKUP(TablaResultados[[#This Row],[Nombre unidad TCV]],TablaCMgP_pre[],14,0)/VLOOKUP(TablaResultados[[#This Row],[Nombre unidad TCV]],TablaGxN_NTH2[],14,0))","v":33.077024468808155},{"$f":"+VLOOKUP(TablaResultados[[#This Row],[Nombre unidad TCV]],'VUI-pre'!$B$5:$H$150,7,0)","v":4.4806543716705125},{"$f":"+TablaResultados[[#This Row],[CVP]]+TablaResultados[[#This Row],[VUI]]","v":27.477989725338418},{"$f":"+MAX(TablaResultados[[#This Row],[CTU]]-TablaResultados[[#This Row],[CMgP]],0)*SUM(TablaGxN_NTH2[[#This Row],[Enero]:[Diciembre]])","v":0},{"$f":"+TablaResultados[[#This Row],[VUI]]*SUM(TablaGxN_NTH3[[#This Row],[Enero]:[Diciembre]])","v":577243823.1904918},{"$f":"+MAX(TablaResultados[[#This Row],[Compensación A]],TablaResultados[[#This Row],[Compensación B]])","v":577243823.1904918}]
[null,{"$f":"+Unidades!D66","v":"AES_GENER"},{"$f":"+Unidades!C66","v":"Norgener"},{"$f":"+Unidades!B66","v":"NTO2"},{"$f":"+VLOOKUP(TablaResultados[[#This Row],[Nombre unidad TCV]],'Impuestos SII'!O:R,4,0)","v":3736848766.1500001},{"$f":"IF( VLOOKUP(TablaResultados[[#This Row],[Nombre unidad TCV]],TablaGxN_NTH1[],14,0)=0,0,VLOOKUP(TablaResultados[[#This Row],[Nombre unidad TCV]],TablaCVP_pre[],14,0)/VLOOKUP(TablaResultados[[#This Row],[Nombre unidad TCV]],TablaGxN_NTH1[],14,0))","v":22.259369563265274},{"$f":"+IF( VLOOKUP(TablaResultados[[#This Row],[Nombre unidad TCV]],TablaGxN_NTH2[],14,0)=0,0,VLOOKUP(TablaResultados[[#This Row],[Nombre unidad TCV]],TablaCMgP_pre[],14,0)/VLOOKUP(TablaResultados[[#This Row],[Nombre unidad TCV]],TablaGxN_NTH2[],14,0))","v":32.063080073149678},{"$f":"+VLOOKUP(TablaResultados[[#This Row],[Nombre unidad TCV]],'VUI-pre'!$B$5:$H$150,7,0)","v":4.3722541622485602},{"$f":"+TablaResultados[[#This Row],[CVP]]+TablaResultados[[#This Row],[VUI]]","v":26.631623725513833},{"$f":"+MAX(TablaResultados[[#This Row],[CTU]]-TablaResultados[[#This Row],[CMgP]],0)*SUM(TablaGxN_NTH2[[#This Row],[Enero]:[Diciembre]])","v":0},{"$f":"+TablaResultados[[#This Row],[VUI]]*SUM(TablaGxN_NTH3[[#This Row],[Enero]:[Diciembre]])","v":392084186.07627803},{"$f":"+MAX(TablaResultados[[#This Row],[Compensación A]],TablaResultados[[#This Row],[Compensación B]])","v":392084186.07627803}]
[null,{"$f":"+Unidades!D67","v":"ARAUCO BIO"},{"$f":"+Unidades!C67","v":"Nueva Aldea I"},{"$f":"+Unidades!B67","v":"Nueva Aldea I"},{"$f":"+VLOOKUP(TablaResultados[[#This Row],[Nombre unidad TCV]],'Impuestos SII'!O:R,4,0)","v":43952545.859999999},{"$f":"IF( VLOOKUP(TablaResultados[[#This Row],[Nombre unidad TCV]],TablaGxN_NTH1[],14,0)=0,0,VLOOKUP(TablaResultados[[#This Row],[Nombre unidad TCV]],TablaCVP_pre[],14,0)/VLOOKUP(TablaResultados[[#This Row],[Nombre unidad TCV]],TablaGxN_NTH1[],14,0))","v":13.051394909046698},{"$f":"+IF( VLOOKUP(TablaResultados[[#This Row],[Nombre unidad TCV]],TablaGxN_NTH2[],14,0)=0,0,VLOOKUP(TablaResultados[[#This Row],[Nombre unidad TCV]],TablaCMgP_pre[],14,0)/VLOOKUP(TablaResultados[[#This Row],[Nombre unidad TCV]],TablaGxN_NTH2[],14,0))","v":39.241377863731934},{"$f":"+VLOOKUP(TablaResultados[[#This Row],[Nombre unidad TCV]],'VUI-pre'!$B$5:$H$150,7,0)","v":0.18742290674171677},{"$f":"+TablaResultados[[#This Row],[CVP]]+TablaResultados[[#This Row],[VUI]]","v":13.238817815788414},{"$f":"+MAX(TablaResultados[[#This Row],[CTU]]-TablaResultados[[#This Row],[CMgP]],0)*SUM(TablaGxN_NTH2[[#This Row],[Enero]:[Diciembre]])","v":0},{"$f":"+TablaResultados[[#This Row],[VUI]]*SUM(TablaGxN_NTH3[[#This Row],[Enero]:[Diciembre]])","v":0},{"$f":"+MAX(TablaResultados[[#This Row],[Compensación A]],TablaResultados[[#This Row],[Compensación B]])","v":0}]
[null,{"$f":"+Unidades!D68","v":"ARAUCO BIO"},{"$f":"+Unidades!C68","v":"Nueva Aldea III"},{"$f":"+Unidades!B68","v":"Nueva Aldea III"},{"$f":"+VLOOKUP(TablaResultados[[#This Row],[Nombre unidad TCV]],'Impuestos SII'!O:R,4,0)","v":291011767.76999998},{"$f":"IF( VLOOKUP(TablaResultados[[#This Row],[Nombre unidad TCV]],TablaGxN_NTH1[],14,0)=0,0,VLOOKUP(TablaResultados[[#This Row],[Nombre unidad TCV]],TablaCVP_pre[],14,0)/VLOOKUP(TablaResultados[[#This Row],[Nombre unidad TCV]],TablaGxN_NTH1[],14,0))","v":0},{"$f":"+IF( VLOOKUP(TablaResultados[[#This Row],[Nombre unidad TCV]],TablaGxN_NTH2[],14,0)=0,0,VLOOKUP(TablaResultados[[#This Row],[Nombre unidad TCV]],TablaCMgP_pre[],14,0)/VLOOKUP(TablaResultados[[#This Row],[Nombre unidad TCV]],TablaGxN_NTH2[],14,0))","v":35.405358637003367},{"$f":"+VLOOKUP(TablaResultados[[#This Row],[Nombre unidad TCV]],'VUI-pre'!$B$5:$H$150,7,0)","v":0.27638754973824969},{"$f":"+TablaResultados[[#This Row],[CVP]]+TablaResultados[[#This Row],[VUI]]","v":0.27638754973824969},{"$f":"+MAX(TablaResultados[[#This Row],[CTU]]-TablaResultados[[#This Row],[CMgP]],0)*SUM(TablaGxN_NTH2[[#This Row],[Enero]:[Diciembre]])","v":0},{"$f":"+TablaResultados[[#This Row],[VUI]]*SUM(TablaGxN_NTH3[[#This Row],[Enero]:[Diciembre]])","v":0},{"$f":"+MAX(TablaResultados[[#This Row],[Compensación A]],TablaResultados[[#This Row],[Compensación B]])","v":0}]
[null,{"$f":"+Unidades!D69","v":"GMETROPOLITANA"},{"$f":"+Unidades!C69","v":"Nueva Renca"},{"$f":"+Unidades!B69","v":"Nueva Renca"},{"$f":"+VLOOKUP(TablaResultados[[#This Row],[Nombre unidad TCV]],'Impuestos SII'!O:R,4,0)","v":4113464489.6399999},{"$f":"IF( VLOOKUP(TablaResultados[[#This Row],[Nombre unidad TCV]],TablaGxN_NTH1[],14,0)=0,0,VLOOKUP(TablaResultados[[#This Row],[Nombre unidad TCV]],TablaCVP_pre[],14,0)/VLOOKUP(TablaResultados[[#This Row],[Nombre unidad TCV]],TablaGxN_NTH1[],14,0))","v":32.485926358401528},{"$f":"+IF( VLOOKUP(TablaResultados[[#This Row],[Nombre unidad TCV]],TablaGxN_NTH2[],14,0)=0,0,VLOOKUP(TablaResultados[[#This Row],[Nombre unidad TCV]],TablaCMgP_pre[],14,0)/VLOOKUP(TablaResultados[[#This Row],[Nombre unidad TCV]],TablaGxN_NTH2[],14,0))","v":37.91713203749736},{"$f":"+VLOOKUP(TablaResultados[[#This Row],[Nombre unidad TCV]],'VUI-pre'!$B$5:$H$150,7,0)","v":2.3804372231957367},{"$f":"+TablaResultados[[#This Row],[CVP]]+TablaResultados[[#This Row],[VUI]]","v":34.866363581597263},{"$f":"+MAX(TablaResultados[[#This Row],[CTU]]-TablaResultados[[#This Row],[CMgP]],0)*SUM(TablaGxN_NTH2[[#This Row],[Enero]:[Diciembre]])","v":0},{"$f":"+TablaResultados[[#This Row],[VUI]]*SUM(TablaGxN_NTH3[[#This Row],[Enero]:[Diciembre]])","v":836810800.80322528},{"$f":"+MAX(TablaResultados[[#This Row],[Compensación A]],TablaResultados[[#This Row],[Compensación B]])","v":836810800.80322528}]
[null,{"$f":"+Unidades!D70","v":"AES_GENER"},{"$f":"+Unidades!C70","v":"Termoeléctrica Ventanas"},{"$f":"+Unidades!B70","v":"Nueva Ventanas"},{"$f":"+VLOOKUP(TablaResultados[[#This Row],[Nombre unidad TCV]],'Impuestos SII'!O:R,4,0)","v":6805550670.1899996},{"$f":"IF( VLOOKUP(TablaResultados[[#This Row],[Nombre unidad TCV]],TablaGxN_NTH1[],14,0)=0,0,VLOOKUP(TablaResultados[[#This Row],[Nombre unidad TCV]],TablaCVP_pre[],14,0)/VLOOKUP(TablaResultados[[#This Row],[Nombre unidad TCV]],TablaGxN_NTH1[],14,0))","v":27.402677576143496},{"$f":"+IF( VLOOKUP(TablaResultados[[#This Row],[Nombre unidad TCV]],TablaGxN_NTH2[],14,0)=0,0,VLOOKUP(TablaResultados[[#This Row],[Nombre unidad TCV]],TablaCMgP_pre[],14,0)/VLOOKUP(TablaResultados[[#This Row],[Nombre unidad TCV]],TablaGxN_NTH2[],14,0))","v":36.572152220184627},{"$f":"+VLOOKUP(TablaResultados[[#This Row],[Nombre unidad TCV]],'VUI-pre'!$B$5:$H$150,7,0)","v":4.4508245101779345},{"$f":"+TablaResultados[[#This Row],[CVP]]+TablaResultados[[#This Row],[VUI]]","v":31.853502086321431},{"$f":"+MAX(TablaResultados[[#This Row],[CTU]]-TablaResultados[[#This Row],[CMgP]],0)*SUM(TablaGxN_NTH2[[#This Row],[Enero]:[Diciembre]])","v":0},{"$f":"+TablaResultados[[#This Row],[VUI]]*SUM(TablaGxN_NTH3[[#This Row],[Enero]:[Diciembre]])","v":536151782.20961028},{"$f":"+MAX(TablaResultados[[#This Row],[Compensación A]],TablaResultados[[#This Row],[Compensación B]])","v":536151782.20961028}]
[null,{"$f":"+Unidades!D71","v":"ERSA"},{"$f":"+Unidades!C71","v":"Petropower"},{"$f":"+Unidades!B71","v":"Petropower"},{"$f":"+VLOOKUP(TablaResultados[[#This Row],[Nombre unidad TCV]],'Impuestos SII'!O:R,4,0)","v":3038016793.3800001},{"$f":"IF( VLOOKUP(TablaResultados[[#This Row],[Nombre unidad TCV]],TablaGxN_NTH1[],14,0)=0,0,VLOOKUP(TablaResultados[[#This Row],[Nombre unidad TCV]],TablaCVP_pre[],14,0)/VLOOKUP(TablaResultados[[#This Row],[Nombre unidad TCV]],TablaGxN_NTH1[],14,0))","v":2.6858228617461002},{"$f":"+IF( VLOOKUP(TablaResultados[[#This Row],[Nombre unidad TCV]],TablaGxN_NTH2[],14,0)=0,0,VLOOKUP(TablaResultados[[#This Row],[Nombre unidad TCV]],TablaCMgP_pre[],14,0)/VLOOKUP(TablaResultados[[#This Row],[Nombre unidad TCV]],TablaGxN_NTH2[],14,0))","v":37.319643784039982},{"$f":"+VLOOKUP(TablaResultados[[#This Row],[Nombre unidad TCV]],'VUI-pre'!$B$5:$H$150,7,0)","v":6.3332152092660872},{"$f":"+TablaResultados[[#This Row],[CVP]]+TablaResultados[[#This Row],[VUI]]","v":9.0190380710121865},{"$f":"+MAX(TablaResultados[[#This Row],[CTU]]-TablaResultados[[#This Row],[CMgP]],0)*SUM(TablaGxN_NTH2[[#This Row],[Enero]:[Diciembre]])","v":0},{"$f":"+TablaResultados[[#This Row],[VUI]]*SUM(TablaGxN_NTH3[[#This Row],[Enero]:[Diciembre]])","v":0},{"$f":"+MAX(TablaResultados[[#This Row],[Compensación A]],TablaResultados[[#This Row],[Compensación B]])","v":0}]
[null,{"$f":"+Unidades!D72","v":"ENEL_GENERACION"},{"$f":"+Unidades!C72","v":"Quintero"},{"$f":"+Unidades!B72","v":"Quintero A"},{"$f":"+VLOOKUP(TablaResultados[[#This Row],[Nombre unidad TCV]],'Impuestos SII'!O:R,4,0)","v":427470224.63999999},{"$f":"IF( VLOOKUP(TablaResultados[[#This Row],[Nombre unidad TCV]],TablaGxN_NTH1[],14,0)=0,0,VLOOKUP(TablaResultados[[#This Row],[Nombre unidad TCV]],TablaCVP_pre[],14,0)/VLOOKUP(TablaResultados[[#This Row],[Nombre unidad TCV]],TablaGxN_NTH1[],14,0))","v":41.671678192509148},{"$f":"+IF( VLOOKUP(TablaResultados[[#This Row],[Nombre unidad TCV]],TablaGxN_NTH2[],14,0)=0,0,VLOOKUP(TablaResultados[[#This Row],[Nombre unidad TCV]],TablaCMgP_pre[],14,0)/VLOOKUP(TablaResultados[[#This Row],[Nombre unidad TCV]],TablaGxN_NTH2[],14,0))","v":58.220016168817807},{"$f":"+VLOOKUP(TablaResultados[[#This Row],[Nombre unidad TCV]],'VUI-pre'!$B$5:$H$150,7,0)","v":3.1631851337415848},{"$f":"+TablaResultados[[#This Row],[CVP]]+TablaResultados[[#This Row],[VUI]]","v":44.834863326250733},{"$f":"+MAX(TablaResultados[[#This Row],[CTU]]-TablaResultados[[#This Row],[CMgP]],0)*SUM(TablaGxN_NTH2[[#This Row],[Enero]:[Diciembre]])","v":0},{"$f":"+TablaResultados[[#This Row],[VUI]]*SUM(TablaGxN_NTH3[[#This Row],[Enero]:[Diciembre]])","v":94476298.804205894},{"$f":"+MAX(TablaResultados[[#This Row],[Compensación A]],TablaResultados[[#This Row],[Compensación B]])","v":94476298.804205894}]
[null,{"$f":"+Unidades!D73","v":"ENEL_GENERACION"},{"$f":"+Unidades!C73","v":"Quintero"},{"$f":"+Unidades!B73","v":"Quintero B"},{"$f":"+VLOOKUP(TablaResultados[[#This Row],[Nombre unidad TCV]],'Impuestos SII'!O:R,4,0)","v":430713834.69},{"$f":"IF( VLOOKUP(TablaResultados[[#This Row],[Nombre unidad TCV]],TablaGxN_NTH1[],14,0)=0,0,VLOOKUP(TablaResultados[[#This Row],[Nombre unidad TCV]],TablaCVP_pre[],14,0)/VLOOKUP(TablaResultados[[#This Row],[Nombre unidad TCV]],TablaGxN_NTH1[],14,0))","v":43.423510232179019},{"$f":"+IF( VLOOKUP(TablaResultados[[#This Row],[Nombre unidad TCV]],TablaGxN_NTH2[],14,0)=0,0,VLOOKUP(TablaResultados[[#This Row],[Nombre unidad TCV]],TablaCMgP_pre[],14,0)/VLOOKUP(TablaResultados[[#This Row],[Nombre unidad TCV]],TablaGxN_NTH2[],14,0))","v":59.06159363501105},{"$f":"+VLOOKUP(TablaResultados[[#This Row],[Nombre unidad TCV]],'VUI-pre'!$B$5:$H$150,7,0)","v":3.3846858921057938},{"$f":"+TablaResultados[[#This Row],[CVP]]+TablaResultados[[#This Row],[VUI]]","v":46.808196124284812},{"$f":"+MAX(TablaResultados[[#This Row],[CTU]]-TablaResultados[[#This Row],[CMgP]],0)*SUM(TablaGxN_NTH2[[#This Row],[Enero]:[Diciembre]])","v":0},{"$f":"+TablaResultados[[#This Row],[VUI]]*SUM(TablaGxN_NTH3[[#This Row],[Enero]:[Diciembre]])","v":106770369.68957181},{"$f":"+MAX(TablaResultados[[#This Row],[Compensación A]],TablaResultados[[#This Row],[Compensación B]])","v":106770369.68957181}]
[null,{"$f":"+Unidades!D74","v":"GMETROPOLITANA"},{"$f":"+Unidades!C74","v":"Renca"},{"$f":"+Unidades!B74","v":"Renca U1"},{"$f":"+VLOOKUP(TablaResultados[[#This Row],[Nombre unidad TCV]],'Impuestos SII'!O:R,4,0)","v":0},{"$f":"IF( VLOOKUP(TablaResultados[[#This Row],[Nombre unidad TCV]],TablaGxN_NTH1[],14,0)=0,0,VLOOKUP(TablaResultados[[#This Row],[Nombre unidad TCV]],TablaCVP_pre[],14,0)/VLOOKUP(TablaResultados[[#This Row],[Nombre unidad TCV]],TablaGxN_NTH1[],14,0))","v":0},{"$f":"+IF( VLOOKUP(TablaResultados[[#This Row],[Nombre unidad TCV]],TablaGxN_NTH2[],14,0)=0,0,VLOOKUP(TablaResultados[[#This Row],[Nombre unidad TCV]],TablaCMgP_pre[],14,0)/VLOOKUP(TablaResultados[[#This Row],[Nombre unidad TCV]],TablaGxN_NTH2[],14,0))","v":0},{"$f":"+VLOOKUP(TablaResultados[[#This Row],[Nombre unidad TCV]],'VUI-pre'!$B$5:$H$150,7,0)","v":0},{"$f":"+TablaResultados[[#This Row],[CVP]]+TablaResultados[[#This Row],[VUI]]","v":0},{"$f":"+MAX(TablaResultados[[#This Row],[CTU]]-TablaResultados[[#This Row],[CMgP]],0)*SUM(TablaGxN_NTH2[[#This Row],[Enero]:[Diciembre]])","v":0},{"$f":"+TablaResultados[[#This Row],[VUI]]*SUM(TablaGxN_NTH3[[#This Row],[Enero]:[Diciembre]])","v":0},{"$f":"+MAX(TablaResultados[[#This Row],[Compensación A]],TablaResultados[[#This Row],[Compensación B]])","v":0}]
[null,{"$f":"+Unidades!D75","v":"GMETROPOLITANA"},{"$f":"+Unidades!C75","v":"Renca"},{"$f":"+Unidades!B75","v":"Renca U2"},{"$f":"+VLOOKUP(TablaResultados[[#This Row],[Nombre unidad TCV]],'Impuestos SII'!O:R,4,0)","v":0},{"$f":"IF( VLOOKUP(TablaResultados[[#This Row],[Nombre unidad TCV]],TablaGxN_NTH1[],14,0)=0,0,VLOOKUP(TablaResultados[[#This Row],[Nombre unidad TCV]],TablaCVP_pre[],14,0)/VLOOKUP(TablaResultados[[#This Row],[Nombre unidad TCV]],TablaGxN_NTH1[],14,0))","v":0},{"$f":"+IF( VLOOKUP(TablaResultados[[#This Row],[Nombre unidad TCV]],TablaGxN_NTH2[],14,0)=0,0,VLOOKUP(TablaResultados[[#This Row],[Nombre unidad TCV]],TablaCMgP_pre[],14,0)/VLOOKUP(TablaResultados[[#This Row],[Nombre unidad TCV]],TablaGxN_NTH2[],14,0))","v":0},{"$f":"+VLOOKUP(TablaResultados[[#This Row],[Nombre unidad TCV]],'VUI-pre'!$B$5:$H$150,7,0)","v":0},{"$f":"+TablaResultados[[#This Row],[CVP]]+TablaResultados[[#This Row],[VUI]]","v":0},{"$f":"+MAX(TablaResultados[[#This Row],[CTU]]-TablaResultados[[#This Row],[CMgP]],0)*SUM(TablaGxN_NTH2[[#This Row],[Enero]:[Diciembre]])","v":0},{"$f":"+TablaResultados[[#This Row],[VUI]]*SUM(TablaGxN_NTH3[[#This Row],[Enero]:[Diciembre]])","v":0},{"$f":"+MAX(TablaResultados[[#This Row],[Compensación A]],TablaResultados[[#This Row],[Compensación B]])","v":0}]
[null,{"$f":"+Unidades!D76","v":"ENEL_GENERACION"},{"$f":"+Unidades!C76","v":"San Isidro"},{"$f":"+Unidades!B76","v":"San Isidro"},{"$f":"+VLOOKUP(TablaResultados[[#This Row],[Nombre unidad TCV]],'Impuestos SII'!O:R,4,0)","v":2118915059.9400001},{"$f":"IF( VLOOKUP(TablaResultados[[#This Row],[Nombre unidad TCV]],TablaGxN_NTH1[],14,0)=0,0,VLOOKUP(TablaResultados[[#This Row],[Nombre unidad TCV]],TablaCVP_pre[],14,0)/VLOOKUP(TablaResultados[[#This Row],[Nombre unidad TCV]],TablaGxN_NTH1[],14,0))","v":31.168217586075865},{"$f":"+IF( VLOOKUP(TablaResultados[[#This Row],[Nombre unidad TCV]],TablaGxN_NTH2[],14,0)=0,0,VLOOKUP(TablaResultados[[#This Row],[Nombre unidad TCV]],TablaCMgP_pre[],14,0)/VLOOKUP(TablaResultados[[#This Row],[Nombre unidad TCV]],TablaGxN_NTH2[],14,0))","v":43.157009635425062},{"$f":"+VLOOKUP(TablaResultados[[#This Row],[Nombre unidad TCV]],'VUI-pre'!$B$5:$H$150,7,0)","v":1.6629915016816998},{"$f":"+TablaResultados[[#This Row],[CVP]]+TablaResultados[[#This Row],[VUI]]","v":32.831209087757564},{"$f":"+MAX(TablaResultados[[#This Row],[CTU]]-TablaResultados[[#This Row],[CMgP]],0)*SUM(TablaGxN_NTH2[[#This Row],[Enero]:[Diciembre]])","v":0},{"$f":"+TablaResultados[[#This Row],[VUI]]*SUM(TablaGxN_NTH3[[#This Row],[Enero]:[Diciembre]])","v":459794372.63525784},{"$f":"+MAX(TablaResultados[[#This Row],[Compensación A]],TablaResultados[[#This Row],[Compensación B]])","v":459794372.63525784}]
[null,{"$f":"+Unidades!D77","v":"ENEL_GENERACION"},{"$f":"+Unidades!C77","v":"San Isidro 2"},{"$f":"+Unidades!B77","v":"San Isidro II"},{"$f":"+VLOOKUP(TablaResultados[[#This Row],[Nombre unidad TCV]],'Impuestos SII'!O:R,4,0)","v":4018812383.2199998},{"$f":"IF( VLOOKUP(TablaResultados[[#This Row],[Nombre unidad TCV]],TablaGxN_NTH1[],14,0)=0,0,VLOOKUP(TablaResultados[[#This Row],[Nombre unidad TCV]],TablaCVP_pre[],14,0)/VLOOKUP(TablaResultados[[#This Row],[Nombre unidad TCV]],TablaGxN_NTH1[],14,0))","v":28.900771504770148},{"$f":"+IF( VLOOKUP(TablaResultados[[#This Row],[Nombre unidad TCV]],TablaGxN_NTH2[],14,0)=0,0,VLOOKUP(TablaResultados[[#This Row],[Nombre unidad TCV]],TablaCMgP_pre[],14,0)/VLOOKUP(TablaResultados[[#This Row],[Nombre unidad TCV]],TablaGxN_NTH2[],14,0))","v":39.179781907136757},{"$f":"+VLOOKUP(TablaResultados[[#This Row],[Nombre unidad TCV]],'VUI-pre'!$B$5:$H$150,7,0)","v":1.776683615532215},{"$f":"+TablaResultados[[#This Row],[CVP]]+TablaResultados[[#This Row],[VUI]]","v":30.677455120302362},{"$f":"+MAX(TablaResultados[[#This Row],[CTU]]-TablaResultados[[#This Row],[CMgP]],0)*SUM(TablaGxN_NTH2[[#This Row],[Enero]:[Diciembre]])","v":0},{"$f":"+TablaResultados[[#This Row],[VUI]]*SUM(TablaGxN_NTH3[[#This Row],[Enero]:[Diciembre]])","v":606548521.69196761},{"$f":"+MAX(TablaResultados[[#This Row],[Compensación A]],TablaResultados[[#This Row],[Compensación B]])","v":606548521.69196761}]
[null,{"$f":"+Unidades!D78","v":"ENLASA"},{"$f":"+Unidades!C78","v":"San Lorenzo de D. de Almagro"},{"$f":"+Unidades!B78","v":"San Lorenzo de D. de Almagro U1"},{"$f":"+VLOOKUP(TablaResultados[[#This Row],[Nombre unidad TCV]],'Impuestos SII'!O:R,4,0)","v":0},{"$f":"IF( VLOOKUP(TablaResultados[[#This Row],[Nombre unidad TCV]],TablaGxN_NTH1[],14,0)=0,0,VLOOKUP(TablaResultados[[#This Row],[Nombre unidad TCV]],TablaCVP_pre[],14,0)/VLOOKUP(TablaResultados[[#This Row],[Nombre unidad TCV]],TablaGxN_NTH1[],14,0))","v":0},{"$f":"+IF( VLOOKUP(TablaResultados[[#This Row],[Nombre unidad TCV]],TablaGxN_NTH2[],14,0)=0,0,VLOOKUP(TablaResultados[[#This Row],[Nombre unidad TCV]],TablaCMgP_pre[],14,0)/VLOOKUP(TablaResultados[[#This Row],[Nombre unidad TCV]],TablaGxN_NTH2[],14,0))","v":0},{"$f":"+VLOOKUP(TablaResultados[[#This Row],[Nombre unidad TCV]],'VUI-pre'!$B$5:$H$150,7,0)","v":0},{"$f":"+TablaResultados[[#This Row],[CVP]]+TablaResultados[[#This Row],[VUI]]","v":0},{"$f":"+MAX(TablaResultados[[#This Row],[CTU]]-TablaResultados[[#This Row],[CMgP]],0)*SUM(TablaGxN_NTH2[[#This Row],[Enero]:[Diciembre]])","v":0},{"$f":"+TablaResultados[[#This Row],[VUI]]*SUM(TablaGxN_NTH3[[#This Row],[Enero]:[Diciembre]])","v":0},{"$f":"+MAX(TablaResultados[[#This Row],[Compensación A]],TablaResultados[[#This Row],[Compensación B]])","v":0}]
[null,{"$f":"+Unidades!D79","v":"ENLASA"},{"$f":"+Unidades!C79","v":"San Lorenzo de D. de Almagro"},{"$f":"+Unidades!B79","v":"San Lorenzo de D. de Almagro U2"},{"$f":"+VLOOKUP(TablaResultados[[#This Row],[Nombre unidad TCV]],'Impuestos SII'!O:R,4,0)","v":0},{"$f":"IF( VLOOKUP(TablaResultados[[#This Row],[Nombre unidad TCV]],TablaGxN_NTH1[],14,0)=0,0,VLOOKUP(TablaResultados[[#This Row],[Nombre unidad TCV]],TablaCVP_pre[],14,0)/VLOOKUP(TablaResultados[[#This Row],[Nombre unidad TCV]],TablaGxN_NTH1[],14,0))","v":0},{"$f":"+IF( VLOOKUP(TablaResultados[[#This Row],[Nombre unidad TCV]],TablaGxN_NTH2[],14,0)=0,0,VLOOKUP(TablaResultados[[#This Row],[Nombre unidad TCV]],TablaCMgP_pre[],14,0)/VLOOKUP(TablaResultados[[#This Row],[Nombre unidad TCV]],TablaGxN_NTH2[],14,0))","v":0},{"$f":"+VLOOKUP(TablaResultados[[#This Row],[Nombre unidad TCV]],'VUI-pre'!$B$5:$H$150,7,0)","v":0},{"$f":"+TablaResultados[[#This Row],[CVP]]+TablaResultados[[#This Row],[VUI]]","v":0},{"$f":"+MAX(TablaResultados[[#This Row],[CTU]]-TablaResultados[[#This Row],[CMgP]],0)*SUM(TablaGxN_NTH2[[#This Row],[Enero]:[Diciembre]])","v":0},{"$f":"+TablaResultados[[#This Row],[VUI]]*SUM(TablaGxN_NTH3[[#This Row],[Enero]:[Diciembre]])","v":0},{"$f":"+MAX(TablaResultados[[#This Row],[Compensación A]],TablaResultados[[#This Row],[Compensación B]])","v":0}]
[null,{"$f":"+Unidades!D80","v":"GMETROPOLITANA"},{"$f":"+Unidades!C80","v":"Santa Lidia"},{"$f":"+Unidades!B80","v":"Santa Lidia"},{"$f":"+VLOOKUP(TablaResultados[[#This Row],[Nombre unidad TCV]],'Impuestos SII'!O:R,4,0)","v":7973816.4800000004},{"$f":"IF( VLOOKUP(TablaResultados[[#This Row],[Nombre unidad TCV]],TablaGxN_NTH1[],14,0)=0,0,VLOOKUP(TablaResultados[[#This Row],[Nombre unidad TCV]],TablaCVP_pre[],14,0)/VLOOKUP(TablaResultados[[#This Row],[Nombre unidad TCV]],TablaGxN_NTH1[],14,0))","v":133.85030423406101},{"$f":"+IF( VLOOKUP(TablaResultados[[#This Row],[Nombre unidad TCV]],TablaGxN_NTH2[],14,0)=0,0,VLOOKUP(TablaResultados[[#This Row],[Nombre unidad TCV]],TablaCMgP_pre[],14,0)/VLOOKUP(TablaResultados[[#This Row],[Nombre unidad TCV]],TablaGxN_NTH2[],14,0))","v":133.85030423406099},{"$f":"+VLOOKUP(TablaResultados[[#This Row],[Nombre unidad TCV]],'VUI-pre'!$B$5:$H$150,7,0)","v":4.4723195256725754},{"$f":"+TablaResultados[[#This Row],[CVP]]+TablaResultados[[#This Row],[VUI]]","v":138.3226237597336},{"$f":"+MAX(TablaResultados[[#This Row],[CTU]]-TablaResultados[[#This Row],[CMgP]],0)*SUM(TablaGxN_NTH2[[#This Row],[Enero]:[Diciembre]])","v":7973816.4800000759},{"$f":"+TablaResultados[[#This Row],[VUI]]*SUM(TablaGxN_NTH3[[#This Row],[Enero]:[Diciembre]])","v":7973816.4800000014},{"$f":"+MAX(TablaResultados[[#This Row],[Compensación A]],TablaResultados[[#This Row],[Compensación B]])","v":7973816.4800000759}]
[null,{"$f":"+Unidades!D81","v":"COLBUN"},{"$f":"+Unidades!C81","v":"Santa María"},{"$f":"+Unidades!B81","v":"Santa María"},{"$f":"+VLOOKUP(TablaResultados[[#This Row],[Nombre unidad TCV]],'Impuestos SII'!O:R,4,0)","v":9547049410.3899994},{"$f":"IF( VLOOKUP(TablaResultados[[#This Row],[Nombre unidad TCV]],TablaGxN_NTH1[],14,0)=0,0,VLOOKUP(TablaResultados[[#This Row],[Nombre unidad TCV]],TablaCVP_pre[],14,0)/VLOOKUP(TablaResultados[[#This Row],[Nombre unidad TCV]],TablaGxN_NTH1[],14,0))","v":27.063838181039898},{"$f":"+IF( VLOOKUP(TablaResultados[[#This Row],[Nombre unidad TCV]],TablaGxN_NTH2[],14,0)=0,0,VLOOKUP(TablaResultados[[#This Row],[Nombre unidad TCV]],TablaCMgP_pre[],14,0)/VLOOKUP(TablaResultados[[#This Row],[Nombre unidad TCV]],TablaGxN_NTH2[],14,0))","v":38.839642604933374},{"$f":"+VLOOKUP(TablaResultados[[#This Row],[Nombre unidad TCV]],'VUI-pre'!$B$5:$H$150,7,0)","v":5.4345760169980064},{"$f":"+TablaResultados[[#This Row],[CVP]]+TablaResultados[[#This Row],[VUI]]","v":32.498414198037906},{"$f":"+MAX(TablaResultados[[#This Row],[CTU]]-TablaResultados[[#This Row],[CMgP]],0)*SUM(TablaGxN_NTH2[[#This Row],[Enero]:[Diciembre]])","v":0},{"$f":"+TablaResultados[[#This Row],[VUI]]*SUM(TablaGxN_NTH3[[#This Row],[Enero]:[Diciembre]])","v":1283343399.1256046},{"$f":"+MAX(TablaResultados[[#This Row],[Compensación A]],TablaResultados[[#This Row],[Compensación B]])","v":1283343399.1256046}]
[null,{"$f":"+Unidades!D82","v":"ENEL_GENERACION"},{"$f":"+Unidades!C82","v":"Taltal"},{"$f":"+Unidades!B82","v":"Taltal 1"},{"$f":"+VLOOKUP(TablaResultados[[#This Row],[Nombre unidad TCV]],'Impuestos SII'!O:R,4,0)","v":28570414.809999999},{"$f":"IF( VLOOKUP(TablaResultados[[#This Row],[Nombre unidad TCV]],TablaGxN_NTH1[],14,0)=0,0,VLOOKUP(TablaResultados[[#This Row],[Nombre unidad TCV]],TablaCVP_pre[],14,0)/VLOOKUP(TablaResultados[[#This Row],[Nombre unidad TCV]],TablaGxN_NTH1[],14,0))","v":60.501466428394778},{"$f":"+IF( VLOOKUP(TablaResultados[[#This Row],[Nombre unidad TCV]],TablaGxN_NTH2[],14,0)=0,0,VLOOKUP(TablaResultados[[#This Row],[Nombre unidad TCV]],TablaCMgP_pre[],14,0)/VLOOKUP(TablaResultados[[#This Row],[Nombre unidad TCV]],TablaGxN_NTH2[],14,0))","v":75.929740118937076},{"$f":"+VLOOKUP(TablaResultados[[#This Row],[Nombre unidad TCV]],'VUI-pre'!$B$5:$H$150,7,0)","v":10.8605196144842},{"$f":"+TablaResultados[[#This Row],[CVP]]+TablaResultados[[#This Row],[VUI]]","v":71.361986042878982},{"$f":"+MAX(TablaResultados[[#This Row],[CTU]]-TablaResultados[[#This Row],[CMgP]],0)*SUM(TablaGxN_NTH2[[#This Row],[Enero]:[Diciembre]])","v":0},{"$f":"+TablaResultados[[#This Row],[VUI]]*SUM(TablaGxN_NTH3[[#This Row],[Enero]:[Diciembre]])","v":23592084.085310373},{"$f":"+MAX(TablaResultados[[#This Row],[Compensación A]],TablaResultados[[#This Row],[Compensación B]])","v":23592084.085310373}]
[null,{"$f":"+Unidades!D83","v":"ENEL_GENERACION"},{"$f":"+Unidades!C83","v":"Taltal"},{"$f":"+Unidades!B83","v":"Taltal 2"},{"$f":"+VLOOKUP(TablaResultados[[#This Row],[Nombre unidad TCV]],'Impuestos SII'!O:R,4,0)","v":104917866.56},{"$f":"IF( VLOOKUP(TablaResultados[[#This Row],[Nombre unidad TCV]],TablaGxN_NTH1[],14,0)=0,0,VLOOKUP(TablaResultados[[#This Row],[Nombre unidad TCV]],TablaCVP_pre[],14,0)/VLOOKUP(TablaResultados[[#This Row],[Nombre unidad TCV]],TablaGxN_NTH1[],14,0))","v":70.736888766287109},{"$f":"+IF( VLOOKUP(TablaResultados[[#This Row],[Nombre unidad TCV]],TablaGxN_NTH2[],14,0)=0,0,VLOOKUP(TablaResultados[[#This Row],[Nombre unidad TCV]],TablaCMgP_pre[],14,0)/VLOOKUP(TablaResultados[[#This Row],[Nombre unidad TCV]],TablaGxN_NTH2[],14,0))","v":75.879191315903867},{"$f":"+VLOOKUP(TablaResultados[[#This Row],[Nombre unidad TCV]],'VUI-pre'!$B$5:$H$150,7,0)","v":13.491064916443198},{"$f":"+TablaResultados[[#This Row],[CVP]]+TablaResultados[[#This Row],[VUI]]","v":84.227953682730302},{"$f":"+MAX(TablaResultados[[#This Row],[CTU]]-TablaResultados[[#This Row],[CMgP]],0)*SUM(TablaGxN_NTH2[[#This Row],[Enero]:[Diciembre]])","v":63615238.494112514},{"$f":"+TablaResultados[[#This Row],[VUI]]*SUM(TablaGxN_NTH3[[#This Row],[Enero]:[Diciembre]])","v":99335885.619811416},{"$f":"+MAX(TablaResultados[[#This Row],[Compensación A]],TablaResultados[[#This Row],[Compensación B]])","v":99335885.619811416}]
[null,{"$f":"+Unidades!D84","v":"SGA"},{"$f":"+Unidades!C84","v":"Coronel"},{"$f":"+Unidades!B84","v":"TG_Coronel"},{"$f":"+VLOOKUP(TablaResultados[[#This Row],[Nombre unidad TCV]],'Impuestos SII'!O:R,4,0)","v":45577700.43},{"$f":"IF( VLOOKUP(TablaResultados[[#This Row],[Nombre unidad TCV]],TablaGxN_NTH1[],14,0)=0,0,VLOOKUP(TablaResultados[[#This Row],[Nombre unidad TCV]],TablaCVP_pre[],14,0)/VLOOKUP(TablaResultados[[#This Row],[Nombre unidad TCV]],TablaGxN_NTH1[],14,0))","v":102.47362272369776},{"$f":"+IF( VLOOKUP(TablaResultados[[#This Row],[Nombre unidad TCV]],TablaGxN_NTH2[],14,0)=0,0,VLOOKUP(TablaResultados[[#This Row],[Nombre unidad TCV]],TablaCMgP_pre[],14,0)/VLOOKUP(TablaResultados[[#This Row],[Nombre unidad TCV]],TablaGxN_NTH2[],14,0))","v":108.76044621844875},{"$f":"+VLOOKUP(TablaResultados[[#This Row],[Nombre unidad TCV]],'VUI-pre'!$B$5:$H$150,7,0)","v":39.796907679268422},{"$f":"+TablaResultados[[#This Row],[CVP]]+TablaResultados[[#This Row],[VUI]]","v":142.27053040296619},{"$f":"+MAX(TablaResultados[[#This Row],[CTU]]-TablaResultados[[#This Row],[CMgP]],0)*SUM(TablaGxN_NTH2[[#This Row],[Enero]:[Diciembre]])","v":38377669.708786078},{"$f":"+TablaResultados[[#This Row],[VUI]]*SUM(TablaGxN_NTH3[[#This Row],[Enero]:[Diciembre]])","v":45577700.429999977},{"$f":"+MAX(TablaResultados[[#This Row],[Compensación A]],TablaResultados[[#This Row],[Compensación B]])","v":45577700.429999977}]
[null,{"$f":"+Unidades!D85","v":"ENGIE"},{"$f":"+Unidades!C85","v":"Tocopilla"},{"$f":"+Unidades!B85","v":"TG1"},{"$f":"+VLOOKUP(TablaResultados[[#This Row],[Nombre unidad TCV]],'Impuestos SII'!O:R,4,0)","v":0},{"$f":"IF( VLOOKUP(TablaResultados[[#This Row],[Nombre unidad TCV]],TablaGxN_NTH1[],14,0)=0,0,VLOOKUP(TablaResultados[[#This Row],[Nombre unidad TCV]],TablaCVP_pre[],14,0)/VLOOKUP(TablaResultados[[#This Row],[Nombre unidad TCV]],TablaGxN_NTH1[],14,0))","v":0},{"$f":"+IF( VLOOKUP(TablaResultados[[#This Row],[Nombre unidad TCV]],TablaGxN_NTH2[],14,0)=0,0,VLOOKUP(TablaResultados[[#This Row],[Nombre unidad TCV]],TablaCMgP_pre[],14,0)/VLOOKUP(TablaResultados[[#This Row],[Nombre unidad TCV]],TablaGxN_NTH2[],14,0))","v":0},{"$f":"+VLOOKUP(TablaResultados[[#This Row],[Nombre unidad TCV]],'VUI-pre'!$B$5:$H$150,7,0)","v":0},{"$f":"+TablaResultados[[#This Row],[CVP]]+TablaResultados[[#This Row],[VUI]]","v":0},{"$f":"+MAX(TablaResultados[[#This Row],[CTU]]-TablaResultados[[#This Row],[CMgP]],0)*SUM(TablaGxN_NTH2[[#This Row],[Enero]:[Diciembre]])","v":0},{"$f":"+TablaResultados[[#This Row],[VUI]]*SUM(TablaGxN_NTH3[[#This Row],[Enero]:[Diciembre]])","v":0},{"$f":"+MAX(TablaResultados[[#This Row],[Compensación A]],TablaResultados[[#This Row],[Compensación B]])","v":0}]
[null,{"$f":"+Unidades!D86","v":"ENGIE"},{"$f":"+Unidades!C86","v":"Tocopilla"},{"$f":"+Unidades!B86","v":"TG2"},{"$f":"+VLOOKUP(TablaResultados[[#This Row],[Nombre unidad TCV]],'Impuestos SII'!O:R,4,0)","v":0},{"$f":"IF( VLOOKUP(TablaResultados[[#This Row],[Nombre unidad TCV]],TablaGxN_NTH1[],14,0)=0,0,VLOOKUP(TablaResultados[[#This Row],[Nombre unidad TCV]],TablaCVP_pre[],14,0)/VLOOKUP(TablaResultados[[#This Row],[Nombre unidad TCV]],TablaGxN_NTH1[],14,0))","v":0},{"$f":"+IF( VLOOKUP(TablaResultados[[#This Row],[Nombre unidad TCV]],TablaGxN_NTH2[],14,0)=0,0,VLOOKUP(TablaResultados[[#This Row],[Nombre unidad TCV]],TablaCMgP_pre[],14,0)/VLOOKUP(TablaResultados[[#This Row],[Nombre unidad TCV]],TablaGxN_NTH2[],14,0))","v":0},{"$f":"+VLOOKUP(TablaResultados[[#This Row],[Nombre unidad TCV]],'VUI-pre'!$B$5:$H$150,7,0)","v":0},{"$f":"+TablaResultados[[#This Row],[CVP]]+TablaResultados[[#This Row],[VUI]]","v":0},{"$f":"+MAX(TablaResultados[[#This Row],[CTU]]-TablaResultados[[#This Row],[CMgP]],0)*SUM(TablaGxN_NTH2[[#This Row],[Enero]:[Diciembre]])","v":0},{"$f":"+TablaResultados[[#This Row],[VUI]]*SUM(TablaGxN_NTH3[[#This Row],[Enero]:[Diciembre]])","v":0},{"$f":"+MAX(TablaResultados[[#This Row],[Compensación A]],TablaResultados[[#This Row],[Compensación B]])","v":0}]
[null,{"$f":"+Unidades!D87","v":"ENGIE"},{"$f":"+Unidades!C87","v":"Tocopilla"},{"$f":"+Unidades!B87","v":"TG3"},{"$f":"+VLOOKUP(TablaResultados[[#This Row],[Nombre unidad TCV]],'Impuestos SII'!O:R,4,0)","v":31548924.239999998},{"$f":"IF( VLOOKUP(TablaResultados[[#This Row],[Nombre unidad TCV]],TablaGxN_NTH1[],14,0)=0,0,VLOOKUP(TablaResultados[[#This Row],[Nombre unidad TCV]],TablaCVP_pre[],14,0)/VLOOKUP(TablaResultados[[#This Row],[Nombre unidad TCV]],TablaGxN_NTH1[],14,0))","v":11.917782226176721},{"$f":"+IF( VLOOKUP(TablaResultados[[#This Row],[Nombre unidad TCV]],TablaGxN_NTH2[],14,0)=0,0,VLOOKUP(TablaResultados[[#This Row],[Nombre unidad TCV]],TablaCMgP_pre[],14,0)/VLOOKUP(TablaResultados[[#This Row],[Nombre unidad TCV]],TablaGxN_NTH2[],14,0))","v":34.528613796451971},{"$f":"+VLOOKUP(TablaResultados[[#This Row],[Nombre unidad TCV]],'VUI-pre'!$B$5:$H$150,7,0)","v":1.4652219850473664},{"$f":"+TablaResultados[[#This Row],[CVP]]+TablaResultados[[#This Row],[VUI]]","v":13.383004211224087},{"$f":"+MAX(TablaResultados[[#This Row],[CTU]]-TablaResultados[[#This Row],[CMgP]],0)*SUM(TablaGxN_NTH2[[#This Row],[Enero]:[Diciembre]])","v":0},{"$f":"+TablaResultados[[#This Row],[VUI]]*SUM(TablaGxN_NTH3[[#This Row],[Enero]:[Diciembre]])","v":2667785.4333168403},{"$f":"+MAX(TablaResultados[[#This Row],[Compensación A]],TablaResultados[[#This Row],[Compensación B]])","v":2667785.4333168403}]
[null,{"$f":"+Unidades!D88","v":"ENEL_GENERACION"},{"$f":"+Unidades!C88","v":"Tarapacá"},{"$f":"+Unidades!B88","v":"TGTAR"},{"$f":"+VLOOKUP(TablaResultados[[#This Row],[Nombre unidad TCV]],'Impuestos SII'!O:R,4,0)","v":883060.93},{"$f":"IF( VLOOKUP(TablaResultados[[#This Row],[Nombre unidad TCV]],TablaGxN_NTH1[],14,0)=0,0,VLOOKUP(TablaResultados[[#This Row],[Nombre unidad TCV]],TablaCVP_pre[],14,0)/VLOOKUP(TablaResultados[[#This Row],[Nombre unidad TCV]],TablaGxN_NTH1[],14,0))","v":260.94644414934498},{"$f":"+IF( VLOOKUP(TablaResultados[[#This Row],[Nombre unidad TCV]],TablaGxN_NTH2[],14,0)=0,0,VLOOKUP(TablaResultados[[#This Row],[Nombre unidad TCV]],TablaCMgP_pre[],14,0)/VLOOKUP(TablaResultados[[#This Row],[Nombre unidad TCV]],TablaGxN_NTH2[],14,0))","v":260.94644414934498},{"$f":"+VLOOKUP(TablaResultados[[#This Row],[Nombre unidad TCV]],'VUI-pre'!$B$5:$H$150,7,0)","v":17.561403097076838},{"$f":"+TablaResultados[[#This Row],[CVP]]+TablaResultados[[#This Row],[VUI]]","v":278.50784724642182},{"$f":"+MAX(TablaResultados[[#This Row],[CTU]]-TablaResultados[[#This Row],[CMgP]],0)*SUM(TablaGxN_NTH2[[#This Row],[Enero]:[Diciembre]])","v":883060.92999999993},{"$f":"+TablaResultados[[#This Row],[VUI]]*SUM(TablaGxN_NTH3[[#This Row],[Enero]:[Diciembre]])","v":883060.93},{"$f":"+MAX(TablaResultados[[#This Row],[Compensación A]],TablaResultados[[#This Row],[Compensación B]])","v":883060.93}]
[null,{"$f":"+Unidades!D89","v":"ENGIE"},{"$f":"+Unidades!C89","v":"Tocopilla"},{"$f":"+Unidades!B89","v":"U12"},{"$f":"+VLOOKUP(TablaResultados[[#This Row],[Nombre unidad TCV]],'Impuestos SII'!O:R,4,0)","v":64823302.950000003},{"$f":"IF( VLOOKUP(TablaResultados[[#This Row],[Nombre unidad TCV]],TablaGxN_NTH1[],14,0)=0,0,VLOOKUP(TablaResultados[[#This Row],[Nombre unidad TCV]],TablaCVP_pre[],14,0)/VLOOKUP(TablaResultados[[#This Row],[Nombre unidad TCV]],TablaGxN_NTH1[],14,0))","v":45.808413666886636},{"$f":"+IF( VLOOKUP(TablaResultados[[#This Row],[Nombre unidad TCV]],TablaGxN_NTH2[],14,0)=0,0,VLOOKUP(TablaResultados[[#This Row],[Nombre unidad TCV]],TablaCMgP_pre[],14,0)/VLOOKUP(TablaResultados[[#This Row],[Nombre unidad TCV]],TablaGxN_NTH2[],14,0))","v":47.930605556425959},{"$f":"+VLOOKUP(TablaResultados[[#This Row],[Nombre unidad TCV]],'VUI-pre'!$B$5:$H$150,7,0)","v":8.7153270111168428},{"$f":"+TablaResultados[[#This Row],[CVP]]+TablaResultados[[#This Row],[VUI]]","v":54.523740678003477},{"$f":"+MAX(TablaResultados[[#This Row],[CTU]]-TablaResultados[[#This Row],[CMgP]],0)*SUM(TablaGxN_NTH2[[#This Row],[Enero]:[Diciembre]])","v":49038756.070902273},{"$f":"+TablaResultados[[#This Row],[VUI]]*SUM(TablaGxN_NTH3[[#This Row],[Enero]:[Diciembre]])","v":42903598.290425174},{"$f":"+MAX(TablaResultados[[#This Row],[Compensación A]],TablaResultados[[#This Row],[Compensación B]])","v":49038756.070902273}]
[null,{"$f":"+Unidades!D90","v":"ENGIE"},{"$f":"+Unidades!C90","v":"Tocopilla"},{"$f":"+Unidades!B90","v":"U13"},{"$f":"+VLOOKUP(TablaResultados[[#This Row],[Nombre unidad TCV]],'Impuestos SII'!O:R,4,0)","v":0},{"$f":"IF( VLOOKUP(TablaResultados[[#This Row],[Nombre unidad TCV]],TablaGxN_NTH1[],14,0)=0,0,VLOOKUP(TablaResultados[[#This Row],[Nombre unidad TCV]],TablaCVP_pre[],14,0)/VLOOKUP(TablaResultados[[#This Row],[Nombre unidad TCV]],TablaGxN_NTH1[],14,0))","v":0},{"$f":"+IF( VLOOKUP(TablaResultados[[#This Row],[Nombre unidad TCV]],TablaGxN_NTH2[],14,0)=0,0,VLOOKUP(TablaResultados[[#This Row],[Nombre unidad TCV]],TablaCMgP_pre[],14,0)/VLOOKUP(TablaResultados[[#This Row],[Nombre unidad TCV]],TablaGxN_NTH2[],14,0))","v":0},{"$f":"+VLOOKUP(TablaResultados[[#This Row],[Nombre unidad TCV]],'VUI-pre'!$B$5:$H$150,7,0)","v":0},{"$f":"+TablaResultados[[#This Row],[CVP]]+TablaResultados[[#This Row],[VUI]]","v":0},{"$f":"+MAX(TablaResultados[[#This Row],[CTU]]-TablaResultados[[#This Row],[CMgP]],0)*SUM(TablaGxN_NTH2[[#This Row],[Enero]:[Diciembre]])","v":0},{"$f":"+TablaResultados[[#This Row],[VUI]]*SUM(TablaGxN_NTH3[[#This Row],[Enero]:[Diciembre]])","v":0},{"$f":"+MAX(TablaResultados[[#This Row],[Compensación A]],TablaResultados[[#This Row],[Compensación B]])","v":0}]
[null,{"$f":"+Unidades!D91","v":"ENGIE"},{"$f":"+Unidades!C91","v":"Tocopilla"},{"$f":"+Unidades!B91","v":"U14"},{"$f":"+VLOOKUP(TablaResultados[[#This Row],[Nombre unidad TCV]],'Impuestos SII'!O:R,4,0)","v":189818210.11000001},{"$f":"IF( VLOOKUP(TablaResultados[[#This Row],[Nombre unidad TCV]],TablaGxN_NTH1[],14,0)=0,0,VLOOKUP(TablaResultados[[#This Row],[Nombre unidad TCV]],TablaCVP_pre[],14,0)/VLOOKUP(TablaResultados[[#This Row],[Nombre unidad TCV]],TablaGxN_NTH1[],14,0))","v":43.827526939520567},{"$f":"+IF( VLOOKUP(TablaResultados[[#This Row],[Nombre unidad TCV]],TablaGxN_NTH2[],14,0)=0,0,VLOOKUP(TablaResultados[[#This Row],[Nombre unidad TCV]],TablaCMgP_pre[],14,0)/VLOOKUP(TablaResultados[[#This Row],[Nombre unidad TCV]],TablaGxN_NTH2[],14,0))","v":45.32230102664137},{"$f":"+VLOOKUP(TablaResultados[[#This Row],[Nombre unidad TCV]],'VUI-pre'!$B$5:$H$150,7,0)","v":5.0441360630404173},{"$f":"+TablaResultados[[#This Row],[CVP]]+TablaResultados[[#This Row],[VUI]]","v":48.871663002560986},{"$f":"+MAX(TablaResultados[[#This Row],[CTU]]-TablaResultados[[#This Row],[CMgP]],0)*SUM(TablaGxN_NTH2[[#This Row],[Enero]:[Diciembre]])","v":133567677.1763078},{"$f":"+TablaResultados[[#This Row],[VUI]]*SUM(TablaGxN_NTH3[[#This Row],[Enero]:[Diciembre]])","v":157291476.08354929},{"$f":"+MAX(TablaResultados[[#This Row],[Compensación A]],TablaResultados[[#This Row],[Compensación B]])","v":157291476.08354929}]
[null,{"$f":"+Unidades!D92","v":"ENGIE"},{"$f":"+Unidades!C92","v":"Tocopilla"},{"$f":"+Unidades!B92","v":"U15"},{"$f":"+VLOOKUP(TablaResultados[[#This Row],[Nombre unidad TCV]],'Impuestos SII'!O:R,4,0)","v":517662974.80000001},{"$f":"IF( VLOOKUP(TablaResultados[[#This Row],[Nombre unidad TCV]],TablaGxN_NTH1[],14,0)=0,0,VLOOKUP(TablaResultados[[#This Row],[Nombre unidad TCV]],TablaCVP_pre[],14,0)/VLOOKUP(TablaResultados[[#This Row],[Nombre unidad TCV]],TablaGxN_NTH1[],14,0))","v":40.305802491178177},{"$f":"+IF( VLOOKUP(TablaResultados[[#This Row],[Nombre unidad TCV]],TablaGxN_NTH2[],14,0)=0,0,VLOOKUP(TablaResultados[[#This Row],[Nombre unidad TCV]],TablaCMgP_pre[],14,0)/VLOOKUP(TablaResultados[[#This Row],[Nombre unidad TCV]],TablaGxN_NTH2[],14,0))","v":43.548903435348116},{"$f":"+VLOOKUP(TablaResultados[[#This Row],[Nombre unidad TCV]],'VUI-pre'!$B$5:$H$150,7,0)","v":5.0441360629755865},{"$f":"+TablaResultados[[#This Row],[CVP]]+TablaResultados[[#This Row],[VUI]]","v":45.349938554153766},{"$f":"+MAX(TablaResultados[[#This Row],[CTU]]-TablaResultados[[#This Row],[CMgP]],0)*SUM(TablaGxN_NTH2[[#This Row],[Enero]:[Diciembre]])","v":184834268.08479345},{"$f":"+TablaResultados[[#This Row],[VUI]]*SUM(TablaGxN_NTH3[[#This Row],[Enero]:[Diciembre]])","v":338401682.89392424},{"$f":"+MAX(TablaResultados[[#This Row],[Compensación A]],TablaResultados[[#This Row],[Compensación B]])","v":338401682.89392424}]
[null,{"$f":"+Unidades!D93","v":"ENGIE"},{"$f":"+Unidades!C93","v":"Tocopilla"},{"$f":"+Unidades!B93","v":"U16"},{"$f":"+VLOOKUP(TablaResultados[[#This Row],[Nombre unidad TCV]],'Impuestos SII'!O:R,4,0)","v":1657478275.9400001},{"$f":"IF( VLOOKUP(TablaResultados[[#This Row],[Nombre unidad TCV]],TablaGxN_NTH1[],14,0)=0,0,VLOOKUP(TablaResultados[[#This Row],[Nombre unidad TCV]],TablaCVP_pre[],14,0)/VLOOKUP(TablaResultados[[#This Row],[Nombre unidad TCV]],TablaGxN_NTH1[],14,0))","v":20.405555326288827},{"$f":"+IF( VLOOKUP(TablaResultados[[#This Row],[Nombre unidad TCV]],TablaGxN_NTH2[],14,0)=0,0,VLOOKUP(TablaResultados[[#This Row],[Nombre unidad TCV]],TablaCMgP_pre[],14,0)/VLOOKUP(TablaResultados[[#This Row],[Nombre unidad TCV]],TablaGxN_NTH2[],14,0))","v":34.300427215427909},{"$f":"+VLOOKUP(TablaResultados[[#This Row],[Nombre unidad TCV]],'VUI-pre'!$B$5:$H$150,7,0)","v":1.5795999551041591},{"$f":"+TablaResultados[[#This Row],[CVP]]+TablaResultados[[#This Row],[VUI]]","v":21.985155281392984},{"$f":"+MAX(TablaResultados[[#This Row],[CTU]]-TablaResultados[[#This Row],[CMgP]],0)*SUM(TablaGxN_NTH2[[#This Row],[Enero]:[Diciembre]])","v":0},{"$f":"+TablaResultados[[#This Row],[VUI]]*SUM(TablaGxN_NTH3[[#This Row],[Enero]:[Diciembre]])","v":222178840.54591978},{"$f":"+MAX(TablaResultados[[#This Row],[Compensación A]],TablaResultados[[#This Row],[Compensación B]])","v":222178840.54591978}]
[null,{"$f":"+Unidades!D94","v":"ARAUCO BIO"},{"$f":"+Unidades!C94","v":"Valdivia"},{"$f":"+Unidades!B94","v":"Valdivia"},{"$f":"+VLOOKUP(TablaResultados[[#This Row],[Nombre unidad TCV]],'Impuestos SII'!O:R,4,0)","v":382639805.63999999},{"$f":"IF( VLOOKUP(TablaResultados[[#This Row],[Nombre unidad TCV]],TablaGxN_NTH1[],14,0)=0,0,VLOOKUP(TablaResultados[[#This Row],[Nombre unidad TCV]],TablaCVP_pre[],14,0)/VLOOKUP(TablaResultados[[#This Row],[Nombre unidad TCV]],TablaGxN_NTH1[],14,0))","v":6.2750293031252937},{"$f":"+IF( VLOOKUP(TablaResultados[[#This Row],[Nombre unidad TCV]],TablaGxN_NTH2[],14,0)=0,0,VLOOKUP(TablaResultados[[#This Row],[Nombre unidad TCV]],TablaCMgP_pre[],14,0)/VLOOKUP(TablaResultados[[#This Row],[Nombre unidad TCV]],TablaGxN_NTH2[],14,0))","v":49.533462109182345},{"$f":"+VLOOKUP(TablaResultados[[#This Row],[Nombre unidad TCV]],'VUI-pre'!$B$5:$H$150,7,0)","v":0.21084173947829535},{"$f":"+TablaResultados[[#This Row],[CVP]]+TablaResultados[[#This Row],[VUI]]","v":6.4858710426035895},{"$f":"+MAX(TablaResultados[[#This Row],[CTU]]-TablaResultados[[#This Row],[CMgP]],0)*SUM(TablaGxN_NTH2[[#This Row],[Enero]:[Diciembre]])","v":0},{"$f":"+TablaResultados[[#This Row],[VUI]]*SUM(TablaGxN_NTH3[[#This Row],[Enero]:[Diciembre]])","v":4034.1544926478291},{"$f":"+MAX(TablaResultados[[#This Row],[Compensación A]],TablaResultados[[#This Row],[Compensación B]])","v":4034.1544926478291}]
[null,{"$f":"+Unidades!D95","v":"AES_GENER"},{"$f":"+Unidades!C95","v":"Termoeléctrica Ventanas"},{"$f":"+Unidades!B95","v":"Ventanas 1"},{"$f":"+VLOOKUP(TablaResultados[[#This Row],[Nombre unidad TCV]],'Impuestos SII'!O:R,4,0)","v":928894506.15999997},{"$f":"IF( VLOOKUP(TablaResultados[[#This Row],[Nombre unidad TCV]],TablaGxN_NTH1[],14,0)=0,0,VLOOKUP(TablaResultados[[#This Row],[Nombre unidad TCV]],TablaCVP_pre[],14,0)/VLOOKUP(TablaResultados[[#This Row],[Nombre unidad TCV]],TablaGxN_NTH1[],14,0))","v":37.29543460236939},{"$f":"+IF( VLOOKUP(TablaResultados[[#This Row],[Nombre unidad TCV]],TablaGxN_NTH2[],14,0)=0,0,VLOOKUP(TablaResultados[[#This Row],[Nombre unidad TCV]],TablaCMgP_pre[],14,0)/VLOOKUP(TablaResultados[[#This Row],[Nombre unidad TCV]],TablaGxN_NTH2[],14,0))","v":48.572276027295153},{"$f":"+VLOOKUP(TablaResultados[[#This Row],[Nombre unidad TCV]],'VUI-pre'!$B$5:$H$150,7,0)","v":5.1601047158858817},{"$f":"+TablaResultados[[#This Row],[CVP]]+TablaResultados[[#This Row],[VUI]]","v":42.455539318255269},{"$f":"+MAX(TablaResultados[[#This Row],[CTU]]-TablaResultados[[#This Row],[CMgP]],0)*SUM(TablaGxN_NTH2[[#This Row],[Enero]:[Diciembre]])","v":0},{"$f":"+TablaResultados[[#This Row],[VUI]]*SUM(TablaGxN_NTH3[[#This Row],[Enero]:[Diciembre]])","v":578131087.84965706},{"$f":"+MAX(TablaResultados[[#This Row],[Compensación A]],TablaResultados[[#This Row],[Compensación B]])","v":578131087.84965706}]
[null,{"$f":"+Unidades!D96","v":"AES_GENER"},{"$f":"+Unidades!C96","v":"Termoeléctrica Ventanas"},{"$f":"+Unidades!B96","v":"Ventanas 2"},{"$f":"+VLOOKUP(TablaResultados[[#This Row],[Nombre unidad TCV]],'Impuestos SII'!O:R,4,0)","v":3556662194.4899998},{"$f":"IF( VLOOKUP(TablaResultados[[#This Row],[Nombre unidad TCV]],TablaGxN_NTH1[],14,0)=0,0,VLOOKUP(TablaResultados[[#This Row],[Nombre unidad TCV]],TablaCVP_pre[],14,0)/VLOOKUP(TablaResultados[[#This Row],[Nombre unidad TCV]],TablaGxN_NTH1[],14,0))","v":36.060912446846544},{"$f":"+IF( VLOOKUP(TablaResultados[[#This Row],[Nombre unidad TCV]],TablaGxN_NTH2[],14,0)=0,0,VLOOKUP(TablaResultados[[#This Row],[Nombre unidad TCV]],TablaCMgP_pre[],14,0)/VLOOKUP(TablaResultados[[#This Row],[Nombre unidad TCV]],TablaGxN_NTH2[],14,0))","v":40.097927673192792},{"$f":"+VLOOKUP(TablaResultados[[#This Row],[Nombre unidad TCV]],'VUI-pre'!$B$5:$H$150,7,0)","v":4.295388826996696},{"$f":"+TablaResultados[[#This Row],[CVP]]+TablaResultados[[#This Row],[VUI]]","v":40.356301273843243},{"$f":"+MAX(TablaResultados[[#This Row],[CTU]]-TablaResultados[[#This Row],[CMgP]],0)*SUM(TablaGxN_NTH2[[#This Row],[Enero]:[Diciembre]])","v":213938168.23103234},{"$f":"+TablaResultados[[#This Row],[VUI]]*SUM(TablaGxN_NTH3[[#This Row],[Enero]:[Diciembre]])","v":1936556706.4177716},{"$f":"+MAX(TablaResultados[[#This Row],[Compensación A]],TablaResultados[[#This Row],[Compensación B]])","v":1936556706.4177716}]
[null,{"$f":"+Unidades!D97","v":"ARAUCO BIO"},{"$f":"+Unidades!C97","v":"Viñales"},{"$f":"+Unidades!B97","v":"Viñales"},{"$f":"+VLOOKUP(TablaResultados[[#This Row],[Nombre unidad TCV]],'Impuestos SII'!O:R,4,0)","v":122629499.83},{"$f":"IF( VLOOKUP(TablaResultados[[#This Row],[Nombre unidad TCV]],TablaGxN_NTH1[],14,0)=0,0,VLOOKUP(TablaResultados[[#This Row],[Nombre unidad TCV]],TablaCVP_pre[],14,0)/VLOOKUP(TablaResultados[[#This Row],[Nombre unidad TCV]],TablaGxN_NTH1[],14,0))","v":16.495619555842861},{"$f":"+IF( VLOOKUP(TablaResultados[[#This Row],[Nombre unidad TCV]],TablaGxN_NTH2[],14,0)=0,0,VLOOKUP(TablaResultados[[#This Row],[Nombre unidad TCV]],TablaCMgP_pre[],14,0)/VLOOKUP(TablaResultados[[#This Row],[Nombre unidad TCV]],TablaGxN_NTH2[],14,0))","v":35.496407249346611},{"$f":"+VLOOKUP(TablaResultados[[#This Row],[Nombre unidad TCV]],'VUI-pre'!$B$5:$H$150,7,0)","v":0.35798484865204128},{"$f":"+TablaResultados[[#This Row],[CVP]]+TablaResultados[[#This Row],[VUI]]","v":16.853604404494902},{"$f":"+MAX(TablaResultados[[#This Row],[CTU]]-TablaResultados[[#This Row],[CMgP]],0)*SUM(TablaGxN_NTH2[[#This Row],[Enero]:[Diciembre]])","v":0},{"$f":"+TablaResultados[[#This Row],[VUI]]*SUM(TablaGxN_NTH3[[#This Row],[Enero]:[Diciembre]])","v":47082.305118883203},{"$f":"+MAX(TablaResultados[[#This Row],[Compensación A]],TablaResultados[[#This Row],[Compensación B]])","v":47082.305118883203}]
[null,{"$f":"+Unidades!D98","v":"ORAZUL_CHILE"},{"$f":"+Unidades!C98","v":"Yungay"},{"$f":"+Unidades!B98","v":"Yungay 1"},{"$f":"+VLOOKUP(TablaResultados[[#This Row],[Nombre unidad TCV]],'Impuestos SII'!O:R,4,0)","v":474393.26},{"$f":"IF( VLOOKUP(TablaResultados[[#This Row],[Nombre unidad TCV]],TablaGxN_NTH1[],14,0)=0,0,VLOOKUP(TablaResultados[[#This Row],[Nombre unidad TCV]],TablaCVP_pre[],14,0)/VLOOKUP(TablaResultados[[#This Row],[Nombre unidad TCV]],TablaGxN_NTH1[],14,0))","v":1.7135057456443135},{"$f":"+IF( VLOOKUP(TablaResultados[[#This Row],[Nombre unidad TCV]],TablaGxN_NTH2[],14,0)=0,0,VLOOKUP(TablaResultados[[#This Row],[Nombre unidad TCV]],TablaCMgP_pre[],14,0)/VLOOKUP(TablaResultados[[#This Row],[Nombre unidad TCV]],TablaGxN_NTH2[],14,0))","v":151.55897855952821},{"$f":"+VLOOKUP(TablaResultados[[#This Row],[Nombre unidad TCV]],'VUI-pre'!$B$5:$H$150,7,0)","v":3.9564882855299381},{"$f":"+TablaResultados[[#This Row],[CVP]]+TablaResultados[[#This Row],[VUI]]","v":5.6699940311742516},{"$f":"+MAX(TablaResultados[[#This Row],[CTU]]-TablaResultados[[#This Row],[CMgP]],0)*SUM(TablaGxN_NTH2[[#This Row],[Enero]:[Diciembre]])","v":0},{"$f":"+TablaResultados[[#This Row],[VUI]]*SUM(TablaGxN_NTH3[[#This Row],[Enero]:[Diciembre]])","v":474393.25999999995},{"$f":"+MAX(TablaResultados[[#This Row],[Compensación A]],TablaResultados[[#This Row],[Compensación B]])","v":474393.25999999995}]
[null,{"$f":"+Unidades!D99","v":"ORAZUL_CHILE"},{"$f":"+Unidades!C99","v":"Yungay"},{"$f":"+Unidades!B99","v":"Yungay 2"},{"$f":"+VLOOKUP(TablaResultados[[#This Row],[Nombre unidad TCV]],'Impuestos SII'!O:R,4,0)","v":416548.94},{"$f":"IF( VLOOKUP(TablaResultados[[#This Row],[Nombre unidad TCV]],TablaGxN_NTH1[],14,0)=0,0,VLOOKUP(TablaResultados[[#This Row],[Nombre unidad TCV]],TablaCVP_pre[],14,0)/VLOOKUP(TablaResultados[[#This Row],[Nombre unidad TCV]],TablaGxN_NTH1[],14,0))","v":137.71567519197765},{"$f":"+IF( VLOOKUP(TablaResultados[[#This Row],[Nombre unidad TCV]],TablaGxN_NTH2[],14,0)=0,0,VLOOKUP(TablaResultados[[#This Row],[Nombre unidad TCV]],TablaCMgP_pre[],14,0)/VLOOKUP(TablaResultados[[#This Row],[Nombre unidad TCV]],TablaGxN_NTH2[],14,0))","v":137.71567519197765},{"$f":"+VLOOKUP(TablaResultados[[#This Row],[Nombre unidad TCV]],'VUI-pre'!$B$5:$H$150,7,0)","v":3.3881650260751095},{"$f":"+TablaResultados[[#This Row],[CVP]]+TablaResultados[[#This Row],[VUI]]","v":141.10384021805277},{"$f":"+MAX(TablaResultados[[#This Row],[CTU]]-TablaResultados[[#This Row],[CMgP]],0)*SUM(TablaGxN_NTH2[[#This Row],[Enero]:[Diciembre]])","v":416548.94000000058},{"$f":"+TablaResultados[[#This Row],[VUI]]*SUM(TablaGxN_NTH3[[#This Row],[Enero]:[Diciembre]])","v":416548.94},{"$f":"+MAX(TablaResultados[[#This Row],[Compensación A]],TablaResultados[[#This Row],[Compensación B]])","v":416548.94000000058}]
[null,{"$f":"+Unidades!D100","v":"ORAZUL_CHILE"},{"$f":"+Unidades!C100","v":"Yungay"},{"$f":"+Unidades!B100","v":"Yungay 3"},{"$f":"+VLOOKUP(TablaResultados[[#This Row],[Nombre unidad TCV]],'Impuestos SII'!O:R,4,0)","v":684929.87},{"$f":"IF( VLOOKUP(TablaResultados[[#This Row],[Nombre unidad TCV]],TablaGxN_NTH1[],14,0)=0,0,VLOOKUP(TablaResultados[[#This Row],[Nombre unidad TCV]],TablaCVP_pre[],14,0)/VLOOKUP(TablaResultados[[#This Row],[Nombre unidad TCV]],TablaGxN_NTH1[],14,0))","v":151.83450595968745},{"$f":"+IF( VLOOKUP(TablaResultados[[#This Row],[Nombre unidad TCV]],TablaGxN_NTH2[],14,0)=0,0,VLOOKUP(TablaResultados[[#This Row],[Nombre unidad TCV]],TablaCMgP_pre[],14,0)/VLOOKUP(TablaResultados[[#This Row],[Nombre unidad TCV]],TablaGxN_NTH2[],14,0))","v":151.83450595968745},{"$f":"+VLOOKUP(TablaResultados[[#This Row],[Nombre unidad TCV]],'VUI-pre'!$B$5:$H$150,7,0)","v":3.7282066458794687},{"$f":"+TablaResultados[[#This Row],[CVP]]+TablaResultados[[#This Row],[VUI]]","v":155.56271260556693},{"$f":"+MAX(TablaResultados[[#This Row],[CTU]]-TablaResultados[[#This Row],[CMgP]],0)*SUM(TablaGxN_NTH2[[#This Row],[Enero]:[Diciembre]])","v":684929.87000000232},{"$f":"+TablaResultados[[#This Row],[VUI]]*SUM(TablaGxN_NTH3[[#This Row],[Enero]:[Diciembre]])","v":684929.87},{"$f":"+MAX(TablaResultados[[#This Row],[Compensación A]],TablaResultados[[#This Row],[Compensación B]])","v":684929.87000000232}]
[null,{"$f":"+Unidades!D101","v":"ORAZUL_CHILE"},{"$f":"+Unidades!C101","v":"Yungay"},{"$f":"+Unidades!B101","v":"Yungay 4 ca"},{"$f":"+VLOOKUP(TablaResultados[[#This Row],[Nombre unidad TCV]],'Impuestos SII'!O:R,4,0)","v":235151.76},{"$f":"IF( VLOOKUP(TablaResultados[[#This Row],[Nombre unidad TCV]],TablaGxN_NTH1[],14,0)=0,0,VLOOKUP(TablaResultados[[#This Row],[Nombre unidad TCV]],TablaCVP_pre[],14,0)/VLOOKUP(TablaResultados[[#This Row],[Nombre unidad TCV]],TablaGxN_NTH1[],14,0))","v":185.0799909860574},{"$f":"+IF( VLOOKUP(TablaResultados[[#This Row],[Nombre unidad TCV]],TablaGxN_NTH2[],14,0)=0,0,VLOOKUP(TablaResultados[[#This Row],[Nombre unidad TCV]],TablaCMgP_pre[],14,0)/VLOOKUP(TablaResultados[[#This Row],[Nombre unidad TCV]],TablaGxN_NTH2[],14,0))","v":185.0799909860574},{"$f":"+VLOOKUP(TablaResultados[[#This Row],[Nombre unidad TCV]],'VUI-pre'!$B$5:$H$150,7,0)","v":4.6367235616553417},{"$f":"+TablaResultados[[#This Row],[CVP]]+TablaResultados[[#This Row],[VUI]]","v":189.71671454771274},{"$f":"+MAX(TablaResultados[[#This Row],[CTU]]-TablaResultados[[#This Row],[CMgP]],0)*SUM(TablaGxN_NTH2[[#This Row],[Enero]:[Diciembre]])","v":235151.76000000013},{"$f":"+TablaResultados[[#This Row],[VUI]]*SUM(TablaGxN_NTH3[[#This Row],[Enero]:[Diciembre]])","v":235151.76},{"$f":"+MAX(TablaResultados[[#This Row],[Compensación A]],TablaResultados[[#This Row],[Compensación B]])","v":235151.76000000013}]
[null,{"$f":"+Unidades!D102","v":"LOS_GUINDOS"},{"$f":"+Unidades!C102","v":"Los Guindos"},{"$f":"+Unidades!B102","v":"Los Guindos 2"},{"$f":"+VLOOKUP(TablaResultados[[#This Row],[Nombre unidad TCV]],'Impuestos SII'!O:R,4,0)","v":0},{"$f":"IF( VLOOKUP(TablaResultados[[#This Row],[Nombre unidad TCV]],TablaGxN_NTH1[],14,0)=0,0,VLOOKUP(TablaResultados[[#This Row],[Nombre unidad TCV]],TablaCVP_pre[],14,0)/VLOOKUP(TablaResultados[[#This Row],[Nombre unidad TCV]],TablaGxN_NTH1[],14,0))","v":145.2697872},{"$f":"+IF( VLOOKUP(TablaResultados[[#This Row],[Nombre unidad TCV]],TablaGxN_NTH2[],14,0)=0,0,VLOOKUP(TablaResultados[[#This Row],[Nombre unidad TCV]],TablaCMgP_pre[],14,0)/VLOOKUP(TablaResultados[[#This Row],[Nombre unidad TCV]],TablaGxN_NTH2[],14,0))","v":145.2697872},{"$f":"+VLOOKUP(TablaResultados[[#This Row],[Nombre unidad TCV]],'VUI-pre'!$B$5:$H$150,7,0)","v":0},{"$f":"+TablaResultados[[#This Row],[CVP]]+TablaResultados[[#This Row],[VUI]]","v":145.2697872},{"$f":"+MAX(TablaResultados[[#This Row],[CTU]]-TablaResultados[[#This Row],[CMgP]],0)*SUM(TablaGxN_NTH2[[#This Row],[Enero]:[Diciembre]])","v":0},{"$f":"+TablaResultados[[#This Row],[VUI]]*SUM(TablaGxN_NTH3[[#This Row],[Enero]:[Diciembre]])","v":0},{"$f":"+MAX(TablaResultados[[#This Row],[Compensación A]],TablaResultados[[#This Row],[Compensación B]])","v":0}]

{"sheet":"Cuadro de Pago","index":15,"n_rows":101,"n_cols":20,"rows_kept":101,"cut":false,"hidden":false,"merged":[[3,3,4,3],[3,4,4,4],[3,5,4,5],[3,2,4,2],[3,7,4,7],[3,8,4,8],[3,9,4,9],[3,10,4,10],[3,12,4,12],[3,13,4,13]]}
[]
[null,null,"Cuadro de Pago Reliquidación",null,null,null,null,"Cuadro de Pago Definitivo",null,null,null,null,"Monto Reliquidado"]
[]
[null,null,"Empresa","Paga","Recibe","Neto",null,"Empresa","Paga","Recibe","Neto",null,"Empresa","Neto Reliquidado",null,null,"Reciben"]
[null,null,null,null,null,null,null,null,null,null,null,null,null,null,null,"Pagan","ENEL_GENERACION","ENGIE","NUEVA ENERGIA","Total"]
[null,"EL_CAMPESINO_I","AASA_ENERGIA",{"$f":"+IFERROR(GETPIVOTDATA(\"Compensación\",Resultados!$Q$4)*VLOOKUP($C6,TablaRetiros[],3,0),0)+IFERROR(GETPIVOTDATA(\"Compensación\",Resultados!$Q$4)*VLOOKUP($B6,TablaRetiros[],3,0),0)","v":482218.99332162808},{"$f":"+IFERROR(VLOOKUP(C6,Resultados!$Q$4:$R$32,2,0),0)+IFERROR(VLOOKUP(B6,Resultados!$Q$4:$R$32,2,0),0)","v":0},{"$f":"+E6-D6","v":-482218.99332162808},null,"AASA_ENERGIA",479431.9512119189,0,-479431.9512119189,null,"AASA_ENERGIA",{"$f":"+ROUND(F6-K6,0)","v":-2787},null,"AASA_ENERGIA",{"$f":"+$T6*Q$94/$T$94","v":2589.632803637503},187.13692260830152,10.230108313497006,{"$f":"-VLOOKUP(P6,M:N,2,0)","v":2787}]
[null,null,"ABASTIBLE",{"$f":"+IFERROR(GETPIVOTDATA(\"Compensación\",Resultados!$Q$4)*VLOOKUP($C7,TablaRetiros[],3,0),0)+IFERROR(GETPIVOTDATA(\"Compensación\",Resultados!$Q$4)*VLOOKUP($B7,TablaRetiros[],3,0),0)","v":81807.436162366037},{"$f":"+IFERROR(VLOOKUP(C7,Resultados!$Q$4:$R$32,2,0),0)+IFERROR(VLOOKUP(B7,Resultados!$Q$4:$R$32,2,0),0)","v":0},-81807.436162366037,null,"ABASTIBLE",81334.620340862748,0,-81334.620340862748,null,"ABASTIBLE",{"$f":"+ROUND(F7-K7,0)","v":-473},null,"ABASTIBLE",439.50352210998886,31.760231214110735,1.7362185978773172,{"$f":"-VLOOKUP(P7,M:N,2,0)","v":473}]
[null,null,"ACCIONA_ENERGIA",{"$f":"+IFERROR(GETPIVOTDATA(\"Compensación\",Resultados!$Q$4)*VLOOKUP($C8,TablaRetiros[],3,0),0)+IFERROR(GETPIVOTDATA(\"Compensación\",Resultados!$Q$4)*VLOOKUP($B8,TablaRetiros[],3,0),0)","v":259251516.08824775},{"$f":"+IFERROR(VLOOKUP(C8,Resultados!$Q$4:$R$32,2,0),0)+IFERROR(VLOOKUP(B8,Resultados!$Q$4:$R$32,2,0),0)","v":0},-259251516.08824775,null,"ACCIONA_ENERGIA",257753139.15858537,0,-257753139.15858537,null,"ACCIONA_ENERGIA",-1498377,null,"ACCIONA_ENERGIA",1392266.31913023,100610.57075244313,5500.0211713142098,1498377]
[null,null,"AELA_GENERACION",{"$f":"+IFERROR(GETPIVOTDATA(\"Compensación\",Resultados!$Q$4)*VLOOKUP($C9,TablaRetiros[],3,0),0)+IFERROR(GETPIVOTDATA(\"Compensación\",Resultados!$Q$4)*VLOOKUP($B9,TablaRetiros[],3,0),0)","v":151918849.70940235},{"$f":"+IFERROR(VLOOKUP(C9,Resultados!$Q$4:$R$32,2,0),0)+IFERROR(VLOOKUP(B9,Resultados!$Q$4:$R$32,2,0),0)","v":0},-151918849.70940235,null,"AELA_GENERACION",151040816.62223133,0,-151040816.62223133,null,"AELA_GENERACION",-878033,null,"AELA_GENERACION",815853.2685598305,58956.725356488991,3222.9539622621874,878033]
[null,null,"AES_GENER",{"$f":"+IFERROR(GETPIVOTDATA(\"Compensación\",Resultados!$Q$4)*VLOOKUP($C10,TablaRetiros[],3,0),0)+IFERROR(GETPIVOTDATA(\"Compensación\",Resultados!$Q$4)*VLOOKUP($B10,TablaRetiros[],3,0),0)","v":2560106451.7927127},{"$f":"+IFERROR(VLOOKUP(C10,Resultados!$Q$4:$R$32,2,0),0)+IFERROR(VLOOKUP(B10,Resultados!$Q$4:$R$32,2,0),0)","v":4557280358.7532053},1997173906.9604926,null,"AES_GENER",2545244974.4145217,4557280022.4056129,2012035047.9910913,null,"AES_GENER",-14861141,null,"AES_GENER",13808718.418759327,997871.6157832999,54550.083276695797,14861141]
[null,null,"AGSA",{"$f":"+IFERROR(GETPIVOTDATA(\"Compensación\",Resultados!$Q$4)*VLOOKUP($C11,TablaRetiros[],3,0),0)+IFERROR(GETPIVOTDATA(\"Compensación\",Resultados!$Q$4)*VLOOKUP($B11,TablaRetiros[],3,0),0)","v":2811549.0142656192},{"$f":"+IFERROR(VLOOKUP(C11,Resultados!$Q$4:$R$32,2,0),0)+IFERROR(VLOOKUP(B11,Resultados!$Q$4:$R$32,2,0),0)","v":0},-2811549.0142656192,null,"AGSA",2795299.3318499718,0,-2795299.3318499718,null,"AGSA",-16250,null,"AGSA",15099.222482637037,1091.1284508019016,59.648101935531514,16250]
[null,null,"ALBA",{"$f":"+IFERROR(GETPIVOTDATA(\"Compensación\",Resultados!$Q$4)*VLOOKUP($C12,TablaRetiros[],3,0),0)+IFERROR(GETPIVOTDATA(\"Compensación\",Resultados!$Q$4)*VLOOKUP($B12,TablaRetiros[],3,0),0)","v":2098559.2012661318},{"$f":"+IFERROR(VLOOKUP(C12,Resultados!$Q$4:$R$32,2,0),0)+IFERROR(VLOOKUP(B12,Resultados!$Q$4:$R$32,2,0),0)","v":0},-2098559.2012661318,null,"ALBA",2086430.3283999704,0,-2086430.3283999704,null,"ALBA",-12129,null,"ALBA",11270.059661040284,814.41827567853932,44.521343284680725,12129]
[null,null,"ALLIPEN",{"$f":"+IFERROR(GETPIVOTDATA(\"Compensación\",Resultados!$Q$4)*VLOOKUP($C13,TablaRetiros[],3,0),0)+IFERROR(GETPIVOTDATA(\"Compensación\",Resultados!$Q$4)*VLOOKUP($B13,TablaRetiros[],3,0),0)","v":10393132.211493142},{"$f":"+IFERROR(VLOOKUP(C13,Resultados!$Q$4:$R$32,2,0),0)+IFERROR(VLOOKUP(B13,Resultados!$Q$4:$R$32,2,0),0)","v":0},-10393132.211493142,null,"ALLIPEN",10333063.865935698,0,-10333063.865935698,null,"ALLIPEN",-60068,null,"ALLIPEN",55814.159759202557,4033.3479250934538,220.48874997313888,60068]
[null,null,"ALMEYDA",{"$f":"+IFERROR(GETPIVOTDATA(\"Compensación\",Resultados!$Q$4)*VLOOKUP($C14,TablaRetiros[],3,0),0)+IFERROR(GETPIVOTDATA(\"Compensación\",Resultados!$Q$4)*VLOOKUP($B14,TablaRetiros[],3,0),0)","v":22350236.476265814},{"$f":"+IFERROR(VLOOKUP(C14,Resultados!$Q$4:$R$32,2,0),0)+IFERROR(VLOOKUP(B14,Resultados!$Q$4:$R$32,2,0),0)","v":0},-22350236.476265814,null,"ALMEYDA",22221060.622382008,0,-22221060.622382008,null,"ALMEYDA",-129176,null,"ALMEYDA",120028.13313336135,8673.6990006637807,474.16019788456731,129176]
[null,null,"ANDINA",{"$f":"+IFERROR(GETPIVOTDATA(\"Compensación\",Resultados!$Q$4)*VLOOKUP($C15,TablaRetiros[],3,0),0)+IFERROR(GETPIVOTDATA(\"Compensación\",Resultados!$Q$4)*VLOOKUP($B15,TablaRetiros[],3,0),0)","v":313479148.82358742},{"$f":"+IFERROR(VLOOKUP(C15,Resultados!$Q$4:$R$32,2,0),0)+IFERROR(VLOOKUP(B15,Resultados!$Q$4:$R$32,2,0),0)","v":630348378.83780766},316869230.01422024,null,"ANDINA",311667358.74400336,630348378.83780766,318681020.0938043,null,"ANDINA",-1811790,null,"ANDINA",1683484.326265659,121655.11482328476,6650.451360355486,1811790]
[null,null,"ANGAMOS",{"$f":"+IFERROR(GETPIVOTDATA(\"Compensación\",Resultados!$Q$4)*VLOOKUP($C16,TablaRetiros[],3,0),0)+IFERROR(GETPIVOTDATA(\"Compensación\",Resultados!$Q$4)*VLOOKUP($B16,TablaRetiros[],3,0),0)","v":984309866.1858288},{"$f":"+IFERROR(VLOOKUP(C16,Resultados!$Q$4:$R$32,2,0),0)+IFERROR(VLOOKUP(B16,Resultados!$Q$4:$R$32,2,0),0)","v":963841162.49267042},-20468703.693158388,null,"ANGAMOS",978707182.04985785,963841162.49267042,-14866019.557187438,null,"ANGAMOS",-5602684,null,"ANGAMOS",5205918.2902098959,376199.87158477545,20565.505621204396,5602684]
[null,null,"ARAUCO BIO",{"$f":"+IFERROR(GETPIVOTDATA(\"Compensación\",Resultados!$Q$4)*VLOOKUP($C17,TablaRetiros[],3,0),0)+IFERROR(GETPIVOTDATA(\"Compensación\",Resultados!$Q$4)*VLOOKUP($B17,TablaRetiros[],3,0),0)","v":143775485.21646839},{"$f":"+IFERROR(VLOOKUP(C17,Resultados!$Q$4:$R$32,2,0),0)+IFERROR(VLOOKUP(B17,Resultados!$Q$4:$R$32,2,0),0)","v":2163652.3378577703},-141611832.87861061,null,"ARAUCO BIO",142944517.67435232,2163652.3378577703,-140780865.33649454,null,"ARAUCO BIO",-830968,null,"ARAUCO BIO",772121.27433550358,55796.48163113567,3050.1947057947541,830968]
[null,null,"ARRAYAN_EOLICO",{"$f":"+IFERROR(GETPIVOTDATA(\"Compensación\",Resultados!$Q$4)*VLOOKUP($C18,TablaRetiros[],3,0),0)+IFERROR(GETPIVOTDATA(\"Compensación\",Resultados!$Q$4)*VLOOKUP($B18,TablaRetiros[],3,0),0)","v":72820703.690095156},{"$f":"+IFERROR(VLOOKUP(C18,Resultados!$Q$4:$R$32,2,0),0)+IFERROR(VLOOKUP(B18,Resultados!$Q$4:$R$32,2,0),0)","v":0},-72820703.690095156,null,"ARRAYAN_EOLICO",72399827.75933814,0,-72399827.75933814,null,"ARRAYAN_EOLICO",-420876,null,"ARRAYAN_EOLICO",391070.79148322128,28260.294022135455,1544.8895107826929,420876]
[null,null,"ATRIA_ENERGIA",{"$f":"+IFERROR(GETPIVOTDATA(\"Compensación\",Resultados!$Q$4)*VLOOKUP($C19,TablaRetiros[],3,0),0)+IFERROR(GETPIVOTDATA(\"Compensación\",Resultados!$Q$4)*VLOOKUP($B19,TablaRetiros[],3,0),0)","v":8289016.3397982018},{"$f":"+IFERROR(VLOOKUP(C19,Resultados!$Q$4:$R$32,2,0),0)+IFERROR(VLOOKUP(B19,Resultados!$Q$4:$R$32,2,0),0)","v":0},-8289016.3397982018,null,"ATRIA_ENERGIA",8241108.9825455267,0,-8241108.9825455267,null,"ATRIA_ENERGIA",-47907,null,"ATRIA_ENERGIA",44514.366244658006,3216.7809656964123,175.84994581080051,47907]
[null,null,"BE FORESTALES",{"$f":"+IFERROR(GETPIVOTDATA(\"Compensación\",Resultados!$Q$4)*VLOOKUP($C20,TablaRetiros[],3,0),0)+IFERROR(GETPIVOTDATA(\"Compensación\",Resultados!$Q$4)*VLOOKUP($B20,TablaRetiros[],3,0),0)","v":14021954.22456326},{"$f":"+IFERROR(VLOOKUP(C20,Resultados!$Q$4:$R$32,2,0),0)+IFERROR(VLOOKUP(B20,Resultados!$Q$4:$R$32,2,0),0)","v":104302067.41825306},90280113.193689808,null,"BE FORESTALES",13940912.669946998,104302067.41825306,90361154.748306066,null,"BE FORESTALES",-81042,null,"BE FORESTALES",75302.842365407429,5441.6758098392438,297.47701397288279,81042]
[null,null,"BESALCO",{"$f":"+IFERROR(GETPIVOTDATA(\"Compensación\",Resultados!$Q$4)*VLOOKUP($C21,TablaRetiros[],3,0),0)+IFERROR(GETPIVOTDATA(\"Compensación\",Resultados!$Q$4)*VLOOKUP($B21,TablaRetiros[],3,0),0)","v":30684309.894286182},{"$f":"+IFERROR(VLOOKUP(C21,Resultados!$Q$4:$R$32,2,0),0)+IFERROR(VLOOKUP(B21,Resultados!$Q$4:$R$32,2,0),0)","v":0},-30684309.894286182,null,"BESALCO",30506966.270399302,0,-30506966.270399302,null,"BESALCO",-177344,null,"BESALCO",164785.01612066355,11908.005167939227,650.96818397876314,177344]
[null,null,"CABO_LEONES",{"$f":"+IFERROR(GETPIVOTDATA(\"Compensación\",Resultados!$Q$4)*VLOOKUP($C22,TablaRetiros[],3,0),0)+IFERROR(GETPIVOTDATA(\"Compensación\",Resultados!$Q$4)*VLOOKUP($B22,TablaRetiros[],3,0),0)","v":40776997.557591416},{"$f":"+IFERROR(VLOOKUP(C22,Resultados!$Q$4:$R$32,2,0),0)+IFERROR(VLOOKUP(B22,Resultados!$Q$4:$R$32,2,0),0)","v":0},-40776997.557591416,null,"CABO_LEONES",40541322.043199725,0,-40541322.043199725,null,"CABO_LEONES",-235676,null,"CABO_LEONES",218986.11432725948,15824.787001303936,865.08468133897384,235676]
[null,null,"CARBOMET",{"$f":"+IFERROR(GETPIVOTDATA(\"Compensación\",Resultados!$Q$4)*VLOOKUP($C23,TablaRetiros[],3,0),0)+IFERROR(GETPIVOTDATA(\"Compensación\",Resultados!$Q$4)*VLOOKUP($B23,TablaRetiros[],3,0),0)","v":5677536.9300551396},{"$f":"+IFERROR(VLOOKUP(C23,Resultados!$Q$4:$R$32,2,0),0)+IFERROR(VLOOKUP(B23,Resultados!$Q$4:$R$32,2,0),0)","v":0},-5677536.9300551396,null,"CARBOMET",5644722.9291081913,0,-5644722.9291081913,null,"CARBOMET",-32814,null,"CARBOMET",30490.208402784723,2203.3408605916061,120.44878873307884,32814]
[null,null,"CARDONES SA",{"$f":"+IFERROR(GETPIVOTDATA(\"Compensación\",Resultados!$Q$4)*VLOOKUP($C24,TablaRetiros[],3,0),0)+IFERROR(GETPIVOTDATA(\"Compensación\",Resultados!$Q$4)*VLOOKUP($B24,TablaRetiros[],3,0),0)","v":0},{"$f":"+IFERROR(VLOOKUP(C24,Resultados!$Q$4:$R$32,2,0),0)+IFERROR(VLOOKUP(B24,Resultados!$Q$4:$R$32,2,0),0)","v":152768.98000000004},152768.98000000004,null,"CARDONES SA",0,152768.98000000004,152768.98000000004,null,"CARDONES SA",0,null,"CAREN",117083.55245351662,8460.9121661658592,462.52790034403199,126007]
[null,null,"CAREN",{"$f":"+IFERROR(GETPIVOTDATA(\"Compensación\",Resultados!$Q$4)*VLOOKUP($C25,TablaRetiros[],3,0),0)+IFERROR(GETPIVOTDATA(\"Compensación\",Resultados!$Q$4)*VLOOKUP($B25,TablaRetiros[],3,0),0)","v":21801894.156112868},{"$f":"+IFERROR(VLOOKUP(C25,Resultados!$Q$4:$R$32,2,0),0)+IFERROR(VLOOKUP(B25,Resultados!$Q$4:$R$32,2,0),0)","v":0},-21801894.156112868,null,"CAREN",21675887.210577082,0,-21675887.210577082,null,"CAREN",-126007,null,"CERRO_DOMINADOR_CSP",484208.37085365859,34990.777184878803,1912.8210274356122,521112]
[null,"ATACAMA_GX_CHILE","CERRO_DOMINADOR_CSP",{"$f":"+IFERROR(GETPIVOTDATA(\"Compensación\",Resultados!$Q$4)*VLOOKUP($C26,TablaRetiros[],3,0),0)+IFERROR(GETPIVOTDATA(\"Compensación\",Resultados!$Q$4)*VLOOKUP($B26,TablaRetiros[],3,0),0)","v":90163400.261268348},{"$f":"+IFERROR(VLOOKUP(C26,Resultados!$Q$4:$R$32,2,0),0)+IFERROR(VLOOKUP(B26,Resultados!$Q$4:$R$32,2,0),0)","v":0},-90163400.261268348,null,"CERRO_DOMINADOR_CSP",89642288.635788754,0,-89642288.635788754,null,"CERRO_DOMINADOR_CSP",-521112,null,"CHACAYES",{"$f":"+$T26*Q$94/$T$94","v":763409.2552587525},55166.917301614521,3015.7786686410591,821592]
[null,null,"CHACAYES",{"$f":"+IFERROR(GETPIVOTDATA(\"Compensación\",Resultados!$Q$4)*VLOOKUP($C27,TablaRetiros[],3,0),0)+IFERROR(GETPIVOTDATA(\"Compensación\",Resultados!$Q$4)*VLOOKUP($B27,TablaRetiros[],3,0),0)","v":142153265.43964112},{"$f":"+IFERROR(VLOOKUP(C27,Resultados!$Q$4:$R$32,2,0),0)+IFERROR(VLOOKUP(B27,Resultados!$Q$4:$R$32,2,0),0)","v":0},-142153265.43964112,null,"CHACAYES",141331673.70995018,0,-141331673.70995018,null,"CHACAYES",-821592,null,"CHUNGUNGO",177879.9910405284,12854.298906840839,702.69868862968281,191437]
[null,null,"CHUNGUNGO",{"$f":"+IFERROR(GETPIVOTDATA(\"Compensación\",Resultados!$Q$4)*VLOOKUP($C28,TablaRetiros[],3,0),0)+IFERROR(GETPIVOTDATA(\"Compensación\",Resultados!$Q$4)*VLOOKUP($B28,TablaRetiros[],3,0),0)","v":33122708.544887822},{"$f":"+IFERROR(VLOOKUP(C28,Resultados!$Q$4:$R$32,2,0),0)+IFERROR(VLOOKUP(B28,Resultados!$Q$4:$R$32,2,0),0)","v":0},-33122708.544887822,null,"CHUNGUNGO",32931271.845138196,0,-32931271.845138196,null,"CHUNGUNGO",-191437,null,"COCHRANE",2947311.5484525072,212984.1776681928,11643.085588017717,3171939]
[null,null,"COCHRANE",{"$f":"+IFERROR(GETPIVOTDATA(\"Compensación\",Resultados!$Q$4)*VLOOKUP($C29,TablaRetiros[],3,0),0)+IFERROR(GETPIVOTDATA(\"Compensación\",Resultados!$Q$4)*VLOOKUP($B29,TablaRetiros[],3,0),0)","v":555052113.69945836},{"$f":"+IFERROR(VLOOKUP(C29,Resultados!$Q$4:$R$32,2,0),0)+IFERROR(VLOOKUP(B29,Resultados!$Q$4:$R$32,2,0),0)","v":2569469562.8470402},2014417449.1475818,null,"COCHRANE",551880175.16994131,2569469562.8470402,2017589387.6770988,null,"COCHRANE",-3171939,null,"COLBUN",17560020.357406382,1268955.2611506656,69369.259607442727,18898346]
[null,null,"COLBUN",{"$f":"+IFERROR(GETPIVOTDATA(\"Compensación\",Resultados!$Q$4)*VLOOKUP($C30,TablaRetiros[],3,0),0)+IFERROR(GETPIVOTDATA(\"Compensación\",Resultados!$Q$4)*VLOOKUP($B30,TablaRetiros[],3,0),0)","v":3378136276.5867004},{"$f":"+IFERROR(VLOOKUP(C30,Resultados!$Q$4:$R$32,2,0),0)+IFERROR(VLOOKUP(B30,Resultados!$Q$4:$R$32,2,0),0)","v":1861660753.9848719},-1516475522.6018286,null,"COLBUN",3358449173.1100721,1860871996.0998178,-1497577177.0102544,null,"COLBUN",-18898346,null,"COLMITO",6876326.2252141302,496910.03559648269,27164.2998899575,7400401]
[null,null,"COLMITO",{"$f":"+IFERROR(GETPIVOTDATA(\"Compensación\",Resultados!$Q$4)*VLOOKUP($C31,TablaRetiros[],3,0),0)+IFERROR(GETPIVOTDATA(\"Compensación\",Resultados!$Q$4)*VLOOKUP($B31,TablaRetiros[],3,0),0)","v":0},{"$f":"+IFERROR(VLOOKUP(C31,Resultados!$Q$4:$R$32,2,0),0)+IFERROR(VLOOKUP(B31,Resultados!$Q$4:$R$32,2,0),0)","v":193739569.13304508},193739569.13304508,null,"COLMITO",0,201139969.98529804,201139969.98529804,null,"COLMITO",-7400401,null,"COMASA",82747.455936539001,5979.6524958592336,326.88628121641989,89054]
[null,null,"COMASA",{"$f":"+IFERROR(GETPIVOTDATA(\"Compensación\",Resultados!$Q$4)*VLOOKUP($C32,TablaRetiros[],3,0),0)+IFERROR(GETPIVOTDATA(\"Compensación\",Resultados!$Q$4)*VLOOKUP($B32,TablaRetiros[],3,0),0)","v":15408215.7951492},{"$f":"+IFERROR(VLOOKUP(C32,Resultados!$Q$4:$R$32,2,0),0)+IFERROR(VLOOKUP(B32,Resultados!$Q$4:$R$32,2,0),0)","v":1297869.0180654349},-14110346.777083766,null,"COMASA",15319162.176666103,1297869.0180654349,-14021293.158600669,null,"COMASA",-89054,null,"CONEJO_SOLAR",353594.98587277718,25552.146780428237,1396.8447571049171,380544]
[null,null,"CONEJO_SOLAR",{"$f":"+IFERROR(GETPIVOTDATA(\"Compensación\",Resultados!$Q$4)*VLOOKUP($C33,TablaRetiros[],3,0),0)+IFERROR(GETPIVOTDATA(\"Compensación\",Resultados!$Q$4)*VLOOKUP($B33,TablaRetiros[],3,0),0)","v":65842361.603899233},{"$f":"+IFERROR(VLOOKUP(C33,Resultados!$Q$4:$R$32,2,0),0)+IFERROR(VLOOKUP(B33,Resultados!$Q$4:$R$32,2,0),0)","v":0},-65842361.603899233,null,"CONEJO_SOLAR",65461817.832429878,0,-65461817.832429878,null,"CONEJO_SOLAR",-380544,null,"COYANCO",68756.748679858021,4968.629659937742,271.6172676260631,73997]
[null,null,"COYANCO",{"$f":"+IFERROR(GETPIVOTDATA(\"Compensación\",Resultados!$Q$4)*VLOOKUP($C34,TablaRetiros[],3,0),0)+IFERROR(GETPIVOTDATA(\"Compensación\",Resultados!$Q$4)*VLOOKUP($B34,TablaRetiros[],3,0),0)","v":12803122.075676017},{"$f":"+IFERROR(VLOOKUP(C34,Resultados!$Q$4:$R$32,2,0),0)+IFERROR(VLOOKUP(B34,Resultados!$Q$4:$R$32,2,0),0)","v":0},-12803122.075676017,null,"COYANCO",12729124.906641124,0,-12729124.906641124,null,"COYANCO",-73997,null,"CUMPEO",1522.0016262498134,109.98574784083168,6.012528675101577,1638]
[null,null,"CUMPEO",{"$f":"+IFERROR(GETPIVOTDATA(\"Compensación\",Resultados!$Q$4)*VLOOKUP($C35,TablaRetiros[],3,0),0)+IFERROR(GETPIVOTDATA(\"Compensación\",Resultados!$Q$4)*VLOOKUP($B35,TablaRetiros[],3,0),0)","v":283436.92228978802},{"$f":"+IFERROR(VLOOKUP(C35,Resultados!$Q$4:$R$32,2,0),0)+IFERROR(VLOOKUP(B35,Resultados!$Q$4:$R$32,2,0),0)","v":0},-283436.92228978802,null,"CUMPEO",281798.76483682945,0,-281798.76483682945,null,"CUMPEO",-1638,null,"DUQUECO",418064.48455048824,30210.963106704443,1651.525634433716,449927]
[null,"ORAZUL_DUQUECO","DUQUECO",{"$f":"+IFERROR(GETPIVOTDATA(\"Compensación\",Resultados!$Q$4)*VLOOKUP($C36,TablaRetiros[],3,0),0)+IFERROR(GETPIVOTDATA(\"Compensación\",Resultados!$Q$4)*VLOOKUP($B36,TablaRetiros[],3,0),0)","v":77847218.766964257},{"$f":"+IFERROR(VLOOKUP(C36,Resultados!$Q$4:$R$32,2,0),0)+IFERROR(VLOOKUP(B36,Resultados!$Q$4:$R$32,2,0),0)","v":0},{"$f":"+E36-D36","v":-77847218.766964257},null,"DUQUECO",77397291.493604943,0,-77397291.493604943,null,"DUQUECO",-449927,null,"EGP_SUR",4273.3122583167833,308.80613816848893,16.881330510862117,4599]
[null,null,"EGP_SUR",{"$f":"+IFERROR(GETPIVOTDATA(\"Compensación\",Resultados!$Q$4)*VLOOKUP($C37,TablaRetiros[],3,0),0)+IFERROR(GETPIVOTDATA(\"Compensación\",Resultados!$Q$4)*VLOOKUP($B37,TablaRetiros[],3,0),0)","v":795760.19665763946},{"$f":"+IFERROR(VLOOKUP(C37,Resultados!$Q$4:$R$32,2,0),0)+IFERROR(VLOOKUP(B37,Resultados!$Q$4:$R$32,2,0),0)","v":0},-795760.19665763946,null,"EGP_SUR",791161.00581690029,0,-791161.00581690029,null,"EGP_SUR",-4599,null,"EL_MORADO",37452.576037393912,2706.4685825521383,147.95298736710578,40307]
[null,null,"EL_MORADO",{"$f":"+IFERROR(GETPIVOTDATA(\"Compensación\",Resultados!$Q$4)*VLOOKUP($C38,TablaRetiros[],3,0),0)+IFERROR(GETPIVOTDATA(\"Compensación\",Resultados!$Q$4)*VLOOKUP($B38,TablaRetiros[],3,0),0)","v":6974025.2666900121},{"$f":"+IFERROR(VLOOKUP(C38,Resultados!$Q$4:$R$32,2,0),0)+IFERROR(VLOOKUP(B38,Resultados!$Q$4:$R$32,2,0),0)","v":0},-6974025.2666900121,null,"EL_MORADO",6933718.0442525148,0,-6933718.0442525148,null,"EL_MORADO",-40307,null,"EL_PELICANO",364661.55447389762,26351.860001908277,1440.5622275081282,392454]
[null,null,"EL_PELICANO",{"$f":"+IFERROR(GETPIVOTDATA(\"Compensación\",Resultados!$Q$4)*VLOOKUP($C39,TablaRetiros[],3,0),0)+IFERROR(GETPIVOTDATA(\"Compensación\",Resultados!$Q$4)*VLOOKUP($B39,TablaRetiros[],3,0),0)","v":67903143.115307242},{"$f":"+IFERROR(VLOOKUP(C39,Resultados!$Q$4:$R$32,2,0),0)+IFERROR(VLOOKUP(B39,Resultados!$Q$4:$R$32,2,0),0)","v":0},-67903143.115307242,null,"EL_PELICANO",67510688.811630011,0,-67510688.811630011,null,"EL_PELICANO",-392454,null,"ELECTRICA CENIZAS",168570.50734492592,12181.559463851039,665.92242196555424,181418]
[null,null,"ELECTRICA CENIZAS",{"$f":"+IFERROR(GETPIVOTDATA(\"Compensación\",Resultados!$Q$4)*VLOOKUP($C40,TablaRetiros[],3,0),0)+IFERROR(GETPIVOTDATA(\"Compensación\",Resultados!$Q$4)*VLOOKUP($B40,TablaRetiros[],3,0),0)","v":31389216.540804818},{"$f":"+IFERROR(VLOOKUP(C40,Resultados!$Q$4:$R$32,2,0),0)+IFERROR(VLOOKUP(B40,Resultados!$Q$4:$R$32,2,0),0)","v":0},-31389216.540804818,null,"ELECTRICA CENIZAS",31207798.824991919,0,-31207798.824991919,null,"ELECTRICA CENIZAS",-181418,null,"EMBALSE_ANCOA",17858.895761002084,1290.5531584253877,70.549939643133271,19220]
[null,null,"EMBALSE_ANCOA",{"$f":"+IFERROR(GETPIVOTDATA(\"Compensación\",Resultados!$Q$4)*VLOOKUP($C41,TablaRetiros[],3,0),0)+IFERROR(GETPIVOTDATA(\"Compensación\",Resultados!$Q$4)*VLOOKUP($B41,TablaRetiros[],3,0),0)","v":3325457.966433241},{"$f":"+IFERROR(VLOOKUP(C41,Resultados!$Q$4:$R$32,2,0),0)+IFERROR(VLOOKUP(B41,Resultados!$Q$4:$R$32,2,0),0)","v":0},-3325457.966433241,null,"EMBALSE_ANCOA",3306238.0860160966,0,-3306238.0860160966,null,"EMBALSE_ANCOA",-19220,null,"EMELDA",231591.40984722588,16735.694605216464,914.880752160969,249242]
[null,null,"EMELDA",{"$f":"+IFERROR(GETPIVOTDATA(\"Compensación\",Resultados!$Q$4)*VLOOKUP($C42,TablaRetiros[],3,0),0)+IFERROR(GETPIVOTDATA(\"Compensación\",Resultados!$Q$4)*VLOOKUP($B42,TablaRetiros[],3,0),0)","v":43124298.050096147},{"$f":"+IFERROR(VLOOKUP(C42,Resultados!$Q$4:$R$32,2,0),0)+IFERROR(VLOOKUP(B42,Resultados!$Q$4:$R$32,2,0),0)","v":3639258.6999999997},-39485039.350096144,null,"EMELDA",42875056.032917649,3639258.6999999997,-39235797.332917646,null,"EMELDA",-249242,null,"ENERGIA PACIFICO",78835.595834883497,5696.9662941437873,311.43283449958375,84844]
[null,"GASATACAMA","ENEL_GENERACION",{"$f":"+IFERROR(GETPIVOTDATA(\"Compensación\",Resultados!$Q$4)*VLOOKUP($C43,TablaRetiros[],3,0),0)+IFERROR(GETPIVOTDATA(\"Compensación\",Resultados!$Q$4)*VLOOKUP($B43,TablaRetiros[],3,0),0)","v":6039679774.5378809},{"$f":"+IFERROR(VLOOKUP(C43,Resultados!$Q$4:$R$32,2,0),0)+IFERROR(VLOOKUP(B43,Resultados!$Q$4:$R$32,2,0),0)","v":4550137008.039691},-1489542766.4981899,null,"ENEL_GENERACION",6004691536.5436802,4421231148.9568052,-1583460387.586875,null,"ENEL_GENERACION",93917621,null,"ENERGIA_LEON",20108.447615184501,1453.1145110033201,79.436589168420767,21641]
[null,null,"ENERGIA PACIFICO",{"$f":"+IFERROR(GETPIVOTDATA(\"Compensación\",Resultados!$Q$4)*VLOOKUP($C44,TablaRetiros[],3,0),0)+IFERROR(GETPIVOTDATA(\"Compensación\",Resultados!$Q$4)*VLOOKUP($B44,TablaRetiros[],3,0),0)","v":14679936.124024957},{"$f":"+IFERROR(VLOOKUP(C44,Resultados!$Q$4:$R$32,2,0),0)+IFERROR(VLOOKUP(B44,Resultados!$Q$4:$R$32,2,0),0)","v":2642699.4064933369},-12037236.717531621,null,"ENERGIA PACIFICO",14595091.684647575,2642699.4064933369,-11952392.278154239,null,"ENERGIA PACIFICO",-84844,null,"ENORCHILE",636679.85489186633,46008.958707893304,2515.1457254543961,685204]
[null,null,"ENERGIA_LEON",{"$f":"+IFERROR(GETPIVOTDATA(\"Compensación\",Resultados!$Q$4)*VLOOKUP($C45,TablaRetiros[],3,0),0)+IFERROR(GETPIVOTDATA(\"Compensación\",Resultados!$Q$4)*VLOOKUP($B45,TablaRetiros[],3,0),0)","v":3744360.7174810274},{"$f":"+IFERROR(VLOOKUP(C45,Resultados!$Q$4:$R$32,2,0),0)+IFERROR(VLOOKUP(B45,Resultados!$Q$4:$R$32,2,0),0)","v":0},-3744360.7174810274,null,"ENERGIA_LEON",3722719.7387180855,0,-3722719.7387180855,null,"ENERGIA_LEON",-21641,null,"EOLICA_ESPERANZA",59828.229982278986,4323.4202270912519,236.34596845692326,64388]
[null,null,"ENGIE",{"$f":"+IFERROR(GETPIVOTDATA(\"Compensación\",Resultados!$Q$4)*VLOOKUP($C46,TablaRetiros[],3,0),0)+IFERROR(GETPIVOTDATA(\"Compensación\",Resultados!$Q$4)*VLOOKUP($B46,TablaRetiros[],3,0),0)","v":2732490349.160552},{"$f":"+IFERROR(VLOOKUP(C46,Resultados!$Q$4:$R$32,2,0),0)+IFERROR(VLOOKUP(B46,Resultados!$Q$4:$R$32,2,0),0)","v":2255966825.9260144},-476523523.2345376,null,"ENGIE",2716624266.8381829,2233313892.076633,-483310374.76154995,null,"ENGIE",6786852,null,"ERNC1",{"$f":"+$T46*Q$94/$T$94","v":68146.275500098476},4924.5144973422439,269.20564898165424,73340]
[null,null,"ENLASA",{"$f":"+IFERROR(GETPIVOTDATA(\"Compensación\",Resultados!$Q$4)*VLOOKUP($C47,TablaRetiros[],3,0),0)+IFERROR(GETPIVOTDATA(\"Compensación\",Resultados!$Q$4)*VLOOKUP($B47,TablaRetiros[],3,0),0)","v":0},{"$f":"+IFERROR(VLOOKUP(C47,Resultados!$Q$4:$R$32,2,0),0)+IFERROR(VLOOKUP(B47,Resultados!$Q$4:$R$32,2,0),0)","v":0},0,null,"ENLASA",0,0,0,null,"ENLASA",0,null,"ERSA",522604.06755689107,37765.399329127184,2064.499727015922,562434]
[null,null,"ENORCHILE",{"$f":"+IFERROR(GETPIVOTDATA(\"Compensación\",Resultados!$Q$4)*VLOOKUP($C48,TablaRetiros[],3,0),0)+IFERROR(GETPIVOTDATA(\"Compensación\",Resultados!$Q$4)*VLOOKUP($B48,TablaRetiros[],3,0),0)","v":118555194.74721904},{"$f":"+IFERROR(VLOOKUP(C48,Resultados!$Q$4:$R$32,2,0),0)+IFERROR(VLOOKUP(B48,Resultados!$Q$4:$R$32,2,0),0)","v":784702.59000000148},-117770492.15721904,null,"ENORCHILE",117869990.87789552,784702.59000000148,-117085288.28789552,null,"ENORCHILE",-685204,null,"ESTANCILLA SPA",262.95876692838658,19.002421635503886,1.0387946367849488,283]
[null,null,"EOLICA_ESPERANZA",{"$f":"+IFERROR(GETPIVOTDATA(\"Compensación\",Resultados!$Q$4)*VLOOKUP($C49,TablaRetiros[],3,0),0)+IFERROR(GETPIVOTDATA(\"Compensación\",Resultados!$Q$4)*VLOOKUP($B49,TablaRetiros[],3,0),0)","v":11140530.106436202},{"$f":"+IFERROR(VLOOKUP(C49,Resultados!$Q$4:$R$32,2,0),0)+IFERROR(VLOOKUP(B49,Resultados!$Q$4:$R$32,2,0),0)","v":0},-11140530.106436202,null,"EOLICA_ESPERANZA",11076142.085721282,0,-11076142.085721282,null,"EOLICA_ESPERANZA",-64388,null,"GAS SUR",2520.8732674088787,182.16809150926517,9.958480033913661,2713]
[null,null,"ERNC1",{"$f":"+IFERROR(GETPIVOTDATA(\"Compensación\",Resultados!$Q$4)*VLOOKUP($C50,TablaRetiros[],3,0),0)+IFERROR(GETPIVOTDATA(\"Compensación\",Resultados!$Q$4)*VLOOKUP($B50,TablaRetiros[],3,0),0)","v":12689352.693991356},{"$f":"+IFERROR(VLOOKUP(C50,Resultados!$Q$4:$R$32,2,0),0)+IFERROR(VLOOKUP(B50,Resultados!$Q$4:$R$32,2,0),0)","v":0},-12689352.693991356,null,"ERNC1",12616012.666641489,0,-12616012.666641489,null,"ERNC1",-73340,null,"GM_HOLDINGS",2060367.4237127334,148890.15097986365,8139.2936792333394,2217397]
[null,null,"ERSA",{"$f":"+IFERROR(GETPIVOTDATA(\"Compensación\",Resultados!$Q$4)*VLOOKUP($C51,TablaRetiros[],3,0),0)+IFERROR(GETPIVOTDATA(\"Compensación\",Resultados!$Q$4)*VLOOKUP($B51,TablaRetiros[],3,0),0)","v":97313265.043838754},{"$f":"+IFERROR(VLOOKUP(C51,Resultados!$Q$4:$R$32,2,0),0)+IFERROR(VLOOKUP(B51,Resultados!$Q$4:$R$32,2,0),0)","v":0},-97313265.043838754,null,"ERSA",96750831.437393114,0,-96750831.437393114,null,"ERSA",-562434,null,"GMETROPOLITANA",16808433.096464343,1214642.6470662542,66400.182649627866,18089477]
[null,null,"ESTANCILLA SPA",{"$f":"+IFERROR(GETPIVOTDATA(\"Compensación\",Resultados!$Q$4)*VLOOKUP($C52,TablaRetiros[],3,0),0)+IFERROR(GETPIVOTDATA(\"Compensación\",Resultados!$Q$4)*VLOOKUP($B52,TablaRetiros[],3,0),0)","v":48962.06316789503},{"$f":"+IFERROR(VLOOKUP(C52,Resultados!$Q$4:$R$32,2,0),0)+IFERROR(VLOOKUP(B52,Resultados!$Q$4:$R$32,2,0),0)","v":0},-48962.06316789503,null,"ESTANCILLA SPA",48679.081091873515,0,-48679.081091873515,null,"ESTANCILLA SPA",-283,null,"GUACOLDA",3580488.3837284017,258739.99457550005,14144.39295382307,3853373]
[null,null,"GAS SUR",{"$f":"+IFERROR(GETPIVOTDATA(\"Compensación\",Resultados!$Q$4)*VLOOKUP($C53,TablaRetiros[],3,0),0)+IFERROR(GETPIVOTDATA(\"Compensación\",Resultados!$Q$4)*VLOOKUP($B53,TablaRetiros[],3,0),0)","v":469386.78971487383},{"$f":"+IFERROR(VLOOKUP(C53,Resultados!$Q$4:$R$32,2,0),0)+IFERROR(VLOOKUP(B53,Resultados!$Q$4:$R$32,2,0),0)","v":0},-469386.78971487383,null,"GAS SUR",466673.91285437235,0,-466673.91285437235,null,"GAS SUR",-2713,null,"HELIO_ATACAMA_TRES",28323.353828661056,2046.7555346057579,111.88882727377671,30482]
[null,"CCAMPESINO","GM_HOLDINGS",{"$f":"+IFERROR(GETPIVOTDATA(\"Compensación\",Resultados!$Q$4)*VLOOKUP($C54,TablaRetiros[],3,0),0)+IFERROR(GETPIVOTDATA(\"Compensación\",Resultados!$Q$4)*VLOOKUP($B54,TablaRetiros[],3,0),0)","v":383656916.25035661},{"$f":"+IFERROR(VLOOKUP(C54,Resultados!$Q$4:$R$32,2,0),0)+IFERROR(VLOOKUP(B54,Resultados!$Q$4:$R$32,2,0),0)","v":0},-383656916.25035661,null,"GM_HOLDINGS",381439519.0294323,0,-381439519.0294323,null,"GM_HOLDINGS",-2217397,null,"HIDROLIRCAY",214031.71098711051,15466.762576708506,845.5127625992659,230344]
[null,null,"GMETROPOLITANA",{"$f":"+IFERROR(GETPIVOTDATA(\"Compensación\",Resultados!$Q$4)*VLOOKUP($C55,TablaRetiros[],3,0),0)+IFERROR(GETPIVOTDATA(\"Compensación\",Resultados!$Q$4)*VLOOKUP($B55,TablaRetiros[],3,0),0)","v":0},{"$f":"+IFERROR(VLOOKUP(C55,Resultados!$Q$4:$R$32,2,0),0)+IFERROR(VLOOKUP(B55,Resultados!$Q$4:$R$32,2,0),0)","v":1182790685.901212},1182790685.901212,null,"GMETROPOLITANA",0,1200880162.6986732,1200880162.6986732,null,"GMETROPOLITANA",-18089477,null,"HORNITOS",2171155.7618696429,156896.14651500285,8576.9529093857891,2336629]
[null,null,"GUACOLDA",{"$f":"+IFERROR(GETPIVOTDATA(\"Compensación\",Resultados!$Q$4)*VLOOKUP($C56,TablaRetiros[],3,0),0)+IFERROR(GETPIVOTDATA(\"Compensación\",Resultados!$Q$4)*VLOOKUP($B56,TablaRetiros[],3,0),0)","v":1103287450.2899456},{"$f":"+IFERROR(VLOOKUP(C56,Resultados!$Q$4:$R$32,2,0),0)+IFERROR(VLOOKUP(B56,Resultados!$Q$4:$R$32,2,0),0)","v":2050230857.5056498},946943407.2157042,null,"GUACOLDA",1099434077.4997489,2050230857.5056498,950796780.00590086,null,"GUACOLDA",-3853373,null,"HUAJACHE",31316.252020450218,2263.0339801462455,123.71199874050576,33703]
[null,null,"HELIO_ATACAMA_TRES",{"$f":"+IFERROR(GETPIVOTDATA(\"Compensación\",Resultados!$Q$4)*VLOOKUP($C57,TablaRetiros[],3,0),0)+IFERROR(GETPIVOTDATA(\"Compensación\",Resultados!$Q$4)*VLOOKUP($B57,TablaRetiros[],3,0),0)","v":5274095.9949893132},{"$f":"+IFERROR(VLOOKUP(C57,Resultados!$Q$4:$R$32,2,0),0)+IFERROR(VLOOKUP(B57,Resultados!$Q$4:$R$32,2,0),0)","v":0},-5274095.9949893132,null,"HELIO_ATACAMA_TRES",5243613.7289810143,0,-5243613.7289810143,null,"HELIO_ATACAMA_TRES",-30482,null,"IMELSA_ENERGIA",238690.36737137029,17248.692843008866,942.92453670173575,256882]
[null,null,"HIDROLIRCAY",{"$f":"+IFERROR(GETPIVOTDATA(\"Compensación\",Resultados!$Q$4)*VLOOKUP($C58,TablaRetiros[],3,0),0)+IFERROR(GETPIVOTDATA(\"Compensación\",Resultados!$Q$4)*VLOOKUP($B58,TablaRetiros[],3,0),0)","v":39854569.802015334},{"$f":"+IFERROR(VLOOKUP(C58,Resultados!$Q$4:$R$32,2,0),0)+IFERROR(VLOOKUP(B58,Resultados!$Q$4:$R$32,2,0),0)","v":0},-39854569.802015334,null,"HIDROLIRCAY",39624225.56870871,0,-39624225.56870871,null,"HIDROLIRCAY",-230344,null,"JAVIERA",313611.31555583229,22662.771496338599,1238.892912527203,337513]
[null,null,"HORNITOS",{"$f":"+IFERROR(GETPIVOTDATA(\"Compensación\",Resultados!$Q$4)*VLOOKUP($C59,TablaRetiros[],3,0),0)+IFERROR(GETPIVOTDATA(\"Compensación\",Resultados!$Q$4)*VLOOKUP($B59,TablaRetiros[],3,0),0)","v":404287644.63468397},{"$f":"+IFERROR(VLOOKUP(C59,Resultados!$Q$4:$R$32,2,0),0)+IFERROR(VLOOKUP(B59,Resultados!$Q$4:$R$32,2,0),0)","v":804260812.28180504},399973167.64712107,null,"HORNITOS",401951016.03722745,804260812.28180504,402309796.24457759,null,"HORNITOS",-2336629,null,"KALTEMP",5653.1488974993072,408.51849198023194,22.332249364662999,6084]
[null,null,"HUAJACHE",{"$f":"+IFERROR(GETPIVOTDATA(\"Compensación\",Resultados!$Q$4)*VLOOKUP($C60,TablaRetiros[],3,0),0)+IFERROR(GETPIVOTDATA(\"Compensación\",Resultados!$Q$4)*VLOOKUP($B60,TablaRetiros[],3,0),0)","v":5831398.6107155131},{"$f":"+IFERROR(VLOOKUP(C60,Resultados!$Q$4:$R$32,2,0),0)+IFERROR(VLOOKUP(B60,Resultados!$Q$4:$R$32,2,0),0)","v":0},-5831398.6107155131,null,"HUAJACHE",5797695.3478584979,0,-5797695.3478584979,null,"HUAJACHE",-33703,null,"KDM_ENERGIA",213411.01679520888,15421.908804084773,843.06076677816225,229676]
[null,null,"IMELSA_ENERGIA",{"$f":"+IFERROR(GETPIVOTDATA(\"Compensación\",Resultados!$Q$4)*VLOOKUP($C61,TablaRetiros[],3,0),0)+IFERROR(GETPIVOTDATA(\"Compensación\",Resultados!$Q$4)*VLOOKUP($B61,TablaRetiros[],3,0),0)","v":44446226.710051656},{"$f":"+IFERROR(VLOOKUP(C61,Resultados!$Q$4:$R$32,2,0),0)+IFERROR(VLOOKUP(B61,Resultados!$Q$4:$R$32,2,0),0)","v":0},-44446226.710051656,null,"IMELSA_ENERGIA",44189344.448726095,0,-44189344.448726095,null,"IMELSA_ENERGIA",-256882,null,"LA ARENA SPA",122649.35815634714,8863.118899722991,484.51510838057555,131997]
[null,null,"JAVIERA",{"$f":"+IFERROR(GETPIVOTDATA(\"Compensación\",Resultados!$Q$4)*VLOOKUP($C62,TablaRetiros[],3,0),0)+IFERROR(GETPIVOTDATA(\"Compensación\",Resultados!$Q$4)*VLOOKUP($B62,TablaRetiros[],3,0),0)","v":58397031.938221738},{"$f":"+IFERROR(VLOOKUP(C62,Resultados!$Q$4:$R$32,2,0),0)+IFERROR(VLOOKUP(B62,Resultados!$Q$4:$R$32,2,0),0)","v":0},-58397031.938221738,null,"JAVIERA",58059519.33637923,0,-58059519.33637923,null,"JAVIERA",-337513,null,"LA CONFLUENCIA",412245.94109287148,29790.492561540043,1628.5400089370823,443665]
[null,null,"KALTEMP",{"$f":"+IFERROR(GETPIVOTDATA(\"Compensación\",Resultados!$Q$4)*VLOOKUP($C63,TablaRetiros[],3,0),0)+IFERROR(GETPIVOTDATA(\"Compensación\",Resultados!$Q$4)*VLOOKUP($B63,TablaRetiros[],3,0),0)","v":1052737.5368756652},{"$f":"+IFERROR(VLOOKUP(C63,Resultados!$Q$4:$R$32,2,0),0)+IFERROR(VLOOKUP(B63,Resultados!$Q$4:$R$32,2,0),0)","v":0},-1052737.5368756652,null,"KALTEMP",1046653.1148881905,0,-1046653.1148881905,null,"KALTEMP",-6084,null,"LA HIGUERA",452912.56085749256,32729.220424789029,1789.1897830484961,487431]
[null,null,"KDM_ENERGIA",{"$f":"+IFERROR(GETPIVOTDATA(\"Compensación\",Resultados!$Q$4)*VLOOKUP($C64,TablaRetiros[],3,0),0)+IFERROR(GETPIVOTDATA(\"Compensación\",Resultados!$Q$4)*VLOOKUP($B64,TablaRetiros[],3,0),0)","v":39739000.380986564},{"$f":"+IFERROR(VLOOKUP(C64,Resultados!$Q$4:$R$32,2,0),0)+IFERROR(VLOOKUP(B64,Resultados!$Q$4:$R$32,2,0),0)","v":0},-39739000.380986564,null,"KDM_ENERGIA",39509324.094914421,0,-39509324.094914421,null,"KDM_ENERGIA",-229676,null,"LIPIGAS",106772.40956798905,7715.7889404090165,421.79467036381084,114910]
[null,null,"LA ARENA SPA",{"$f":"+IFERROR(GETPIVOTDATA(\"Compensación\",Resultados!$Q$4)*VLOOKUP($C65,TablaRetiros[],3,0),0)+IFERROR(GETPIVOTDATA(\"Compensación\",Resultados!$Q$4)*VLOOKUP($B65,TablaRetiros[],3,0),0)","v":22838278.884451337},{"$f":"+IFERROR(VLOOKUP(C65,Resultados!$Q$4:$R$32,2,0),0)+IFERROR(VLOOKUP(B65,Resultados!$Q$4:$R$32,2,0),0)","v":0},-22838278.884451337,null,"LA ARENA SPA",22706282.331337981,0,-22706282.331337981,null,"LA ARENA SPA",-131997,null,"LOS_CURUROS",23472.089792855029,1696.1843566588823,92.724350953443789,25261]
[null,null,"LA CONFLUENCIA",{"$f":"+IFERROR(GETPIVOTDATA(\"Compensación\",Resultados!$Q$4)*VLOOKUP($C66,TablaRetiros[],3,0),0)+IFERROR(GETPIVOTDATA(\"Compensación\",Resultados!$Q$4)*VLOOKUP($B66,TablaRetiros[],3,0),0)","v":76763778.621812403},{"$f":"+IFERROR(VLOOKUP(C66,Resultados!$Q$4:$R$32,2,0),0)+IFERROR(VLOOKUP(B66,Resultados!$Q$4:$R$32,2,0),0)","v":0},-76763778.621812403,null,"LA CONFLUENCIA",76320113.219822139,0,-76320113.219822139,null,"LA CONFLUENCIA",-443665,null,"LUZ_DEL_NORTE",{"$f":"+$T66*Q$94/$T$94","v":205210.97750848444},14829.342122341586,810.66725911163508,220851]
[null,null,"LA HIGUERA",{"$f":"+IFERROR(GETPIVOTDATA(\"Compensación\",Resultados!$Q$4)*VLOOKUP($C67,TablaRetiros[],3,0),0)+IFERROR(GETPIVOTDATA(\"Compensación\",Resultados!$Q$4)*VLOOKUP($B67,TablaRetiros[],3,0),0)","v":84336246.083613127},{"$f":"+IFERROR(VLOOKUP(C67,Resultados!$Q$4:$R$32,2,0),0)+IFERROR(VLOOKUP(B67,Resultados!$Q$4:$R$32,2,0),0)","v":0},{"$f":"+E67-D67","v":-84336246.083613127},null,"LA HIGUERA",83848814.703959748,0,-83848814.703959748,null,"LA HIGUERA",-487431,null,"MALLARAUCO",2219.8180006781467,160.41266885943034,8.7691886476298322,2389]
[null,null,"LIPIGAS",{"$f":"+IFERROR(GETPIVOTDATA(\"Compensación\",Resultados!$Q$4)*VLOOKUP($C68,TablaRetiros[],3,0),0)+IFERROR(GETPIVOTDATA(\"Compensación\",Resultados!$Q$4)*VLOOKUP($B68,TablaRetiros[],3,0),0)","v":19881902.240166582},{"$f":"+IFERROR(VLOOKUP(C68,Resultados!$Q$4:$R$32,2,0),0)+IFERROR(VLOOKUP(B68,Resultados!$Q$4:$R$32,2,0),0)","v":0},-19881902.240166582,null,"LIPIGAS",19766992.418007199,0,-19766992.418007199,null,"LIPIGAS",-114910,null,"MONTE REDONDO",318438.42083566607,23011.596868764191,1257.961951884439,342708]
[null,null,"LOS_CURUROS",{"$f":"+IFERROR(GETPIVOTDATA(\"Compensación\",Resultados!$Q$4)*VLOOKUP($C69,TablaRetiros[],3,0),0)+IFERROR(GETPIVOTDATA(\"Compensación\",Resultados!$Q$4)*VLOOKUP($B69,TablaRetiros[],3,0),0)","v":4370711.2530476805},{"$f":"+IFERROR(VLOOKUP(C69,Resultados!$Q$4:$R$32,2,0),0)+IFERROR(VLOOKUP(B69,Resultados!$Q$4:$R$32,2,0),0)","v":0},-4370711.2530476805,null,"LOS_CURUROS",4345450.2067589061,0,-4345450.2067589061,null,"LOS_CURUROS",-25261,null,"NEOMAS",116780.63882094188,8439.0224507836174,461.33126765289455,125681]
[null,null,"LOS_GUINDOS",{"$f":"+IFERROR(GETPIVOTDATA(\"Compensación\",Resultados!$Q$4)*VLOOKUP($C70,TablaRetiros[],3,0),0)+IFERROR(GETPIVOTDATA(\"Compensación\",Resultados!$Q$4)*VLOOKUP($B70,TablaRetiros[],3,0),0)","v":0},{"$f":"+IFERROR(VLOOKUP(C70,Resultados!$Q$4:$R$32,2,0),0)+IFERROR(VLOOKUP(B70,Resultados!$Q$4:$R$32,2,0),0)","v":0},0,null,"LOS_GUINDOS",0,0,0,null,"LOS_GUINDOS",0,null,"NORACID",32990.639645909418,2384.031732044401,130.32651441360287,35505]
[null,null,"LUZ_DEL_NORTE",{"$f":"+IFERROR(GETPIVOTDATA(\"Compensación\",Resultados!$Q$4)*VLOOKUP($C71,TablaRetiros[],3,0),0)+IFERROR(GETPIVOTDATA(\"Compensación\",Resultados!$Q$4)*VLOOKUP($B71,TablaRetiros[],3,0),0)","v":38212061.499232434},{"$f":"+IFERROR(VLOOKUP(C71,Resultados!$Q$4:$R$32,2,0),0)+IFERROR(VLOOKUP(B71,Resultados!$Q$4:$R$32,2,0),0)","v":0},-38212061.499232434,null,"LUZ_DEL_NORTE",37991210.338303305,0,-37991210.338303305,null,"LUZ_DEL_NORTE",{"$f":"+ROUND(F71-K71,0)","v":-220851},null,"NORVIND",56537.064072525121,4085.5877979995389,223.3445175611908,{"$f":"-VLOOKUP(P71,M:N,2,0)","v":60846}]
[null,null,"MALLARAUCO",{"$f":"+IFERROR(GETPIVOTDATA(\"Compensación\",Resultados!$Q$4)*VLOOKUP($C72,TablaRetiros[],3,0),0)+IFERROR(GETPIVOTDATA(\"Compensación\",Resultados!$Q$4)*VLOOKUP($B72,TablaRetiros[],3,0),0)","v":413283.73025469825},{"$f":"+IFERROR(VLOOKUP(C72,Resultados!$Q$4:$R$32,2,0),0)+IFERROR(VLOOKUP(B72,Resultados!$Q$4:$R$32,2,0),0)","v":0},-413283.73025469825,null,"MALLARAUCO",410895.10770886397,0,-410895.10770886397,null,"MALLARAUCO",-2389,null,"ON GROUP",43184.705483263933,3120.6945156596416,170.59724218804692,46476]
[null,null,"MONTE REDONDO",{"$f":"+IFERROR(GETPIVOTDATA(\"Compensación\",Resultados!$Q$4)*VLOOKUP($C73,TablaRetiros[],3,0),0)+IFERROR(GETPIVOTDATA(\"Compensación\",Resultados!$Q$4)*VLOOKUP($B73,TablaRetiros[],3,0),0)","v":59295912.532891206},{"$f":"+IFERROR(VLOOKUP(C73,Resultados!$Q$4:$R$32,2,0),0)+IFERROR(VLOOKUP(B73,Resultados!$Q$4:$R$32,2,0),0)","v":0},-59295912.532891206,null,"MONTE REDONDO",58953204.743584834,0,-58953204.743584834,null,"MONTE REDONDO",-342708,null,"ORAZUL_CHILE",1092495.1831977132,78947.944380701112,4315.8026266842217,1175759]
[null,null,"NEOMAS",{"$f":"+IFERROR(GETPIVOTDATA(\"Compensación\",Resultados!$Q$4)*VLOOKUP($C74,TablaRetiros[],3,0),0)+IFERROR(GETPIVOTDATA(\"Compensación\",Resultados!$Q$4)*VLOOKUP($B74,TablaRetiros[],3,0),0)","v":21745514.737475224},{"$f":"+IFERROR(VLOOKUP(C74,Resultados!$Q$4:$R$32,2,0),0)+IFERROR(VLOOKUP(B74,Resultados!$Q$4:$R$32,2,0),0)","v":301748.05391810724},-21443766.683557115,null,"NEOMAS",21619833.944910042,301748.05391810724,-21318085.890991934,null,"NEOMAS",-125681,null,"PACIFIC HYDRO",13710.09401423443,990.74463332812661,54.160476557462616,14755]
[null,null,"NORACID",{"$f":"+IFERROR(GETPIVOTDATA(\"Compensación\",Resultados!$Q$4)*VLOOKUP($C75,TablaRetiros[],3,0),0)+IFERROR(GETPIVOTDATA(\"Compensación\",Resultados!$Q$4)*VLOOKUP($B75,TablaRetiros[],3,0),0)","v":6143160.8493432691},{"$f":"+IFERROR(VLOOKUP(C75,Resultados!$Q$4:$R$32,2,0),0)+IFERROR(VLOOKUP(B75,Resultados!$Q$4:$R$32,2,0),0)","v":0},-6143160.8493432691,null,"NORACID",6107655.7194936518,0,-6107655.7194936518,null,"NORACID",-35505,null,"PANGUIPULLI",733798.05390018784,53027.096903451136,2898.8023171037348,789724]
[null,null,"NORVIND",{"$f":"+IFERROR(GETPIVOTDATA(\"Compensación\",Resultados!$Q$4)*VLOOKUP($C76,TablaRetiros[],3,0),0)+IFERROR(GETPIVOTDATA(\"Compensación\",Resultados!$Q$4)*VLOOKUP($B76,TablaRetiros[],3,0),0)","v":10527721.562888008},{"$f":"+IFERROR(VLOOKUP(C76,Resultados!$Q$4:$R$32,2,0),0)+IFERROR(VLOOKUP(B76,Resultados!$Q$4:$R$32,2,0),0)","v":0},-10527721.562888008,null,"NORVIND",10466875.262420228,0,-10466875.262420228,null,"NORVIND",-60846,null,"PARQUE_EOLICO_LEBU",27023.42692077126,1952.8177682874896,106.7535845286808,29083]
[null,null,"NUEVA ENERGIA",{"$f":"+IFERROR(GETPIVOTDATA(\"Compensación\",Resultados!$Q$4)*VLOOKUP($C77,TablaRetiros[],3,0),0)+IFERROR(GETPIVOTDATA(\"Compensación\",Resultados!$Q$4)*VLOOKUP($B77,TablaRetiros[],3,0),0)","v":18117801.619441502},{"$f":"+IFERROR(VLOOKUP(C77,Resultados!$Q$4:$R$32,2,0),0)+IFERROR(VLOOKUP(B77,Resultados!$Q$4:$R$32,2,0),0)","v":475726.77815629554},-17642074.841285206,null,"NUEVA ENERGIA",18013087.626944195,0,-18013087.626944195,null,"NUEVA ENERGIA",371013,null,"PEHUENCHE",562050.670144915,40615.964013551376,2220.3299344909447,604887]
[null,null,"ON GROUP",{"$f":"+IFERROR(GETPIVOTDATA(\"Compensación\",Resultados!$Q$4)*VLOOKUP($C78,TablaRetiros[],3,0),0)+IFERROR(GETPIVOTDATA(\"Compensación\",Resultados!$Q$4)*VLOOKUP($B78,TablaRetiros[],3,0),0)","v":8041276.5678511644},{"$f":"+IFERROR(VLOOKUP(C78,Resultados!$Q$4:$R$32,2,0),0)+IFERROR(VLOOKUP(B78,Resultados!$Q$4:$R$32,2,0),0)","v":0},-8041276.5678511644,null,"ON GROUP",7994801.0521191023,0,-7994801.0521191023,null,"ON GROUP",-46476,null,"POZO_ALMONTE_SOLAR_2",35708.499692784084,2580.4348531887435,141.06317276199852,38430]
[null,null,"ORAZUL_CHILE",{"$f":"+IFERROR(GETPIVOTDATA(\"Compensación\",Resultados!$Q$4)*VLOOKUP($C79,TablaRetiros[],3,0),0)+IFERROR(GETPIVOTDATA(\"Compensación\",Resultados!$Q$4)*VLOOKUP($B79,TablaRetiros[],3,0),0)","v":0},{"$f":"+IFERROR(VLOOKUP(C79,Resultados!$Q$4:$R$32,2,0),0)+IFERROR(VLOOKUP(B79,Resultados!$Q$4:$R$32,2,0),0)","v":1811023.8300000029},1811023.8300000029,null,"ORAZUL_CHILE",0,2986782.6300000036,2986782.6300000036,null,"ORAZUL_CHILE",-1175759,null,"POZO_ALMONTE_SOLAR_3",64910.86056566512,4690.7108502227229,256.42443723152985,69858]
[null,null,"PACIFIC HYDRO",{"$f":"+IFERROR(GETPIVOTDATA(\"Compensación\",Resultados!$Q$4)*VLOOKUP($C80,TablaRetiros[],3,0),0)+IFERROR(GETPIVOTDATA(\"Compensación\",Resultados!$Q$4)*VLOOKUP($B80,TablaRetiros[],3,0),0)","v":2552897.2429583883},{"$f":"+IFERROR(VLOOKUP(C80,Resultados!$Q$4:$R$32,2,0),0)+IFERROR(VLOOKUP(B80,Resultados!$Q$4:$R$32,2,0),0)","v":0},-2552897.2429583883,null,"PACIFIC HYDRO",2538142.4692634004,0,-2538142.4692634004,null,"PACIFIC HYDRO",-14755,null,"PUCLARO",20437.378369575486,1476.8843246392507,80.73600012750866,21995]
[null,null,"PANGUIPULLI",{"$f":"+IFERROR(GETPIVOTDATA(\"Compensación\",Resultados!$Q$4)*VLOOKUP($C81,TablaRetiros[],3,0),0)+IFERROR(GETPIVOTDATA(\"Compensación\",Resultados!$Q$4)*VLOOKUP($B81,TablaRetiros[],3,0),0)","v":136639205.38199061},{"$f":"+IFERROR(VLOOKUP(C81,Resultados!$Q$4:$R$32,2,0),0)+IFERROR(VLOOKUP(B81,Resultados!$Q$4:$R$32,2,0),0)","v":0},-136639205.38199061,null,"PANGUIPULLI",135849481.40170977,0,-135849481.40170977,null,"PANGUIPULLI",-789724,null,"PUNTILLA",282224.44563330943,20394.634392360909,1114.9019442022602,303734]
[null,null,"PARQUE_EOLICO_LEBU",{"$f":"+IFERROR(GETPIVOTDATA(\"Compensación\",Resultados!$Q$4)*VLOOKUP($C82,TablaRetiros[],3,0),0)+IFERROR(GETPIVOTDATA(\"Compensación\",Resultados!$Q$4)*VLOOKUP($B82,TablaRetiros[],3,0),0)","v":5031923.865770746},{"$f":"+IFERROR(VLOOKUP(C82,Resultados!$Q$4:$R$32,2,0),0)+IFERROR(VLOOKUP(B82,Resultados!$Q$4:$R$32,2,0),0)","v":0},-5031923.865770746,null,"PARQUE_EOLICO_LEBU",5002841.262428741,0,-5002841.262428741,null,"PARQUE_EOLICO_LEBU",-29083,null,"RAKI",42082.694537761934,3041.0589253426538,166.24384840985982,45290]
[null,null,"PEHUENCHE",{"$f":"+IFERROR(GETPIVOTDATA(\"Compensación\",Resultados!$Q$4)*VLOOKUP($C83,TablaRetiros[],3,0),0)+IFERROR(GETPIVOTDATA(\"Compensación\",Resultados!$Q$4)*VLOOKUP($B83,TablaRetiros[],3,0),0)","v":104658571.51557073},{"$f":"+IFERROR(VLOOKUP(C83,Resultados!$Q$4:$R$32,2,0),0)+IFERROR(VLOOKUP(B83,Resultados!$Q$4:$R$32,2,0),0)","v":0},-104658571.51557073,null,"PEHUENCHE",104053684.83546157,0,-104053684.83546157,null,"PEHUENCHE",-604887,null,"RIO_COLORADO",34521.003918457303,2494.6217971810615,136.37207896054565,37152]
[null,null,"POZO_ALMONTE_SOLAR_2",{"$f":"+IFERROR(GETPIVOTDATA(\"Compensación\",Resultados!$Q$4)*VLOOKUP($C84,TablaRetiros[],3,0),0)+IFERROR(GETPIVOTDATA(\"Compensación\",Resultados!$Q$4)*VLOOKUP($B84,TablaRetiros[],3,0),0)","v":6649214.654808023},{"$f":"+IFERROR(VLOOKUP(C84,Resultados!$Q$4:$R$32,2,0),0)+IFERROR(VLOOKUP(B84,Resultados!$Q$4:$R$32,2,0),0)","v":0},-6649214.654808023,null,"POZO_ALMONTE_SOLAR_2",6610784.726712916,0,-6610784.726712916,null,"POZO_ALMONTE_SOLAR_2",-38430,null,"RUCATAYO",405960.01862548443,29336.247394175436,1603.7080452697674,436900]
[null,null,"POZO_ALMONTE_SOLAR_3",{"$f":"+IFERROR(GETPIVOTDATA(\"Compensación\",Resultados!$Q$4)*VLOOKUP($C85,TablaRetiros[],3,0),0)+IFERROR(GETPIVOTDATA(\"Compensación\",Resultados!$Q$4)*VLOOKUP($B85,TablaRetiros[],3,0),0)","v":12086886.862897001},{"$f":"+IFERROR(VLOOKUP(C85,Resultados!$Q$4:$R$32,2,0),0)+IFERROR(VLOOKUP(B85,Resultados!$Q$4:$R$32,2,0),0)","v":0},-12086886.862897001,null,"POZO_ALMONTE_SOLAR_3",12017029.260586184,0,-12017029.260586184,null,"POZO_ALMONTE_SOLAR_3",-69858,null,"SAFIRA_ENERGIA_CHILE",17052.364984698765,1232.2701125610154,67.363813336669196,18352]
[null,null,"PUCLARO",{"$f":"+IFERROR(GETPIVOTDATA(\"Compensación\",Resultados!$Q$4)*VLOOKUP($C86,TablaRetiros[],3,0),0)+IFERROR(GETPIVOTDATA(\"Compensación\",Resultados!$Q$4)*VLOOKUP($B86,TablaRetiros[],3,0),0)","v":3805552.9781192276},{"$f":"+IFERROR(VLOOKUP(C86,Resultados!$Q$4:$R$32,2,0),0)+IFERROR(VLOOKUP(B86,Resultados!$Q$4:$R$32,2,0),0)","v":0},-3805552.9781192276,null,"PUCLARO",3783558.3313972279,0,-3783558.3313972279,null,"PUCLARO",-21995,null,"SAN_JUAN_LAP",761672.61237751879,55041.420743180752,3008.9182192553662,819723]
[null,null,"PUNTILLA",{"$f":"+IFERROR(GETPIVOTDATA(\"Compensación\",Resultados!$Q$4)*VLOOKUP($C87,TablaRetiros[],3,0),0)+IFERROR(GETPIVOTDATA(\"Compensación\",Resultados!$Q$4)*VLOOKUP($B87,TablaRetiros[],3,0),0)","v":52552621.653144322},{"$f":"+IFERROR(VLOOKUP(C87,Resultados!$Q$4:$R$32,2,0),0)+IFERROR(VLOOKUP(B87,Resultados!$Q$4:$R$32,2,0),0)","v":0},-52552621.653144322,null,"PUNTILLA",52248887.516680643,0,-52248887.516680643,null,"PUNTILLA",-303734,null,"SANTIAGO_SOLAR",{"$f":"+$T87*Q$94/$T$94","v":112354.0113804937},8119.1371621916023,443.84427949161011,{"$f":"-VLOOKUP(P87,M:N,2,0)","v":120917}]
[null,null,"RAKI",{"$f":"+IFERROR(GETPIVOTDATA(\"Compensación\",Resultados!$Q$4)*VLOOKUP($C88,TablaRetiros[],3,0),0)+IFERROR(GETPIVOTDATA(\"Compensación\",Resultados!$Q$4)*VLOOKUP($B88,TablaRetiros[],3,0),0)","v":7836131.0116423639},{"$f":"+IFERROR(VLOOKUP(C88,Resultados!$Q$4:$R$32,2,0),0)+IFERROR(VLOOKUP(B88,Resultados!$Q$4:$R$32,2,0),0)","v":0},-7836131.0116423639,null,"RAKI",7790841.1590875955,0,-7790841.1590875955,null,"RAKI",-45290,null,"SGA",216044.32119618077,15612.201605904624,853.46339575571892,232510]
[null,null,"RIO_COLORADO",{"$f":"+IFERROR(GETPIVOTDATA(\"Compensación\",Resultados!$Q$4)*VLOOKUP($C89,TablaRetiros[],3,0),0)+IFERROR(GETPIVOTDATA(\"Compensación\",Resultados!$Q$4)*VLOOKUP($B89,TablaRetiros[],3,0),0)","v":6428107.3065340435},{"$f":"+IFERROR(VLOOKUP(C89,Resultados!$Q$4:$R$32,2,0),0)+IFERROR(VLOOKUP(B89,Resultados!$Q$4:$R$32,2,0),0)","v":0},-6428107.3065340435,null,"RIO_COLORADO",6390955.294694704,0,-6390955.294694704,null,"RIO_COLORADO",-37152,null,"SPVP4",18632.905135035107,1346.4860814726483,73.607593114659295,20053]
[null,null,"RUCATAYO",{"$f":"+IFERROR(GETPIVOTDATA(\"Compensación\",Resultados!$Q$4)*VLOOKUP($C90,TablaRetiros[],3,0),0)+IFERROR(GETPIVOTDATA(\"Compensación\",Resultados!$Q$4)*VLOOKUP($B90,TablaRetiros[],3,0),0)","v":75593240.544876382},{"$f":"+IFERROR(VLOOKUP(C90,Resultados!$Q$4:$R$32,2,0),0)+IFERROR(VLOOKUP(B90,Resultados!$Q$4:$R$32,2,0),0)","v":0},-75593240.544876382,null,"RUCATAYO",75156340.407126248,0,-75156340.407126248,null,"RUCATAYO",-436900,null,"TACORA_ENERGY",5468.2414960196284,395.1563651057964,21.601789531729413,5885]
[null,null,"SAFIRA_ENERGIA_CHILE",{"$f":"+IFERROR(GETPIVOTDATA(\"Compensación\",Resultados!$Q$4)*VLOOKUP($C91,TablaRetiros[],3,0),0)+IFERROR(GETPIVOTDATA(\"Compensación\",Resultados!$Q$4)*VLOOKUP($B91,TablaRetiros[],3,0),0)","v":3175241.5411511636},{"$f":"+IFERROR(VLOOKUP(C91,Resultados!$Q$4:$R$32,2,0),0)+IFERROR(VLOOKUP(B91,Resultados!$Q$4:$R$32,2,0),0)","v":0},-3175241.5411511636,null,"SAFIRA_ENERGIA_CHILE",3156889.8544564345,0,-3156889.8544564345,null,"SAFIRA_ENERGIA_CHILE",-18352,null,"TAMAKAYA_ENERGIA",4707732.2206604639,340199.01161310199,18597.466969312401,5066529]
[null,null,"SAN_JUAN_LAP",{"$f":"+IFERROR(GETPIVOTDATA(\"Compensación\",Resultados!$Q$4)*VLOOKUP($C92,TablaRetiros[],3,0),0)+IFERROR(GETPIVOTDATA(\"Compensación\",Resultados!$Q$4)*VLOOKUP($B92,TablaRetiros[],3,0),0)","v":141829701.64136875},{"$f":"+IFERROR(VLOOKUP(C92,Resultados!$Q$4:$R$32,2,0),0)+IFERROR(VLOOKUP(B92,Resultados!$Q$4:$R$32,2,0),0)","v":0},-141829701.64136875,null,"SAN_JUAN_LAP",141009978.20798078,0,-141009978.20798078,null,"SAN_JUAN_LAP",-819723,null,"TECNORED",314517.26890479052,22728.239203386711,1242.4717986433348,338488]
[null,null,"SANTIAGO_SOLAR",{"$f":"+IFERROR(GETPIVOTDATA(\"Compensación\",Resultados!$Q$4)*VLOOKUP($C93,TablaRetiros[],3,0),0)+IFERROR(GETPIVOTDATA(\"Compensación\",Resultados!$Q$4)*VLOOKUP($B93,TablaRetiros[],3,0),0)","v":20921208.710613675},{"$f":"+IFERROR(VLOOKUP(C93,Resultados!$Q$4:$R$32,2,0),0)+IFERROR(VLOOKUP(B93,Resultados!$Q$4:$R$32,2,0),0)","v":0},-20921208.710613675,null,"SANTIAGO_SOLAR",20800292.054748088,0,-20800292.054748088,null,"SANTIAGO_SOLAR",-120917,null,"UCUQUER_DOS",17256.785227540619,1247.042313125718,68.171356870565617,18572]
[null,null,"SGA",{"$f":"+IFERROR(GETPIVOTDATA(\"Compensación\",Resultados!$Q$4)*VLOOKUP($C94,TablaRetiros[],3,0),0)+IFERROR(GETPIVOTDATA(\"Compensación\",Resultados!$Q$4)*VLOOKUP($B94,TablaRetiros[],3,0),0)","v":40229372.728007622},{"$f":"+IFERROR(VLOOKUP(C94,Resultados!$Q$4:$R$32,2,0),0)+IFERROR(VLOOKUP(B94,Resultados!$Q$4:$R$32,2,0),0)","v":45577700.429999977},5348327.7019923553,null,"SGA",39996862.27654691,45577700.429999977,5580838.1534530669,null,"SGA",-232510,null,"Total",{"$f":"+VLOOKUP(Q5,$M:$N,2,0)","v":93917621},{"$f":"+VLOOKUP(R5,$M:$N,2,0)","v":6786852},371013,{"$f":"+SUM(T6:T93)","v":101075492}]
[null,null,"SPVP4",{"$f":"+IFERROR(GETPIVOTDATA(\"Compensación\",Resultados!$Q$4)*VLOOKUP($C95,TablaRetiros[],3,0),0)+IFERROR(GETPIVOTDATA(\"Compensación\",Resultados!$Q$4)*VLOOKUP($B95,TablaRetiros[],3,0),0)","v":3469532.8037748183},{"$f":"+IFERROR(VLOOKUP(C95,Resultados!$Q$4:$R$32,2,0),0)+IFERROR(VLOOKUP(B95,Resultados!$Q$4:$R$32,2,0),0)","v":0},{"$f":"+E95-D95","v":-3469532.8037748183},null,"SPVP4",3449480.2193099,0,-3449480.2193099,null,"SPVP4",-20053]
[null,null,"SWO",{"$f":"+IFERROR(GETPIVOTDATA(\"Compensación\",Resultados!$Q$4)*VLOOKUP($C96,TablaRetiros[],3,0),0)+IFERROR(GETPIVOTDATA(\"Compensación\",Resultados!$Q$4)*VLOOKUP($B96,TablaRetiros[],3,0),0)","v":0},{"$f":"+IFERROR(VLOOKUP(C96,Resultados!$Q$4:$R$32,2,0),0)+IFERROR(VLOOKUP(B96,Resultados!$Q$4:$R$32,2,0),0)","v":1040925.0500000052},{"$f":"+E96-D96","v":1040925.0500000052},null,"SWO",0,1040925.0500000019,1040925.0500000019,null,"SWO",0]
[null,null,"TACORA_ENERGY",{"$f":"+IFERROR(GETPIVOTDATA(\"Compensación\",Resultados!$Q$4)*VLOOKUP($C97,TablaRetiros[],3,0),0)+IFERROR(GETPIVOTDATA(\"Compensación\",Resultados!$Q$4)*VLOOKUP($B97,TablaRetiros[],3,0),0)","v":1018169.9830271339},{"$f":"+IFERROR(VLOOKUP(C97,Resultados!$Q$4:$R$32,2,0),0)+IFERROR(VLOOKUP(B97,Resultados!$Q$4:$R$32,2,0),0)","v":0},-1018169.9830271339,null,"TACORA_ENERGY",1012285.3483345185,0,-1012285.3483345185,null,"TACORA_ENERGY",-5885]
[null,null,"TAMAKAYA_ENERGIA",{"$f":"+IFERROR(GETPIVOTDATA(\"Compensación\",Resultados!$Q$4)*VLOOKUP($C98,TablaRetiros[],3,0),0)+IFERROR(GETPIVOTDATA(\"Compensación\",Resultados!$Q$4)*VLOOKUP($B98,TablaRetiros[],3,0),0)","v":876619795.17143106},{"$f":"+IFERROR(VLOOKUP(C98,Resultados!$Q$4:$R$32,2,0),0)+IFERROR(VLOOKUP(B98,Resultados!$Q$4:$R$32,2,0),0)","v":435756952.40319234},-440862842.76823872,null,"TAMAKAYA_ENERGIA",871553266.6497767,435756952.40319234,-435796314.24658436,null,"TAMAKAYA_ENERGIA",-5066529]
[null,null,"TECNORED",{"$f":"+IFERROR(GETPIVOTDATA(\"Compensación\",Resultados!$Q$4)*VLOOKUP($C99,TablaRetiros[],3,0),0)+IFERROR(GETPIVOTDATA(\"Compensación\",Resultados!$Q$4)*VLOOKUP($B99,TablaRetiros[],3,0),0)","v":58581307.580239594},{"$f":"+IFERROR(VLOOKUP(C99,Resultados!$Q$4:$R$32,2,0),0)+IFERROR(VLOOKUP(B99,Resultados!$Q$4:$R$32,2,0),0)","v":0},-58581307.580239594,null,"TECNORED",58242819.689823106,0,-58242819.689823106,null,"TECNORED",-338488]
[null,null,"UCUQUER_DOS",{"$f":"+IFERROR(GETPIVOTDATA(\"Compensación\",Resultados!$Q$4)*VLOOKUP($C100,TablaRetiros[],3,0),0)+IFERROR(GETPIVOTDATA(\"Compensación\",Resultados!$Q$4)*VLOOKUP($B100,TablaRetiros[],3,0),0)","v":3213298.4319555424},{"$f":"+IFERROR(VLOOKUP(C100,Resultados!$Q$4:$R$32,2,0),0)+IFERROR(VLOOKUP(B100,Resultados!$Q$4:$R$32,2,0),0)","v":0},{"$f":"+E100-D100","v":-3213298.4319555424},null,"UCUQUER_DOS",3194726.7909273971,0,-3194726.7909273971,null,"UCUQUER_DOS",-18572]
[null,null,"Total",{"$f":"SUM(D6:D100)","v":22219673070.698959},{"$f":"SUM(E6:E100)","v":22219673070.698944},{"$f":"SUM(F6:F100)","v":1.344829797744751E-6},null,"Total",22093515093.205601,22093515093.205589,-2.4456530809402466E-6,null,"Total",0]